{"text_format":"2","workbook":"xlsx","n_sheets":12,"sheets":["Pantalla de control","Orientaciones generales ","RELACIÓN DE CONTRATOS","RELACIÓN DE GASTOS","ACTUACIONES TIPO 16","TOTAL GASTOS","DESVIACIONES ECONÓMICAS","Listados","Tabla vehículos","Listados2","Actuaciones-gastos","Tabla vehículosII"],"not_rendered":{"charts":0,"images":3,"macros":0,"external_links":4,"defined_names":201,"comments":2,"pivot_tables":0},"unopened":[],"bounds":{"document_bytes":16777216,"sheet_cells":100000,"run_cost":"one","rows_first":2000,"rows_last":500,"rows_between":2000,"halvings":0,"cell_chars":16384,"cell_head_chars":4096},"cells_cut":0,"cells_raw":0,"read":"whole","date_system":"1900"}

{"sheet":"Pantalla de control","index":0,"n_rows":69,"n_cols":12,"rows_kept":69,"cut":false,"hidden":false,"merged":[[44,3,44,7],[44,9,44,11],[50,3,50,7],[50,9,50,11],[54,3,54,7],[54,9,54,11],[58,3,58,7],[58,9,58,11],[63,3,63,7],[63,9,63,11],[68,3,68,7],[68,9,68,11]]}
{"$rows_empty":28}
[{"$nulls":7},"CÓDIGO EXPEDIENTE","BENEFICIARIO","CIF","IMPORTE TOTAL OTORGADO","CONVOCATORIA"]
[{"$nulls":8},{"$f":"IFERROR(VLOOKUP($H$30,Listados2!$K$2:$N$180,2,0),\"\")","v":""},{"$f":"IFERROR(VLOOKUP($H$30,Listados2!$K$2:$N$180,3,0),\"\")","v":""},{"$f":"IFERROR(VLOOKUP($H$30,Listados2!$K$2:$N$180,4,0),\"\")","v":""},{"$f":"IF(H30<>\"\",\"2021\",\"\")","v":""}]
{"$rows_empty":14}
[null,null,null,"Hoja de instrucciones, \"Orientaciones generales\"",{"$nulls":5},"Orientaciones generales "]
[]
[]
[]
[]
[]
[null,null,null,"Hoja de cumplimentación de la información relativa a los contratos, \"RELACIÓN DE CONTRATOS\"",{"$nulls":5},"RELACIÓN DE CONTRATOS"]
[]
[]
[]
[null,null,null,"Hoja de cumplimentación de la información relativa a los gastos, \"RELACIÓN DE GASTOS\"",{"$nulls":5},"RELACIÓN DE GASTOS"]
[]
[]
[]
[null,null,null,"Hoja de cumplimentación de la información relativa a los gastos de adquisición de vehículos, \"ACTUACIONES TIPO 16\"",{"$nulls":5},"ACTUACIONES TIPO 16"]
[]
[]
[]
[]
[null,null,null,"Hoja resumen de los gastos introducidos,\"TOTAL GASTOS\"",{"$nulls":5},"TOTAL GASTOS"]
[]
[]
[]
[]
[null,null,null,"Hoja de cumplimentación de las desviaciones presupuestarias, \"DESVIACIONES PRESUPUESTARIAS\"",{"$nulls":5},"DESVIACIONES PRESUPUESTARIAS"]

{"sheet":"Orientaciones generales ","index":1,"n_rows":26,"n_cols":1,"rows_kept":26,"cut":false,"hidden":false,"merged":[]}
["GUÍA RAPIDA PARA COMPLEMENTAR EL EXCEL DE MEMORIA ECONÓMICA - Programa de ayudas a municipios para la implantación de zonas de bajas emisiones y la transformación digital y sostenible del transporte urbano. Convocatoria  2021"]
[]
["Información general"]
[]
["El propósito de esta guía rápida es orientar al beneficiario en la presentación del reporte de gastos para poder justificar el pago de la subvención concedida.    "]
[]
["De conformidad con el artículo 23.2 de la Orden TMA/892/2021, la justificación documental de la realización de las actuaciones debe realizarse mediante la aportación de informes periódicos."]
[]
["El periodo de ejecución material de las actuaciones, así como de los pagos reales y efectivos realizados con cargo a los mismos estará comprendido entre 1 de febrero de 2020 y el 31 de diciembre de 2024, sin perjuicio de lo establecido en las bases reguladoras, artículo 21, donde se establece la posibilidad extraordinaria de un máximo de un año de prórroga."]
[]
["El período de justificación de la cuenta justificativa comprende desde la fecha de inicio hasta el fin del proyecto. El plazo de presentación de la documentación será de 6 meses desde la fecha de finalización de todas las actuaciones*, con posibilidad de prórroga de 3 meses más."]
["* Este plazo estará interrumpido hasta el momento que se publiquen las instrucciones de justificación."]
[]
["SECUENCIA PARA RELLENAR LAS HOJAS DEL EXCEL DE MEMORIA ECONÓMICA"]
[]
["1) Seleccionar en el desplegable el código de uno de los expedientes en la hoja “Pantalla de control”. Una vez seleccionado el código del expediente el resto de los campos se autocompletan. Esta hoja contiene enlaces directos al resto de hojas del documento."]
[]
["2) Rellenar los datos relativos a los expedientes de contratación de los beneficiarios en la hoja “Relación de contratos”. Deberán listarse los contratos asociados a los gastos en los que se haya incurrido para la realización de las actuaciones objeto de la subvención."]
[]
["3) Rellenar los datos relativos a los gastos subvencionables y pagos realizados por el beneficiario, asociados con los contratos introducidos en la hoja anterior, para la ejecución de las actuaciones subvencionadas en la hoja \"Relación de gastos\"."]
[]
["4) Rellenar en aquellos expedientes que contengan actuaciones de tipología 16 los datos del número de vehículos, tipología e importe máximo subvencionable solicitados y finalmente justificados en la hoja \"Actuaciones tipo 16\" ."]
[]
["5) La información presentada en la hoja \"Total gastos\" será calculada de manera automática a partir de la datos que reporte el beneficiario en las hojas 1\" Relación de contratos\", 2\"Relación de gastos\" y 3 \"Actuaciones tipo 16\". Esta hoja ofrece una visión general del total de los gastos incurridos en función del código de actuación, totalidad de gastos por actuación, y gastos distribuidos por tipo de coste."]
[]
["6) Rellenar en el caso concreto de que se produzcan desviaciones económicas respecto a los costes inicialmente presupuestados. Se debe indicar la cuantía exacta de dicha desviación (€) en términos de costes subvencionables y no subvencionables (Art. 35 de la Orden TMA/892/2021) y la causa que la produce. "]

{"sheet":"RELACIÓN DE CONTRATOS","index":2,"n_rows":2338,"n_cols":38,"rows_kept":2338,"cut":false,"hidden":false,"merged":[[18,10,19,10],[18,1,18,9],[19,1,19,6],[19,7,19,9],[6,2,6,3],[8,1,8,3],[10,2,10,3],[11,2,11,3],[12,2,12,3],[14,1,15,1],[14,2,15,2],[14,3,15,3],[14,4,15,4],[14,5,15,5]]}
{"$rows_empty":13}
[null,"CÓDIGO EXPEDIENTE","BENEFICIARIO","CIF","IMPORTE TOTAL OTORGADO","CONVOCATORIA"]
[null,{"$f":"IF('Pantalla de control'!H30<>\"\",'Pantalla de control'!H30,\"\")","v":""},{"$f":"IFERROR(VLOOKUP($B$15,Listados2!$K$2:$N$180,2,0),\"\")","v":""},{"$f":"IFERROR(VLOOKUP($B$15,Listados2!$K$2:$N$180,3,0),\"\")","v":""},{"$f":"IFERROR(VLOOKUP($B$15,Listados2!$K$2:$N$180,4,0),\"\")","v":""},{"$f":"IF(B15<>\"\",\"2021\",\"\")","v":""}]
[]
[]
[null,{"$f":"IF($AC$23=\"\",\"\",IF(AC23<>\"\",\"Se ha detectado un título de contrato duplicado, revise los datos introducidos y desdoble los títulos si es un contrato por lotes, añadiendo la palabra Lote X al final de cada campo\"))","v":""},{"$f":"IF($AH$23=\"\",\"\",IF(AH23<>\"\",\"Se ha detectado un número de expediente duplicado, revise los datos introducidos y desdoble los expedientes,  si es un contrato por lotes, añadiendo la palabra Lote X al final de cada campo\"))","v":""}]
[null,"A. DATOS DE PROCEDIMIENTO DE ADJUDICACIÓN",{"$nulls":8},"B. INFORMACIÓN ADICIONAL",{"$nulls":4},"Contratista"]
[null,"A.1 DATOS DE IDENTIFICACIÓN",{"$nulls":5},"A.2 DATOS ECONÓMICOS",{"$nulls":7},"Subcontratista"]
[]
[null,"Título del contrato","Nº Expediente de la plataforma de contratación","Procedimiento de adjudicación","Tipo de contrato","Órgano de Contratación","Objeto ","Importe de adjudicación (sin IVA)","Importe IVA ","Importe de adjudicación (IVA INCLUIDO)","Observaciones sobre cualquier información adicional relevante para la mejora de la comprensión de la justificación"]
[{"$nulls":13},{"$f":"Tabla13[[#This Row],[Título del contrato]]&Tabla13[[#This Row],[Nº Expediente de la plataforma de contratación]]","v":""},null,{"$f":"_xlfn.UNIQUE(Tabla13[Título del contrato])","v":0},{"$f":"_xlfn.UNIQUE(Tabla13[Nº Expediente de la plataforma de contratación])","v":0},null,null,{"$f":"Tabla13[[#This Row],[Nº Expediente de la plataforma de contratación]]","v":0},{"$f":"Tabla13[[#This Row],[Importe de adjudicación (sin IVA)]]","v":0},{"$f":"Tabla13[[#This Row],[Importe IVA ]]","v":0},{"$f":"Tabla13[[#This Row],[Importe de adjudicación (IVA INCLUIDO)]]","v":0},null,{"$f":"_xlfn._xlws.FILTER(_xlfn.ANCHORARRAY(P23),_xlfn.ANCHORARRAY(P23)<>0)","v":{"$error":"#VALUE!"}},{"$f":"_xlfn._xlws.FILTER(_xlfn.ANCHORARRAY(Q23),_xlfn.ANCHORARRAY(Q23)<>0)","v":{"$error":"#VALUE!"}},null,null,{"$f":"IF(COUNTA(Tabla13[Título del contrato])>COUNTA(_xlfn.ANCHORARRAY(AE23)),\"Se ha detectado un título de contrato duplicado, revise los datos introducidos y desdoble los Títulos\",\"\")","v":""},{"$f":"_xlfn.UNIQUE(Tabla13[Título del contrato])","v":0},{"$f":"_xlfn._xlws.FILTER(_xlfn.ANCHORARRAY(AD23),_xlfn.ANCHORARRAY(AD23)<>0)","v":{"$error":"#VALUE!"}},{"$f":"_xlfn.UNIQUE(Tabla13[Nº Expediente de la plataforma de contratación])","v":0},{"$f":"_xlfn._xlws.FILTER(_xlfn.ANCHORARRAY(AF23),_xlfn.ANCHORARRAY(AF23)<>0)","v":{"$error":"#VALUE!"}},{"$f":"IF(COUNTA(Tabla13[Nº Expediente de la plataforma de contratación])>COUNTA(_xlfn.ANCHORARRAY(AG23)),\"Se ha detectado un número de expediente duplicado, revise los datos introducidos y desdoble los expedientes\",\"\")","v":""},null,null,{"$f":"COUNTIF(Tabla13[Título del contrato],Tabla13[[#This Row],[Título del contrato]])","v":0},{"$f":"COUNTIF(Tabla13[Nº Expediente de la plataforma de contratación],Tabla13[[#This Row],[Nº Expediente de la plataforma de contratación]])","v":0}]
[{"$nulls":13},{"$f":"Tabla13[[#This Row],[Título del contrato]]&Tabla13[[#This Row],[Nº Expediente de la plataforma de contratación]]","v":""},{"$nulls":5},{"$f":"Tabla13[[#This Row],[Nº Expediente de la plataforma de contratación]]","v":0},{"$f":"Tabla13[[#This Row],[Importe de adjudicación (sin IVA)]]","v":0},{"$f":"Tabla13[[#This Row],[Importe IVA ]]","v":0},{"$f":"Tabla13[[#This Row],[Importe de adjudicación (IVA INCLUIDO)]]","v":0},{"$nulls":13},{"$f":"COUNTIF(Tabla13[Título del contrato],Tabla13[[#This Row],[Título del contrato]])","v":0},{"$f":"COUNTIF(Tabla13[Nº Expediente de la plataforma de contratación],Tabla13[[#This Row],[Nº Expediente de la plataforma de contratación]])","v":0}]
[{"$nulls":13},{"$f":"Tabla13[[#This Row],[Título del contrato]]&Tabla13[[#This Row],[Nº Expediente de la plataforma de contratación]]","v":""},{"$nulls":5},{"$f":"Tabla13[[#This Row],[Nº Expediente de la plataforma de contratación]]","v":0},{"$f":"Tabla13[[#This Row],[Importe de adjudicación (sin IVA)]]","v":0},{"$f":"Tabla13[[#This Row],[Importe IVA ]]","v":0},{"$f":"Tabla13[[#This Row],[Importe de adjudicación (IVA INCLUIDO)]]","v":0},{"$nulls":13},{"$f":"COUNTIF(Tabla13[Título del contrato],Tabla13[[#This Row],[Título del contrato]])","v":0},{"$f":"COUNTIF(Tabla13[Nº Expediente de la plataforma de contratación],Tabla13[[#This Row],[Nº Expediente de la plataforma de contratación]])","v":0}]
[{"$nulls":13},{"$f":"Tabla13[[#This Row],[Título del contrato]]&Tabla13[[#This Row],[Nº Expediente de la plataforma de contratación]]","v":""},{"$nulls":5},{"$f":"Tabla13[[#This Row],[Nº Expediente de la plataforma de contratación]]","v":0},{"$f":"Tabla13[[#This Row],[Importe de adjudicación (sin IVA)]]","v":0},{"$f":"Tabla13[[#This Row],[Importe IVA ]]","v":0},{"$f":"Tabla13[[#This Row],[Importe de adjudicación (IVA INCLUIDO)]]","v":0},{"$nulls":13},{"$f":"COUNTIF(Tabla13[Título del contrato],Tabla13[[#This Row],[Título del contrato]])","v":0},{"$f":"COUNTIF(Tabla13[Nº Expediente de la plataforma de contratación],Tabla13[[#This Row],[Nº Expediente de la plataforma de contratación]])","v":0}]
[{"$nulls":13},{"$f":"Tabla13[[#This Row],[Título del contrato]]&Tabla13[[#This Row],[Nº Expediente de la plataforma de contratación]]","v":""},{"$nulls":5},{"$f":"Tabla13[[#This Row],[Nº Expediente de la plataforma de contratación]]","v":0},{"$f":"Tabla13[[#This Row],[Importe de adjudicación (sin IVA)]]","v":0},{"$f":"Tabla13[[#This Row],[Importe IVA ]]","v":0},{"$f":"Tabla13[[#This Row],[Importe de adjudicación (IVA INCLUIDO)]]","v":0},{"$nulls":13},{"$f":"COUNTIF(Tabla13[Título del contrato],Tabla13[[#This Row],[Título del contrato]])","v":0},{"$f":"COUNTIF(Tabla13[Nº Expediente de la plataforma de contratación],Tabla13[[#This Row],[Nº Expediente de la plataforma de contratación]])","v":0}]
[{"$nulls":13},{"$f":"Tabla13[[#This Row],[Título del contrato]]&Tabla13[[#This Row],[Nº Expediente de la plataforma de contratación]]","v":""},{"$nulls":5},{"$f":"Tabla13[[#This Row],[Nº Expediente de la plataforma de contratación]]","v":0},{"$f":"Tabla13[[#This Row],[Importe de adjudicación (sin IVA)]]","v":0},{"$f":"Tabla13[[#This Row],[Importe IVA ]]","v":0},{"$f":"Tabla13[[#This Row],[Importe de adjudicación (IVA INCLUIDO)]]","v":0},{"$nulls":13},{"$f":"COUNTIF(Tabla13[Título del contrato],Tabla13[[#This Row],[Título del contrato]])","v":0},{"$f":"COUNTIF(Tabla13[Nº Expediente de la plataforma de contratación],Tabla13[[#This Row],[Nº Expediente de la plataforma de contratación]])","v":0}]
[{"$nulls":13},{"$f":"Tabla13[[#This Row],[Título del contrato]]&Tabla13[[#This Row],[Nº Expediente de la plataforma de contratación]]","v":""},{"$nulls":5},{"$f":"Tabla13[[#This Row],[Nº Expediente de la plataforma de contratación]]","v":0},{"$f":"Tabla13[[#This Row],[Importe de adjudicación (sin IVA)]]","v":0},{"$f":"Tabla13[[#This Row],[Importe IVA ]]","v":0},{"$f":"Tabla13[[#This Row],[Importe de adjudicación (IVA INCLUIDO)]]","v":0},{"$nulls":13},{"$f":"COUNTIF(Tabla13[Título del contrato],Tabla13[[#This Row],[Título del contrato]])","v":0},{"$f":"COUNTIF(Tabla13[Nº Expediente de la plataforma de contratación],Tabla13[[#This Row],[Nº Expediente de la plataforma de contratación]])","v":0}]
[{"$nulls":13},{"$f":"Tabla13[[#This Row],[Título del contrato]]&Tabla13[[#This Row],[Nº Expediente de la plataforma de contratación]]","v":""},{"$nulls":5},{"$f":"Tabla13[[#This Row],[Nº Expediente de la plataforma de contratación]]","v":0},{"$f":"Tabla13[[#This Row],[Importe de adjudicación (sin IVA)]]","v":0},{"$f":"Tabla13[[#This Row],[Importe IVA ]]","v":0},{"$f":"Tabla13[[#This Row],[Importe de adjudicación (IVA INCLUIDO)]]","v":0},{"$nulls":13},{"$f":"COUNTIF(Tabla13[Título del contrato],Tabla13[[#This Row],[Título del contrato]])","v":0},{"$f":"COUNTIF(Tabla13[Nº Expediente de la plataforma de contratación],Tabla13[[#This Row],[Nº Expediente de la plataforma de contratación]])","v":0}]
[{"$nulls":13},{"$f":"Tabla13[[#This Row],[Título del contrato]]&Tabla13[[#This Row],[Nº Expediente de la plataforma de contratación]]","v":""},{"$nulls":5},{"$f":"Tabla13[[#This Row],[Nº Expediente de la plataforma de contratación]]","v":0},{"$f":"Tabla13[[#This Row],[Importe de adjudicación (sin IVA)]]","v":0},{"$f":"Tabla13[[#This Row],[Importe IVA ]]","v":0},{"$f":"Tabla13[[#This Row],[Importe de adjudicación (IVA INCLUIDO)]]","v":0},{"$nulls":13},{"$f":"COUNTIF(Tabla13[Título del contrato],Tabla13[[#This Row],[Título del contrato]])","v":0},{"$f":"COUNTIF(Tabla13[Nº Expediente de la plataforma de contratación],Tabla13[[#This Row],[Nº Expediente de la plataforma de contratación]])","v":0}]
[{"$nulls":13},{"$f":"Tabla13[[#This Row],[Título del contrato]]&Tabla13[[#This Row],[Nº Expediente de la plataforma de contratación]]","v":""},{"$nulls":5},{"$f":"Tabla13[[#This Row],[Nº Expediente de la plataforma de contratación]]","v":0},{"$f":"Tabla13[[#This Row],[Importe de adjudicación (sin IVA)]]","v":0},{"$f":"Tabla13[[#This Row],[Importe IVA ]]","v":0},{"$f":"Tabla13[[#This Row],[Importe de adjudicación (IVA INCLUIDO)]]","v":0},{"$nulls":13},{"$f":"COUNTIF(Tabla13[Título del contrato],Tabla13[[#This Row],[Título del contrato]])","v":0},{"$f":"COUNTIF(Tabla13[Nº Expediente de la plataforma de contratación],Tabla13[[#This Row],[Nº Expediente de la plataforma de contratación]])","v":0}]
[{"$nulls":13},{"$f":"Tabla13[[#This Row],[Título del contrato]]&Tabla13[[#This Row],[Nº Expediente de la plataforma de contratación]]","v":""},{"$nulls":5},{"$f":"Tabla13[[#This Row],[Nº Expediente de la plataforma de contratación]]","v":0},{"$f":"Tabla13[[#This Row],[Importe de adjudicación (sin IVA)]]","v":0},{"$f":"Tabla13[[#This Row],[Importe IVA ]]","v":0},{"$f":"Tabla13[[#This Row],[Importe de adjudicación (IVA INCLUIDO)]]","v":0},{"$nulls":13},{"$f":"COUNTIF(Tabla13[Título del contrato],Tabla13[[#This Row],[Título del contrato]])","v":0},{"$f":"COUNTIF(Tabla13[Nº Expediente de la plataforma de contratación],Tabla13[[#This Row],[Nº Expediente de la plataforma de contratación]])","v":0}]
[{"$nulls":13},{"$f":"Tabla13[[#This Row],[Título del contrato]]&Tabla13[[#This Row],[Nº Expediente de la plataforma de contratación]]","v":""},{"$nulls":5},{"$f":"Tabla13[[#This Row],[Nº Expediente de la plataforma de contratación]]","v":0},{"$f":"Tabla13[[#This Row],[Importe de adjudicación (sin IVA)]]","v":0},{"$f":"Tabla13[[#This Row],[Importe IVA ]]","v":0},{"$f":"Tabla13[[#This Row],[Importe de adjudicación (IVA INCLUIDO)]]","v":0},{"$nulls":13},{"$f":"COUNTIF(Tabla13[Título del contrato],Tabla13[[#This Row],[Título del contrato]])","v":0},{"$f":"COUNTIF(Tabla13[Nº Expediente de la plataforma de contratación],Tabla13[[#This Row],[Nº Expediente de la plataforma de contratación]])","v":0}]
[{"$nulls":13},{"$f":"Tabla13[[#This Row],[Título del contrato]]&Tabla13[[#This Row],[Nº Expediente de la plataforma de contratación]]","v":""},{"$nulls":5},{"$f":"Tabla13[[#This Row],[Nº Expediente de la plataforma de contratación]]","v":0},{"$f":"Tabla13[[#This Row],[Importe de adjudicación (sin IVA)]]","v":0},{"$f":"Tabla13[[#This Row],[Importe IVA ]]","v":0},{"$f":"Tabla13[[#This Row],[Importe de adjudicación (IVA INCLUIDO)]]","v":0},{"$nulls":13},{"$f":"COUNTIF(Tabla13[Título del contrato],Tabla13[[#This Row],[Título del contrato]])","v":0},{"$f":"COUNTIF(Tabla13[Nº Expediente de la plataforma de contratación],Tabla13[[#This Row],[Nº Expediente de la plataforma de contratación]])","v":0}]
[{"$nulls":13},{"$f":"Tabla13[[#This Row],[Título del contrato]]&Tabla13[[#This Row],[Nº Expediente de la plataforma de contratación]]","v":""},{"$nulls":5},{"$f":"Tabla13[[#This Row],[Nº Expediente de la plataforma de contratación]]","v":0},{"$f":"Tabla13[[#This Row],[Importe de adjudicación (sin IVA)]]","v":0},{"$f":"Tabla13[[#This Row],[Importe IVA ]]","v":0},{"$f":"Tabla13[[#This Row],[Importe de adjudicación (IVA INCLUIDO)]]","v":0},{"$nulls":13},{"$f":"COUNTIF(Tabla13[Título del contrato],Tabla13[[#This Row],[Título del contrato]])","v":0},{"$f":"COUNTIF(Tabla13[Nº Expediente de la plataforma de contratación],Tabla13[[#This Row],[Nº Expediente de la plataforma de contratación]])","v":0}]
[{"$nulls":13},{"$f":"Tabla13[[#This Row],[Título del contrato]]&Tabla13[[#This Row],[Nº Expediente de la plataforma de contratación]]","v":""},{"$nulls":5},{"$f":"Tabla13[[#This Row],[Nº Expediente de la plataforma de contratación]]","v":0},{"$f":"Tabla13[[#This Row],[Importe de adjudicación (sin IVA)]]","v":0},{"$f":"Tabla13[[#This Row],[Importe IVA ]]","v":0},{"$f":"Tabla13[[#This Row],[Importe de adjudicación (IVA INCLUIDO)]]","v":0},{"$nulls":13},{"$f":"COUNTIF(Tabla13[Título del contrato],Tabla13[[#This Row],[Título del contrato]])","v":0},{"$f":"COUNTIF(Tabla13[Nº Expediente de la plataforma de contratación],Tabla13[[#This Row],[Nº Expediente de la plataforma de contratación]])","v":0}]
[{"$nulls":13},{"$f":"Tabla13[[#This Row],[Título del contrato]]&Tabla13[[#This Row],[Nº Expediente de la plataforma de contratación]]","v":""},{"$nulls":5},{"$f":"Tabla13[[#This Row],[Nº Expediente de la plataforma de contratación]]","v":0},{"$f":"Tabla13[[#This Row],[Importe de adjudicación (sin IVA)]]","v":0},{"$f":"Tabla13[[#This Row],[Importe IVA ]]","v":0},{"$f":"Tabla13[[#This Row],[Importe de adjudicación (IVA INCLUIDO)]]","v":0},{"$nulls":13},{"$f":"COUNTIF(Tabla13[Título del contrato],Tabla13[[#This Row],[Título del contrato]])","v":0},{"$f":"COUNTIF(Tabla13[Nº Expediente de la plataforma de contratación],Tabla13[[#This Row],[Nº Expediente de la plataforma de contratación]])","v":0}]
[{"$nulls":13},{"$f":"Tabla13[[#This Row],[Título del contrato]]&Tabla13[[#This Row],[Nº Expediente de la plataforma de contratación]]","v":""},{"$nulls":5},{"$f":"Tabla13[[#This Row],[Nº Expediente de la plataforma de contratación]]","v":0},{"$f":"Tabla13[[#This Row],[Importe de adjudicación (sin IVA)]]","v":0},{"$f":"Tabla13[[#This Row],[Importe IVA ]]","v":0},{"$f":"Tabla13[[#This Row],[Importe de adjudicación (IVA INCLUIDO)]]","v":0},{"$nulls":13},{"$f":"COUNTIF(Tabla13[Título del contrato],Tabla13[[#This Row],[Título del contrato]])","v":0},{"$f":"COUNTIF(Tabla13[Nº Expediente de la plataforma de contratación],Tabla13[[#This Row],[Nº Expediente de la plataforma de contratación]])","v":0}]
[{"$nulls":13},{"$f":"Tabla13[[#This Row],[Título del contrato]]&Tabla13[[#This Row],[Nº Expediente de la plataforma de contratación]]","v":""},{"$nulls":5},{"$f":"Tabla13[[#This Row],[Nº Expediente de la plataforma de contratación]]","v":0},{"$f":"Tabla13[[#This Row],[Importe de adjudicación (sin IVA)]]","v":0},{"$f":"Tabla13[[#This Row],[Importe IVA ]]","v":0},{"$f":"Tabla13[[#This Row],[Importe de adjudicación (IVA INCLUIDO)]]","v":0},{"$nulls":13},{"$f":"COUNTIF(Tabla13[Título del contrato],Tabla13[[#This Row],[Título del contrato]])","v":0},{"$f":"COUNTIF(Tabla13[Nº Expediente de la plataforma de contratación],Tabla13[[#This Row],[Nº Expediente de la plataforma de contratación]])","v":0}]
[{"$nulls":13},{"$f":"Tabla13[[#This Row],[Título del contrato]]&Tabla13[[#This Row],[Nº Expediente de la plataforma de contratación]]","v":""},{"$nulls":5},{"$f":"Tabla13[[#This Row],[Nº Expediente de la plataforma de contratación]]","v":0},{"$f":"Tabla13[[#This Row],[Importe de adjudicación (sin IVA)]]","v":0},{"$f":"Tabla13[[#This Row],[Importe IVA ]]","v":0},{"$f":"Tabla13[[#This Row],[Importe de adjudicación (IVA INCLUIDO)]]","v":0},{"$nulls":13},{"$f":"COUNTIF(Tabla13[Título del contrato],Tabla13[[#This Row],[Título del contrato]])","v":0},{"$f":"COUNTIF(Tabla13[Nº Expediente de la plataforma de contratación],Tabla13[[#This Row],[Nº Expediente de la plataforma de contratación]])","v":0}]
[{"$nulls":13},{"$f":"Tabla13[[#This Row],[Título del contrato]]&Tabla13[[#This Row],[Nº Expediente de la plataforma de contratación]]","v":""},{"$nulls":5},{"$f":"Tabla13[[#This Row],[Nº Expediente de la plataforma de contratación]]","v":0},{"$f":"Tabla13[[#This Row],[Importe de adjudicación (sin IVA)]]","v":0},{"$f":"Tabla13[[#This Row],[Importe IVA ]]","v":0},{"$f":"Tabla13[[#This Row],[Importe de adjudicación (IVA INCLUIDO)]]","v":0},{"$nulls":13},{"$f":"COUNTIF(Tabla13[Título del contrato],Tabla13[[#This Row],[Título del contrato]])","v":0},{"$f":"COUNTIF(Tabla13[Nº Expediente de la plataforma de contratación],Tabla13[[#This Row],[Nº Expediente de la plataforma de contratación]])","v":0}]
[{"$nulls":13},{"$f":"Tabla13[[#This Row],[Título del contrato]]&Tabla13[[#This Row],[Nº Expediente de la plataforma de contratación]]","v":""},{"$nulls":5},{"$f":"Tabla13[[#This Row],[Nº Expediente de la plataforma de contratación]]","v":0},{"$f":"Tabla13[[#This Row],[Importe de adjudicación (sin IVA)]]","v":0},{"$f":"Tabla13[[#This Row],[Importe IVA ]]","v":0},{"$f":"Tabla13[[#This Row],[Importe de adjudicación (IVA INCLUIDO)]]","v":0},{"$nulls":13},{"$f":"COUNTIF(Tabla13[Título del contrato],Tabla13[[#This Row],[Título del contrato]])","v":0},{"$f":"COUNTIF(Tabla13[Nº Expediente de la plataforma de contratación],Tabla13[[#This Row],[Nº Expediente de la plataforma de contratación]])","v":0}]
[{"$nulls":13},{"$f":"Tabla13[[#This Row],[Título del contrato]]&Tabla13[[#This Row],[Nº Expediente de la plataforma de contratación]]","v":""},{"$nulls":5},{"$f":"Tabla13[[#This Row],[Nº Expediente de la plataforma de contratación]]","v":0},{"$f":"Tabla13[[#This Row],[Importe de adjudicación (sin IVA)]]","v":0},{"$f":"Tabla13[[#This Row],[Importe IVA ]]","v":0},{"$f":"Tabla13[[#This Row],[Importe de adjudicación (IVA INCLUIDO)]]","v":0},{"$nulls":13},{"$f":"COUNTIF(Tabla13[Título del contrato],Tabla13[[#This Row],[Título del contrato]])","v":0},{"$f":"COUNTIF(Tabla13[Nº Expediente de la plataforma de contratación],Tabla13[[#This Row],[Nº Expediente de la plataforma de contratación]])","v":0}]
[{"$nulls":13},{"$f":"Tabla13[[#This Row],[Título del contrato]]&Tabla13[[#This Row],[Nº Expediente de la plataforma de contratación]]","v":""},{"$nulls":5},{"$f":"Tabla13[[#This Row],[Nº Expediente de la plataforma de contratación]]","v":0},{"$f":"Tabla13[[#This Row],[Importe de adjudicación (sin IVA)]]","v":0},{"$f":"Tabla13[[#This Row],[Importe IVA ]]","v":0},{"$f":"Tabla13[[#This Row],[Importe de adjudicación (IVA INCLUIDO)]]","v":0},{"$nulls":13},{"$f":"COUNTIF(Tabla13[Título del contrato],Tabla13[[#This Row],[Título del contrato]])","v":0},{"$f":"COUNTIF(Tabla13[Nº Expediente de la plataforma de contratación],Tabla13[[#This Row],[Nº Expediente de la plataforma de contratación]])","v":0}]
[{"$nulls":13},{"$f":"Tabla13[[#This Row],[Título del contrato]]&Tabla13[[#This Row],[Nº Expediente de la plataforma de contratación]]","v":""},{"$nulls":5},{"$f":"Tabla13[[#This Row],[Nº Expediente de la plataforma de contratación]]","v":0},{"$f":"Tabla13[[#This Row],[Importe de adjudicación (sin IVA)]]","v":0},{"$f":"Tabla13[[#This Row],[Importe IVA ]]","v":0},{"$f":"Tabla13[[#This Row],[Importe de adjudicación (IVA INCLUIDO)]]","v":0},{"$nulls":13},{"$f":"COUNTIF(Tabla13[Título del contrato],Tabla13[[#This Row],[Título del contrato]])","v":0},{"$f":"COUNTIF(Tabla13[Nº Expediente de la plataforma de contratación],Tabla13[[#This Row],[Nº Expediente de la plataforma de contratación]])","v":0}]
[{"$nulls":13},{"$f":"Tabla13[[#This Row],[Título del contrato]]&Tabla13[[#This Row],[Nº Expediente de la plataforma de contratación]]","v":""},{"$nulls":5},{"$f":"Tabla13[[#This Row],[Nº Expediente de la plataforma de contratación]]","v":0},{"$f":"Tabla13[[#This Row],[Importe de adjudicación (sin IVA)]]","v":0},{"$f":"Tabla13[[#This Row],[Importe IVA ]]","v":0},{"$f":"Tabla13[[#This Row],[Importe de adjudicación (IVA INCLUIDO)]]","v":0},{"$nulls":13},{"$f":"COUNTIF(Tabla13[Título del contrato],Tabla13[[#This Row],[Título del contrato]])","v":0},{"$f":"COUNTIF(Tabla13[Nº Expediente de la plataforma de contratación],Tabla13[[#This Row],[Nº Expediente de la plataforma de contratación]])","v":0}]
[{"$nulls":13},{"$f":"Tabla13[[#This Row],[Título del contrato]]&Tabla13[[#This Row],[Nº Expediente de la plataforma de contratación]]","v":""},{"$nulls":5},{"$f":"Tabla13[[#This Row],[Nº Expediente de la plataforma de contratación]]","v":0},{"$f":"Tabla13[[#This Row],[Importe de adjudicación (sin IVA)]]","v":0},{"$f":"Tabla13[[#This Row],[Importe IVA ]]","v":0},{"$f":"Tabla13[[#This Row],[Importe de adjudicación (IVA INCLUIDO)]]","v":0},{"$nulls":13},{"$f":"COUNTIF(Tabla13[Título del contrato],Tabla13[[#This Row],[Título del contrato]])","v":0},{"$f":"COUNTIF(Tabla13[Nº Expediente de la plataforma de contratación],Tabla13[[#This Row],[Nº Expediente de la plataforma de contratación]])","v":0}]
[{"$nulls":13},{"$f":"Tabla13[[#This Row],[Título del contrato]]&Tabla13[[#This Row],[Nº Expediente de la plataforma de contratación]]","v":""},{"$nulls":5},{"$f":"Tabla13[[#This Row],[Nº Expediente de la plataforma de contratación]]","v":0},{"$f":"Tabla13[[#This Row],[Importe de adjudicación (sin IVA)]]","v":0},{"$f":"Tabla13[[#This Row],[Importe IVA ]]","v":0},{"$f":"Tabla13[[#This Row],[Importe de adjudicación (IVA INCLUIDO)]]","v":0},{"$nulls":13},{"$f":"COUNTIF(Tabla13[Título del contrato],Tabla13[[#This Row],[Título del contrato]])","v":0},{"$f":"COUNTIF(Tabla13[Nº Expediente de la plataforma de contratación],Tabla13[[#This Row],[Nº Expediente de la plataforma de contratación]])","v":0}]
[{"$nulls":13},{"$f":"Tabla13[[#This Row],[Título del contrato]]&Tabla13[[#This Row],[Nº Expediente de la plataforma de contratación]]","v":""},{"$nulls":5},{"$f":"Tabla13[[#This Row],[Nº Expediente de la plataforma de contratación]]","v":0},{"$f":"Tabla13[[#This Row],[Importe de adjudicación (sin IVA)]]","v":0},{"$f":"Tabla13[[#This Row],[Importe IVA ]]","v":0},{"$f":"Tabla13[[#This Row],[Importe de adjudicación (IVA INCLUIDO)]]","v":0},{"$nulls":13},{"$f":"COUNTIF(Tabla13[Título del contrato],Tabla13[[#This Row],[Título del contrato]])","v":0},{"$f":"COUNTIF(Tabla13[Nº Expediente de la plataforma de contratación],Tabla13[[#This Row],[Nº Expediente de la plataforma de contratación]])","v":0}]
[{"$nulls":13},{"$f":"Tabla13[[#This Row],[Título del contrato]]&Tabla13[[#This Row],[Nº Expediente de la plataforma de contratación]]","v":""},{"$nulls":5},{"$f":"Tabla13[[#This Row],[Nº Expediente de la plataforma de contratación]]","v":0},{"$f":"Tabla13[[#This Row],[Importe de adjudicación (sin IVA)]]","v":0},{"$f":"Tabla13[[#This Row],[Importe IVA ]]","v":0},{"$f":"Tabla13[[#This Row],[Importe de adjudicación (IVA INCLUIDO)]]","v":0},{"$nulls":13},{"$f":"COUNTIF(Tabla13[Título del contrato],Tabla13[[#This Row],[Título del contrato]])","v":0},{"$f":"COUNTIF(Tabla13[Nº Expediente de la plataforma de contratación],Tabla13[[#This Row],[Nº Expediente de la plataforma de contratación]])","v":0}]
[{"$nulls":13},{"$f":"Tabla13[[#This Row],[Título del contrato]]&Tabla13[[#This Row],[Nº Expediente de la plataforma de contratación]]","v":""},{"$nulls":5},{"$f":"Tabla13[[#This Row],[Nº Expediente de la plataforma de contratación]]","v":0},{"$f":"Tabla13[[#This Row],[Importe de adjudicación (sin IVA)]]","v":0},{"$f":"Tabla13[[#This Row],[Importe IVA ]]","v":0},{"$f":"Tabla13[[#This Row],[Importe de adjudicación (IVA INCLUIDO)]]","v":0},{"$nulls":13},{"$f":"COUNTIF(Tabla13[Título del contrato],Tabla13[[#This Row],[Título del contrato]])","v":0},{"$f":"COUNTIF(Tabla13[Nº Expediente de la plataforma de contratación],Tabla13[[#This Row],[Nº Expediente de la plataforma de contratación]])","v":0}]
[{"$nulls":13},{"$f":"Tabla13[[#This Row],[Título del contrato]]&Tabla13[[#This Row],[Nº Expediente de la plataforma de contratación]]","v":""},{"$nulls":5},{"$f":"Tabla13[[#This Row],[Nº Expediente de la plataforma de contratación]]","v":0},{"$f":"Tabla13[[#This Row],[Importe de adjudicación (sin IVA)]]","v":0},{"$f":"Tabla13[[#This Row],[Importe IVA ]]","v":0},{"$f":"Tabla13[[#This Row],[Importe de adjudicación (IVA INCLUIDO)]]","v":0},{"$nulls":13},{"$f":"COUNTIF(Tabla13[Título del contrato],Tabla13[[#This Row],[Título del contrato]])","v":0},{"$f":"COUNTIF(Tabla13[Nº Expediente de la plataforma de contratación],Tabla13[[#This Row],[Nº Expediente de la plataforma de contratación]])","v":0}]
[{"$nulls":13},{"$f":"Tabla13[[#This Row],[Título del contrato]]&Tabla13[[#This Row],[Nº Expediente de la plataforma de contratación]]","v":""},{"$nulls":5},{"$f":"Tabla13[[#This Row],[Nº Expediente de la plataforma de contratación]]","v":0},{"$f":"Tabla13[[#This Row],[Importe de adjudicación (sin IVA)]]","v":0},{"$f":"Tabla13[[#This Row],[Importe IVA ]]","v":0},{"$f":"Tabla13[[#This Row],[Importe de adjudicación (IVA INCLUIDO)]]","v":0},{"$nulls":13},{"$f":"COUNTIF(Tabla13[Título del contrato],Tabla13[[#This Row],[Título del contrato]])","v":0},{"$f":"COUNTIF(Tabla13[Nº Expediente de la plataforma de contratación],Tabla13[[#This Row],[Nº Expediente de la plataforma de contratación]])","v":0}]
[{"$nulls":13},{"$f":"Tabla13[[#This Row],[Título del contrato]]&Tabla13[[#This Row],[Nº Expediente de la plataforma de contratación]]","v":""},{"$nulls":5},{"$f":"Tabla13[[#This Row],[Nº Expediente de la plataforma de contratación]]","v":0},{"$f":"Tabla13[[#This Row],[Importe de adjudicación (sin IVA)]]","v":0},{"$f":"Tabla13[[#This Row],[Importe IVA ]]","v":0},{"$f":"Tabla13[[#This Row],[Importe de adjudicación (IVA INCLUIDO)]]","v":0},{"$nulls":13},{"$f":"COUNTIF(Tabla13[Título del contrato],Tabla13[[#This Row],[Título del contrato]])","v":0},{"$f":"COUNTIF(Tabla13[Nº Expediente de la plataforma de contratación],Tabla13[[#This Row],[Nº Expediente de la plataforma de contratación]])","v":0}]
[{"$nulls":13},{"$f":"Tabla13[[#This Row],[Título del contrato]]&Tabla13[[#This Row],[Nº Expediente de la plataforma de contratación]]","v":""},{"$nulls":5},{"$f":"Tabla13[[#This Row],[Nº Expediente de la plataforma de contratación]]","v":0},{"$f":"Tabla13[[#This Row],[Importe de adjudicación (sin IVA)]]","v":0},{"$f":"Tabla13[[#This Row],[Importe IVA ]]","v":0},{"$f":"Tabla13[[#This Row],[Importe de adjudicación (IVA INCLUIDO)]]","v":0},{"$nulls":13},{"$f":"COUNTIF(Tabla13[Título del contrato],Tabla13[[#This Row],[Título del contrato]])","v":0},{"$f":"COUNTIF(Tabla13[Nº Expediente de la plataforma de contratación],Tabla13[[#This Row],[Nº Expediente de la plataforma de contratación]])","v":0}]
[{"$nulls":13},{"$f":"Tabla13[[#This Row],[Título del contrato]]&Tabla13[[#This Row],[Nº Expediente de la plataforma de contratación]]","v":""},{"$nulls":5},{"$f":"Tabla13[[#This Row],[Nº Expediente de la plataforma de contratación]]","v":0},{"$f":"Tabla13[[#This Row],[Importe de adjudicación (sin IVA)]]","v":0},{"$f":"Tabla13[[#This Row],[Importe IVA ]]","v":0},{"$f":"Tabla13[[#This Row],[Importe de adjudicación (IVA INCLUIDO)]]","v":0},{"$nulls":13},{"$f":"COUNTIF(Tabla13[Título del contrato],Tabla13[[#This Row],[Título del contrato]])","v":0},{"$f":"COUNTIF(Tabla13[Nº Expediente de la plataforma de contratación],Tabla13[[#This Row],[Nº Expediente de la plataforma de contratación]])","v":0}]
[{"$nulls":13},{"$f":"Tabla13[[#This Row],[Título del contrato]]&Tabla13[[#This Row],[Nº Expediente de la plataforma de contratación]]","v":""},{"$nulls":5},{"$f":"Tabla13[[#This Row],[Nº Expediente de la plataforma de contratación]]","v":0},{"$f":"Tabla13[[#This Row],[Importe de adjudicación (sin IVA)]]","v":0},{"$f":"Tabla13[[#This Row],[Importe IVA ]]","v":0},{"$f":"Tabla13[[#This Row],[Importe de adjudicación (IVA INCLUIDO)]]","v":0},{"$nulls":13},{"$f":"COUNTIF(Tabla13[Título del contrato],Tabla13[[#This Row],[Título del contrato]])","v":0},{"$f":"COUNTIF(Tabla13[Nº Expediente de la plataforma de contratación],Tabla13[[#This Row],[Nº Expediente de la plataforma de contratación]])","v":0}]
[{"$nulls":13},{"$f":"Tabla13[[#This Row],[Título del contrato]]&Tabla13[[#This Row],[Nº Expediente de la plataforma de contratación]]","v":""},{"$nulls":5},{"$f":"Tabla13[[#This Row],[Nº Expediente de la plataforma de contratación]]","v":0},{"$f":"Tabla13[[#This Row],[Importe de adjudicación (sin IVA)]]","v":0},{"$f":"Tabla13[[#This Row],[Importe IVA ]]","v":0},{"$f":"Tabla13[[#This Row],[Importe de adjudicación (IVA INCLUIDO)]]","v":0},{"$nulls":13},{"$f":"COUNTIF(Tabla13[Título del contrato],Tabla13[[#This Row],[Título del contrato]])","v":0},{"$f":"COUNTIF(Tabla13[Nº Expediente de la plataforma de contratación],Tabla13[[#This Row],[Nº Expediente de la plataforma de contratación]])","v":0}]
[{"$nulls":13},{"$f":"Tabla13[[#This Row],[Título del contrato]]&Tabla13[[#This Row],[Nº Expediente de la plataforma de contratación]]","v":""},{"$nulls":5},{"$f":"Tabla13[[#This Row],[Nº Expediente de la plataforma de contratación]]","v":0},{"$f":"Tabla13[[#This Row],[Importe de adjudicación (sin IVA)]]","v":0},{"$f":"Tabla13[[#This Row],[Importe IVA ]]","v":0},{"$f":"Tabla13[[#This Row],[Importe de adjudicación (IVA INCLUIDO)]]","v":0},{"$nulls":13},{"$f":"COUNTIF(Tabla13[Título del contrato],Tabla13[[#This Row],[Título del contrato]])","v":0},{"$f":"COUNTIF(Tabla13[Nº Expediente de la plataforma de contratación],Tabla13[[#This Row],[Nº Expediente de la plataforma de contratación]])","v":0}]
[{"$nulls":13},{"$f":"Tabla13[[#This Row],[Título del contrato]]&Tabla13[[#This Row],[Nº Expediente de la plataforma de contratación]]","v":""},{"$nulls":5},{"$f":"Tabla13[[#This Row],[Nº Expediente de la plataforma de contratación]]","v":0},{"$f":"Tabla13[[#This Row],[Importe de adjudicación (sin IVA)]]","v":0},{"$f":"Tabla13[[#This Row],[Importe IVA ]]","v":0},{"$f":"Tabla13[[#This Row],[Importe de adjudicación (IVA INCLUIDO)]]","v":0},{"$nulls":13},{"$f":"COUNTIF(Tabla13[Título del contrato],Tabla13[[#This Row],[Título del contrato]])","v":0},{"$f":"COUNTIF(Tabla13[Nº Expediente de la plataforma de contratación],Tabla13[[#This Row],[Nº Expediente de la plataforma de contratación]])","v":0}]
[{"$nulls":13},{"$f":"Tabla13[[#This Row],[Título del contrato]]&Tabla13[[#This Row],[Nº Expediente de la plataforma de contratación]]","v":""},{"$nulls":5},{"$f":"Tabla13[[#This Row],[Nº Expediente de la plataforma de contratación]]","v":0},{"$f":"Tabla13[[#This Row],[Importe de adjudicación (sin IVA)]]","v":0},{"$f":"Tabla13[[#This Row],[Importe IVA ]]","v":0},{"$f":"Tabla13[[#This Row],[Importe de adjudicación (IVA INCLUIDO)]]","v":0},{"$nulls":13},{"$f":"COUNTIF(Tabla13[Título del contrato],Tabla13[[#This Row],[Título del contrato]])","v":0},{"$f":"COUNTIF(Tabla13[Nº Expediente de la plataforma de contratación],Tabla13[[#This Row],[Nº Expediente de la plataforma de contratación]])","v":0}]
[{"$nulls":13},{"$f":"Tabla13[[#This Row],[Título del contrato]]&Tabla13[[#This Row],[Nº Expediente de la plataforma de contratación]]","v":""},{"$nulls":5},{"$f":"Tabla13[[#This Row],[Nº Expediente de la plataforma de contratación]]","v":0},{"$f":"Tabla13[[#This Row],[Importe de adjudicación (sin IVA)]]","v":0},{"$f":"Tabla13[[#This Row],[Importe IVA ]]","v":0},{"$f":"Tabla13[[#This Row],[Importe de adjudicación (IVA INCLUIDO)]]","v":0},{"$nulls":13},{"$f":"COUNTIF(Tabla13[Título del contrato],Tabla13[[#This Row],[Título del contrato]])","v":0},{"$f":"COUNTIF(Tabla13[Nº Expediente de la plataforma de contratación],Tabla13[[#This Row],[Nº Expediente de la plataforma de contratación]])","v":0}]
[{"$nulls":13},{"$f":"Tabla13[[#This Row],[Título del contrato]]&Tabla13[[#This Row],[Nº Expediente de la plataforma de contratación]]","v":""},{"$nulls":5},{"$f":"Tabla13[[#This Row],[Nº Expediente de la plataforma de contratación]]","v":0},{"$f":"Tabla13[[#This Row],[Importe de adjudicación (sin IVA)]]","v":0},{"$f":"Tabla13[[#This Row],[Importe IVA ]]","v":0},{"$f":"Tabla13[[#This Row],[Importe de adjudicación (IVA INCLUIDO)]]","v":0},{"$nulls":13},{"$f":"COUNTIF(Tabla13[Título del contrato],Tabla13[[#This Row],[Título del contrato]])","v":0},{"$f":"COUNTIF(Tabla13[Nº Expediente de la plataforma de contratación],Tabla13[[#This Row],[Nº Expediente de la plataforma de contratación]])","v":0}]
[{"$nulls":13},{"$f":"Tabla13[[#This Row],[Título del contrato]]&Tabla13[[#This Row],[Nº Expediente de la plataforma de contratación]]","v":""},{"$nulls":5},{"$f":"Tabla13[[#This Row],[Nº Expediente de la plataforma de contratación]]","v":0},{"$f":"Tabla13[[#This Row],[Importe de adjudicación (sin IVA)]]","v":0},{"$f":"Tabla13[[#This Row],[Importe IVA ]]","v":0},{"$f":"Tabla13[[#This Row],[Importe de adjudicación (IVA INCLUIDO)]]","v":0},{"$nulls":13},{"$f":"COUNTIF(Tabla13[Título del contrato],Tabla13[[#This Row],[Título del contrato]])","v":0},{"$f":"COUNTIF(Tabla13[Nº Expediente de la plataforma de contratación],Tabla13[[#This Row],[Nº Expediente de la plataforma de contratación]])","v":0}]
[{"$nulls":13},{"$f":"Tabla13[[#This Row],[Título del contrato]]&Tabla13[[#This Row],[Nº Expediente de la plataforma de contratación]]","v":""},{"$nulls":5},{"$f":"Tabla13[[#This Row],[Nº Expediente de la plataforma de contratación]]","v":0},{"$f":"Tabla13[[#This Row],[Importe de adjudicación (sin IVA)]]","v":0},{"$f":"Tabla13[[#This Row],[Importe IVA ]]","v":0},{"$f":"Tabla13[[#This Row],[Importe de adjudicación (IVA INCLUIDO)]]","v":0},{"$nulls":13},{"$f":"COUNTIF(Tabla13[Título del contrato],Tabla13[[#This Row],[Título del contrato]])","v":0},{"$f":"COUNTIF(Tabla13[Nº Expediente de la plataforma de contratación],Tabla13[[#This Row],[Nº Expediente de la plataforma de contratación]])","v":0}]
[{"$nulls":13},{"$f":"Tabla13[[#This Row],[Título del contrato]]&Tabla13[[#This Row],[Nº Expediente de la plataforma de contratación]]","v":""},{"$nulls":5},{"$f":"Tabla13[[#This Row],[Nº Expediente de la plataforma de contratación]]","v":0},{"$f":"Tabla13[[#This Row],[Importe de adjudicación (sin IVA)]]","v":0},{"$f":"Tabla13[[#This Row],[Importe IVA ]]","v":0},{"$f":"Tabla13[[#This Row],[Importe de adjudicación (IVA INCLUIDO)]]","v":0},{"$nulls":13},{"$f":"COUNTIF(Tabla13[Título del contrato],Tabla13[[#This Row],[Título del contrato]])","v":0},{"$f":"COUNTIF(Tabla13[Nº Expediente de la plataforma de contratación],Tabla13[[#This Row],[Nº Expediente de la plataforma de contratación]])","v":0}]
[{"$nulls":13},{"$f":"Tabla13[[#This Row],[Título del contrato]]&Tabla13[[#This Row],[Nº Expediente de la plataforma de contratación]]","v":""},{"$nulls":5},{"$f":"Tabla13[[#This Row],[Nº Expediente de la plataforma de contratación]]","v":0},{"$f":"Tabla13[[#This Row],[Importe de adjudicación (sin IVA)]]","v":0},{"$f":"Tabla13[[#This Row],[Importe IVA ]]","v":0},{"$f":"Tabla13[[#This Row],[Importe de adjudicación (IVA INCLUIDO)]]","v":0},{"$nulls":13},{"$f":"COUNTIF(Tabla13[Título del contrato],Tabla13[[#This Row],[Título del contrato]])","v":0},{"$f":"COUNTIF(Tabla13[Nº Expediente de la plataforma de contratación],Tabla13[[#This Row],[Nº Expediente de la plataforma de contratación]])","v":0}]
[{"$nulls":13},{"$f":"Tabla13[[#This Row],[Título del contrato]]&Tabla13[[#This Row],[Nº Expediente de la plataforma de contratación]]","v":""},{"$nulls":5},{"$f":"Tabla13[[#This Row],[Nº Expediente de la plataforma de contratación]]","v":0},{"$f":"Tabla13[[#This Row],[Importe de adjudicación (sin IVA)]]","v":0},{"$f":"Tabla13[[#This Row],[Importe IVA ]]","v":0},{"$f":"Tabla13[[#This Row],[Importe de adjudicación (IVA INCLUIDO)]]","v":0},{"$nulls":13},{"$f":"COUNTIF(Tabla13[Título del contrato],Tabla13[[#This Row],[Título del contrato]])","v":0},{"$f":"COUNTIF(Tabla13[Nº Expediente de la plataforma de contratación],Tabla13[[#This Row],[Nº Expediente de la plataforma de contratación]])","v":0}]
[{"$nulls":13},{"$f":"Tabla13[[#This Row],[Título del contrato]]&Tabla13[[#This Row],[Nº Expediente de la plataforma de contratación]]","v":""},{"$nulls":5},{"$f":"Tabla13[[#This Row],[Nº Expediente de la plataforma de contratación]]","v":0},{"$f":"Tabla13[[#This Row],[Importe de adjudicación (sin IVA)]]","v":0},{"$f":"Tabla13[[#This Row],[Importe IVA ]]","v":0},{"$f":"Tabla13[[#This Row],[Importe de adjudicación (IVA INCLUIDO)]]","v":0},{"$nulls":13},{"$f":"COUNTIF(Tabla13[Título del contrato],Tabla13[[#This Row],[Título del contrato]])","v":0},{"$f":"COUNTIF(Tabla13[Nº Expediente de la plataforma de contratación],Tabla13[[#This Row],[Nº Expediente de la plataforma de contratación]])","v":0}]
[{"$nulls":13},{"$f":"Tabla13[[#This Row],[Título del contrato]]&Tabla13[[#This Row],[Nº Expediente de la plataforma de contratación]]","v":""},{"$nulls":5},{"$f":"Tabla13[[#This Row],[Nº Expediente de la plataforma de contratación]]","v":0},{"$f":"Tabla13[[#This Row],[Importe de adjudicación (sin IVA)]]","v":0},{"$f":"Tabla13[[#This Row],[Importe IVA ]]","v":0},{"$f":"Tabla13[[#This Row],[Importe de adjudicación (IVA INCLUIDO)]]","v":0},{"$nulls":13},{"$f":"COUNTIF(Tabla13[Título del contrato],Tabla13[[#This Row],[Título del contrato]])","v":0},{"$f":"COUNTIF(Tabla13[Nº Expediente de la plataforma de contratación],Tabla13[[#This Row],[Nº Expediente de la plataforma de contratación]])","v":0}]
[{"$nulls":13},{"$f":"Tabla13[[#This Row],[Título del contrato]]&Tabla13[[#This Row],[Nº Expediente de la plataforma de contratación]]","v":""},{"$nulls":5},{"$f":"Tabla13[[#This Row],[Nº Expediente de la plataforma de contratación]]","v":0},{"$f":"Tabla13[[#This Row],[Importe de adjudicación (sin IVA)]]","v":0},{"$f":"Tabla13[[#This Row],[Importe IVA ]]","v":0},{"$f":"Tabla13[[#This Row],[Importe de adjudicación (IVA INCLUIDO)]]","v":0},{"$nulls":13},{"$f":"COUNTIF(Tabla13[Título del contrato],Tabla13[[#This Row],[Título del contrato]])","v":0},{"$f":"COUNTIF(Tabla13[Nº Expediente de la plataforma de contratación],Tabla13[[#This Row],[Nº Expediente de la plataforma de contratación]])","v":0}]
[{"$nulls":13},{"$f":"Tabla13[[#This Row],[Título del contrato]]&Tabla13[[#This Row],[Nº Expediente de la plataforma de contratación]]","v":""},{"$nulls":5},{"$f":"Tabla13[[#This Row],[Nº Expediente de la plataforma de contratación]]","v":0},{"$f":"Tabla13[[#This Row],[Importe de adjudicación (sin IVA)]]","v":0},{"$f":"Tabla13[[#This Row],[Importe IVA ]]","v":0},{"$f":"Tabla13[[#This Row],[Importe de adjudicación (IVA INCLUIDO)]]","v":0},{"$nulls":13},{"$f":"COUNTIF(Tabla13[Título del contrato],Tabla13[[#This Row],[Título del contrato]])","v":0},{"$f":"COUNTIF(Tabla13[Nº Expediente de la plataforma de contratación],Tabla13[[#This Row],[Nº Expediente de la plataforma de contratación]])","v":0}]
[{"$nulls":13},{"$f":"Tabla13[[#This Row],[Título del contrato]]&Tabla13[[#This Row],[Nº Expediente de la plataforma de contratación]]","v":""},{"$nulls":5},{"$f":"Tabla13[[#This Row],[Nº Expediente de la plataforma de contratación]]","v":0},{"$f":"Tabla13[[#This Row],[Importe de adjudicación (sin IVA)]]","v":0},{"$f":"Tabla13[[#This Row],[Importe IVA ]]","v":0},{"$f":"Tabla13[[#This Row],[Importe de adjudicación (IVA INCLUIDO)]]","v":0},{"$nulls":13},{"$f":"COUNTIF(Tabla13[Título del contrato],Tabla13[[#This Row],[Título del contrato]])","v":0},{"$f":"COUNTIF(Tabla13[Nº Expediente de la plataforma de contratación],Tabla13[[#This Row],[Nº Expediente de la plataforma de contratación]])","v":0}]
[{"$nulls":13},{"$f":"Tabla13[[#This Row],[Título del contrato]]&Tabla13[[#This Row],[Nº Expediente de la plataforma de contratación]]","v":""},{"$nulls":5},{"$f":"Tabla13[[#This Row],[Nº Expediente de la plataforma de contratación]]","v":0},{"$f":"Tabla13[[#This Row],[Importe de adjudicación (sin IVA)]]","v":0},{"$f":"Tabla13[[#This Row],[Importe IVA ]]","v":0},{"$f":"Tabla13[[#This Row],[Importe de adjudicación (IVA INCLUIDO)]]","v":0},{"$nulls":13},{"$f":"COUNTIF(Tabla13[Título del contrato],Tabla13[[#This Row],[Título del contrato]])","v":0},{"$f":"COUNTIF(Tabla13[Nº Expediente de la plataforma de contratación],Tabla13[[#This Row],[Nº Expediente de la plataforma de contratación]])","v":0}]
[{"$nulls":13},{"$f":"Tabla13[[#This Row],[Título del contrato]]&Tabla13[[#This Row],[Nº Expediente de la plataforma de contratación]]","v":""},{"$nulls":5},{"$f":"Tabla13[[#This Row],[Nº Expediente de la plataforma de contratación]]","v":0},{"$f":"Tabla13[[#This Row],[Importe de adjudicación (sin IVA)]]","v":0},{"$f":"Tabla13[[#This Row],[Importe IVA ]]","v":0},{"$f":"Tabla13[[#This Row],[Importe de adjudicación (IVA INCLUIDO)]]","v":0},{"$nulls":13},{"$f":"COUNTIF(Tabla13[Título del contrato],Tabla13[[#This Row],[Título del contrato]])","v":0},{"$f":"COUNTIF(Tabla13[Nº Expediente de la plataforma de contratación],Tabla13[[#This Row],[Nº Expediente de la plataforma de contratación]])","v":0}]
[{"$nulls":13},{"$f":"Tabla13[[#This Row],[Título del contrato]]&Tabla13[[#This Row],[Nº Expediente de la plataforma de contratación]]","v":""},{"$nulls":5},{"$f":"Tabla13[[#This Row],[Nº Expediente de la plataforma de contratación]]","v":0},{"$f":"Tabla13[[#This Row],[Importe de adjudicación (sin IVA)]]","v":0},{"$f":"Tabla13[[#This Row],[Importe IVA ]]","v":0},{"$f":"Tabla13[[#This Row],[Importe de adjudicación (IVA INCLUIDO)]]","v":0},{"$nulls":13},{"$f":"COUNTIF(Tabla13[Título del contrato],Tabla13[[#This Row],[Título del contrato]])","v":0},{"$f":"COUNTIF(Tabla13[Nº Expediente de la plataforma de contratación],Tabla13[[#This Row],[Nº Expediente de la plataforma de contratación]])","v":0}]
[{"$nulls":13},{"$f":"Tabla13[[#This Row],[Título del contrato]]&Tabla13[[#This Row],[Nº Expediente de la plataforma de contratación]]","v":""},{"$nulls":5},{"$f":"Tabla13[[#This Row],[Nº Expediente de la plataforma de contratación]]","v":0},{"$f":"Tabla13[[#This Row],[Importe de adjudicación (sin IVA)]]","v":0},{"$f":"Tabla13[[#This Row],[Importe IVA ]]","v":0},{"$f":"Tabla13[[#This Row],[Importe de adjudicación (IVA INCLUIDO)]]","v":0},{"$nulls":13},{"$f":"COUNTIF(Tabla13[Título del contrato],Tabla13[[#This Row],[Título del contrato]])","v":0},{"$f":"COUNTIF(Tabla13[Nº Expediente de la plataforma de contratación],Tabla13[[#This Row],[Nº Expediente de la plataforma de contratación]])","v":0}]
[{"$nulls":13},{"$f":"Tabla13[[#This Row],[Título del contrato]]&Tabla13[[#This Row],[Nº Expediente de la plataforma de contratación]]","v":""},{"$nulls":5},{"$f":"Tabla13[[#This Row],[Nº Expediente de la plataforma de contratación]]","v":0},{"$f":"Tabla13[[#This Row],[Importe de adjudicación (sin IVA)]]","v":0},{"$f":"Tabla13[[#This Row],[Importe IVA ]]","v":0},{"$f":"Tabla13[[#This Row],[Importe de adjudicación (IVA INCLUIDO)]]","v":0},{"$nulls":13},{"$f":"COUNTIF(Tabla13[Título del contrato],Tabla13[[#This Row],[Título del contrato]])","v":0},{"$f":"COUNTIF(Tabla13[Nº Expediente de la plataforma de contratación],Tabla13[[#This Row],[Nº Expediente de la plataforma de contratación]])","v":0}]
[{"$nulls":13},{"$f":"Tabla13[[#This Row],[Título del contrato]]&Tabla13[[#This Row],[Nº Expediente de la plataforma de contratación]]","v":""},{"$nulls":5},{"$f":"Tabla13[[#This Row],[Nº Expediente de la plataforma de contratación]]","v":0},{"$f":"Tabla13[[#This Row],[Importe de adjudicación (sin IVA)]]","v":0},{"$f":"Tabla13[[#This Row],[Importe IVA ]]","v":0},{"$f":"Tabla13[[#This Row],[Importe de adjudicación (IVA INCLUIDO)]]","v":0},{"$nulls":13},{"$f":"COUNTIF(Tabla13[Título del contrato],Tabla13[[#This Row],[Título del contrato]])","v":0},{"$f":"COUNTIF(Tabla13[Nº Expediente de la plataforma de contratación],Tabla13[[#This Row],[Nº Expediente de la plataforma de contratación]])","v":0}]
[{"$nulls":13},{"$f":"Tabla13[[#This Row],[Título del contrato]]&Tabla13[[#This Row],[Nº Expediente de la plataforma de contratación]]","v":""},{"$nulls":5},{"$f":"Tabla13[[#This Row],[Nº Expediente de la plataforma de contratación]]","v":0},{"$f":"Tabla13[[#This Row],[Importe de adjudicación (sin IVA)]]","v":0},{"$f":"Tabla13[[#This Row],[Importe IVA ]]","v":0},{"$f":"Tabla13[[#This Row],[Importe de adjudicación (IVA INCLUIDO)]]","v":0},{"$nulls":13},{"$f":"COUNTIF(Tabla13[Título del contrato],Tabla13[[#This Row],[Título del contrato]])","v":0},{"$f":"COUNTIF(Tabla13[Nº Expediente de la plataforma de contratación],Tabla13[[#This Row],[Nº Expediente de la plataforma de contratación]])","v":0}]
[{"$nulls":13},{"$f":"Tabla13[[#This Row],[Título del contrato]]&Tabla13[[#This Row],[Nº Expediente de la plataforma de contratación]]","v":""},{"$nulls":5},{"$f":"Tabla13[[#This Row],[Nº Expediente de la plataforma de contratación]]","v":0},{"$f":"Tabla13[[#This Row],[Importe de adjudicación (sin IVA)]]","v":0},{"$f":"Tabla13[[#This Row],[Importe IVA ]]","v":0},{"$f":"Tabla13[[#This Row],[Importe de adjudicación (IVA INCLUIDO)]]","v":0},{"$nulls":13},{"$f":"COUNTIF(Tabla13[Título del contrato],Tabla13[[#This Row],[Título del contrato]])","v":0},{"$f":"COUNTIF(Tabla13[Nº Expediente de la plataforma de contratación],Tabla13[[#This Row],[Nº Expediente de la plataforma de contratación]])","v":0}]
[{"$nulls":13},{"$f":"Tabla13[[#This Row],[Título del contrato]]&Tabla13[[#This Row],[Nº Expediente de la plataforma de contratación]]","v":""},{"$nulls":5},{"$f":"Tabla13[[#This Row],[Nº Expediente de la plataforma de contratación]]","v":0},{"$f":"Tabla13[[#This Row],[Importe de adjudicación (sin IVA)]]","v":0},{"$f":"Tabla13[[#This Row],[Importe IVA ]]","v":0},{"$f":"Tabla13[[#This Row],[Importe de adjudicación (IVA INCLUIDO)]]","v":0},{"$nulls":13},{"$f":"COUNTIF(Tabla13[Título del contrato],Tabla13[[#This Row],[Título del contrato]])","v":0},{"$f":"COUNTIF(Tabla13[Nº Expediente de la plataforma de contratación],Tabla13[[#This Row],[Nº Expediente de la plataforma de contratación]])","v":0}]
[{"$nulls":13},{"$f":"Tabla13[[#This Row],[Título del contrato]]&Tabla13[[#This Row],[Nº Expediente de la plataforma de contratación]]","v":""},{"$nulls":5},{"$f":"Tabla13[[#This Row],[Nº Expediente de la plataforma de contratación]]","v":0},{"$f":"Tabla13[[#This Row],[Importe de adjudicación (sin IVA)]]","v":0},{"$f":"Tabla13[[#This Row],[Importe IVA ]]","v":0},{"$f":"Tabla13[[#This Row],[Importe de adjudicación (IVA INCLUIDO)]]","v":0},{"$nulls":13},{"$f":"COUNTIF(Tabla13[Título del contrato],Tabla13[[#This Row],[Título del contrato]])","v":0},{"$f":"COUNTIF(Tabla13[Nº Expediente de la plataforma de contratación],Tabla13[[#This Row],[Nº Expediente de la plataforma de contratación]])","v":0}]
[{"$nulls":13},{"$f":"Tabla13[[#This Row],[Título del contrato]]&Tabla13[[#This Row],[Nº Expediente de la plataforma de contratación]]","v":""},{"$nulls":5},{"$f":"Tabla13[[#This Row],[Nº Expediente de la plataforma de contratación]]","v":0},{"$f":"Tabla13[[#This Row],[Importe de adjudicación (sin IVA)]]","v":0},{"$f":"Tabla13[[#This Row],[Importe IVA ]]","v":0},{"$f":"Tabla13[[#This Row],[Importe de adjudicación (IVA INCLUIDO)]]","v":0},{"$nulls":13},{"$f":"COUNTIF(Tabla13[Título del contrato],Tabla13[[#This Row],[Título del contrato]])","v":0},{"$f":"COUNTIF(Tabla13[Nº Expediente de la plataforma de contratación],Tabla13[[#This Row],[Nº Expediente de la plataforma de contratación]])","v":0}]
[{"$nulls":13},{"$f":"Tabla13[[#This Row],[Título del contrato]]&Tabla13[[#This Row],[Nº Expediente de la plataforma de contratación]]","v":""},{"$nulls":5},{"$f":"Tabla13[[#This Row],[Nº Expediente de la plataforma de contratación]]","v":0},{"$f":"Tabla13[[#This Row],[Importe de adjudicación (sin IVA)]]","v":0},{"$f":"Tabla13[[#This Row],[Importe IVA ]]","v":0},{"$f":"Tabla13[[#This Row],[Importe de adjudicación (IVA INCLUIDO)]]","v":0},{"$nulls":13},{"$f":"COUNTIF(Tabla13[Título del contrato],Tabla13[[#This Row],[Título del contrato]])","v":0},{"$f":"COUNTIF(Tabla13[Nº Expediente de la plataforma de contratación],Tabla13[[#This Row],[Nº Expediente de la plataforma de contratación]])","v":0}]
[{"$nulls":13},{"$f":"Tabla13[[#This Row],[Título del contrato]]&Tabla13[[#This Row],[Nº Expediente de la plataforma de contratación]]","v":""},{"$nulls":5},{"$f":"Tabla13[[#This Row],[Nº Expediente de la plataforma de contratación]]","v":0},{"$f":"Tabla13[[#This Row],[Importe de adjudicación (sin IVA)]]","v":0},{"$f":"Tabla13[[#This Row],[Importe IVA ]]","v":0},{"$f":"Tabla13[[#This Row],[Importe de adjudicación (IVA INCLUIDO)]]","v":0},{"$nulls":13},{"$f":"COUNTIF(Tabla13[Título del contrato],Tabla13[[#This Row],[Título del contrato]])","v":0},{"$f":"COUNTIF(Tabla13[Nº Expediente de la plataforma de contratación],Tabla13[[#This Row],[Nº Expediente de la plataforma de contratación]])","v":0}]
[{"$nulls":13},{"$f":"Tabla13[[#This Row],[Título del contrato]]&Tabla13[[#This Row],[Nº Expediente de la plataforma de contratación]]","v":""},{"$nulls":5},{"$f":"Tabla13[[#This Row],[Nº Expediente de la plataforma de contratación]]","v":0},{"$f":"Tabla13[[#This Row],[Importe de adjudicación (sin IVA)]]","v":0},{"$f":"Tabla13[[#This Row],[Importe IVA ]]","v":0},{"$f":"Tabla13[[#This Row],[Importe de adjudicación (IVA INCLUIDO)]]","v":0},{"$nulls":13},{"$f":"COUNTIF(Tabla13[Título del contrato],Tabla13[[#This Row],[Título del contrato]])","v":0},{"$f":"COUNTIF(Tabla13[Nº Expediente de la plataforma de contratación],Tabla13[[#This Row],[Nº Expediente de la plataforma de contratación]])","v":0}]
[{"$nulls":13},{"$f":"Tabla13[[#This Row],[Título del contrato]]&Tabla13[[#This Row],[Nº Expediente de la plataforma de contratación]]","v":""},{"$nulls":5},{"$f":"Tabla13[[#This Row],[Nº Expediente de la plataforma de contratación]]","v":0},{"$f":"Tabla13[[#This Row],[Importe de adjudicación (sin IVA)]]","v":0},{"$f":"Tabla13[[#This Row],[Importe IVA ]]","v":0},{"$f":"Tabla13[[#This Row],[Importe de adjudicación (IVA INCLUIDO)]]","v":0},{"$nulls":13},{"$f":"COUNTIF(Tabla13[Título del contrato],Tabla13[[#This Row],[Título del contrato]])","v":0},{"$f":"COUNTIF(Tabla13[Nº Expediente de la plataforma de contratación],Tabla13[[#This Row],[Nº Expediente de la plataforma de contratación]])","v":0}]
[{"$nulls":13},{"$f":"Tabla13[[#This Row],[Título del contrato]]&Tabla13[[#This Row],[Nº Expediente de la plataforma de contratación]]","v":""},{"$nulls":5},{"$f":"Tabla13[[#This Row],[Nº Expediente de la plataforma de contratación]]","v":0},{"$f":"Tabla13[[#This Row],[Importe de adjudicación (sin IVA)]]","v":0},{"$f":"Tabla13[[#This Row],[Importe IVA ]]","v":0},{"$f":"Tabla13[[#This Row],[Importe de adjudicación (IVA INCLUIDO)]]","v":0},{"$nulls":13},{"$f":"COUNTIF(Tabla13[Título del contrato],Tabla13[[#This Row],[Título del contrato]])","v":0},{"$f":"COUNTIF(Tabla13[Nº Expediente de la plataforma de contratación],Tabla13[[#This Row],[Nº Expediente de la plataforma de contratación]])","v":0}]
[{"$nulls":13},{"$f":"Tabla13[[#This Row],[Título del contrato]]&Tabla13[[#This Row],[Nº Expediente de la plataforma de contratación]]","v":""},{"$nulls":5},{"$f":"Tabla13[[#This Row],[Nº Expediente de la plataforma de contratación]]","v":0},{"$f":"Tabla13[[#This Row],[Importe de adjudicación (sin IVA)]]","v":0},{"$f":"Tabla13[[#This Row],[Importe IVA ]]","v":0},{"$f":"Tabla13[[#This Row],[Importe de adjudicación (IVA INCLUIDO)]]","v":0},{"$nulls":13},{"$f":"COUNTIF(Tabla13[Título del contrato],Tabla13[[#This Row],[Título del contrato]])","v":0},{"$f":"COUNTIF(Tabla13[Nº Expediente de la plataforma de contratación],Tabla13[[#This Row],[Nº Expediente de la plataforma de contratación]])","v":0}]
[{"$nulls":13},{"$f":"Tabla13[[#This Row],[Título del contrato]]&Tabla13[[#This Row],[Nº Expediente de la plataforma de contratación]]","v":""},{"$nulls":5},{"$f":"Tabla13[[#This Row],[Nº Expediente de la plataforma de contratación]]","v":0},{"$f":"Tabla13[[#This Row],[Importe de adjudicación (sin IVA)]]","v":0},{"$f":"Tabla13[[#This Row],[Importe IVA ]]","v":0},{"$f":"Tabla13[[#This Row],[Importe de adjudicación (IVA INCLUIDO)]]","v":0},{"$nulls":13},{"$f":"COUNTIF(Tabla13[Título del contrato],Tabla13[[#This Row],[Título del contrato]])","v":0},{"$f":"COUNTIF(Tabla13[Nº Expediente de la plataforma de contratación],Tabla13[[#This Row],[Nº Expediente de la plataforma de contratación]])","v":0}]
[{"$nulls":13},{"$f":"Tabla13[[#This Row],[Título del contrato]]&Tabla13[[#This Row],[Nº Expediente de la plataforma de contratación]]","v":""},{"$nulls":5},{"$f":"Tabla13[[#This Row],[Nº Expediente de la plataforma de contratación]]","v":0},{"$f":"Tabla13[[#This Row],[Importe de adjudicación (sin IVA)]]","v":0},{"$f":"Tabla13[[#This Row],[Importe IVA ]]","v":0},{"$f":"Tabla13[[#This Row],[Importe de adjudicación (IVA INCLUIDO)]]","v":0},{"$nulls":13},{"$f":"COUNTIF(Tabla13[Título del contrato],Tabla13[[#This Row],[Título del contrato]])","v":0},{"$f":"COUNTIF(Tabla13[Nº Expediente de la plataforma de contratación],Tabla13[[#This Row],[Nº Expediente de la plataforma de contratación]])","v":0}]
[{"$nulls":13},{"$f":"Tabla13[[#This Row],[Título del contrato]]&Tabla13[[#This Row],[Nº Expediente de la plataforma de contratación]]","v":""},{"$nulls":5},{"$f":"Tabla13[[#This Row],[Nº Expediente de la plataforma de contratación]]","v":0},{"$f":"Tabla13[[#This Row],[Importe de adjudicación (sin IVA)]]","v":0},{"$f":"Tabla13[[#This Row],[Importe IVA ]]","v":0},{"$f":"Tabla13[[#This Row],[Importe de adjudicación (IVA INCLUIDO)]]","v":0},{"$nulls":13},{"$f":"COUNTIF(Tabla13[Título del contrato],Tabla13[[#This Row],[Título del contrato]])","v":0},{"$f":"COUNTIF(Tabla13[Nº Expediente de la plataforma de contratación],Tabla13[[#This Row],[Nº Expediente de la plataforma de contratación]])","v":0}]
[{"$nulls":13},{"$f":"Tabla13[[#This Row],[Título del contrato]]&Tabla13[[#This Row],[Nº Expediente de la plataforma de contratación]]","v":""},{"$nulls":5},{"$f":"Tabla13[[#This Row],[Nº Expediente de la plataforma de contratación]]","v":0},{"$f":"Tabla13[[#This Row],[Importe de adjudicación (sin IVA)]]","v":0},{"$f":"Tabla13[[#This Row],[Importe IVA ]]","v":0},{"$f":"Tabla13[[#This Row],[Importe de adjudicación (IVA INCLUIDO)]]","v":0},{"$nulls":13},{"$f":"COUNTIF(Tabla13[Título del contrato],Tabla13[[#This Row],[Título del contrato]])","v":0},{"$f":"COUNTIF(Tabla13[Nº Expediente de la plataforma de contratación],Tabla13[[#This Row],[Nº Expediente de la plataforma de contratación]])","v":0}]
[{"$nulls":13},{"$f":"Tabla13[[#This Row],[Título del contrato]]&Tabla13[[#This Row],[Nº Expediente de la plataforma de contratación]]","v":""},{"$nulls":5},{"$f":"Tabla13[[#This Row],[Nº Expediente de la plataforma de contratación]]","v":0},{"$f":"Tabla13[[#This Row],[Importe de adjudicación (sin IVA)]]","v":0},{"$f":"Tabla13[[#This Row],[Importe IVA ]]","v":0},{"$f":"Tabla13[[#This Row],[Importe de adjudicación (IVA INCLUIDO)]]","v":0},{"$nulls":13},{"$f":"COUNTIF(Tabla13[Título del contrato],Tabla13[[#This Row],[Título del contrato]])","v":0},{"$f":"COUNTIF(Tabla13[Nº Expediente de la plataforma de contratación],Tabla13[[#This Row],[Nº Expediente de la plataforma de contratación]])","v":0}]
[{"$nulls":13},{"$f":"Tabla13[[#This Row],[Título del contrato]]&Tabla13[[#This Row],[Nº Expediente de la plataforma de contratación]]","v":""},{"$nulls":5},{"$f":"Tabla13[[#This Row],[Nº Expediente de la plataforma de contratación]]","v":0},{"$f":"Tabla13[[#This Row],[Importe de adjudicación (sin IVA)]]","v":0},{"$f":"Tabla13[[#This Row],[Importe IVA ]]","v":0},{"$f":"Tabla13[[#This Row],[Importe de adjudicación (IVA INCLUIDO)]]","v":0},{"$nulls":13},{"$f":"COUNTIF(Tabla13[Título del contrato],Tabla13[[#This Row],[Título del contrato]])","v":0},{"$f":"COUNTIF(Tabla13[Nº Expediente de la plataforma de contratación],Tabla13[[#This Row],[Nº Expediente de la plataforma de contratación]])","v":0}]
[{"$nulls":13},{"$f":"Tabla13[[#This Row],[Título del contrato]]&Tabla13[[#This Row],[Nº Expediente de la plataforma de contratación]]","v":""},{"$nulls":5},{"$f":"Tabla13[[#This Row],[Nº Expediente de la plataforma de contratación]]","v":0},{"$f":"Tabla13[[#This Row],[Importe de adjudicación (sin IVA)]]","v":0},{"$f":"Tabla13[[#This Row],[Importe IVA ]]","v":0},{"$f":"Tabla13[[#This Row],[Importe de adjudicación (IVA INCLUIDO)]]","v":0},{"$nulls":13},{"$f":"COUNTIF(Tabla13[Título del contrato],Tabla13[[#This Row],[Título del contrato]])","v":0},{"$f":"COUNTIF(Tabla13[Nº Expediente de la plataforma de contratación],Tabla13[[#This Row],[Nº Expediente de la plataforma de contratación]])","v":0}]
[{"$nulls":13},{"$f":"Tabla13[[#This Row],[Título del contrato]]&Tabla13[[#This Row],[Nº Expediente de la plataforma de contratación]]","v":""},{"$nulls":5},{"$f":"Tabla13[[#This Row],[Nº Expediente de la plataforma de contratación]]","v":0},{"$f":"Tabla13[[#This Row],[Importe de adjudicación (sin IVA)]]","v":0},{"$f":"Tabla13[[#This Row],[Importe IVA ]]","v":0},{"$f":"Tabla13[[#This Row],[Importe de adjudicación (IVA INCLUIDO)]]","v":0},{"$nulls":13},{"$f":"COUNTIF(Tabla13[Título del contrato],Tabla13[[#This Row],[Título del contrato]])","v":0},{"$f":"COUNTIF(Tabla13[Nº Expediente de la plataforma de contratación],Tabla13[[#This Row],[Nº Expediente de la plataforma de contratación]])","v":0}]
[{"$nulls":13},{"$f":"Tabla13[[#This Row],[Título del contrato]]&Tabla13[[#This Row],[Nº Expediente de la plataforma de contratación]]","v":""},{"$nulls":5},{"$f":"Tabla13[[#This Row],[Nº Expediente de la plataforma de contratación]]","v":0},{"$f":"Tabla13[[#This Row],[Importe de adjudicación (sin IVA)]]","v":0},{"$f":"Tabla13[[#This Row],[Importe IVA ]]","v":0},{"$f":"Tabla13[[#This Row],[Importe de adjudicación (IVA INCLUIDO)]]","v":0},{"$nulls":13},{"$f":"COUNTIF(Tabla13[Título del contrato],Tabla13[[#This Row],[Título del contrato]])","v":0},{"$f":"COUNTIF(Tabla13[Nº Expediente de la plataforma de contratación],Tabla13[[#This Row],[Nº Expediente de la plataforma de contratación]])","v":0}]
[{"$nulls":13},{"$f":"Tabla13[[#This Row],[Título del contrato]]&Tabla13[[#This Row],[Nº Expediente de la plataforma de contratación]]","v":""},{"$nulls":5},{"$f":"Tabla13[[#This Row],[Nº Expediente de la plataforma de contratación]]","v":0},{"$f":"Tabla13[[#This Row],[Importe de adjudicación (sin IVA)]]","v":0},{"$f":"Tabla13[[#This Row],[Importe IVA ]]","v":0},{"$f":"Tabla13[[#This Row],[Importe de adjudicación (IVA INCLUIDO)]]","v":0},{"$nulls":13},{"$f":"COUNTIF(Tabla13[Título del contrato],Tabla13[[#This Row],[Título del contrato]])","v":0},{"$f":"COUNTIF(Tabla13[Nº Expediente de la plataforma de contratación],Tabla13[[#This Row],[Nº Expediente de la plataforma de contratación]])","v":0}]
[{"$nulls":13},{"$f":"Tabla13[[#This Row],[Título del contrato]]&Tabla13[[#This Row],[Nº Expediente de la plataforma de contratación]]","v":""},{"$nulls":5},{"$f":"Tabla13[[#This Row],[Nº Expediente de la plataforma de contratación]]","v":0},{"$f":"Tabla13[[#This Row],[Importe de adjudicación (sin IVA)]]","v":0},{"$f":"Tabla13[[#This Row],[Importe IVA ]]","v":0},{"$f":"Tabla13[[#This Row],[Importe de adjudicación (IVA INCLUIDO)]]","v":0},{"$nulls":13},{"$f":"COUNTIF(Tabla13[Título del contrato],Tabla13[[#This Row],[Título del contrato]])","v":0},{"$f":"COUNTIF(Tabla13[Nº Expediente de la plataforma de contratación],Tabla13[[#This Row],[Nº Expediente de la plataforma de contratación]])","v":0}]
[{"$nulls":13},{"$f":"Tabla13[[#This Row],[Título del contrato]]&Tabla13[[#This Row],[Nº Expediente de la plataforma de contratación]]","v":""},{"$nulls":5},{"$f":"Tabla13[[#This Row],[Nº Expediente de la plataforma de contratación]]","v":0},{"$f":"Tabla13[[#This Row],[Importe de adjudicación (sin IVA)]]","v":0},{"$f":"Tabla13[[#This Row],[Importe IVA ]]","v":0},{"$f":"Tabla13[[#This Row],[Importe de adjudicación (IVA INCLUIDO)]]","v":0},{"$nulls":13},{"$f":"COUNTIF(Tabla13[Título del contrato],Tabla13[[#This Row],[Título del contrato]])","v":0},{"$f":"COUNTIF(Tabla13[Nº Expediente de la plataforma de contratación],Tabla13[[#This Row],[Nº Expediente de la plataforma de contratación]])","v":0}]
[{"$nulls":13},{"$f":"Tabla13[[#This Row],[Título del contrato]]&Tabla13[[#This Row],[Nº Expediente de la plataforma de contratación]]","v":""},{"$nulls":5},{"$f":"Tabla13[[#This Row],[Nº Expediente de la plataforma de contratación]]","v":0},{"$f":"Tabla13[[#This Row],[Importe de adjudicación (sin IVA)]]","v":0},{"$f":"Tabla13[[#This Row],[Importe IVA ]]","v":0},{"$f":"Tabla13[[#This Row],[Importe de adjudicación (IVA INCLUIDO)]]","v":0},{"$nulls":13},{"$f":"COUNTIF(Tabla13[Título del contrato],Tabla13[[#This Row],[Título del contrato]])","v":0},{"$f":"COUNTIF(Tabla13[Nº Expediente de la plataforma de contratación],Tabla13[[#This Row],[Nº Expediente de la plataforma de contratación]])","v":0}]
[{"$nulls":13},{"$f":"Tabla13[[#This Row],[Título del contrato]]&Tabla13[[#This Row],[Nº Expediente de la plataforma de contratación]]","v":""},{"$nulls":5},{"$f":"Tabla13[[#This Row],[Nº Expediente de la plataforma de contratación]]","v":0},{"$f":"Tabla13[[#This Row],[Importe de adjudicación (sin IVA)]]","v":0},{"$f":"Tabla13[[#This Row],[Importe IVA ]]","v":0},{"$f":"Tabla13[[#This Row],[Importe de adjudicación (IVA INCLUIDO)]]","v":0},{"$nulls":13},{"$f":"COUNTIF(Tabla13[Título del contrato],Tabla13[[#This Row],[Título del contrato]])","v":0},{"$f":"COUNTIF(Tabla13[Nº Expediente de la plataforma de contratación],Tabla13[[#This Row],[Nº Expediente de la plataforma de contratación]])","v":0}]
[{"$nulls":13},{"$f":"Tabla13[[#This Row],[Título del contrato]]&Tabla13[[#This Row],[Nº Expediente de la plataforma de contratación]]","v":""},{"$nulls":5},{"$f":"Tabla13[[#This Row],[Nº Expediente de la plataforma de contratación]]","v":0},{"$f":"Tabla13[[#This Row],[Importe de adjudicación (sin IVA)]]","v":0},{"$f":"Tabla13[[#This Row],[Importe IVA ]]","v":0},{"$f":"Tabla13[[#This Row],[Importe de adjudicación (IVA INCLUIDO)]]","v":0},{"$nulls":13},{"$f":"COUNTIF(Tabla13[Título del contrato],Tabla13[[#This Row],[Título del contrato]])","v":0},{"$f":"COUNTIF(Tabla13[Nº Expediente de la plataforma de contratación],Tabla13[[#This Row],[Nº Expediente de la plataforma de contratación]])","v":0}]
[{"$nulls":13},{"$f":"Tabla13[[#This Row],[Título del contrato]]&Tabla13[[#This Row],[Nº Expediente de la plataforma de contratación]]","v":""},{"$nulls":5},{"$f":"Tabla13[[#This Row],[Nº Expediente de la plataforma de contratación]]","v":0},{"$f":"Tabla13[[#This Row],[Importe de adjudicación (sin IVA)]]","v":0},{"$f":"Tabla13[[#This Row],[Importe IVA ]]","v":0},{"$f":"Tabla13[[#This Row],[Importe de adjudicación (IVA INCLUIDO)]]","v":0},{"$nulls":13},{"$f":"COUNTIF(Tabla13[Título del contrato],Tabla13[[#This Row],[Título del contrato]])","v":0},{"$f":"COUNTIF(Tabla13[Nº Expediente de la plataforma de contratación],Tabla13[[#This Row],[Nº Expediente de la plataforma de contratación]])","v":0}]
[{"$nulls":13},{"$f":"Tabla13[[#This Row],[Título del contrato]]&Tabla13[[#This Row],[Nº Expediente de la plataforma de contratación]]","v":""},{"$nulls":5},{"$f":"Tabla13[[#This Row],[Nº Expediente de la plataforma de contratación]]","v":0},{"$f":"Tabla13[[#This Row],[Importe de adjudicación (sin IVA)]]","v":0},{"$f":"Tabla13[[#This Row],[Importe IVA ]]","v":0},{"$f":"Tabla13[[#This Row],[Importe de adjudicación (IVA INCLUIDO)]]","v":0},{"$nulls":13},{"$f":"COUNTIF(Tabla13[Título del contrato],Tabla13[[#This Row],[Título del contrato]])","v":0},{"$f":"COUNTIF(Tabla13[Nº Expediente de la plataforma de contratación],Tabla13[[#This Row],[Nº Expediente de la plataforma de contratación]])","v":0}]
[{"$nulls":13},{"$f":"Tabla13[[#This Row],[Título del contrato]]&Tabla13[[#This Row],[Nº Expediente de la plataforma de contratación]]","v":""},{"$nulls":5},{"$f":"Tabla13[[#This Row],[Nº Expediente de la plataforma de contratación]]","v":0},{"$f":"Tabla13[[#This Row],[Importe de adjudicación (sin IVA)]]","v":0},{"$f":"Tabla13[[#This Row],[Importe IVA ]]","v":0},{"$f":"Tabla13[[#This Row],[Importe de adjudicación (IVA INCLUIDO)]]","v":0},{"$nulls":13},{"$f":"COUNTIF(Tabla13[Título del contrato],Tabla13[[#This Row],[Título del contrato]])","v":0},{"$f":"COUNTIF(Tabla13[Nº Expediente de la plataforma de contratación],Tabla13[[#This Row],[Nº Expediente de la plataforma de contratación]])","v":0}]
[{"$nulls":13},{"$f":"Tabla13[[#This Row],[Título del contrato]]&Tabla13[[#This Row],[Nº Expediente de la plataforma de contratación]]","v":""},{"$nulls":5},{"$f":"Tabla13[[#This Row],[Nº Expediente de la plataforma de contratación]]","v":0},{"$f":"Tabla13[[#This Row],[Importe de adjudicación (sin IVA)]]","v":0},{"$f":"Tabla13[[#This Row],[Importe IVA ]]","v":0},{"$f":"Tabla13[[#This Row],[Importe de adjudicación (IVA INCLUIDO)]]","v":0},{"$nulls":13},{"$f":"COUNTIF(Tabla13[Título del contrato],Tabla13[[#This Row],[Título del contrato]])","v":0},{"$f":"COUNTIF(Tabla13[Nº Expediente de la plataforma de contratación],Tabla13[[#This Row],[Nº Expediente de la plataforma de contratación]])","v":0}]
[{"$nulls":13},{"$f":"Tabla13[[#This Row],[Título del contrato]]&Tabla13[[#This Row],[Nº Expediente de la plataforma de contratación]]","v":""},{"$nulls":5},{"$f":"Tabla13[[#This Row],[Nº Expediente de la plataforma de contratación]]","v":0},{"$f":"Tabla13[[#This Row],[Importe de adjudicación (sin IVA)]]","v":0},{"$f":"Tabla13[[#This Row],[Importe IVA ]]","v":0},{"$f":"Tabla13[[#This Row],[Importe de adjudicación (IVA INCLUIDO)]]","v":0},{"$nulls":13},{"$f":"COUNTIF(Tabla13[Título del contrato],Tabla13[[#This Row],[Título del contrato]])","v":0},{"$f":"COUNTIF(Tabla13[Nº Expediente de la plataforma de contratación],Tabla13[[#This Row],[Nº Expediente de la plataforma de contratación]])","v":0}]
[{"$nulls":13},{"$f":"Tabla13[[#This Row],[Título del contrato]]&Tabla13[[#This Row],[Nº Expediente de la plataforma de contratación]]","v":""},{"$nulls":5},{"$f":"Tabla13[[#This Row],[Nº Expediente de la plataforma de contratación]]","v":0},{"$f":"Tabla13[[#This Row],[Importe de adjudicación (sin IVA)]]","v":0},{"$f":"Tabla13[[#This Row],[Importe IVA ]]","v":0},{"$f":"Tabla13[[#This Row],[Importe de adjudicación (IVA INCLUIDO)]]","v":0},{"$nulls":13},{"$f":"COUNTIF(Tabla13[Título del contrato],Tabla13[[#This Row],[Título del contrato]])","v":0},{"$f":"COUNTIF(Tabla13[Nº Expediente de la plataforma de contratación],Tabla13[[#This Row],[Nº Expediente de la plataforma de contratación]])","v":0}]
[{"$nulls":13},{"$f":"Tabla13[[#This Row],[Título del contrato]]&Tabla13[[#This Row],[Nº Expediente de la plataforma de contratación]]","v":""},{"$nulls":5},{"$f":"Tabla13[[#This Row],[Nº Expediente de la plataforma de contratación]]","v":0},{"$f":"Tabla13[[#This Row],[Importe de adjudicación (sin IVA)]]","v":0},{"$f":"Tabla13[[#This Row],[Importe IVA ]]","v":0},{"$f":"Tabla13[[#This Row],[Importe de adjudicación (IVA INCLUIDO)]]","v":0},{"$nulls":13},{"$f":"COUNTIF(Tabla13[Título del contrato],Tabla13[[#This Row],[Título del contrato]])","v":0},{"$f":"COUNTIF(Tabla13[Nº Expediente de la plataforma de contratación],Tabla13[[#This Row],[Nº Expediente de la plataforma de contratación]])","v":0}]
[{"$nulls":13},{"$f":"Tabla13[[#This Row],[Título del contrato]]&Tabla13[[#This Row],[Nº Expediente de la plataforma de contratación]]","v":""},{"$nulls":5},{"$f":"Tabla13[[#This Row],[Nº Expediente de la plataforma de contratación]]","v":0},{"$f":"Tabla13[[#This Row],[Importe de adjudicación (sin IVA)]]","v":0},{"$f":"Tabla13[[#This Row],[Importe IVA ]]","v":0},{"$f":"Tabla13[[#This Row],[Importe de adjudicación (IVA INCLUIDO)]]","v":0},{"$nulls":13},{"$f":"COUNTIF(Tabla13[Título del contrato],Tabla13[[#This Row],[Título del contrato]])","v":0},{"$f":"COUNTIF(Tabla13[Nº Expediente de la plataforma de contratación],Tabla13[[#This Row],[Nº Expediente de la plataforma de contratación]])","v":0}]
[{"$nulls":13},{"$f":"Tabla13[[#This Row],[Título del contrato]]&Tabla13[[#This Row],[Nº Expediente de la plataforma de contratación]]","v":""},{"$nulls":5},{"$f":"Tabla13[[#This Row],[Nº Expediente de la plataforma de contratación]]","v":0},{"$f":"Tabla13[[#This Row],[Importe de adjudicación (sin IVA)]]","v":0},{"$f":"Tabla13[[#This Row],[Importe IVA ]]","v":0},{"$f":"Tabla13[[#This Row],[Importe de adjudicación (IVA INCLUIDO)]]","v":0},{"$nulls":13},{"$f":"COUNTIF(Tabla13[Título del contrato],Tabla13[[#This Row],[Título del contrato]])","v":0},{"$f":"COUNTIF(Tabla13[Nº Expediente de la plataforma de contratación],Tabla13[[#This Row],[Nº Expediente de la plataforma de contratación]])","v":0}]
[{"$nulls":13},{"$f":"Tabla13[[#This Row],[Título del contrato]]&Tabla13[[#This Row],[Nº Expediente de la plataforma de contratación]]","v":""},{"$nulls":5},{"$f":"Tabla13[[#This Row],[Nº Expediente de la plataforma de contratación]]","v":0},{"$f":"Tabla13[[#This Row],[Importe de adjudicación (sin IVA)]]","v":0},{"$f":"Tabla13[[#This Row],[Importe IVA ]]","v":0},{"$f":"Tabla13[[#This Row],[Importe de adjudicación (IVA INCLUIDO)]]","v":0},{"$nulls":13},{"$f":"COUNTIF(Tabla13[Título del contrato],Tabla13[[#This Row],[Título del contrato]])","v":0},{"$f":"COUNTIF(Tabla13[Nº Expediente de la plataforma de contratación],Tabla13[[#This Row],[Nº Expediente de la plataforma de contratación]])","v":0}]
[{"$nulls":13},{"$f":"Tabla13[[#This Row],[Título del contrato]]&Tabla13[[#This Row],[Nº Expediente de la plataforma de contratación]]","v":""},{"$nulls":5},{"$f":"Tabla13[[#This Row],[Nº Expediente de la plataforma de contratación]]","v":0},{"$f":"Tabla13[[#This Row],[Importe de adjudicación (sin IVA)]]","v":0},{"$f":"Tabla13[[#This Row],[Importe IVA ]]","v":0},{"$f":"Tabla13[[#This Row],[Importe de adjudicación (IVA INCLUIDO)]]","v":0},{"$nulls":13},{"$f":"COUNTIF(Tabla13[Título del contrato],Tabla13[[#This Row],[Título del contrato]])","v":0},{"$f":"COUNTIF(Tabla13[Nº Expediente de la plataforma de contratación],Tabla13[[#This Row],[Nº Expediente de la plataforma de contratación]])","v":0}]
[{"$nulls":13},{"$f":"Tabla13[[#This Row],[Título del contrato]]&Tabla13[[#This Row],[Nº Expediente de la plataforma de contratación]]","v":""},{"$nulls":5},{"$f":"Tabla13[[#This Row],[Nº Expediente de la plataforma de contratación]]","v":0},{"$f":"Tabla13[[#This Row],[Importe de adjudicación (sin IVA)]]","v":0},{"$f":"Tabla13[[#This Row],[Importe IVA ]]","v":0},{"$f":"Tabla13[[#This Row],[Importe de adjudicación (IVA INCLUIDO)]]","v":0},{"$nulls":13},{"$f":"COUNTIF(Tabla13[Título del contrato],Tabla13[[#This Row],[Título del contrato]])","v":0},{"$f":"COUNTIF(Tabla13[Nº Expediente de la plataforma de contratación],Tabla13[[#This Row],[Nº Expediente de la plataforma de contratación]])","v":0}]
[{"$nulls":13},{"$f":"Tabla13[[#This Row],[Título del contrato]]&Tabla13[[#This Row],[Nº Expediente de la plataforma de contratación]]","v":""},{"$nulls":5},{"$f":"Tabla13[[#This Row],[Nº Expediente de la plataforma de contratación]]","v":0},{"$f":"Tabla13[[#This Row],[Importe de adjudicación (sin IVA)]]","v":0},{"$f":"Tabla13[[#This Row],[Importe IVA ]]","v":0},{"$f":"Tabla13[[#This Row],[Importe de adjudicación (IVA INCLUIDO)]]","v":0},{"$nulls":13},{"$f":"COUNTIF(Tabla13[Título del contrato],Tabla13[[#This Row],[Título del contrato]])","v":0},{"$f":"COUNTIF(Tabla13[Nº Expediente de la plataforma de contratación],Tabla13[[#This Row],[Nº Expediente de la plataforma de contratación]])","v":0}]
[{"$nulls":13},{"$f":"Tabla13[[#This Row],[Título del contrato]]&Tabla13[[#This Row],[Nº Expediente de la plataforma de contratación]]","v":""},{"$nulls":5},{"$f":"Tabla13[[#This Row],[Nº Expediente de la plataforma de contratación]]","v":0},{"$f":"Tabla13[[#This Row],[Importe de adjudicación (sin IVA)]]","v":0},{"$f":"Tabla13[[#This Row],[Importe IVA ]]","v":0},{"$f":"Tabla13[[#This Row],[Importe de adjudicación (IVA INCLUIDO)]]","v":0},{"$nulls":13},{"$f":"COUNTIF(Tabla13[Título del contrato],Tabla13[[#This Row],[Título del contrato]])","v":0},{"$f":"COUNTIF(Tabla13[Nº Expediente de la plataforma de contratación],Tabla13[[#This Row],[Nº Expediente de la plataforma de contratación]])","v":0}]
[{"$nulls":13},{"$f":"Tabla13[[#This Row],[Título del contrato]]&Tabla13[[#This Row],[Nº Expediente de la plataforma de contratación]]","v":""},{"$nulls":5},{"$f":"Tabla13[[#This Row],[Nº Expediente de la plataforma de contratación]]","v":0},{"$f":"Tabla13[[#This Row],[Importe de adjudicación (sin IVA)]]","v":0},{"$f":"Tabla13[[#This Row],[Importe IVA ]]","v":0},{"$f":"Tabla13[[#This Row],[Importe de adjudicación (IVA INCLUIDO)]]","v":0},{"$nulls":13},{"$f":"COUNTIF(Tabla13[Título del contrato],Tabla13[[#This Row],[Título del contrato]])","v":0},{"$f":"COUNTIF(Tabla13[Nº Expediente de la plataforma de contratación],Tabla13[[#This Row],[Nº Expediente de la plataforma de contratación]])","v":0}]
[{"$nulls":13},{"$f":"Tabla13[[#This Row],[Título del contrato]]&Tabla13[[#This Row],[Nº Expediente de la plataforma de contratación]]","v":""},{"$nulls":5},{"$f":"Tabla13[[#This Row],[Nº Expediente de la plataforma de contratación]]","v":0},{"$f":"Tabla13[[#This Row],[Importe de adjudicación (sin IVA)]]","v":0},{"$f":"Tabla13[[#This Row],[Importe IVA ]]","v":0},{"$f":"Tabla13[[#This Row],[Importe de adjudicación (IVA INCLUIDO)]]","v":0},{"$nulls":13},{"$f":"COUNTIF(Tabla13[Título del contrato],Tabla13[[#This Row],[Título del contrato]])","v":0},{"$f":"COUNTIF(Tabla13[Nº Expediente de la plataforma de contratación],Tabla13[[#This Row],[Nº Expediente de la plataforma de contratación]])","v":0}]
[{"$nulls":13},{"$f":"Tabla13[[#This Row],[Título del contrato]]&Tabla13[[#This Row],[Nº Expediente de la plataforma de contratación]]","v":""},{"$nulls":5},{"$f":"Tabla13[[#This Row],[Nº Expediente de la plataforma de contratación]]","v":0},{"$f":"Tabla13[[#This Row],[Importe de adjudicación (sin IVA)]]","v":0},{"$f":"Tabla13[[#This Row],[Importe IVA ]]","v":0},{"$f":"Tabla13[[#This Row],[Importe de adjudicación (IVA INCLUIDO)]]","v":0},{"$nulls":13},{"$f":"COUNTIF(Tabla13[Título del contrato],Tabla13[[#This Row],[Título del contrato]])","v":0},{"$f":"COUNTIF(Tabla13[Nº Expediente de la plataforma de contratación],Tabla13[[#This Row],[Nº Expediente de la plataforma de contratación]])","v":0}]
[{"$nulls":13},{"$f":"Tabla13[[#This Row],[Título del contrato]]&Tabla13[[#This Row],[Nº Expediente de la plataforma de contratación]]","v":""},{"$nulls":5},{"$f":"Tabla13[[#This Row],[Nº Expediente de la plataforma de contratación]]","v":0},{"$f":"Tabla13[[#This Row],[Importe de adjudicación (sin IVA)]]","v":0},{"$f":"Tabla13[[#This Row],[Importe IVA ]]","v":0},{"$f":"Tabla13[[#This Row],[Importe de adjudicación (IVA INCLUIDO)]]","v":0},{"$nulls":13},{"$f":"COUNTIF(Tabla13[Título del contrato],Tabla13[[#This Row],[Título del contrato]])","v":0},{"$f":"COUNTIF(Tabla13[Nº Expediente de la plataforma de contratación],Tabla13[[#This Row],[Nº Expediente de la plataforma de contratación]])","v":0}]
[{"$nulls":13},{"$f":"Tabla13[[#This Row],[Título del contrato]]&Tabla13[[#This Row],[Nº Expediente de la plataforma de contratación]]","v":""},{"$nulls":5},{"$f":"Tabla13[[#This Row],[Nº Expediente de la plataforma de contratación]]","v":0},{"$f":"Tabla13[[#This Row],[Importe de adjudicación (sin IVA)]]","v":0},{"$f":"Tabla13[[#This Row],[Importe IVA ]]","v":0},{"$f":"Tabla13[[#This Row],[Importe de adjudicación (IVA INCLUIDO)]]","v":0},{"$nulls":13},{"$f":"COUNTIF(Tabla13[Título del contrato],Tabla13[[#This Row],[Título del contrato]])","v":0},{"$f":"COUNTIF(Tabla13[Nº Expediente de la plataforma de contratación],Tabla13[[#This Row],[Nº Expediente de la plataforma de contratación]])","v":0}]
[{"$nulls":13},{"$f":"Tabla13[[#This Row],[Título del contrato]]&Tabla13[[#This Row],[Nº Expediente de la plataforma de contratación]]","v":""},{"$nulls":5},{"$f":"Tabla13[[#This Row],[Nº Expediente de la plataforma de contratación]]","v":0},{"$f":"Tabla13[[#This Row],[Importe de adjudicación (sin IVA)]]","v":0},{"$f":"Tabla13[[#This Row],[Importe IVA ]]","v":0},{"$f":"Tabla13[[#This Row],[Importe de adjudicación (IVA INCLUIDO)]]","v":0},{"$nulls":13},{"$f":"COUNTIF(Tabla13[Título del contrato],Tabla13[[#This Row],[Título del contrato]])","v":0},{"$f":"COUNTIF(Tabla13[Nº Expediente de la plataforma de contratación],Tabla13[[#This Row],[Nº Expediente de la plataforma de contratación]])","v":0}]
[{"$nulls":13},{"$f":"Tabla13[[#This Row],[Título del contrato]]&Tabla13[[#This Row],[Nº Expediente de la plataforma de contratación]]","v":""},{"$nulls":5},{"$f":"Tabla13[[#This Row],[Nº Expediente de la plataforma de contratación]]","v":0},{"$f":"Tabla13[[#This Row],[Importe de adjudicación (sin IVA)]]","v":0},{"$f":"Tabla13[[#This Row],[Importe IVA ]]","v":0},{"$f":"Tabla13[[#This Row],[Importe de adjudicación (IVA INCLUIDO)]]","v":0},{"$nulls":13},{"$f":"COUNTIF(Tabla13[Título del contrato],Tabla13[[#This Row],[Título del contrato]])","v":0},{"$f":"COUNTIF(Tabla13[Nº Expediente de la plataforma de contratación],Tabla13[[#This Row],[Nº Expediente de la plataforma de contratación]])","v":0}]
[{"$nulls":13},{"$f":"Tabla13[[#This Row],[Título del contrato]]&Tabla13[[#This Row],[Nº Expediente de la plataforma de contratación]]","v":""},{"$nulls":5},{"$f":"Tabla13[[#This Row],[Nº Expediente de la plataforma de contratación]]","v":0},{"$f":"Tabla13[[#This Row],[Importe de adjudicación (sin IVA)]]","v":0},{"$f":"Tabla13[[#This Row],[Importe IVA ]]","v":0},{"$f":"Tabla13[[#This Row],[Importe de adjudicación (IVA INCLUIDO)]]","v":0},{"$nulls":13},{"$f":"COUNTIF(Tabla13[Título del contrato],Tabla13[[#This Row],[Título del contrato]])","v":0},{"$f":"COUNTIF(Tabla13[Nº Expediente de la plataforma de contratación],Tabla13[[#This Row],[Nº Expediente de la plataforma de contratación]])","v":0}]
[{"$nulls":13},{"$f":"Tabla13[[#This Row],[Título del contrato]]&Tabla13[[#This Row],[Nº Expediente de la plataforma de contratación]]","v":""},{"$nulls":5},{"$f":"Tabla13[[#This Row],[Nº Expediente de la plataforma de contratación]]","v":0},{"$f":"Tabla13[[#This Row],[Importe de adjudicación (sin IVA)]]","v":0},{"$f":"Tabla13[[#This Row],[Importe IVA ]]","v":0},{"$f":"Tabla13[[#This Row],[Importe de adjudicación (IVA INCLUIDO)]]","v":0},{"$nulls":13},{"$f":"COUNTIF(Tabla13[Título del contrato],Tabla13[[#This Row],[Título del contrato]])","v":0},{"$f":"COUNTIF(Tabla13[Nº Expediente de la plataforma de contratación],Tabla13[[#This Row],[Nº Expediente de la plataforma de contratación]])","v":0}]
[{"$nulls":13},{"$f":"Tabla13[[#This Row],[Título del contrato]]&Tabla13[[#This Row],[Nº Expediente de la plataforma de contratación]]","v":""},{"$nulls":5},{"$f":"Tabla13[[#This Row],[Nº Expediente de la plataforma de contratación]]","v":0},{"$f":"Tabla13[[#This Row],[Importe de adjudicación (sin IVA)]]","v":0},{"$f":"Tabla13[[#This Row],[Importe IVA ]]","v":0},{"$f":"Tabla13[[#This Row],[Importe de adjudicación (IVA INCLUIDO)]]","v":0},{"$nulls":13},{"$f":"COUNTIF(Tabla13[Título del contrato],Tabla13[[#This Row],[Título del contrato]])","v":0},{"$f":"COUNTIF(Tabla13[Nº Expediente de la plataforma de contratación],Tabla13[[#This Row],[Nº Expediente de la plataforma de contratación]])","v":0}]
[{"$nulls":13},{"$f":"Tabla13[[#This Row],[Título del contrato]]&Tabla13[[#This Row],[Nº Expediente de la plataforma de contratación]]","v":""},{"$nulls":5},{"$f":"Tabla13[[#This Row],[Nº Expediente de la plataforma de contratación]]","v":0},{"$f":"Tabla13[[#This Row],[Importe de adjudicación (sin IVA)]]","v":0},{"$f":"Tabla13[[#This Row],[Importe IVA ]]","v":0},{"$f":"Tabla13[[#This Row],[Importe de adjudicación (IVA INCLUIDO)]]","v":0},{"$nulls":13},{"$f":"COUNTIF(Tabla13[Título del contrato],Tabla13[[#This Row],[Título del contrato]])","v":0},{"$f":"COUNTIF(Tabla13[Nº Expediente de la plataforma de contratación],Tabla13[[#This Row],[Nº Expediente de la plataforma de contratación]])","v":0}]
[{"$nulls":13},{"$f":"Tabla13[[#This Row],[Título del contrato]]&Tabla13[[#This Row],[Nº Expediente de la plataforma de contratación]]","v":""},{"$nulls":5},{"$f":"Tabla13[[#This Row],[Nº Expediente de la plataforma de contratación]]","v":0},{"$f":"Tabla13[[#This Row],[Importe de adjudicación (sin IVA)]]","v":0},{"$f":"Tabla13[[#This Row],[Importe IVA ]]","v":0},{"$f":"Tabla13[[#This Row],[Importe de adjudicación (IVA INCLUIDO)]]","v":0},{"$nulls":13},{"$f":"COUNTIF(Tabla13[Título del contrato],Tabla13[[#This Row],[Título del contrato]])","v":0},{"$f":"COUNTIF(Tabla13[Nº Expediente de la plataforma de contratación],Tabla13[[#This Row],[Nº Expediente de la plataforma de contratación]])","v":0}]
[{"$nulls":13},{"$f":"Tabla13[[#This Row],[Título del contrato]]&Tabla13[[#This Row],[Nº Expediente de la plataforma de contratación]]","v":""},{"$nulls":5},{"$f":"Tabla13[[#This Row],[Nº Expediente de la plataforma de contratación]]","v":0},{"$f":"Tabla13[[#This Row],[Importe de adjudicación (sin IVA)]]","v":0},{"$f":"Tabla13[[#This Row],[Importe IVA ]]","v":0},{"$f":"Tabla13[[#This Row],[Importe de adjudicación (IVA INCLUIDO)]]","v":0},{"$nulls":13},{"$f":"COUNTIF(Tabla13[Título del contrato],Tabla13[[#This Row],[Título del contrato]])","v":0},{"$f":"COUNTIF(Tabla13[Nº Expediente de la plataforma de contratación],Tabla13[[#This Row],[Nº Expediente de la plataforma de contratación]])","v":0}]
[{"$nulls":13},{"$f":"Tabla13[[#This Row],[Título del contrato]]&Tabla13[[#This Row],[Nº Expediente de la plataforma de contratación]]","v":""},{"$nulls":5},{"$f":"Tabla13[[#This Row],[Nº Expediente de la plataforma de contratación]]","v":0},{"$f":"Tabla13[[#This Row],[Importe de adjudicación (sin IVA)]]","v":0},{"$f":"Tabla13[[#This Row],[Importe IVA ]]","v":0},{"$f":"Tabla13[[#This Row],[Importe de adjudicación (IVA INCLUIDO)]]","v":0},{"$nulls":13},{"$f":"COUNTIF(Tabla13[Título del contrato],Tabla13[[#This Row],[Título del contrato]])","v":0},{"$f":"COUNTIF(Tabla13[Nº Expediente de la plataforma de contratación],Tabla13[[#This Row],[Nº Expediente de la plataforma de contratación]])","v":0}]
[{"$nulls":13},{"$f":"Tabla13[[#This Row],[Título del contrato]]&Tabla13[[#This Row],[Nº Expediente de la plataforma de contratación]]","v":""},{"$nulls":5},{"$f":"Tabla13[[#This Row],[Nº Expediente de la plataforma de contratación]]","v":0},{"$f":"Tabla13[[#This Row],[Importe de adjudicación (sin IVA)]]","v":0},{"$f":"Tabla13[[#This Row],[Importe IVA ]]","v":0},{"$f":"Tabla13[[#This Row],[Importe de adjudicación (IVA INCLUIDO)]]","v":0},{"$nulls":13},{"$f":"COUNTIF(Tabla13[Título del contrato],Tabla13[[#This Row],[Título del contrato]])","v":0},{"$f":"COUNTIF(Tabla13[Nº Expediente de la plataforma de contratación],Tabla13[[#This Row],[Nº Expediente de la plataforma de contratación]])","v":0}]
[{"$nulls":13},{"$f":"Tabla13[[#This Row],[Título del contrato]]&Tabla13[[#This Row],[Nº Expediente de la plataforma de contratación]]","v":""},{"$nulls":5},{"$f":"Tabla13[[#This Row],[Nº Expediente de la plataforma de contratación]]","v":0},{"$f":"Tabla13[[#This Row],[Importe de adjudicación (sin IVA)]]","v":0},{"$f":"Tabla13[[#This Row],[Importe IVA ]]","v":0},{"$f":"Tabla13[[#This Row],[Importe de adjudicación (IVA INCLUIDO)]]","v":0},{"$nulls":13},{"$f":"COUNTIF(Tabla13[Título del contrato],Tabla13[[#This Row],[Título del contrato]])","v":0},{"$f":"COUNTIF(Tabla13[Nº Expediente de la plataforma de contratación],Tabla13[[#This Row],[Nº Expediente de la plataforma de contratación]])","v":0}]
[{"$nulls":13},{"$f":"Tabla13[[#This Row],[Título del contrato]]&Tabla13[[#This Row],[Nº Expediente de la plataforma de contratación]]","v":""},{"$nulls":5},{"$f":"Tabla13[[#This Row],[Nº Expediente de la plataforma de contratación]]","v":0},{"$f":"Tabla13[[#This Row],[Importe de adjudicación (sin IVA)]]","v":0},{"$f":"Tabla13[[#This Row],[Importe IVA ]]","v":0},{"$f":"Tabla13[[#This Row],[Importe de adjudicación (IVA INCLUIDO)]]","v":0},{"$nulls":13},{"$f":"COUNTIF(Tabla13[Título del contrato],Tabla13[[#This Row],[Título del contrato]])","v":0},{"$f":"COUNTIF(Tabla13[Nº Expediente de la plataforma de contratación],Tabla13[[#This Row],[Nº Expediente de la plataforma de contratación]])","v":0}]
[{"$nulls":13},{"$f":"Tabla13[[#This Row],[Título del contrato]]&Tabla13[[#This Row],[Nº Expediente de la plataforma de contratación]]","v":""},{"$nulls":5},{"$f":"Tabla13[[#This Row],[Nº Expediente de la plataforma de contratación]]","v":0},{"$f":"Tabla13[[#This Row],[Importe de adjudicación (sin IVA)]]","v":0},{"$f":"Tabla13[[#This Row],[Importe IVA ]]","v":0},{"$f":"Tabla13[[#This Row],[Importe de adjudicación (IVA INCLUIDO)]]","v":0},{"$nulls":13},{"$f":"COUNTIF(Tabla13[Título del contrato],Tabla13[[#This Row],[Título del contrato]])","v":0},{"$f":"COUNTIF(Tabla13[Nº Expediente de la plataforma de contratación],Tabla13[[#This Row],[Nº Expediente de la plataforma de contratación]])","v":0}]
[{"$nulls":13},{"$f":"Tabla13[[#This Row],[Título del contrato]]&Tabla13[[#This Row],[Nº Expediente de la plataforma de contratación]]","v":""},{"$nulls":5},{"$f":"Tabla13[[#This Row],[Nº Expediente de la plataforma de contratación]]","v":0},{"$f":"Tabla13[[#This Row],[Importe de adjudicación (sin IVA)]]","v":0},{"$f":"Tabla13[[#This Row],[Importe IVA ]]","v":0},{"$f":"Tabla13[[#This Row],[Importe de adjudicación (IVA INCLUIDO)]]","v":0},{"$nulls":13},{"$f":"COUNTIF(Tabla13[Título del contrato],Tabla13[[#This Row],[Título del contrato]])","v":0},{"$f":"COUNTIF(Tabla13[Nº Expediente de la plataforma de contratación],Tabla13[[#This Row],[Nº Expediente de la plataforma de contratación]])","v":0}]
[{"$nulls":13},{"$f":"Tabla13[[#This Row],[Título del contrato]]&Tabla13[[#This Row],[Nº Expediente de la plataforma de contratación]]","v":""},{"$nulls":5},{"$f":"Tabla13[[#This Row],[Nº Expediente de la plataforma de contratación]]","v":0},{"$f":"Tabla13[[#This Row],[Importe de adjudicación (sin IVA)]]","v":0},{"$f":"Tabla13[[#This Row],[Importe IVA ]]","v":0},{"$f":"Tabla13[[#This Row],[Importe de adjudicación (IVA INCLUIDO)]]","v":0},{"$nulls":13},{"$f":"COUNTIF(Tabla13[Título del contrato],Tabla13[[#This Row],[Título del contrato]])","v":0},{"$f":"COUNTIF(Tabla13[Nº Expediente de la plataforma de contratación],Tabla13[[#This Row],[Nº Expediente de la plataforma de contratación]])","v":0}]
[{"$nulls":13},{"$f":"Tabla13[[#This Row],[Título del contrato]]&Tabla13[[#This Row],[Nº Expediente de la plataforma de contratación]]","v":""},{"$nulls":5},{"$f":"Tabla13[[#This Row],[Nº Expediente de la plataforma de contratación]]","v":0},{"$f":"Tabla13[[#This Row],[Importe de adjudicación (sin IVA)]]","v":0},{"$f":"Tabla13[[#This Row],[Importe IVA ]]","v":0},{"$f":"Tabla13[[#This Row],[Importe de adjudicación (IVA INCLUIDO)]]","v":0},{"$nulls":13},{"$f":"COUNTIF(Tabla13[Título del contrato],Tabla13[[#This Row],[Título del contrato]])","v":0},{"$f":"COUNTIF(Tabla13[Nº Expediente de la plataforma de contratación],Tabla13[[#This Row],[Nº Expediente de la plataforma de contratación]])","v":0}]
[{"$nulls":13},{"$f":"Tabla13[[#This Row],[Título del contrato]]&Tabla13[[#This Row],[Nº Expediente de la plataforma de contratación]]","v":""},{"$nulls":5},{"$f":"Tabla13[[#This Row],[Nº Expediente de la plataforma de contratación]]","v":0},{"$f":"Tabla13[[#This Row],[Importe de adjudicación (sin IVA)]]","v":0},{"$f":"Tabla13[[#This Row],[Importe IVA ]]","v":0},{"$f":"Tabla13[[#This Row],[Importe de adjudicación (IVA INCLUIDO)]]","v":0},{"$nulls":13},{"$f":"COUNTIF(Tabla13[Título del contrato],Tabla13[[#This Row],[Título del contrato]])","v":0},{"$f":"COUNTIF(Tabla13[Nº Expediente de la plataforma de contratación],Tabla13[[#This Row],[Nº Expediente de la plataforma de contratación]])","v":0}]
[{"$nulls":13},{"$f":"Tabla13[[#This Row],[Título del contrato]]&Tabla13[[#This Row],[Nº Expediente de la plataforma de contratación]]","v":""},{"$nulls":5},{"$f":"Tabla13[[#This Row],[Nº Expediente de la plataforma de contratación]]","v":0},{"$f":"Tabla13[[#This Row],[Importe de adjudicación (sin IVA)]]","v":0},{"$f":"Tabla13[[#This Row],[Importe IVA ]]","v":0},{"$f":"Tabla13[[#This Row],[Importe de adjudicación (IVA INCLUIDO)]]","v":0},{"$nulls":13},{"$f":"COUNTIF(Tabla13[Título del contrato],Tabla13[[#This Row],[Título del contrato]])","v":0},{"$f":"COUNTIF(Tabla13[Nº Expediente de la plataforma de contratación],Tabla13[[#This Row],[Nº Expediente de la plataforma de contratación]])","v":0}]
[{"$nulls":13},{"$f":"Tabla13[[#This Row],[Título del contrato]]&Tabla13[[#This Row],[Nº Expediente de la plataforma de contratación]]","v":""},{"$nulls":5},{"$f":"Tabla13[[#This Row],[Nº Expediente de la plataforma de contratación]]","v":0},{"$f":"Tabla13[[#This Row],[Importe de adjudicación (sin IVA)]]","v":0},{"$f":"Tabla13[[#This Row],[Importe IVA ]]","v":0},{"$f":"Tabla13[[#This Row],[Importe de adjudicación (IVA INCLUIDO)]]","v":0},{"$nulls":13},{"$f":"COUNTIF(Tabla13[Título del contrato],Tabla13[[#This Row],[Título del contrato]])","v":0},{"$f":"COUNTIF(Tabla13[Nº Expediente de la plataforma de contratación],Tabla13[[#This Row],[Nº Expediente de la plataforma de contratación]])","v":0}]
[{"$nulls":13},{"$f":"Tabla13[[#This Row],[Título del contrato]]&Tabla13[[#This Row],[Nº Expediente de la plataforma de contratación]]","v":""},{"$nulls":5},{"$f":"Tabla13[[#This Row],[Nº Expediente de la plataforma de contratación]]","v":0},{"$f":"Tabla13[[#This Row],[Importe de adjudicación (sin IVA)]]","v":0},{"$f":"Tabla13[[#This Row],[Importe IVA ]]","v":0},{"$f":"Tabla13[[#This Row],[Importe de adjudicación (IVA INCLUIDO)]]","v":0},{"$nulls":13},{"$f":"COUNTIF(Tabla13[Título del contrato],Tabla13[[#This Row],[Título del contrato]])","v":0},{"$f":"COUNTIF(Tabla13[Nº Expediente de la plataforma de contratación],Tabla13[[#This Row],[Nº Expediente de la plataforma de contratación]])","v":0}]
[{"$nulls":13},{"$f":"Tabla13[[#This Row],[Título del contrato]]&Tabla13[[#This Row],[Nº Expediente de la plataforma de contratación]]","v":""},{"$nulls":5},{"$f":"Tabla13[[#This Row],[Nº Expediente de la plataforma de contratación]]","v":0},{"$f":"Tabla13[[#This Row],[Importe de adjudicación (sin IVA)]]","v":0},{"$f":"Tabla13[[#This Row],[Importe IVA ]]","v":0},{"$f":"Tabla13[[#This Row],[Importe de adjudicación (IVA INCLUIDO)]]","v":0},{"$nulls":13},{"$f":"COUNTIF(Tabla13[Título del contrato],Tabla13[[#This Row],[Título del contrato]])","v":0},{"$f":"COUNTIF(Tabla13[Nº Expediente de la plataforma de contratación],Tabla13[[#This Row],[Nº Expediente de la plataforma de contratación]])","v":0}]
[{"$nulls":13},{"$f":"Tabla13[[#This Row],[Título del contrato]]&Tabla13[[#This Row],[Nº Expediente de la plataforma de contratación]]","v":""},{"$nulls":5},{"$f":"Tabla13[[#This Row],[Nº Expediente de la plataforma de contratación]]","v":0},{"$f":"Tabla13[[#This Row],[Importe de adjudicación (sin IVA)]]","v":0},{"$f":"Tabla13[[#This Row],[Importe IVA ]]","v":0},{"$f":"Tabla13[[#This Row],[Importe de adjudicación (IVA INCLUIDO)]]","v":0},{"$nulls":13},{"$f":"COUNTIF(Tabla13[Título del contrato],Tabla13[[#This Row],[Título del contrato]])","v":0},{"$f":"COUNTIF(Tabla13[Nº Expediente de la plataforma de contratación],Tabla13[[#This Row],[Nº Expediente de la plataforma de contratación]])","v":0}]
[{"$nulls":13},{"$f":"Tabla13[[#This Row],[Título del contrato]]&Tabla13[[#This Row],[Nº Expediente de la plataforma de contratación]]","v":""},{"$nulls":5},{"$f":"Tabla13[[#This Row],[Nº Expediente de la plataforma de contratación]]","v":0},{"$f":"Tabla13[[#This Row],[Importe de adjudicación (sin IVA)]]","v":0},{"$f":"Tabla13[[#This Row],[Importe IVA ]]","v":0},{"$f":"Tabla13[[#This Row],[Importe de adjudicación (IVA INCLUIDO)]]","v":0},{"$nulls":13},{"$f":"COUNTIF(Tabla13[Título del contrato],Tabla13[[#This Row],[Título del contrato]])","v":0},{"$f":"COUNTIF(Tabla13[Nº Expediente de la plataforma de contratación],Tabla13[[#This Row],[Nº Expediente de la plataforma de contratación]])","v":0}]
[{"$nulls":13},{"$f":"Tabla13[[#This Row],[Título del contrato]]&Tabla13[[#This Row],[Nº Expediente de la plataforma de contratación]]","v":""},{"$nulls":5},{"$f":"Tabla13[[#This Row],[Nº Expediente de la plataforma de contratación]]","v":0},{"$f":"Tabla13[[#This Row],[Importe de adjudicación (sin IVA)]]","v":0},{"$f":"Tabla13[[#This Row],[Importe IVA ]]","v":0},{"$f":"Tabla13[[#This Row],[Importe de adjudicación (IVA INCLUIDO)]]","v":0},{"$nulls":13},{"$f":"COUNTIF(Tabla13[Título del contrato],Tabla13[[#This Row],[Título del contrato]])","v":0},{"$f":"COUNTIF(Tabla13[Nº Expediente de la plataforma de contratación],Tabla13[[#This Row],[Nº Expediente de la plataforma de contratación]])","v":0}]
[{"$nulls":13},{"$f":"Tabla13[[#This Row],[Título del contrato]]&Tabla13[[#This Row],[Nº Expediente de la plataforma de contratación]]","v":""},{"$nulls":5},{"$f":"Tabla13[[#This Row],[Nº Expediente de la plataforma de contratación]]","v":0},{"$f":"Tabla13[[#This Row],[Importe de adjudicación (sin IVA)]]","v":0},{"$f":"Tabla13[[#This Row],[Importe IVA ]]","v":0},{"$f":"Tabla13[[#This Row],[Importe de adjudicación (IVA INCLUIDO)]]","v":0},{"$nulls":13},{"$f":"COUNTIF(Tabla13[Título del contrato],Tabla13[[#This Row],[Título del contrato]])","v":0},{"$f":"COUNTIF(Tabla13[Nº Expediente de la plataforma de contratación],Tabla13[[#This Row],[Nº Expediente de la plataforma de contratación]])","v":0}]
[{"$nulls":13},{"$f":"Tabla13[[#This Row],[Título del contrato]]&Tabla13[[#This Row],[Nº Expediente de la plataforma de contratación]]","v":""},{"$nulls":5},{"$f":"Tabla13[[#This Row],[Nº Expediente de la plataforma de contratación]]","v":0},{"$f":"Tabla13[[#This Row],[Importe de adjudicación (sin IVA)]]","v":0},{"$f":"Tabla13[[#This Row],[Importe IVA ]]","v":0},{"$f":"Tabla13[[#This Row],[Importe de adjudicación (IVA INCLUIDO)]]","v":0},{"$nulls":13},{"$f":"COUNTIF(Tabla13[Título del contrato],Tabla13[[#This Row],[Título del contrato]])","v":0},{"$f":"COUNTIF(Tabla13[Nº Expediente de la plataforma de contratación],Tabla13[[#This Row],[Nº Expediente de la plataforma de contratación]])","v":0}]
[{"$nulls":13},{"$f":"Tabla13[[#This Row],[Título del contrato]]&Tabla13[[#This Row],[Nº Expediente de la plataforma de contratación]]","v":""},{"$nulls":5},{"$f":"Tabla13[[#This Row],[Nº Expediente de la plataforma de contratación]]","v":0},{"$f":"Tabla13[[#This Row],[Importe de adjudicación (sin IVA)]]","v":0},{"$f":"Tabla13[[#This Row],[Importe IVA ]]","v":0},{"$f":"Tabla13[[#This Row],[Importe de adjudicación (IVA INCLUIDO)]]","v":0},{"$nulls":13},{"$f":"COUNTIF(Tabla13[Título del contrato],Tabla13[[#This Row],[Título del contrato]])","v":0},{"$f":"COUNTIF(Tabla13[Nº Expediente de la plataforma de contratación],Tabla13[[#This Row],[Nº Expediente de la plataforma de contratación]])","v":0}]
[{"$nulls":13},{"$f":"Tabla13[[#This Row],[Título del contrato]]&Tabla13[[#This Row],[Nº Expediente de la plataforma de contratación]]","v":""},{"$nulls":5},{"$f":"Tabla13[[#This Row],[Nº Expediente de la plataforma de contratación]]","v":0},{"$f":"Tabla13[[#This Row],[Importe de adjudicación (sin IVA)]]","v":0},{"$f":"Tabla13[[#This Row],[Importe IVA ]]","v":0},{"$f":"Tabla13[[#This Row],[Importe de adjudicación (IVA INCLUIDO)]]","v":0},{"$nulls":13},{"$f":"COUNTIF(Tabla13[Título del contrato],Tabla13[[#This Row],[Título del contrato]])","v":0},{"$f":"COUNTIF(Tabla13[Nº Expediente de la plataforma de contratación],Tabla13[[#This Row],[Nº Expediente de la plataforma de contratación]])","v":0}]
[{"$nulls":13},{"$f":"Tabla13[[#This Row],[Título del contrato]]&Tabla13[[#This Row],[Nº Expediente de la plataforma de contratación]]","v":""},{"$nulls":5},{"$f":"Tabla13[[#This Row],[Nº Expediente de la plataforma de contratación]]","v":0},{"$f":"Tabla13[[#This Row],[Importe de adjudicación (sin IVA)]]","v":0},{"$f":"Tabla13[[#This Row],[Importe IVA ]]","v":0},{"$f":"Tabla13[[#This Row],[Importe de adjudicación (IVA INCLUIDO)]]","v":0},{"$nulls":13},{"$f":"COUNTIF(Tabla13[Título del contrato],Tabla13[[#This Row],[Título del contrato]])","v":0},{"$f":"COUNTIF(Tabla13[Nº Expediente de la plataforma de contratación],Tabla13[[#This Row],[Nº Expediente de la plataforma de contratación]])","v":0}]
[{"$nulls":13},{"$f":"Tabla13[[#This Row],[Título del contrato]]&Tabla13[[#This Row],[Nº Expediente de la plataforma de contratación]]","v":""},{"$nulls":5},{"$f":"Tabla13[[#This Row],[Nº Expediente de la plataforma de contratación]]","v":0},{"$f":"Tabla13[[#This Row],[Importe de adjudicación (sin IVA)]]","v":0},{"$f":"Tabla13[[#This Row],[Importe IVA ]]","v":0},{"$f":"Tabla13[[#This Row],[Importe de adjudicación (IVA INCLUIDO)]]","v":0},{"$nulls":13},{"$f":"COUNTIF(Tabla13[Título del contrato],Tabla13[[#This Row],[Título del contrato]])","v":0},{"$f":"COUNTIF(Tabla13[Nº Expediente de la plataforma de contratación],Tabla13[[#This Row],[Nº Expediente de la plataforma de contratación]])","v":0}]
[{"$nulls":13},{"$f":"Tabla13[[#This Row],[Título del contrato]]&Tabla13[[#This Row],[Nº Expediente de la plataforma de contratación]]","v":""},{"$nulls":5},{"$f":"Tabla13[[#This Row],[Nº Expediente de la plataforma de contratación]]","v":0},{"$f":"Tabla13[[#This Row],[Importe de adjudicación (sin IVA)]]","v":0},{"$f":"Tabla13[[#This Row],[Importe IVA ]]","v":0},{"$f":"Tabla13[[#This Row],[Importe de adjudicación (IVA INCLUIDO)]]","v":0},{"$nulls":13},{"$f":"COUNTIF(Tabla13[Título del contrato],Tabla13[[#This Row],[Título del contrato]])","v":0},{"$f":"COUNTIF(Tabla13[Nº Expediente de la plataforma de contratación],Tabla13[[#This Row],[Nº Expediente de la plataforma de contratación]])","v":0}]
[{"$nulls":13},{"$f":"Tabla13[[#This Row],[Título del contrato]]&Tabla13[[#This Row],[Nº Expediente de la plataforma de contratación]]","v":""},{"$nulls":5},{"$f":"Tabla13[[#This Row],[Nº Expediente de la plataforma de contratación]]","v":0},{"$f":"Tabla13[[#This Row],[Importe de adjudicación (sin IVA)]]","v":0},{"$f":"Tabla13[[#This Row],[Importe IVA ]]","v":0},{"$f":"Tabla13[[#This Row],[Importe de adjudicación (IVA INCLUIDO)]]","v":0},{"$nulls":13},{"$f":"COUNTIF(Tabla13[Título del contrato],Tabla13[[#This Row],[Título del contrato]])","v":0},{"$f":"COUNTIF(Tabla13[Nº Expediente de la plataforma de contratación],Tabla13[[#This Row],[Nº Expediente de la plataforma de contratación]])","v":0}]
[{"$nulls":13},{"$f":"Tabla13[[#This Row],[Título del contrato]]&Tabla13[[#This Row],[Nº Expediente de la plataforma de contratación]]","v":""},{"$nulls":5},{"$f":"Tabla13[[#This Row],[Nº Expediente de la plataforma de contratación]]","v":0},{"$f":"Tabla13[[#This Row],[Importe de adjudicación (sin IVA)]]","v":0},{"$f":"Tabla13[[#This Row],[Importe IVA ]]","v":0},{"$f":"Tabla13[[#This Row],[Importe de adjudicación (IVA INCLUIDO)]]","v":0},{"$nulls":13},{"$f":"COUNTIF(Tabla13[Título del contrato],Tabla13[[#This Row],[Título del contrato]])","v":0},{"$f":"COUNTIF(Tabla13[Nº Expediente de la plataforma de contratación],Tabla13[[#This Row],[Nº Expediente de la plataforma de contratación]])","v":0}]
[{"$nulls":13},{"$f":"Tabla13[[#This Row],[Título del contrato]]&Tabla13[[#This Row],[Nº Expediente de la plataforma de contratación]]","v":""},{"$nulls":5},{"$f":"Tabla13[[#This Row],[Nº Expediente de la plataforma de contratación]]","v":0},{"$f":"Tabla13[[#This Row],[Importe de adjudicación (sin IVA)]]","v":0},{"$f":"Tabla13[[#This Row],[Importe IVA ]]","v":0},{"$f":"Tabla13[[#This Row],[Importe de adjudicación (IVA INCLUIDO)]]","v":0},{"$nulls":13},{"$f":"COUNTIF(Tabla13[Título del contrato],Tabla13[[#This Row],[Título del contrato]])","v":0},{"$f":"COUNTIF(Tabla13[Nº Expediente de la plataforma de contratación],Tabla13[[#This Row],[Nº Expediente de la plataforma de contratación]])","v":0}]
[{"$nulls":13},{"$f":"Tabla13[[#This Row],[Título del contrato]]&Tabla13[[#This Row],[Nº Expediente de la plataforma de contratación]]","v":""},{"$nulls":5},{"$f":"Tabla13[[#This Row],[Nº Expediente de la plataforma de contratación]]","v":0},{"$f":"Tabla13[[#This Row],[Importe de adjudicación (sin IVA)]]","v":0},{"$f":"Tabla13[[#This Row],[Importe IVA ]]","v":0},{"$f":"Tabla13[[#This Row],[Importe de adjudicación (IVA INCLUIDO)]]","v":0},{"$nulls":13},{"$f":"COUNTIF(Tabla13[Título del contrato],Tabla13[[#This Row],[Título del contrato]])","v":0},{"$f":"COUNTIF(Tabla13[Nº Expediente de la plataforma de contratación],Tabla13[[#This Row],[Nº Expediente de la plataforma de contratación]])","v":0}]
[{"$nulls":13},{"$f":"Tabla13[[#This Row],[Título del contrato]]&Tabla13[[#This Row],[Nº Expediente de la plataforma de contratación]]","v":""},{"$nulls":5},{"$f":"Tabla13[[#This Row],[Nº Expediente de la plataforma de contratación]]","v":0},{"$f":"Tabla13[[#This Row],[Importe de adjudicación (sin IVA)]]","v":0},{"$f":"Tabla13[[#This Row],[Importe IVA ]]","v":0},{"$f":"Tabla13[[#This Row],[Importe de adjudicación (IVA INCLUIDO)]]","v":0},{"$nulls":13},{"$f":"COUNTIF(Tabla13[Título del contrato],Tabla13[[#This Row],[Título del contrato]])","v":0},{"$f":"COUNTIF(Tabla13[Nº Expediente de la plataforma de contratación],Tabla13[[#This Row],[Nº Expediente de la plataforma de contratación]])","v":0}]
[{"$nulls":13},{"$f":"Tabla13[[#This Row],[Título del contrato]]&Tabla13[[#This Row],[Nº Expediente de la plataforma de contratación]]","v":""},{"$nulls":5},{"$f":"Tabla13[[#This Row],[Nº Expediente de la plataforma de contratación]]","v":0},{"$f":"Tabla13[[#This Row],[Importe de adjudicación (sin IVA)]]","v":0},{"$f":"Tabla13[[#This Row],[Importe IVA ]]","v":0},{"$f":"Tabla13[[#This Row],[Importe de adjudicación (IVA INCLUIDO)]]","v":0},{"$nulls":13},{"$f":"COUNTIF(Tabla13[Título del contrato],Tabla13[[#This Row],[Título del contrato]])","v":0},{"$f":"COUNTIF(Tabla13[Nº Expediente de la plataforma de contratación],Tabla13[[#This Row],[Nº Expediente de la plataforma de contratación]])","v":0}]
[{"$nulls":13},{"$f":"Tabla13[[#This Row],[Título del contrato]]&Tabla13[[#This Row],[Nº Expediente de la plataforma de contratación]]","v":""},{"$nulls":5},{"$f":"Tabla13[[#This Row],[Nº Expediente de la plataforma de contratación]]","v":0},{"$f":"Tabla13[[#This Row],[Importe de adjudicación (sin IVA)]]","v":0},{"$f":"Tabla13[[#This Row],[Importe IVA ]]","v":0},{"$f":"Tabla13[[#This Row],[Importe de adjudicación (IVA INCLUIDO)]]","v":0},{"$nulls":13},{"$f":"COUNTIF(Tabla13[Título del contrato],Tabla13[[#This Row],[Título del contrato]])","v":0},{"$f":"COUNTIF(Tabla13[Nº Expediente de la plataforma de contratación],Tabla13[[#This Row],[Nº Expediente de la plataforma de contratación]])","v":0}]
[{"$nulls":13},{"$f":"Tabla13[[#This Row],[Título del contrato]]&Tabla13[[#This Row],[Nº Expediente de la plataforma de contratación]]","v":""},{"$nulls":5},{"$f":"Tabla13[[#This Row],[Nº Expediente de la plataforma de contratación]]","v":0},{"$f":"Tabla13[[#This Row],[Importe de adjudicación (sin IVA)]]","v":0},{"$f":"Tabla13[[#This Row],[Importe IVA ]]","v":0},{"$f":"Tabla13[[#This Row],[Importe de adjudicación (IVA INCLUIDO)]]","v":0},{"$nulls":13},{"$f":"COUNTIF(Tabla13[Título del contrato],Tabla13[[#This Row],[Título del contrato]])","v":0},{"$f":"COUNTIF(Tabla13[Nº Expediente de la plataforma de contratación],Tabla13[[#This Row],[Nº Expediente de la plataforma de contratación]])","v":0}]
[{"$nulls":13},{"$f":"Tabla13[[#This Row],[Título del contrato]]&Tabla13[[#This Row],[Nº Expediente de la plataforma de contratación]]","v":""},{"$nulls":5},{"$f":"Tabla13[[#This Row],[Nº Expediente de la plataforma de contratación]]","v":0},{"$f":"Tabla13[[#This Row],[Importe de adjudicación (sin IVA)]]","v":0},{"$f":"Tabla13[[#This Row],[Importe IVA ]]","v":0},{"$f":"Tabla13[[#This Row],[Importe de adjudicación (IVA INCLUIDO)]]","v":0},{"$nulls":13},{"$f":"COUNTIF(Tabla13[Título del contrato],Tabla13[[#This Row],[Título del contrato]])","v":0},{"$f":"COUNTIF(Tabla13[Nº Expediente de la plataforma de contratación],Tabla13[[#This Row],[Nº Expediente de la plataforma de contratación]])","v":0}]
[{"$nulls":18},{"$f":"Tabla13[[#This Row],[Título del contrato]]&Tabla13[[#This Row],[Nº Expediente de la plataforma de contratación]]","v":{"$error":"#VALUE!"}},{"$f":"Tabla13[[#This Row],[Nº Expediente de la plataforma de contratación]]","v":{"$error":"#VALUE!"}},{"$f":"Tabla13[[#This Row],[Importe IVA ]]","v":{"$error":"#VALUE!"}},{"$f":"Tabla13[[#This Row],[Importe de adjudicación (IVA INCLUIDO)]]","v":{"$error":"#VALUE!"}}]
[{"$nulls":18},{"$f":"Tabla13[[#This Row],[Título del contrato]]&Tabla13[[#This Row],[Nº Expediente de la plataforma de contratación]]","v":{"$error":"#VALUE!"}},{"$f":"Tabla13[[#This Row],[Nº Expediente de la plataforma de contratación]]","v":{"$error":"#VALUE!"}},{"$f":"Tabla13[[#This Row],[Importe IVA ]]","v":{"$error":"#VALUE!"}},{"$f":"Tabla13[[#This Row],[Importe de adjudicación (IVA INCLUIDO)]]","v":{"$error":"#VALUE!"}}]
[{"$nulls":18},{"$f":"Tabla13[[#This Row],[Título del contrato]]&Tabla13[[#This Row],[Nº Expediente de la plataforma de contratación]]","v":{"$error":"#VALUE!"}},{"$f":"Tabla13[[#This Row],[Nº Expediente de la plataforma de contratación]]","v":{"$error":"#VALUE!"}},{"$f":"Tabla13[[#This Row],[Importe IVA ]]","v":{"$error":"#VALUE!"}},{"$f":"Tabla13[[#This Row],[Importe de adjudicación (IVA INCLUIDO)]]","v":{"$error":"#VALUE!"}}]
[{"$nulls":18},{"$f":"Tabla13[[#This Row],[Título del contrato]]&Tabla13[[#This Row],[Nº Expediente de la plataforma de contratación]]","v":{"$error":"#VALUE!"}},{"$f":"Tabla13[[#This Row],[Nº Expediente de la plataforma de contratación]]","v":{"$error":"#VALUE!"}},{"$f":"Tabla13[[#This Row],[Importe IVA ]]","v":{"$error":"#VALUE!"}},{"$f":"Tabla13[[#This Row],[Importe de adjudicación (IVA INCLUIDO)]]","v":{"$error":"#VALUE!"}}]
[{"$nulls":18},{"$f":"Tabla13[[#This Row],[Título del contrato]]&Tabla13[[#This Row],[Nº Expediente de la plataforma de contratación]]","v":{"$error":"#VALUE!"}},{"$f":"Tabla13[[#This Row],[Nº Expediente de la plataforma de contratación]]","v":{"$error":"#VALUE!"}},{"$f":"Tabla13[[#This Row],[Importe IVA ]]","v":{"$error":"#VALUE!"}},{"$f":"Tabla13[[#This Row],[Importe de adjudicación (IVA INCLUIDO)]]","v":{"$error":"#VALUE!"}}]
[{"$nulls":18},{"$f":"Tabla13[[#This Row],[Título del contrato]]&Tabla13[[#This Row],[Nº Expediente de la plataforma de contratación]]","v":{"$error":"#VALUE!"}},{"$f":"Tabla13[[#This Row],[Nº Expediente de la plataforma de contratación]]","v":{"$error":"#VALUE!"}},{"$f":"Tabla13[[#This Row],[Importe IVA ]]","v":{"$error":"#VALUE!"}},{"$f":"Tabla13[[#This Row],[Importe de adjudicación (IVA INCLUIDO)]]","v":{"$error":"#VALUE!"}}]
[{"$nulls":18},{"$f":"Tabla13[[#This Row],[Título del contrato]]&Tabla13[[#This Row],[Nº Expediente de la plataforma de contratación]]","v":{"$error":"#VALUE!"}},{"$f":"Tabla13[[#This Row],[Nº Expediente de la plataforma de contratación]]","v":{"$error":"#VALUE!"}},{"$f":"Tabla13[[#This Row],[Importe IVA ]]","v":{"$error":"#VALUE!"}},{"$f":"Tabla13[[#This Row],[Importe de adjudicación (IVA INCLUIDO)]]","v":{"$error":"#VALUE!"}}]
[{"$nulls":18},{"$f":"Tabla13[[#This Row],[Título del contrato]]&Tabla13[[#This Row],[Nº Expediente de la plataforma de contratación]]","v":{"$error":"#VALUE!"}},{"$f":"Tabla13[[#This Row],[Nº Expediente de la plataforma de contratación]]","v":{"$error":"#VALUE!"}},{"$f":"Tabla13[[#This Row],[Importe IVA ]]","v":{"$error":"#VALUE!"}},{"$f":"Tabla13[[#This Row],[Importe de adjudicación (IVA INCLUIDO)]]","v":{"$error":"#VALUE!"}}]
[{"$nulls":18},{"$f":"Tabla13[[#This Row],[Título del contrato]]&Tabla13[[#This Row],[Nº Expediente de la plataforma de contratación]]","v":{"$error":"#VALUE!"}},{"$f":"Tabla13[[#This Row],[Nº Expediente de la plataforma de contratación]]","v":{"$error":"#VALUE!"}},{"$f":"Tabla13[[#This Row],[Importe IVA ]]","v":{"$error":"#VALUE!"}},{"$f":"Tabla13[[#This Row],[Importe de adjudicación (IVA INCLUIDO)]]","v":{"$error":"#VALUE!"}}]
[{"$nulls":18},{"$f":"Tabla13[[#This Row],[Título del contrato]]&Tabla13[[#This Row],[Nº Expediente de la plataforma de contratación]]","v":{"$error":"#VALUE!"}},{"$f":"Tabla13[[#This Row],[Nº Expediente de la plataforma de contratación]]","v":{"$error":"#VALUE!"}},{"$f":"Tabla13[[#This Row],[Importe IVA ]]","v":{"$error":"#VALUE!"}},{"$f":"Tabla13[[#This Row],[Importe de adjudicación (IVA INCLUIDO)]]","v":{"$error":"#VALUE!"}}]
[{"$nulls":18},{"$f":"Tabla13[[#This Row],[Título del contrato]]&Tabla13[[#This Row],[Nº Expediente de la plataforma de contratación]]","v":{"$error":"#VALUE!"}},{"$f":"Tabla13[[#This Row],[Nº Expediente de la plataforma de contratación]]","v":{"$error":"#VALUE!"}},{"$f":"Tabla13[[#This Row],[Importe IVA ]]","v":{"$error":"#VALUE!"}},{"$f":"Tabla13[[#This Row],[Importe de adjudicación (IVA INCLUIDO)]]","v":{"$error":"#VALUE!"}}]
[{"$nulls":18},{"$f":"Tabla13[[#This Row],[Título del contrato]]&Tabla13[[#This Row],[Nº Expediente de la plataforma de contratación]]","v":{"$error":"#VALUE!"}},{"$f":"Tabla13[[#This Row],[Nº Expediente de la plataforma de contratación]]","v":{"$error":"#VALUE!"}},{"$f":"Tabla13[[#This Row],[Importe IVA ]]","v":{"$error":"#VALUE!"}},{"$f":"Tabla13[[#This Row],[Importe de adjudicación (IVA INCLUIDO)]]","v":{"$error":"#VALUE!"}}]
[{"$nulls":18},{"$f":"Tabla13[[#This Row],[Título del contrato]]&Tabla13[[#This Row],[Nº Expediente de la plataforma de contratación]]","v":{"$error":"#VALUE!"}},{"$f":"Tabla13[[#This Row],[Nº Expediente de la plataforma de contratación]]","v":{"$error":"#VALUE!"}},{"$f":"Tabla13[[#This Row],[Importe IVA ]]","v":{"$error":"#VALUE!"}},{"$f":"Tabla13[[#This Row],[Importe de adjudicación (IVA INCLUIDO)]]","v":{"$error":"#VALUE!"}}]
[{"$nulls":18},{"$f":"Tabla13[[#This Row],[Título del contrato]]&Tabla13[[#This Row],[Nº Expediente de la plataforma de contratación]]","v":{"$error":"#VALUE!"}},{"$f":"Tabla13[[#This Row],[Nº Expediente de la plataforma de contratación]]","v":{"$error":"#VALUE!"}},{"$f":"Tabla13[[#This Row],[Importe IVA ]]","v":{"$error":"#VALUE!"}},{"$f":"Tabla13[[#This Row],[Importe de adjudicación (IVA INCLUIDO)]]","v":{"$error":"#VALUE!"}}]
[{"$nulls":18},{"$f":"Tabla13[[#This Row],[Título del contrato]]&Tabla13[[#This Row],[Nº Expediente de la plataforma de contratación]]","v":{"$error":"#VALUE!"}},{"$f":"Tabla13[[#This Row],[Nº Expediente de la plataforma de contratación]]","v":{"$error":"#VALUE!"}},{"$f":"Tabla13[[#This Row],[Importe IVA ]]","v":{"$error":"#VALUE!"}},{"$f":"Tabla13[[#This Row],[Importe de adjudicación (IVA INCLUIDO)]]","v":{"$error":"#VALUE!"}}]
[{"$nulls":18},{"$f":"Tabla13[[#This Row],[Título del contrato]]&Tabla13[[#This Row],[Nº Expediente de la plataforma de contratación]]","v":{"$error":"#VALUE!"}},{"$f":"Tabla13[[#This Row],[Nº Expediente de la plataforma de contratación]]","v":{"$error":"#VALUE!"}},{"$f":"Tabla13[[#This Row],[Importe IVA ]]","v":{"$error":"#VALUE!"}},{"$f":"Tabla13[[#This Row],[Importe de adjudicación (IVA INCLUIDO)]]","v":{"$error":"#VALUE!"}}]
[{"$nulls":18},{"$f":"Tabla13[[#This Row],[Título del contrato]]&Tabla13[[#This Row],[Nº Expediente de la plataforma de contratación]]","v":{"$error":"#VALUE!"}},{"$f":"Tabla13[[#This Row],[Nº Expediente de la plataforma de contratación]]","v":{"$error":"#VALUE!"}},{"$f":"Tabla13[[#This Row],[Importe IVA ]]","v":{"$error":"#VALUE!"}},{"$f":"Tabla13[[#This Row],[Importe de adjudicación (IVA INCLUIDO)]]","v":{"$error":"#VALUE!"}}]
[{"$nulls":18},{"$f":"Tabla13[[#This Row],[Título del contrato]]&Tabla13[[#This Row],[Nº Expediente de la plataforma de contratación]]","v":{"$error":"#VALUE!"}},{"$f":"Tabla13[[#This Row],[Nº Expediente de la plataforma de contratación]]","v":{"$error":"#VALUE!"}},{"$f":"Tabla13[[#This Row],[Importe IVA ]]","v":{"$error":"#VALUE!"}},{"$f":"Tabla13[[#This Row],[Importe de adjudicación (IVA INCLUIDO)]]","v":{"$error":"#VALUE!"}}]
[{"$nulls":18},{"$f":"Tabla13[[#This Row],[Título del contrato]]&Tabla13[[#This Row],[Nº Expediente de la plataforma de contratación]]","v":{"$error":"#VALUE!"}},{"$f":"Tabla13[[#This Row],[Nº Expediente de la plataforma de contratación]]","v":{"$error":"#VALUE!"}},{"$f":"Tabla13[[#This Row],[Importe IVA ]]","v":{"$error":"#VALUE!"}},{"$f":"Tabla13[[#This Row],[Importe de adjudicación (IVA INCLUIDO)]]","v":{"$error":"#VALUE!"}}]
[{"$nulls":18},{"$f":"Tabla13[[#This Row],[Título del contrato]]&Tabla13[[#This Row],[Nº Expediente de la plataforma de contratación]]","v":{"$error":"#VALUE!"}},{"$f":"Tabla13[[#This Row],[Nº Expediente de la plataforma de contratación]]","v":{"$error":"#VALUE!"}},{"$f":"Tabla13[[#This Row],[Importe IVA ]]","v":{"$error":"#VALUE!"}},{"$f":"Tabla13[[#This Row],[Importe de adjudicación (IVA INCLUIDO)]]","v":{"$error":"#VALUE!"}}]
[{"$nulls":18},{"$f":"Tabla13[[#This Row],[Título del contrato]]&Tabla13[[#This Row],[Nº Expediente de la plataforma de contratación]]","v":{"$error":"#VALUE!"}},{"$f":"Tabla13[[#This Row],[Nº Expediente de la plataforma de contratación]]","v":{"$error":"#VALUE!"}},{"$f":"Tabla13[[#This Row],[Importe IVA ]]","v":{"$error":"#VALUE!"}},{"$f":"Tabla13[[#This Row],[Importe de adjudicación (IVA INCLUIDO)]]","v":{"$error":"#VALUE!"}}]
[{"$nulls":18},{"$f":"Tabla13[[#This Row],[Título del contrato]]&Tabla13[[#This Row],[Nº Expediente de la plataforma de contratación]]","v":{"$error":"#VALUE!"}},{"$f":"Tabla13[[#This Row],[Nº Expediente de la plataforma de contratación]]","v":{"$error":"#VALUE!"}},{"$f":"Tabla13[[#This Row],[Importe IVA ]]","v":{"$error":"#VALUE!"}},{"$f":"Tabla13[[#This Row],[Importe de adjudicación (IVA INCLUIDO)]]","v":{"$error":"#VALUE!"}}]
[{"$nulls":18},{"$f":"Tabla13[[#This Row],[Título del contrato]]&Tabla13[[#This Row],[Nº Expediente de la plataforma de contratación]]","v":{"$error":"#VALUE!"}},{"$f":"Tabla13[[#This Row],[Nº Expediente de la plataforma de contratación]]","v":{"$error":"#VALUE!"}},{"$f":"Tabla13[[#This Row],[Importe IVA ]]","v":{"$error":"#VALUE!"}},{"$f":"Tabla13[[#This Row],[Importe de adjudicación (IVA INCLUIDO)]]","v":{"$error":"#VALUE!"}}]
[{"$nulls":18},{"$f":"Tabla13[[#This Row],[Título del contrato]]&Tabla13[[#This Row],[Nº Expediente de la plataforma de contratación]]","v":{"$error":"#VALUE!"}},{"$f":"Tabla13[[#This Row],[Nº Expediente de la plataforma de contratación]]","v":{"$error":"#VALUE!"}},{"$f":"Tabla13[[#This Row],[Importe IVA ]]","v":{"$error":"#VALUE!"}},{"$f":"Tabla13[[#This Row],[Importe de adjudicación (IVA INCLUIDO)]]","v":{"$error":"#VALUE!"}}]
[{"$nulls":18},{"$f":"Tabla13[[#This Row],[Título del contrato]]&Tabla13[[#This Row],[Nº Expediente de la plataforma de contratación]]","v":{"$error":"#VALUE!"}},{"$f":"Tabla13[[#This Row],[Nº Expediente de la plataforma de contratación]]","v":{"$error":"#VALUE!"}},{"$f":"Tabla13[[#This Row],[Importe IVA ]]","v":{"$error":"#VALUE!"}},{"$f":"Tabla13[[#This Row],[Importe de adjudicación (IVA INCLUIDO)]]","v":{"$error":"#VALUE!"}}]
[{"$nulls":18},{"$f":"Tabla13[[#This Row],[Título del contrato]]&Tabla13[[#This Row],[Nº Expediente de la plataforma de contratación]]","v":{"$error":"#VALUE!"}},{"$f":"Tabla13[[#This Row],[Nº Expediente de la plataforma de contratación]]","v":{"$error":"#VALUE!"}},{"$f":"Tabla13[[#This Row],[Importe IVA ]]","v":{"$error":"#VALUE!"}},{"$f":"Tabla13[[#This Row],[Importe de adjudicación (IVA INCLUIDO)]]","v":{"$error":"#VALUE!"}}]
[{"$nulls":18},{"$f":"Tabla13[[#This Row],[Título del contrato]]&Tabla13[[#This Row],[Nº Expediente de la plataforma de contratación]]","v":{"$error":"#VALUE!"}},{"$f":"Tabla13[[#This Row],[Nº Expediente de la plataforma de contratación]]","v":{"$error":"#VALUE!"}},{"$f":"Tabla13[[#This Row],[Importe IVA ]]","v":{"$error":"#VALUE!"}},{"$f":"Tabla13[[#This Row],[Importe de adjudicación (IVA INCLUIDO)]]","v":{"$error":"#VALUE!"}}]
[{"$nulls":18},{"$f":"Tabla13[[#This Row],[Título del contrato]]&Tabla13[[#This Row],[Nº Expediente de la plataforma de contratación]]","v":{"$error":"#VALUE!"}},{"$f":"Tabla13[[#This Row],[Nº Expediente de la plataforma de contratación]]","v":{"$error":"#VALUE!"}},{"$f":"Tabla13[[#This Row],[Importe IVA ]]","v":{"$error":"#VALUE!"}},{"$f":"Tabla13[[#This Row],[Importe de adjudicación (IVA INCLUIDO)]]","v":{"$error":"#VALUE!"}}]
[{"$nulls":18},{"$f":"Tabla13[[#This Row],[Título del contrato]]&Tabla13[[#This Row],[Nº Expediente de la plataforma de contratación]]","v":{"$error":"#VALUE!"}},{"$f":"Tabla13[[#This Row],[Nº Expediente de la plataforma de contratación]]","v":{"$error":"#VALUE!"}},{"$f":"Tabla13[[#This Row],[Importe IVA ]]","v":{"$error":"#VALUE!"}},{"$f":"Tabla13[[#This Row],[Importe de adjudicación (IVA INCLUIDO)]]","v":{"$error":"#VALUE!"}}]
[{"$nulls":18},{"$f":"Tabla13[[#This Row],[Título del contrato]]&Tabla13[[#This Row],[Nº Expediente de la plataforma de contratación]]","v":{"$error":"#VALUE!"}},{"$f":"Tabla13[[#This Row],[Nº Expediente de la plataforma de contratación]]","v":{"$error":"#VALUE!"}},{"$f":"Tabla13[[#This Row],[Importe IVA ]]","v":{"$error":"#VALUE!"}},{"$f":"Tabla13[[#This Row],[Importe de adjudicación (IVA INCLUIDO)]]","v":{"$error":"#VALUE!"}}]
[{"$nulls":18},{"$f":"Tabla13[[#This Row],[Título del contrato]]&Tabla13[[#This Row],[Nº Expediente de la plataforma de contratación]]","v":{"$error":"#VALUE!"}},{"$f":"Tabla13[[#This Row],[Nº Expediente de la plataforma de contratación]]","v":{"$error":"#VALUE!"}},{"$f":"Tabla13[[#This Row],[Importe IVA ]]","v":{"$error":"#VALUE!"}},{"$f":"Tabla13[[#This Row],[Importe de adjudicación (IVA INCLUIDO)]]","v":{"$error":"#VALUE!"}}]
[{"$nulls":18},{"$f":"Tabla13[[#This Row],[Título del contrato]]&Tabla13[[#This Row],[Nº Expediente de la plataforma de contratación]]","v":{"$error":"#VALUE!"}},{"$f":"Tabla13[[#This Row],[Nº Expediente de la plataforma de contratación]]","v":{"$error":"#VALUE!"}},{"$f":"Tabla13[[#This Row],[Importe IVA ]]","v":{"$error":"#VALUE!"}},{"$f":"Tabla13[[#This Row],[Importe de adjudicación (IVA INCLUIDO)]]","v":{"$error":"#VALUE!"}}]
[{"$nulls":18},{"$f":"Tabla13[[#This Row],[Título del contrato]]&Tabla13[[#This Row],[Nº Expediente de la plataforma de contratación]]","v":{"$error":"#VALUE!"}},{"$f":"Tabla13[[#This Row],[Nº Expediente de la plataforma de contratación]]","v":{"$error":"#VALUE!"}},{"$f":"Tabla13[[#This Row],[Importe IVA ]]","v":{"$error":"#VALUE!"}},{"$f":"Tabla13[[#This Row],[Importe de adjudicación (IVA INCLUIDO)]]","v":{"$error":"#VALUE!"}}]
[{"$nulls":18},{"$f":"Tabla13[[#This Row],[Título del contrato]]&Tabla13[[#This Row],[Nº Expediente de la plataforma de contratación]]","v":{"$error":"#VALUE!"}},{"$f":"Tabla13[[#This Row],[Nº Expediente de la plataforma de contratación]]","v":{"$error":"#VALUE!"}},{"$f":"Tabla13[[#This Row],[Importe IVA ]]","v":{"$error":"#VALUE!"}},{"$f":"Tabla13[[#This Row],[Importe de adjudicación (IVA INCLUIDO)]]","v":{"$error":"#VALUE!"}}]
[{"$nulls":18},{"$f":"Tabla13[[#This Row],[Título del contrato]]&Tabla13[[#This Row],[Nº Expediente de la plataforma de contratación]]","v":{"$error":"#VALUE!"}},{"$f":"Tabla13[[#This Row],[Nº Expediente de la plataforma de contratación]]","v":{"$error":"#VALUE!"}},{"$f":"Tabla13[[#This Row],[Importe IVA ]]","v":{"$error":"#VALUE!"}},{"$f":"Tabla13[[#This Row],[Importe de adjudicación (IVA INCLUIDO)]]","v":{"$error":"#VALUE!"}}]
[{"$nulls":18},{"$f":"Tabla13[[#This Row],[Título del contrato]]&Tabla13[[#This Row],[Nº Expediente de la plataforma de contratación]]","v":{"$error":"#VALUE!"}},{"$f":"Tabla13[[#This Row],[Nº Expediente de la plataforma de contratación]]","v":{"$error":"#VALUE!"}},{"$f":"Tabla13[[#This Row],[Importe IVA ]]","v":{"$error":"#VALUE!"}},{"$f":"Tabla13[[#This Row],[Importe de adjudicación (IVA INCLUIDO)]]","v":{"$error":"#VALUE!"}}]
[{"$nulls":18},{"$f":"Tabla13[[#This Row],[Título del contrato]]&Tabla13[[#This Row],[Nº Expediente de la plataforma de contratación]]","v":{"$error":"#VALUE!"}},{"$f":"Tabla13[[#This Row],[Nº Expediente de la plataforma de contratación]]","v":{"$error":"#VALUE!"}},{"$f":"Tabla13[[#This Row],[Importe IVA ]]","v":{"$error":"#VALUE!"}},{"$f":"Tabla13[[#This Row],[Importe de adjudicación (IVA INCLUIDO)]]","v":{"$error":"#VALUE!"}}]
[{"$nulls":18},{"$f":"Tabla13[[#This Row],[Título del contrato]]&Tabla13[[#This Row],[Nº Expediente de la plataforma de contratación]]","v":{"$error":"#VALUE!"}},{"$f":"Tabla13[[#This Row],[Nº Expediente de la plataforma de contratación]]","v":{"$error":"#VALUE!"}},{"$f":"Tabla13[[#This Row],[Importe IVA ]]","v":{"$error":"#VALUE!"}},{"$f":"Tabla13[[#This Row],[Importe de adjudicación (IVA INCLUIDO)]]","v":{"$error":"#VALUE!"}}]
[{"$nulls":18},{"$f":"Tabla13[[#This Row],[Título del contrato]]&Tabla13[[#This Row],[Nº Expediente de la plataforma de contratación]]","v":{"$error":"#VALUE!"}},{"$f":"Tabla13[[#This Row],[Nº Expediente de la plataforma de contratación]]","v":{"$error":"#VALUE!"}},{"$f":"Tabla13[[#This Row],[Importe IVA ]]","v":{"$error":"#VALUE!"}},{"$f":"Tabla13[[#This Row],[Importe de adjudicación (IVA INCLUIDO)]]","v":{"$error":"#VALUE!"}}]
[{"$nulls":18},{"$f":"Tabla13[[#This Row],[Título del contrato]]&Tabla13[[#This Row],[Nº Expediente de la plataforma de contratación]]","v":{"$error":"#VALUE!"}},{"$f":"Tabla13[[#This Row],[Nº Expediente de la plataforma de contratación]]","v":{"$error":"#VALUE!"}},{"$f":"Tabla13[[#This Row],[Importe IVA ]]","v":{"$error":"#VALUE!"}},{"$f":"Tabla13[[#This Row],[Importe de adjudicación (IVA INCLUIDO)]]","v":{"$error":"#VALUE!"}}]
[{"$nulls":18},{"$f":"Tabla13[[#This Row],[Título del contrato]]&Tabla13[[#This Row],[Nº Expediente de la plataforma de contratación]]","v":{"$error":"#VALUE!"}},{"$f":"Tabla13[[#This Row],[Nº Expediente de la plataforma de contratación]]","v":{"$error":"#VALUE!"}},{"$f":"Tabla13[[#This Row],[Importe IVA ]]","v":{"$error":"#VALUE!"}},{"$f":"Tabla13[[#This Row],[Importe de adjudicación (IVA INCLUIDO)]]","v":{"$error":"#VALUE!"}}]
[{"$nulls":18},{"$f":"Tabla13[[#This Row],[Título del contrato]]&Tabla13[[#This Row],[Nº Expediente de la plataforma de contratación]]","v":{"$error":"#VALUE!"}},{"$f":"Tabla13[[#This Row],[Nº Expediente de la plataforma de contratación]]","v":{"$error":"#VALUE!"}},{"$f":"Tabla13[[#This Row],[Importe IVA ]]","v":{"$error":"#VALUE!"}},{"$f":"Tabla13[[#This Row],[Importe de adjudicación (IVA INCLUIDO)]]","v":{"$error":"#VALUE!"}}]
[{"$nulls":18},{"$f":"Tabla13[[#This Row],[Título del contrato]]&Tabla13[[#This Row],[Nº Expediente de la plataforma de contratación]]","v":{"$error":"#VALUE!"}},{"$f":"Tabla13[[#This Row],[Nº Expediente de la plataforma de contratación]]","v":{"$error":"#VALUE!"}},{"$f":"Tabla13[[#This Row],[Importe IVA ]]","v":{"$error":"#VALUE!"}},{"$f":"Tabla13[[#This Row],[Importe de adjudicación (IVA INCLUIDO)]]","v":{"$error":"#VALUE!"}}]
[{"$nulls":18},{"$f":"Tabla13[[#This Row],[Título del contrato]]&Tabla13[[#This Row],[Nº Expediente de la plataforma de contratación]]","v":{"$error":"#VALUE!"}},{"$f":"Tabla13[[#This Row],[Nº Expediente de la plataforma de contratación]]","v":{"$error":"#VALUE!"}},{"$f":"Tabla13[[#This Row],[Importe IVA ]]","v":{"$error":"#VALUE!"}},{"$f":"Tabla13[[#This Row],[Importe de adjudicación (IVA INCLUIDO)]]","v":{"$error":"#VALUE!"}}]
[{"$nulls":18},{"$f":"Tabla13[[#This Row],[Título del contrato]]&Tabla13[[#This Row],[Nº Expediente de la plataforma de contratación]]","v":{"$error":"#VALUE!"}},{"$f":"Tabla13[[#This Row],[Nº Expediente de la plataforma de contratación]]","v":{"$error":"#VALUE!"}},{"$f":"Tabla13[[#This Row],[Importe IVA ]]","v":{"$error":"#VALUE!"}},{"$f":"Tabla13[[#This Row],[Importe de adjudicación (IVA INCLUIDO)]]","v":{"$error":"#VALUE!"}}]
[{"$nulls":18},{"$f":"Tabla13[[#This Row],[Título del contrato]]&Tabla13[[#This Row],[Nº Expediente de la plataforma de contratación]]","v":{"$error":"#VALUE!"}},{"$f":"Tabla13[[#This Row],[Nº Expediente de la plataforma de contratación]]","v":{"$error":"#VALUE!"}},{"$f":"Tabla13[[#This Row],[Importe IVA ]]","v":{"$error":"#VALUE!"}},{"$f":"Tabla13[[#This Row],[Importe de adjudicación (IVA INCLUIDO)]]","v":{"$error":"#VALUE!"}}]
[{"$nulls":18},{"$f":"Tabla13[[#This Row],[Título del contrato]]&Tabla13[[#This Row],[Nº Expediente de la plataforma de contratación]]","v":{"$error":"#VALUE!"}},{"$f":"Tabla13[[#This Row],[Nº Expediente de la plataforma de contratación]]","v":{"$error":"#VALUE!"}},{"$f":"Tabla13[[#This Row],[Importe IVA ]]","v":{"$error":"#VALUE!"}},{"$f":"Tabla13[[#This Row],[Importe de adjudicación (IVA INCLUIDO)]]","v":{"$error":"#VALUE!"}}]
[{"$nulls":18},{"$f":"Tabla13[[#This Row],[Título del contrato]]&Tabla13[[#This Row],[Nº Expediente de la plataforma de contratación]]","v":{"$error":"#VALUE!"}},{"$f":"Tabla13[[#This Row],[Nº Expediente de la plataforma de contratación]]","v":{"$error":"#VALUE!"}},{"$f":"Tabla13[[#This Row],[Importe IVA ]]","v":{"$error":"#VALUE!"}},{"$f":"Tabla13[[#This Row],[Importe de adjudicación (IVA INCLUIDO)]]","v":{"$error":"#VALUE!"}}]
[{"$nulls":18},{"$f":"Tabla13[[#This Row],[Título del contrato]]&Tabla13[[#This Row],[Nº Expediente de la plataforma de contratación]]","v":{"$error":"#VALUE!"}},{"$f":"Tabla13[[#This Row],[Nº Expediente de la plataforma de contratación]]","v":{"$error":"#VALUE!"}},{"$f":"Tabla13[[#This Row],[Importe IVA ]]","v":{"$error":"#VALUE!"}},{"$f":"Tabla13[[#This Row],[Importe de adjudicación (IVA INCLUIDO)]]","v":{"$error":"#VALUE!"}}]
[{"$nulls":18},{"$f":"Tabla13[[#This Row],[Título del contrato]]&Tabla13[[#This Row],[Nº Expediente de la plataforma de contratación]]","v":{"$error":"#VALUE!"}},{"$f":"Tabla13[[#This Row],[Nº Expediente de la plataforma de contratación]]","v":{"$error":"#VALUE!"}},{"$f":"Tabla13[[#This Row],[Importe IVA ]]","v":{"$error":"#VALUE!"}},{"$f":"Tabla13[[#This Row],[Importe de adjudicación (IVA INCLUIDO)]]","v":{"$error":"#VALUE!"}}]
[{"$nulls":18},{"$f":"Tabla13[[#This Row],[Título del contrato]]&Tabla13[[#This Row],[Nº Expediente de la plataforma de contratación]]","v":{"$error":"#VALUE!"}},{"$f":"Tabla13[[#This Row],[Nº Expediente de la plataforma de contratación]]","v":{"$error":"#VALUE!"}},{"$f":"Tabla13[[#This Row],[Importe IVA ]]","v":{"$error":"#VALUE!"}},{"$f":"Tabla13[[#This Row],[Importe de adjudicación (IVA INCLUIDO)]]","v":{"$error":"#VALUE!"}}]
[{"$nulls":18},{"$f":"Tabla13[[#This Row],[Título del contrato]]&Tabla13[[#This Row],[Nº Expediente de la plataforma de contratación]]","v":{"$error":"#VALUE!"}},{"$f":"Tabla13[[#This Row],[Nº Expediente de la plataforma de contratación]]","v":{"$error":"#VALUE!"}},{"$f":"Tabla13[[#This Row],[Importe IVA ]]","v":{"$error":"#VALUE!"}},{"$f":"Tabla13[[#This Row],[Importe de adjudicación (IVA INCLUIDO)]]","v":{"$error":"#VALUE!"}}]
[{"$nulls":18},{"$f":"Tabla13[[#This Row],[Título del contrato]]&Tabla13[[#This Row],[Nº Expediente de la plataforma de contratación]]","v":{"$error":"#VALUE!"}},{"$f":"Tabla13[[#This Row],[Nº Expediente de la plataforma de contratación]]","v":{"$error":"#VALUE!"}},{"$f":"Tabla13[[#This Row],[Importe IVA ]]","v":{"$error":"#VALUE!"}},{"$f":"Tabla13[[#This Row],[Importe de adjudicación (IVA INCLUIDO)]]","v":{"$error":"#VALUE!"}}]
[{"$nulls":18},{"$f":"Tabla13[[#This Row],[Título del contrato]]&Tabla13[[#This Row],[Nº Expediente de la plataforma de contratación]]","v":{"$error":"#VALUE!"}},{"$f":"Tabla13[[#This Row],[Nº Expediente de la plataforma de contratación]]","v":{"$error":"#VALUE!"}},{"$f":"Tabla13[[#This Row],[Importe IVA ]]","v":{"$error":"#VALUE!"}},{"$f":"Tabla13[[#This Row],[Importe de adjudicación (IVA INCLUIDO)]]","v":{"$error":"#VALUE!"}}]
[{"$nulls":18},{"$f":"Tabla13[[#This Row],[Título del contrato]]&Tabla13[[#This Row],[Nº Expediente de la plataforma de contratación]]","v":{"$error":"#VALUE!"}},{"$f":"Tabla13[[#This Row],[Nº Expediente de la plataforma de contratación]]","v":{"$error":"#VALUE!"}},{"$f":"Tabla13[[#This Row],[Importe IVA ]]","v":{"$error":"#VALUE!"}},{"$f":"Tabla13[[#This Row],[Importe de adjudicación (IVA INCLUIDO)]]","v":{"$error":"#VALUE!"}}]
[{"$nulls":18},{"$f":"Tabla13[[#This Row],[Título del contrato]]&Tabla13[[#This Row],[Nº Expediente de la plataforma de contratación]]","v":{"$error":"#VALUE!"}},{"$f":"Tabla13[[#This Row],[Nº Expediente de la plataforma de contratación]]","v":{"$error":"#VALUE!"}},{"$f":"Tabla13[[#This Row],[Importe IVA ]]","v":{"$error":"#VALUE!"}},{"$f":"Tabla13[[#This Row],[Importe de adjudicación (IVA INCLUIDO)]]","v":{"$error":"#VALUE!"}}]
[{"$nulls":18},{"$f":"Tabla13[[#This Row],[Título del contrato]]&Tabla13[[#This Row],[Nº Expediente de la plataforma de contratación]]","v":{"$error":"#VALUE!"}},{"$f":"Tabla13[[#This Row],[Nº Expediente de la plataforma de contratación]]","v":{"$error":"#VALUE!"}},{"$f":"Tabla13[[#This Row],[Importe IVA ]]","v":{"$error":"#VALUE!"}},{"$f":"Tabla13[[#This Row],[Importe de adjudicación (IVA INCLUIDO)]]","v":{"$error":"#VALUE!"}}]
[{"$nulls":18},{"$f":"Tabla13[[#This Row],[Título del contrato]]&Tabla13[[#This Row],[Nº Expediente de la plataforma de contratación]]","v":{"$error":"#VALUE!"}},{"$f":"Tabla13[[#This Row],[Nº Expediente de la plataforma de contratación]]","v":{"$error":"#VALUE!"}},{"$f":"Tabla13[[#This Row],[Importe IVA ]]","v":{"$error":"#VALUE!"}},{"$f":"Tabla13[[#This Row],[Importe de adjudicación (IVA INCLUIDO)]]","v":{"$error":"#VALUE!"}}]
[{"$nulls":18},{"$f":"Tabla13[[#This Row],[Título del contrato]]&Tabla13[[#This Row],[Nº Expediente de la plataforma de contratación]]","v":{"$error":"#VALUE!"}},{"$f":"Tabla13[[#This Row],[Nº Expediente de la plataforma de contratación]]","v":{"$error":"#VALUE!"}},{"$f":"Tabla13[[#This Row],[Importe IVA ]]","v":{"$error":"#VALUE!"}},{"$f":"Tabla13[[#This Row],[Importe de adjudicación (IVA INCLUIDO)]]","v":{"$error":"#VALUE!"}}]
[{"$nulls":18},{"$f":"Tabla13[[#This Row],[Título del contrato]]&Tabla13[[#This Row],[Nº Expediente de la plataforma de contratación]]","v":{"$error":"#VALUE!"}},{"$f":"Tabla13[[#This Row],[Nº Expediente de la plataforma de contratación]]","v":{"$error":"#VALUE!"}},{"$f":"Tabla13[[#This Row],[Importe IVA ]]","v":{"$error":"#VALUE!"}},{"$f":"Tabla13[[#This Row],[Importe de adjudicación (IVA INCLUIDO)]]","v":{"$error":"#VALUE!"}}]
[{"$nulls":18},{"$f":"Tabla13[[#This Row],[Título del contrato]]&Tabla13[[#This Row],[Nº Expediente de la plataforma de contratación]]","v":{"$error":"#VALUE!"}},{"$f":"Tabla13[[#This Row],[Nº Expediente de la plataforma de contratación]]","v":{"$error":"#VALUE!"}},{"$f":"Tabla13[[#This Row],[Importe IVA ]]","v":{"$error":"#VALUE!"}},{"$f":"Tabla13[[#This Row],[Importe de adjudicación (IVA INCLUIDO)]]","v":{"$error":"#VALUE!"}}]
[{"$nulls":18},{"$f":"Tabla13[[#This Row],[Título del contrato]]&Tabla13[[#This Row],[Nº Expediente de la plataforma de contratación]]","v":{"$error":"#VALUE!"}},{"$f":"Tabla13[[#This Row],[Nº Expediente de la plataforma de contratación]]","v":{"$error":"#VALUE!"}},{"$f":"Tabla13[[#This Row],[Importe IVA ]]","v":{"$error":"#VALUE!"}},{"$f":"Tabla13[[#This Row],[Importe de adjudicación (IVA INCLUIDO)]]","v":{"$error":"#VALUE!"}}]
[{"$nulls":18},{"$f":"Tabla13[[#This Row],[Título del contrato]]&Tabla13[[#This Row],[Nº Expediente de la plataforma de contratación]]","v":{"$error":"#VALUE!"}},{"$f":"Tabla13[[#This Row],[Nº Expediente de la plataforma de contratación]]","v":{"$error":"#VALUE!"}},{"$f":"Tabla13[[#This Row],[Importe IVA ]]","v":{"$error":"#VALUE!"}},{"$f":"Tabla13[[#This Row],[Importe de adjudicación (IVA INCLUIDO)]]","v":{"$error":"#VALUE!"}}]
[{"$nulls":18},{"$f":"Tabla13[[#This Row],[Título del contrato]]&Tabla13[[#This Row],[Nº Expediente de la plataforma de contratación]]","v":{"$error":"#VALUE!"}},{"$f":"Tabla13[[#This Row],[Nº Expediente de la plataforma de contratación]]","v":{"$error":"#VALUE!"}},{"$f":"Tabla13[[#This Row],[Importe IVA ]]","v":{"$error":"#VALUE!"}},{"$f":"Tabla13[[#This Row],[Importe de adjudicación (IVA INCLUIDO)]]","v":{"$error":"#VALUE!"}}]
[{"$nulls":18},{"$f":"Tabla13[[#This Row],[Título del contrato]]&Tabla13[[#This Row],[Nº Expediente de la plataforma de contratación]]","v":{"$error":"#VALUE!"}},{"$f":"Tabla13[[#This Row],[Nº Expediente de la plataforma de contratación]]","v":{"$error":"#VALUE!"}},{"$f":"Tabla13[[#This Row],[Importe IVA ]]","v":{"$error":"#VALUE!"}},{"$f":"Tabla13[[#This Row],[Importe de adjudicación (IVA INCLUIDO)]]","v":{"$error":"#VALUE!"}}]
[{"$nulls":18},{"$f":"Tabla13[[#This Row],[Título del contrato]]&Tabla13[[#This Row],[Nº Expediente de la plataforma de contratación]]","v":{"$error":"#VALUE!"}},{"$f":"Tabla13[[#This Row],[Nº Expediente de la plataforma de contratación]]","v":{"$error":"#VALUE!"}},{"$f":"Tabla13[[#This Row],[Importe IVA ]]","v":{"$error":"#VALUE!"}},{"$f":"Tabla13[[#This Row],[Importe de adjudicación (IVA INCLUIDO)]]","v":{"$error":"#VALUE!"}}]
[{"$nulls":18},{"$f":"Tabla13[[#This Row],[Título del contrato]]&Tabla13[[#This Row],[Nº Expediente de la plataforma de contratación]]","v":{"$error":"#VALUE!"}},{"$f":"Tabla13[[#This Row],[Nº Expediente de la plataforma de contratación]]","v":{"$error":"#VALUE!"}},{"$f":"Tabla13[[#This Row],[Importe IVA ]]","v":{"$error":"#VALUE!"}},{"$f":"Tabla13[[#This Row],[Importe de adjudicación (IVA INCLUIDO)]]","v":{"$error":"#VALUE!"}}]
[{"$nulls":18},{"$f":"Tabla13[[#This Row],[Título del contrato]]&Tabla13[[#This Row],[Nº Expediente de la plataforma de contratación]]","v":{"$error":"#VALUE!"}},{"$f":"Tabla13[[#This Row],[Nº Expediente de la plataforma de contratación]]","v":{"$error":"#VALUE!"}},{"$f":"Tabla13[[#This Row],[Importe IVA ]]","v":{"$error":"#VALUE!"}},{"$f":"Tabla13[[#This Row],[Importe de adjudicación (IVA INCLUIDO)]]","v":{"$error":"#VALUE!"}}]
[{"$nulls":18},{"$f":"Tabla13[[#This Row],[Título del contrato]]&Tabla13[[#This Row],[Nº Expediente de la plataforma de contratación]]","v":{"$error":"#VALUE!"}},{"$f":"Tabla13[[#This Row],[Nº Expediente de la plataforma de contratación]]","v":{"$error":"#VALUE!"}},{"$f":"Tabla13[[#This Row],[Importe IVA ]]","v":{"$error":"#VALUE!"}},{"$f":"Tabla13[[#This Row],[Importe de adjudicación (IVA INCLUIDO)]]","v":{"$error":"#VALUE!"}}]
[{"$nulls":18},{"$f":"Tabla13[[#This Row],[Título del contrato]]&Tabla13[[#This Row],[Nº Expediente de la plataforma de contratación]]","v":{"$error":"#VALUE!"}},{"$f":"Tabla13[[#This Row],[Nº Expediente de la plataforma de contratación]]","v":{"$error":"#VALUE!"}},{"$f":"Tabla13[[#This Row],[Importe IVA ]]","v":{"$error":"#VALUE!"}},{"$f":"Tabla13[[#This Row],[Importe de adjudicación (IVA INCLUIDO)]]","v":{"$error":"#VALUE!"}}]
[{"$nulls":18},{"$f":"Tabla13[[#This Row],[Título del contrato]]&Tabla13[[#This Row],[Nº Expediente de la plataforma de contratación]]","v":{"$error":"#VALUE!"}},{"$f":"Tabla13[[#This Row],[Nº Expediente de la plataforma de contratación]]","v":{"$error":"#VALUE!"}},{"$f":"Tabla13[[#This Row],[Importe IVA ]]","v":{"$error":"#VALUE!"}},{"$f":"Tabla13[[#This Row],[Importe de adjudicación (IVA INCLUIDO)]]","v":{"$error":"#VALUE!"}}]
[{"$nulls":18},{"$f":"Tabla13[[#This Row],[Título del contrato]]&Tabla13[[#This Row],[Nº Expediente de la plataforma de contratación]]","v":{"$error":"#VALUE!"}},{"$f":"Tabla13[[#This Row],[Nº Expediente de la plataforma de contratación]]","v":{"$error":"#VALUE!"}},{"$f":"Tabla13[[#This Row],[Importe IVA ]]","v":{"$error":"#VALUE!"}},{"$f":"Tabla13[[#This Row],[Importe de adjudicación (IVA INCLUIDO)]]","v":{"$error":"#VALUE!"}}]
[{"$nulls":18},{"$f":"Tabla13[[#This Row],[Título del contrato]]&Tabla13[[#This Row],[Nº Expediente de la plataforma de contratación]]","v":{"$error":"#VALUE!"}},{"$f":"Tabla13[[#This Row],[Nº Expediente de la plataforma de contratación]]","v":{"$error":"#VALUE!"}},{"$f":"Tabla13[[#This Row],[Importe IVA ]]","v":{"$error":"#VALUE!"}},{"$f":"Tabla13[[#This Row],[Importe de adjudicación (IVA INCLUIDO)]]","v":{"$error":"#VALUE!"}}]
[{"$nulls":18},{"$f":"Tabla13[[#This Row],[Título del contrato]]&Tabla13[[#This Row],[Nº Expediente de la plataforma de contratación]]","v":{"$error":"#VALUE!"}},{"$f":"Tabla13[[#This Row],[Nº Expediente de la plataforma de contratación]]","v":{"$error":"#VALUE!"}},{"$f":"Tabla13[[#This Row],[Importe IVA ]]","v":{"$error":"#VALUE!"}},{"$f":"Tabla13[[#This Row],[Importe de adjudicación (IVA INCLUIDO)]]","v":{"$error":"#VALUE!"}}]
[{"$nulls":18},{"$f":"Tabla13[[#This Row],[Título del contrato]]&Tabla13[[#This Row],[Nº Expediente de la plataforma de contratación]]","v":{"$error":"#VALUE!"}},{"$f":"Tabla13[[#This Row],[Nº Expediente de la plataforma de contratación]]","v":{"$error":"#VALUE!"}},{"$f":"Tabla13[[#This Row],[Importe IVA ]]","v":{"$error":"#VALUE!"}},{"$f":"Tabla13[[#This Row],[Importe de adjudicación (IVA INCLUIDO)]]","v":{"$error":"#VALUE!"}}]
[{"$nulls":18},{"$f":"Tabla13[[#This Row],[Título del contrato]]&Tabla13[[#This Row],[Nº Expediente de la plataforma de contratación]]","v":{"$error":"#VALUE!"}},{"$f":"Tabla13[[#This Row],[Nº Expediente de la plataforma de contratación]]","v":{"$error":"#VALUE!"}},{"$f":"Tabla13[[#This Row],[Importe IVA ]]","v":{"$error":"#VALUE!"}},{"$f":"Tabla13[[#This Row],[Importe de adjudicación (IVA INCLUIDO)]]","v":{"$error":"#VALUE!"}}]
[{"$nulls":18},{"$f":"Tabla13[[#This Row],[Título del contrato]]&Tabla13[[#This Row],[Nº Expediente de la plataforma de contratación]]","v":{"$error":"#VALUE!"}},{"$f":"Tabla13[[#This Row],[Nº Expediente de la plataforma de contratación]]","v":{"$error":"#VALUE!"}},{"$f":"Tabla13[[#This Row],[Importe IVA ]]","v":{"$error":"#VALUE!"}},{"$f":"Tabla13[[#This Row],[Importe de adjudicación (IVA INCLUIDO)]]","v":{"$error":"#VALUE!"}}]
[{"$nulls":18},{"$f":"Tabla13[[#This Row],[Título del contrato]]&Tabla13[[#This Row],[Nº Expediente de la plataforma de contratación]]","v":{"$error":"#VALUE!"}},{"$f":"Tabla13[[#This Row],[Nº Expediente de la plataforma de contratación]]","v":{"$error":"#VALUE!"}},{"$f":"Tabla13[[#This Row],[Importe IVA ]]","v":{"$error":"#VALUE!"}},{"$f":"Tabla13[[#This Row],[Importe de adjudicación (IVA INCLUIDO)]]","v":{"$error":"#VALUE!"}}]
[{"$nulls":18},{"$f":"Tabla13[[#This Row],[Título del contrato]]&Tabla13[[#This Row],[Nº Expediente de la plataforma de contratación]]","v":{"$error":"#VALUE!"}},{"$f":"Tabla13[[#This Row],[Nº Expediente de la plataforma de contratación]]","v":{"$error":"#VALUE!"}},{"$f":"Tabla13[[#This Row],[Importe IVA ]]","v":{"$error":"#VALUE!"}},{"$f":"Tabla13[[#This Row],[Importe de adjudicación (IVA INCLUIDO)]]","v":{"$error":"#VALUE!"}}]
[{"$nulls":18},{"$f":"Tabla13[[#This Row],[Título del contrato]]&Tabla13[[#This Row],[Nº Expediente de la plataforma de contratación]]","v":{"$error":"#VALUE!"}},{"$f":"Tabla13[[#This Row],[Nº Expediente de la plataforma de contratación]]","v":{"$error":"#VALUE!"}},{"$f":"Tabla13[[#This Row],[Importe IVA ]]","v":{"$error":"#VALUE!"}},{"$f":"Tabla13[[#This Row],[Importe de adjudicación (IVA INCLUIDO)]]","v":{"$error":"#VALUE!"}}]
[{"$nulls":18},{"$f":"Tabla13[[#This Row],[Título del contrato]]&Tabla13[[#This Row],[Nº Expediente de la plataforma de contratación]]","v":{"$error":"#VALUE!"}},{"$f":"Tabla13[[#This Row],[Nº Expediente de la plataforma de contratación]]","v":{"$error":"#VALUE!"}},{"$f":"Tabla13[[#This Row],[Importe IVA ]]","v":{"$error":"#VALUE!"}},{"$f":"Tabla13[[#This Row],[Importe de adjudicación (IVA INCLUIDO)]]","v":{"$error":"#VALUE!"}}]
[{"$nulls":18},{"$f":"Tabla13[[#This Row],[Título del contrato]]&Tabla13[[#This Row],[Nº Expediente de la plataforma de contratación]]","v":{"$error":"#VALUE!"}},{"$f":"Tabla13[[#This Row],[Nº Expediente de la plataforma de contratación]]","v":{"$error":"#VALUE!"}},{"$f":"Tabla13[[#This Row],[Importe IVA ]]","v":{"$error":"#VALUE!"}},{"$f":"Tabla13[[#This Row],[Importe de adjudicación (IVA INCLUIDO)]]","v":{"$error":"#VALUE!"}}]
[{"$nulls":18},{"$f":"Tabla13[[#This Row],[Título del contrato]]&Tabla13[[#This Row],[Nº Expediente de la plataforma de contratación]]","v":{"$error":"#VALUE!"}},{"$f":"Tabla13[[#This Row],[Nº Expediente de la plataforma de contratación]]","v":{"$error":"#VALUE!"}},{"$f":"Tabla13[[#This Row],[Importe IVA ]]","v":{"$error":"#VALUE!"}},{"$f":"Tabla13[[#This Row],[Importe de adjudicación (IVA INCLUIDO)]]","v":{"$error":"#VALUE!"}}]
[{"$nulls":18},{"$f":"Tabla13[[#This Row],[Título del contrato]]&Tabla13[[#This Row],[Nº Expediente de la plataforma de contratación]]","v":{"$error":"#VALUE!"}},{"$f":"Tabla13[[#This Row],[Nº Expediente de la plataforma de contratación]]","v":{"$error":"#VALUE!"}},{"$f":"Tabla13[[#This Row],[Importe IVA ]]","v":{"$error":"#VALUE!"}},{"$f":"Tabla13[[#This Row],[Importe de adjudicación (IVA INCLUIDO)]]","v":{"$error":"#VALUE!"}}]
[{"$nulls":18},{"$f":"Tabla13[[#This Row],[Título del contrato]]&Tabla13[[#This Row],[Nº Expediente de la plataforma de contratación]]","v":{"$error":"#VALUE!"}},{"$f":"Tabla13[[#This Row],[Nº Expediente de la plataforma de contratación]]","v":{"$error":"#VALUE!"}},{"$f":"Tabla13[[#This Row],[Importe IVA ]]","v":{"$error":"#VALUE!"}},{"$f":"Tabla13[[#This Row],[Importe de adjudicación (IVA INCLUIDO)]]","v":{"$error":"#VALUE!"}}]
[{"$nulls":18},{"$f":"Tabla13[[#This Row],[Título del contrato]]&Tabla13[[#This Row],[Nº Expediente de la plataforma de contratación]]","v":{"$error":"#VALUE!"}},{"$f":"Tabla13[[#This Row],[Nº Expediente de la plataforma de contratación]]","v":{"$error":"#VALUE!"}},{"$f":"Tabla13[[#This Row],[Importe IVA ]]","v":{"$error":"#VALUE!"}},{"$f":"Tabla13[[#This Row],[Importe de adjudicación (IVA INCLUIDO)]]","v":{"$error":"#VALUE!"}}]
[{"$nulls":18},{"$f":"Tabla13[[#This Row],[Título del contrato]]&Tabla13[[#This Row],[Nº Expediente de la plataforma de contratación]]","v":{"$error":"#VALUE!"}},{"$f":"Tabla13[[#This Row],[Nº Expediente de la plataforma de contratación]]","v":{"$error":"#VALUE!"}},{"$f":"Tabla13[[#This Row],[Importe IVA ]]","v":{"$error":"#VALUE!"}},{"$f":"Tabla13[[#This Row],[Importe de adjudicación (IVA INCLUIDO)]]","v":{"$error":"#VALUE!"}}]
[{"$nulls":18},{"$f":"Tabla13[[#This Row],[Título del contrato]]&Tabla13[[#This Row],[Nº Expediente de la plataforma de contratación]]","v":{"$error":"#VALUE!"}},{"$f":"Tabla13[[#This Row],[Nº Expediente de la plataforma de contratación]]","v":{"$error":"#VALUE!"}},{"$f":"Tabla13[[#This Row],[Importe IVA ]]","v":{"$error":"#VALUE!"}},{"$f":"Tabla13[[#This Row],[Importe de adjudicación (IVA INCLUIDO)]]","v":{"$error":"#VALUE!"}}]
[{"$nulls":18},{"$f":"Tabla13[[#This Row],[Título del contrato]]&Tabla13[[#This Row],[Nº Expediente de la plataforma de contratación]]","v":{"$error":"#VALUE!"}},{"$f":"Tabla13[[#This Row],[Nº Expediente de la plataforma de contratación]]","v":{"$error":"#VALUE!"}},{"$f":"Tabla13[[#This Row],[Importe IVA ]]","v":{"$error":"#VALUE!"}},{"$f":"Tabla13[[#This Row],[Importe de adjudicación (IVA INCLUIDO)]]","v":{"$error":"#VALUE!"}}]
[{"$nulls":18},{"$f":"Tabla13[[#This Row],[Título del contrato]]&Tabla13[[#This Row],[Nº Expediente de la plataforma de contratación]]","v":{"$error":"#VALUE!"}},{"$f":"Tabla13[[#This Row],[Nº Expediente de la plataforma de contratación]]","v":{"$error":"#VALUE!"}},{"$f":"Tabla13[[#This Row],[Importe IVA ]]","v":{"$error":"#VALUE!"}},{"$f":"Tabla13[[#This Row],[Importe de adjudicación (IVA INCLUIDO)]]","v":{"$error":"#VALUE!"}}]
[{"$nulls":18},{"$f":"Tabla13[[#This Row],[Título del contrato]]&Tabla13[[#This Row],[Nº Expediente de la plataforma de contratación]]","v":{"$error":"#VALUE!"}},{"$f":"Tabla13[[#This Row],[Nº Expediente de la plataforma de contratación]]","v":{"$error":"#VALUE!"}},{"$f":"Tabla13[[#This Row],[Importe IVA ]]","v":{"$error":"#VALUE!"}},{"$f":"Tabla13[[#This Row],[Importe de adjudicación (IVA INCLUIDO)]]","v":{"$error":"#VALUE!"}}]
[{"$nulls":18},{"$f":"Tabla13[[#This Row],[Título del contrato]]&Tabla13[[#This Row],[Nº Expediente de la plataforma de contratación]]","v":{"$error":"#VALUE!"}},{"$f":"Tabla13[[#This Row],[Nº Expediente de la plataforma de contratación]]","v":{"$error":"#VALUE!"}},{"$f":"Tabla13[[#This Row],[Importe IVA ]]","v":{"$error":"#VALUE!"}},{"$f":"Tabla13[[#This Row],[Importe de adjudicación (IVA INCLUIDO)]]","v":{"$error":"#VALUE!"}}]
[{"$nulls":18},{"$f":"Tabla13[[#This Row],[Título del contrato]]&Tabla13[[#This Row],[Nº Expediente de la plataforma de contratación]]","v":{"$error":"#VALUE!"}},{"$f":"Tabla13[[#This Row],[Nº Expediente de la plataforma de contratación]]","v":{"$error":"#VALUE!"}},{"$f":"Tabla13[[#This Row],[Importe IVA ]]","v":{"$error":"#VALUE!"}},{"$f":"Tabla13[[#This Row],[Importe de adjudicación (IVA INCLUIDO)]]","v":{"$error":"#VALUE!"}}]
[{"$nulls":18},{"$f":"Tabla13[[#This Row],[Título del contrato]]&Tabla13[[#This Row],[Nº Expediente de la plataforma de contratación]]","v":{"$error":"#VALUE!"}},{"$f":"Tabla13[[#This Row],[Nº Expediente de la plataforma de contratación]]","v":{"$error":"#VALUE!"}},{"$f":"Tabla13[[#This Row],[Importe IVA ]]","v":{"$error":"#VALUE!"}},{"$f":"Tabla13[[#This Row],[Importe de adjudicación (IVA INCLUIDO)]]","v":{"$error":"#VALUE!"}}]
[{"$nulls":18},{"$f":"Tabla13[[#This Row],[Título del contrato]]&Tabla13[[#This Row],[Nº Expediente de la plataforma de contratación]]","v":{"$error":"#VALUE!"}},{"$f":"Tabla13[[#This Row],[Nº Expediente de la plataforma de contratación]]","v":{"$error":"#VALUE!"}},{"$f":"Tabla13[[#This Row],[Importe IVA ]]","v":{"$error":"#VALUE!"}},{"$f":"Tabla13[[#This Row],[Importe de adjudicación (IVA INCLUIDO)]]","v":{"$error":"#VALUE!"}}]
[{"$nulls":18},{"$f":"Tabla13[[#This Row],[Título del contrato]]&Tabla13[[#This Row],[Nº Expediente de la plataforma de contratación]]","v":{"$error":"#VALUE!"}},{"$f":"Tabla13[[#This Row],[Nº Expediente de la plataforma de contratación]]","v":{"$error":"#VALUE!"}},{"$f":"Tabla13[[#This Row],[Importe IVA ]]","v":{"$error":"#VALUE!"}},{"$f":"Tabla13[[#This Row],[Importe de adjudicación (IVA INCLUIDO)]]","v":{"$error":"#VALUE!"}}]
[{"$nulls":18},{"$f":"Tabla13[[#This Row],[Título del contrato]]&Tabla13[[#This Row],[Nº Expediente de la plataforma de contratación]]","v":{"$error":"#VALUE!"}},{"$f":"Tabla13[[#This Row],[Nº Expediente de la plataforma de contratación]]","v":{"$error":"#VALUE!"}},{"$f":"Tabla13[[#This Row],[Importe IVA ]]","v":{"$error":"#VALUE!"}},{"$f":"Tabla13[[#This Row],[Importe de adjudicación (IVA INCLUIDO)]]","v":{"$error":"#VALUE!"}}]
[{"$nulls":18},{"$f":"Tabla13[[#This Row],[Título del contrato]]&Tabla13[[#This Row],[Nº Expediente de la plataforma de contratación]]","v":{"$error":"#VALUE!"}},{"$f":"Tabla13[[#This Row],[Nº Expediente de la plataforma de contratación]]","v":{"$error":"#VALUE!"}},{"$f":"Tabla13[[#This Row],[Importe IVA ]]","v":{"$error":"#VALUE!"}},{"$f":"Tabla13[[#This Row],[Importe de adjudicación (IVA INCLUIDO)]]","v":{"$error":"#VALUE!"}}]
[{"$nulls":18},{"$f":"Tabla13[[#This Row],[Título del contrato]]&Tabla13[[#This Row],[Nº Expediente de la plataforma de contratación]]","v":{"$error":"#VALUE!"}},{"$f":"Tabla13[[#This Row],[Nº Expediente de la plataforma de contratación]]","v":{"$error":"#VALUE!"}},{"$f":"Tabla13[[#This Row],[Importe IVA ]]","v":{"$error":"#VALUE!"}},{"$f":"Tabla13[[#This Row],[Importe de adjudicación (IVA INCLUIDO)]]","v":{"$error":"#VALUE!"}}]
[{"$nulls":18},{"$f":"Tabla13[[#This Row],[Título del contrato]]&Tabla13[[#This Row],[Nº Expediente de la plataforma de contratación]]","v":{"$error":"#VALUE!"}},{"$f":"Tabla13[[#This Row],[Nº Expediente de la plataforma de contratación]]","v":{"$error":"#VALUE!"}},{"$f":"Tabla13[[#This Row],[Importe IVA ]]","v":{"$error":"#VALUE!"}},{"$f":"Tabla13[[#This Row],[Importe de adjudicación (IVA INCLUIDO)]]","v":{"$error":"#VALUE!"}}]
[{"$nulls":18},{"$f":"Tabla13[[#This Row],[Título del contrato]]&Tabla13[[#This Row],[Nº Expediente de la plataforma de contratación]]","v":{"$error":"#VALUE!"}},{"$f":"Tabla13[[#This Row],[Nº Expediente de la plataforma de contratación]]","v":{"$error":"#VALUE!"}},{"$f":"Tabla13[[#This Row],[Importe IVA ]]","v":{"$error":"#VALUE!"}},{"$f":"Tabla13[[#This Row],[Importe de adjudicación (IVA INCLUIDO)]]","v":{"$error":"#VALUE!"}}]
[{"$nulls":18},{"$f":"Tabla13[[#This Row],[Título del contrato]]&Tabla13[[#This Row],[Nº Expediente de la plataforma de contratación]]","v":{"$error":"#VALUE!"}},{"$f":"Tabla13[[#This Row],[Nº Expediente de la plataforma de contratación]]","v":{"$error":"#VALUE!"}},{"$f":"Tabla13[[#This Row],[Importe IVA ]]","v":{"$error":"#VALUE!"}},{"$f":"Tabla13[[#This Row],[Importe de adjudicación (IVA INCLUIDO)]]","v":{"$error":"#VALUE!"}}]
[{"$nulls":18},{"$f":"Tabla13[[#This Row],[Título del contrato]]&Tabla13[[#This Row],[Nº Expediente de la plataforma de contratación]]","v":{"$error":"#VALUE!"}},{"$f":"Tabla13[[#This Row],[Nº Expediente de la plataforma de contratación]]","v":{"$error":"#VALUE!"}},{"$f":"Tabla13[[#This Row],[Importe IVA ]]","v":{"$error":"#VALUE!"}},{"$f":"Tabla13[[#This Row],[Importe de adjudicación (IVA INCLUIDO)]]","v":{"$error":"#VALUE!"}}]
[{"$nulls":18},{"$f":"Tabla13[[#This Row],[Título del contrato]]&Tabla13[[#This Row],[Nº Expediente de la plataforma de contratación]]","v":{"$error":"#VALUE!"}},{"$f":"Tabla13[[#This Row],[Nº Expediente de la plataforma de contratación]]","v":{"$error":"#VALUE!"}},{"$f":"Tabla13[[#This Row],[Importe IVA ]]","v":{"$error":"#VALUE!"}},{"$f":"Tabla13[[#This Row],[Importe de adjudicación (IVA INCLUIDO)]]","v":{"$error":"#VALUE!"}}]
[{"$nulls":18},{"$f":"Tabla13[[#This Row],[Título del contrato]]&Tabla13[[#This Row],[Nº Expediente de la plataforma de contratación]]","v":{"$error":"#VALUE!"}},{"$f":"Tabla13[[#This Row],[Nº Expediente de la plataforma de contratación]]","v":{"$error":"#VALUE!"}},{"$f":"Tabla13[[#This Row],[Importe IVA ]]","v":{"$error":"#VALUE!"}},{"$f":"Tabla13[[#This Row],[Importe de adjudicación (IVA INCLUIDO)]]","v":{"$error":"#VALUE!"}}]
[{"$nulls":18},{"$f":"Tabla13[[#This Row],[Título del contrato]]&Tabla13[[#This Row],[Nº Expediente de la plataforma de contratación]]","v":{"$error":"#VALUE!"}},{"$f":"Tabla13[[#This Row],[Nº Expediente de la plataforma de contratación]]","v":{"$error":"#VALUE!"}},{"$f":"Tabla13[[#This Row],[Importe IVA ]]","v":{"$error":"#VALUE!"}},{"$f":"Tabla13[[#This Row],[Importe de adjudicación (IVA INCLUIDO)]]","v":{"$error":"#VALUE!"}}]
[{"$nulls":18},{"$f":"Tabla13[[#This Row],[Título del contrato]]&Tabla13[[#This Row],[Nº Expediente de la plataforma de contratación]]","v":{"$error":"#VALUE!"}},{"$f":"Tabla13[[#This Row],[Nº Expediente de la plataforma de contratación]]","v":{"$error":"#VALUE!"}},{"$f":"Tabla13[[#This Row],[Importe IVA ]]","v":{"$error":"#VALUE!"}},{"$f":"Tabla13[[#This Row],[Importe de adjudicación (IVA INCLUIDO)]]","v":{"$error":"#VALUE!"}}]
[{"$nulls":18},{"$f":"Tabla13[[#This Row],[Título del contrato]]&Tabla13[[#This Row],[Nº Expediente de la plataforma de contratación]]","v":{"$error":"#VALUE!"}},{"$f":"Tabla13[[#This Row],[Nº Expediente de la plataforma de contratación]]","v":{"$error":"#VALUE!"}},{"$f":"Tabla13[[#This Row],[Importe IVA ]]","v":{"$error":"#VALUE!"}},{"$f":"Tabla13[[#This Row],[Importe de adjudicación (IVA INCLUIDO)]]","v":{"$error":"#VALUE!"}}]
[{"$nulls":18},{"$f":"Tabla13[[#This Row],[Título del contrato]]&Tabla13[[#This Row],[Nº Expediente de la plataforma de contratación]]","v":{"$error":"#VALUE!"}},{"$f":"Tabla13[[#This Row],[Nº Expediente de la plataforma de contratación]]","v":{"$error":"#VALUE!"}},{"$f":"Tabla13[[#This Row],[Importe IVA ]]","v":{"$error":"#VALUE!"}},{"$f":"Tabla13[[#This Row],[Importe de adjudicación (IVA INCLUIDO)]]","v":{"$error":"#VALUE!"}}]
[{"$nulls":18},{"$f":"Tabla13[[#This Row],[Título del contrato]]&Tabla13[[#This Row],[Nº Expediente de la plataforma de contratación]]","v":{"$error":"#VALUE!"}},{"$f":"Tabla13[[#This Row],[Nº Expediente de la plataforma de contratación]]","v":{"$error":"#VALUE!"}},{"$f":"Tabla13[[#This Row],[Importe IVA ]]","v":{"$error":"#VALUE!"}},{"$f":"Tabla13[[#This Row],[Importe de adjudicación (IVA INCLUIDO)]]","v":{"$error":"#VALUE!"}}]
[{"$nulls":18},{"$f":"Tabla13[[#This Row],[Título del contrato]]&Tabla13[[#This Row],[Nº Expediente de la plataforma de contratación]]","v":{"$error":"#VALUE!"}},{"$f":"Tabla13[[#This Row],[Nº Expediente de la plataforma de contratación]]","v":{"$error":"#VALUE!"}},{"$f":"Tabla13[[#This Row],[Importe IVA ]]","v":{"$error":"#VALUE!"}},{"$f":"Tabla13[[#This Row],[Importe de adjudicación (IVA INCLUIDO)]]","v":{"$error":"#VALUE!"}}]
[{"$nulls":18},{"$f":"Tabla13[[#This Row],[Título del contrato]]&Tabla13[[#This Row],[Nº Expediente de la plataforma de contratación]]","v":{"$error":"#VALUE!"}},{"$f":"Tabla13[[#This Row],[Nº Expediente de la plataforma de contratación]]","v":{"$error":"#VALUE!"}},{"$f":"Tabla13[[#This Row],[Importe IVA ]]","v":{"$error":"#VALUE!"}},{"$f":"Tabla13[[#This Row],[Importe de adjudicación (IVA INCLUIDO)]]","v":{"$error":"#VALUE!"}}]
[{"$nulls":18},{"$f":"Tabla13[[#This Row],[Título del contrato]]&Tabla13[[#This Row],[Nº Expediente de la plataforma de contratación]]","v":{"$error":"#VALUE!"}},{"$f":"Tabla13[[#This Row],[Nº Expediente de la plataforma de contratación]]","v":{"$error":"#VALUE!"}},{"$f":"Tabla13[[#This Row],[Importe IVA ]]","v":{"$error":"#VALUE!"}},{"$f":"Tabla13[[#This Row],[Importe de adjudicación (IVA INCLUIDO)]]","v":{"$error":"#VALUE!"}}]
[{"$nulls":18},{"$f":"Tabla13[[#This Row],[Título del contrato]]&Tabla13[[#This Row],[Nº Expediente de la plataforma de contratación]]","v":{"$error":"#VALUE!"}},{"$f":"Tabla13[[#This Row],[Nº Expediente de la plataforma de contratación]]","v":{"$error":"#VALUE!"}},{"$f":"Tabla13[[#This Row],[Importe IVA ]]","v":{"$error":"#VALUE!"}},{"$f":"Tabla13[[#This Row],[Importe de adjudicación (IVA INCLUIDO)]]","v":{"$error":"#VALUE!"}}]
[{"$nulls":18},{"$f":"Tabla13[[#This Row],[Título del contrato]]&Tabla13[[#This Row],[Nº Expediente de la plataforma de contratación]]","v":{"$error":"#VALUE!"}},{"$f":"Tabla13[[#This Row],[Nº Expediente de la plataforma de contratación]]","v":{"$error":"#VALUE!"}},{"$f":"Tabla13[[#This Row],[Importe IVA ]]","v":{"$error":"#VALUE!"}},{"$f":"Tabla13[[#This Row],[Importe de adjudicación (IVA INCLUIDO)]]","v":{"$error":"#VALUE!"}}]
[{"$nulls":18},{"$f":"Tabla13[[#This Row],[Título del contrato]]&Tabla13[[#This Row],[Nº Expediente de la plataforma de contratación]]","v":{"$error":"#VALUE!"}},{"$f":"Tabla13[[#This Row],[Nº Expediente de la plataforma de contratación]]","v":{"$error":"#VALUE!"}},{"$f":"Tabla13[[#This Row],[Importe IVA ]]","v":{"$error":"#VALUE!"}},{"$f":"Tabla13[[#This Row],[Importe de adjudicación (IVA INCLUIDO)]]","v":{"$error":"#VALUE!"}}]
[{"$nulls":18},{"$f":"Tabla13[[#This Row],[Título del contrato]]&Tabla13[[#This Row],[Nº Expediente de la plataforma de contratación]]","v":{"$error":"#VALUE!"}},{"$f":"Tabla13[[#This Row],[Nº Expediente de la plataforma de contratación]]","v":{"$error":"#VALUE!"}},{"$f":"Tabla13[[#This Row],[Importe IVA ]]","v":{"$error":"#VALUE!"}},{"$f":"Tabla13[[#This Row],[Importe de adjudicación (IVA INCLUIDO)]]","v":{"$error":"#VALUE!"}}]
[{"$nulls":18},{"$f":"Tabla13[[#This Row],[Título del contrato]]&Tabla13[[#This Row],[Nº Expediente de la plataforma de contratación]]","v":{"$error":"#VALUE!"}},{"$f":"Tabla13[[#This Row],[Nº Expediente de la plataforma de contratación]]","v":{"$error":"#VALUE!"}},{"$f":"Tabla13[[#This Row],[Importe IVA ]]","v":{"$error":"#VALUE!"}},{"$f":"Tabla13[[#This Row],[Importe de adjudicación (IVA INCLUIDO)]]","v":{"$error":"#VALUE!"}}]
[{"$nulls":18},{"$f":"Tabla13[[#This Row],[Título del contrato]]&Tabla13[[#This Row],[Nº Expediente de la plataforma de contratación]]","v":{"$error":"#VALUE!"}},{"$f":"Tabla13[[#This Row],[Nº Expediente de la plataforma de contratación]]","v":{"$error":"#VALUE!"}},{"$f":"Tabla13[[#This Row],[Importe IVA ]]","v":{"$error":"#VALUE!"}},{"$f":"Tabla13[[#This Row],[Importe de adjudicación (IVA INCLUIDO)]]","v":{"$error":"#VALUE!"}}]
[{"$nulls":18},{"$f":"Tabla13[[#This Row],[Título del contrato]]&Tabla13[[#This Row],[Nº Expediente de la plataforma de contratación]]","v":{"$error":"#VALUE!"}},{"$f":"Tabla13[[#This Row],[Nº Expediente de la plataforma de contratación]]","v":{"$error":"#VALUE!"}},{"$f":"Tabla13[[#This Row],[Importe IVA ]]","v":{"$error":"#VALUE!"}},{"$f":"Tabla13[[#This Row],[Importe de adjudicación (IVA INCLUIDO)]]","v":{"$error":"#VALUE!"}}]
[{"$nulls":18},{"$f":"Tabla13[[#This Row],[Título del contrato]]&Tabla13[[#This Row],[Nº Expediente de la plataforma de contratación]]","v":{"$error":"#VALUE!"}},{"$f":"Tabla13[[#This Row],[Nº Expediente de la plataforma de contratación]]","v":{"$error":"#VALUE!"}},{"$f":"Tabla13[[#This Row],[Importe IVA ]]","v":{"$error":"#VALUE!"}},{"$f":"Tabla13[[#This Row],[Importe de adjudicación (IVA INCLUIDO)]]","v":{"$error":"#VALUE!"}}]
[{"$nulls":18},{"$f":"Tabla13[[#This Row],[Título del contrato]]&Tabla13[[#This Row],[Nº Expediente de la plataforma de contratación]]","v":{"$error":"#VALUE!"}},{"$f":"Tabla13[[#This Row],[Nº Expediente de la plataforma de contratación]]","v":{"$error":"#VALUE!"}},{"$f":"Tabla13[[#This Row],[Importe IVA ]]","v":{"$error":"#VALUE!"}},{"$f":"Tabla13[[#This Row],[Importe de adjudicación (IVA INCLUIDO)]]","v":{"$error":"#VALUE!"}}]
[{"$nulls":18},{"$f":"Tabla13[[#This Row],[Título del contrato]]&Tabla13[[#This Row],[Nº Expediente de la plataforma de contratación]]","v":{"$error":"#VALUE!"}},{"$f":"Tabla13[[#This Row],[Nº Expediente de la plataforma de contratación]]","v":{"$error":"#VALUE!"}},{"$f":"Tabla13[[#This Row],[Importe IVA ]]","v":{"$error":"#VALUE!"}},{"$f":"Tabla13[[#This Row],[Importe de adjudicación (IVA INCLUIDO)]]","v":{"$error":"#VALUE!"}}]
[{"$nulls":18},{"$f":"Tabla13[[#This Row],[Título del contrato]]&Tabla13[[#This Row],[Nº Expediente de la plataforma de contratación]]","v":{"$error":"#VALUE!"}},{"$f":"Tabla13[[#This Row],[Nº Expediente de la plataforma de contratación]]","v":{"$error":"#VALUE!"}},{"$f":"Tabla13[[#This Row],[Importe IVA ]]","v":{"$error":"#VALUE!"}},{"$f":"Tabla13[[#This Row],[Importe de adjudicación (IVA INCLUIDO)]]","v":{"$error":"#VALUE!"}}]
[{"$nulls":18},{"$f":"Tabla13[[#This Row],[Título del contrato]]&Tabla13[[#This Row],[Nº Expediente de la plataforma de contratación]]","v":{"$error":"#VALUE!"}},{"$f":"Tabla13[[#This Row],[Nº Expediente de la plataforma de contratación]]","v":{"$error":"#VALUE!"}},{"$f":"Tabla13[[#This Row],[Importe IVA ]]","v":{"$error":"#VALUE!"}},{"$f":"Tabla13[[#This Row],[Importe de adjudicación (IVA INCLUIDO)]]","v":{"$error":"#VALUE!"}}]
[{"$nulls":18},{"$f":"Tabla13[[#This Row],[Título del contrato]]&Tabla13[[#This Row],[Nº Expediente de la plataforma de contratación]]","v":{"$error":"#VALUE!"}},{"$f":"Tabla13[[#This Row],[Nº Expediente de la plataforma de contratación]]","v":{"$error":"#VALUE!"}},{"$f":"Tabla13[[#This Row],[Importe IVA ]]","v":{"$error":"#VALUE!"}},{"$f":"Tabla13[[#This Row],[Importe de adjudicación (IVA INCLUIDO)]]","v":{"$error":"#VALUE!"}}]
[{"$nulls":18},{"$f":"Tabla13[[#This Row],[Título del contrato]]&Tabla13[[#This Row],[Nº Expediente de la plataforma de contratación]]","v":{"$error":"#VALUE!"}},{"$f":"Tabla13[[#This Row],[Nº Expediente de la plataforma de contratación]]","v":{"$error":"#VALUE!"}},{"$f":"Tabla13[[#This Row],[Importe IVA ]]","v":{"$error":"#VALUE!"}},{"$f":"Tabla13[[#This Row],[Importe de adjudicación (IVA INCLUIDO)]]","v":{"$error":"#VALUE!"}}]
[{"$nulls":18},{"$f":"Tabla13[[#This Row],[Título del contrato]]&Tabla13[[#This Row],[Nº Expediente de la plataforma de contratación]]","v":{"$error":"#VALUE!"}},{"$f":"Tabla13[[#This Row],[Nº Expediente de la plataforma de contratación]]","v":{"$error":"#VALUE!"}},{"$f":"Tabla13[[#This Row],[Importe IVA ]]","v":{"$error":"#VALUE!"}},{"$f":"Tabla13[[#This Row],[Importe de adjudicación (IVA INCLUIDO)]]","v":{"$error":"#VALUE!"}}]
[{"$nulls":18},{"$f":"Tabla13[[#This Row],[Título del contrato]]&Tabla13[[#This Row],[Nº Expediente de la plataforma de contratación]]","v":{"$error":"#VALUE!"}},{"$f":"Tabla13[[#This Row],[Nº Expediente de la plataforma de contratación]]","v":{"$error":"#VALUE!"}},{"$f":"Tabla13[[#This Row],[Importe IVA ]]","v":{"$error":"#VALUE!"}},{"$f":"Tabla13[[#This Row],[Importe de adjudicación (IVA INCLUIDO)]]","v":{"$error":"#VALUE!"}}]
[{"$nulls":18},{"$f":"Tabla13[[#This Row],[Título del contrato]]&Tabla13[[#This Row],[Nº Expediente de la plataforma de contratación]]","v":{"$error":"#VALUE!"}},{"$f":"Tabla13[[#This Row],[Nº Expediente de la plataforma de contratación]]","v":{"$error":"#VALUE!"}},{"$f":"Tabla13[[#This Row],[Importe IVA ]]","v":{"$error":"#VALUE!"}},{"$f":"Tabla13[[#This Row],[Importe de adjudicación (IVA INCLUIDO)]]","v":{"$error":"#VALUE!"}}]
[{"$nulls":18},{"$f":"Tabla13[[#This Row],[Título del contrato]]&Tabla13[[#This Row],[Nº Expediente de la plataforma de contratación]]","v":{"$error":"#VALUE!"}},{"$f":"Tabla13[[#This Row],[Nº Expediente de la plataforma de contratación]]","v":{"$error":"#VALUE!"}},{"$f":"Tabla13[[#This Row],[Importe IVA ]]","v":{"$error":"#VALUE!"}},{"$f":"Tabla13[[#This Row],[Importe de adjudicación (IVA INCLUIDO)]]","v":{"$error":"#VALUE!"}}]
[{"$nulls":18},{"$f":"Tabla13[[#This Row],[Título del contrato]]&Tabla13[[#This Row],[Nº Expediente de la plataforma de contratación]]","v":{"$error":"#VALUE!"}},{"$f":"Tabla13[[#This Row],[Nº Expediente de la plataforma de contratación]]","v":{"$error":"#VALUE!"}},{"$f":"Tabla13[[#This Row],[Importe IVA ]]","v":{"$error":"#VALUE!"}},{"$f":"Tabla13[[#This Row],[Importe de adjudicación (IVA INCLUIDO)]]","v":{"$error":"#VALUE!"}}]
[{"$nulls":18},{"$f":"Tabla13[[#This Row],[Título del contrato]]&Tabla13[[#This Row],[Nº Expediente de la plataforma de contratación]]","v":{"$error":"#VALUE!"}},{"$f":"Tabla13[[#This Row],[Nº Expediente de la plataforma de contratación]]","v":{"$error":"#VALUE!"}},{"$f":"Tabla13[[#This Row],[Importe IVA ]]","v":{"$error":"#VALUE!"}},{"$f":"Tabla13[[#This Row],[Importe de adjudicación (IVA INCLUIDO)]]","v":{"$error":"#VALUE!"}}]
[{"$nulls":18},{"$f":"Tabla13[[#This Row],[Título del contrato]]&Tabla13[[#This Row],[Nº Expediente de la plataforma de contratación]]","v":{"$error":"#VALUE!"}},{"$f":"Tabla13[[#This Row],[Nº Expediente de la plataforma de contratación]]","v":{"$error":"#VALUE!"}},{"$f":"Tabla13[[#This Row],[Importe IVA ]]","v":{"$error":"#VALUE!"}},{"$f":"Tabla13[[#This Row],[Importe de adjudicación (IVA INCLUIDO)]]","v":{"$error":"#VALUE!"}}]
[{"$nulls":18},{"$f":"Tabla13[[#This Row],[Título del contrato]]&Tabla13[[#This Row],[Nº Expediente de la plataforma de contratación]]","v":{"$error":"#VALUE!"}},{"$f":"Tabla13[[#This Row],[Nº Expediente de la plataforma de contratación]]","v":{"$error":"#VALUE!"}},{"$f":"Tabla13[[#This Row],[Importe IVA ]]","v":{"$error":"#VALUE!"}},{"$f":"Tabla13[[#This Row],[Importe de adjudicación (IVA INCLUIDO)]]","v":{"$error":"#VALUE!"}}]
[{"$nulls":18},{"$f":"Tabla13[[#This Row],[Título del contrato]]&Tabla13[[#This Row],[Nº Expediente de la plataforma de contratación]]","v":{"$error":"#VALUE!"}},{"$f":"Tabla13[[#This Row],[Nº Expediente de la plataforma de contratación]]","v":{"$error":"#VALUE!"}},{"$f":"Tabla13[[#This Row],[Importe IVA ]]","v":{"$error":"#VALUE!"}},{"$f":"Tabla13[[#This Row],[Importe de adjudicación (IVA INCLUIDO)]]","v":{"$error":"#VALUE!"}}]
[{"$nulls":18},{"$f":"Tabla13[[#This Row],[Título del contrato]]&Tabla13[[#This Row],[Nº Expediente de la plataforma de contratación]]","v":{"$error":"#VALUE!"}},{"$f":"Tabla13[[#This Row],[Nº Expediente de la plataforma de contratación]]","v":{"$error":"#VALUE!"}},{"$f":"Tabla13[[#This Row],[Importe IVA ]]","v":{"$error":"#VALUE!"}},{"$f":"Tabla13[[#This Row],[Importe de adjudicación (IVA INCLUIDO)]]","v":{"$error":"#VALUE!"}}]
[{"$nulls":18},{"$f":"Tabla13[[#This Row],[Título del contrato]]&Tabla13[[#This Row],[Nº Expediente de la plataforma de contratación]]","v":{"$error":"#VALUE!"}},{"$f":"Tabla13[[#This Row],[Nº Expediente de la plataforma de contratación]]","v":{"$error":"#VALUE!"}},{"$f":"Tabla13[[#This Row],[Importe IVA ]]","v":{"$error":"#VALUE!"}},{"$f":"Tabla13[[#This Row],[Importe de adjudicación (IVA INCLUIDO)]]","v":{"$error":"#VALUE!"}}]
[{"$nulls":18},{"$f":"Tabla13[[#This Row],[Título del contrato]]&Tabla13[[#This Row],[Nº Expediente de la plataforma de contratación]]","v":{"$error":"#VALUE!"}},{"$f":"Tabla13[[#This Row],[Nº Expediente de la plataforma de contratación]]","v":{"$error":"#VALUE!"}},{"$f":"Tabla13[[#This Row],[Importe IVA ]]","v":{"$error":"#VALUE!"}},{"$f":"Tabla13[[#This Row],[Importe de adjudicación (IVA INCLUIDO)]]","v":{"$error":"#VALUE!"}}]
[{"$nulls":18},{"$f":"Tabla13[[#This Row],[Título del contrato]]&Tabla13[[#This Row],[Nº Expediente de la plataforma de contratación]]","v":{"$error":"#VALUE!"}},{"$f":"Tabla13[[#This Row],[Nº Expediente de la plataforma de contratación]]","v":{"$error":"#VALUE!"}},{"$f":"Tabla13[[#This Row],[Importe IVA ]]","v":{"$error":"#VALUE!"}},{"$f":"Tabla13[[#This Row],[Importe de adjudicación (IVA INCLUIDO)]]","v":{"$error":"#VALUE!"}}]
[{"$nulls":18},{"$f":"Tabla13[[#This Row],[Título del contrato]]&Tabla13[[#This Row],[Nº Expediente de la plataforma de contratación]]","v":{"$error":"#VALUE!"}},{"$f":"Tabla13[[#This Row],[Nº Expediente de la plataforma de contratación]]","v":{"$error":"#VALUE!"}},{"$f":"Tabla13[[#This Row],[Importe IVA ]]","v":{"$error":"#VALUE!"}},{"$f":"Tabla13[[#This Row],[Importe de adjudicación (IVA INCLUIDO)]]","v":{"$error":"#VALUE!"}}]
[{"$nulls":18},{"$f":"Tabla13[[#This Row],[Título del contrato]]&Tabla13[[#This Row],[Nº Expediente de la plataforma de contratación]]","v":{"$error":"#VALUE!"}},{"$f":"Tabla13[[#This Row],[Nº Expediente de la plataforma de contratación]]","v":{"$error":"#VALUE!"}},{"$f":"Tabla13[[#This Row],[Importe IVA ]]","v":{"$error":"#VALUE!"}},{"$f":"Tabla13[[#This Row],[Importe de adjudicación (IVA INCLUIDO)]]","v":{"$error":"#VALUE!"}}]
[{"$nulls":18},{"$f":"Tabla13[[#This Row],[Título del contrato]]&Tabla13[[#This Row],[Nº Expediente de la plataforma de contratación]]","v":{"$error":"#VALUE!"}},{"$f":"Tabla13[[#This Row],[Nº Expediente de la plataforma de contratación]]","v":{"$error":"#VALUE!"}},{"$f":"Tabla13[[#This Row],[Importe IVA ]]","v":{"$error":"#VALUE!"}},{"$f":"Tabla13[[#This Row],[Importe de adjudicación (IVA INCLUIDO)]]","v":{"$error":"#VALUE!"}}]
[{"$nulls":18},{"$f":"Tabla13[[#This Row],[Título del contrato]]&Tabla13[[#This Row],[Nº Expediente de la plataforma de contratación]]","v":{"$error":"#VALUE!"}},{"$f":"Tabla13[[#This Row],[Nº Expediente de la plataforma de contratación]]","v":{"$error":"#VALUE!"}},{"$f":"Tabla13[[#This Row],[Importe IVA ]]","v":{"$error":"#VALUE!"}},{"$f":"Tabla13[[#This Row],[Importe de adjudicación (IVA INCLUIDO)]]","v":{"$error":"#VALUE!"}}]
[{"$nulls":18},{"$f":"Tabla13[[#This Row],[Título del contrato]]&Tabla13[[#This Row],[Nº Expediente de la plataforma de contratación]]","v":{"$error":"#VALUE!"}},{"$f":"Tabla13[[#This Row],[Nº Expediente de la plataforma de contratación]]","v":{"$error":"#VALUE!"}},{"$f":"Tabla13[[#This Row],[Importe IVA ]]","v":{"$error":"#VALUE!"}},{"$f":"Tabla13[[#This Row],[Importe de adjudicación (IVA INCLUIDO)]]","v":{"$error":"#VALUE!"}}]
[{"$nulls":18},{"$f":"Tabla13[[#This Row],[Título del contrato]]&Tabla13[[#This Row],[Nº Expediente de la plataforma de contratación]]","v":{"$error":"#VALUE!"}},{"$f":"Tabla13[[#This Row],[Nº Expediente de la plataforma de contratación]]","v":{"$error":"#VALUE!"}},{"$f":"Tabla13[[#This Row],[Importe IVA ]]","v":{"$error":"#VALUE!"}},{"$f":"Tabla13[[#This Row],[Importe de adjudicación (IVA INCLUIDO)]]","v":{"$error":"#VALUE!"}}]
[{"$nulls":18},{"$f":"Tabla13[[#This Row],[Título del contrato]]&Tabla13[[#This Row],[Nº Expediente de la plataforma de contratación]]","v":{"$error":"#VALUE!"}},{"$f":"Tabla13[[#This Row],[Nº Expediente de la plataforma de contratación]]","v":{"$error":"#VALUE!"}},{"$f":"Tabla13[[#This Row],[Importe IVA ]]","v":{"$error":"#VALUE!"}},{"$f":"Tabla13[[#This Row],[Importe de adjudicación (IVA INCLUIDO)]]","v":{"$error":"#VALUE!"}}]
[{"$nulls":18},{"$f":"Tabla13[[#This Row],[Título del contrato]]&Tabla13[[#This Row],[Nº Expediente de la plataforma de contratación]]","v":{"$error":"#VALUE!"}},{"$f":"Tabla13[[#This Row],[Nº Expediente de la plataforma de contratación]]","v":{"$error":"#VALUE!"}},{"$f":"Tabla13[[#This Row],[Importe IVA ]]","v":{"$error":"#VALUE!"}},{"$f":"Tabla13[[#This Row],[Importe de adjudicación (IVA INCLUIDO)]]","v":{"$error":"#VALUE!"}}]
[{"$nulls":18},{"$f":"Tabla13[[#This Row],[Título del contrato]]&Tabla13[[#This Row],[Nº Expediente de la plataforma de contratación]]","v":{"$error":"#VALUE!"}},{"$f":"Tabla13[[#This Row],[Nº Expediente de la plataforma de contratación]]","v":{"$error":"#VALUE!"}},{"$f":"Tabla13[[#This Row],[Importe IVA ]]","v":{"$error":"#VALUE!"}},{"$f":"Tabla13[[#This Row],[Importe de adjudicación (IVA INCLUIDO)]]","v":{"$error":"#VALUE!"}}]
[{"$nulls":18},{"$f":"Tabla13[[#This Row],[Título del contrato]]&Tabla13[[#This Row],[Nº Expediente de la plataforma de contratación]]","v":{"$error":"#VALUE!"}},{"$f":"Tabla13[[#This Row],[Nº Expediente de la plataforma de contratación]]","v":{"$error":"#VALUE!"}},{"$f":"Tabla13[[#This Row],[Importe IVA ]]","v":{"$error":"#VALUE!"}},{"$f":"Tabla13[[#This Row],[Importe de adjudicación (IVA INCLUIDO)]]","v":{"$error":"#VALUE!"}}]
[{"$nulls":18},{"$f":"Tabla13[[#This Row],[Título del contrato]]&Tabla13[[#This Row],[Nº Expediente de la plataforma de contratación]]","v":{"$error":"#VALUE!"}},{"$f":"Tabla13[[#This Row],[Nº Expediente de la plataforma de contratación]]","v":{"$error":"#VALUE!"}},{"$f":"Tabla13[[#This Row],[Importe IVA ]]","v":{"$error":"#VALUE!"}},{"$f":"Tabla13[[#This Row],[Importe de adjudicación (IVA INCLUIDO)]]","v":{"$error":"#VALUE!"}}]
[{"$nulls":18},{"$f":"Tabla13[[#This Row],[Título del contrato]]&Tabla13[[#This Row],[Nº Expediente de la plataforma de contratación]]","v":{"$error":"#VALUE!"}},{"$f":"Tabla13[[#This Row],[Nº Expediente de la plataforma de contratación]]","v":{"$error":"#VALUE!"}},{"$f":"Tabla13[[#This Row],[Importe IVA ]]","v":{"$error":"#VALUE!"}},{"$f":"Tabla13[[#This Row],[Importe de adjudicación (IVA INCLUIDO)]]","v":{"$error":"#VALUE!"}}]
[{"$nulls":18},{"$f":"Tabla13[[#This Row],[Título del contrato]]&Tabla13[[#This Row],[Nº Expediente de la plataforma de contratación]]","v":{"$error":"#VALUE!"}},{"$f":"Tabla13[[#This Row],[Nº Expediente de la plataforma de contratación]]","v":{"$error":"#VALUE!"}},{"$f":"Tabla13[[#This Row],[Importe IVA ]]","v":{"$error":"#VALUE!"}},{"$f":"Tabla13[[#This Row],[Importe de adjudicación (IVA INCLUIDO)]]","v":{"$error":"#VALUE!"}}]
[{"$nulls":18},{"$f":"Tabla13[[#This Row],[Título del contrato]]&Tabla13[[#This Row],[Nº Expediente de la plataforma de contratación]]","v":{"$error":"#VALUE!"}},{"$f":"Tabla13[[#This Row],[Nº Expediente de la plataforma de contratación]]","v":{"$error":"#VALUE!"}},{"$f":"Tabla13[[#This Row],[Importe IVA ]]","v":{"$error":"#VALUE!"}},{"$f":"Tabla13[[#This Row],[Importe de adjudicación (IVA INCLUIDO)]]","v":{"$error":"#VALUE!"}}]
[{"$nulls":18},{"$f":"Tabla13[[#This Row],[Título del contrato]]&Tabla13[[#This Row],[Nº Expediente de la plataforma de contratación]]","v":{"$error":"#VALUE!"}},{"$f":"Tabla13[[#This Row],[Nº Expediente de la plataforma de contratación]]","v":{"$error":"#VALUE!"}},{"$f":"Tabla13[[#This Row],[Importe IVA ]]","v":{"$error":"#VALUE!"}},{"$f":"Tabla13[[#This Row],[Importe de adjudicación (IVA INCLUIDO)]]","v":{"$error":"#VALUE!"}}]
[{"$nulls":18},{"$f":"Tabla13[[#This Row],[Título del contrato]]&Tabla13[[#This Row],[Nº Expediente de la plataforma de contratación]]","v":{"$error":"#VALUE!"}},{"$f":"Tabla13[[#This Row],[Nº Expediente de la plataforma de contratación]]","v":{"$error":"#VALUE!"}},{"$f":"Tabla13[[#This Row],[Importe IVA ]]","v":{"$error":"#VALUE!"}},{"$f":"Tabla13[[#This Row],[Importe de adjudicación (IVA INCLUIDO)]]","v":{"$error":"#VALUE!"}}]
[{"$nulls":18},{"$f":"Tabla13[[#This Row],[Título del contrato]]&Tabla13[[#This Row],[Nº Expediente de la plataforma de contratación]]","v":{"$error":"#VALUE!"}},{"$f":"Tabla13[[#This Row],[Nº Expediente de la plataforma de contratación]]","v":{"$error":"#VALUE!"}},{"$f":"Tabla13[[#This Row],[Importe IVA ]]","v":{"$error":"#VALUE!"}},{"$f":"Tabla13[[#This Row],[Importe de adjudicación (IVA INCLUIDO)]]","v":{"$error":"#VALUE!"}}]
[{"$nulls":18},{"$f":"Tabla13[[#This Row],[Título del contrato]]&Tabla13[[#This Row],[Nº Expediente de la plataforma de contratación]]","v":{"$error":"#VALUE!"}},{"$f":"Tabla13[[#This Row],[Nº Expediente de la plataforma de contratación]]","v":{"$error":"#VALUE!"}},{"$f":"Tabla13[[#This Row],[Importe IVA ]]","v":{"$error":"#VALUE!"}},{"$f":"Tabla13[[#This Row],[Importe de adjudicación (IVA INCLUIDO)]]","v":{"$error":"#VALUE!"}}]
[{"$nulls":18},{"$f":"Tabla13[[#This Row],[Título del contrato]]&Tabla13[[#This Row],[Nº Expediente de la plataforma de contratación]]","v":{"$error":"#VALUE!"}},{"$f":"Tabla13[[#This Row],[Nº Expediente de la plataforma de contratación]]","v":{"$error":"#VALUE!"}},{"$f":"Tabla13[[#This Row],[Importe IVA ]]","v":{"$error":"#VALUE!"}},{"$f":"Tabla13[[#This Row],[Importe de adjudicación (IVA INCLUIDO)]]","v":{"$error":"#VALUE!"}}]
[{"$nulls":18},{"$f":"Tabla13[[#This Row],[Título del contrato]]&Tabla13[[#This Row],[Nº Expediente de la plataforma de contratación]]","v":{"$error":"#VALUE!"}},{"$f":"Tabla13[[#This Row],[Nº Expediente de la plataforma de contratación]]","v":{"$error":"#VALUE!"}},{"$f":"Tabla13[[#This Row],[Importe IVA ]]","v":{"$error":"#VALUE!"}},{"$f":"Tabla13[[#This Row],[Importe de adjudicación (IVA INCLUIDO)]]","v":{"$error":"#VALUE!"}}]
[{"$nulls":18},{"$f":"Tabla13[[#This Row],[Título del contrato]]&Tabla13[[#This Row],[Nº Expediente de la plataforma de contratación]]","v":{"$error":"#VALUE!"}},{"$f":"Tabla13[[#This Row],[Nº Expediente de la plataforma de contratación]]","v":{"$error":"#VALUE!"}},{"$f":"Tabla13[[#This Row],[Importe IVA ]]","v":{"$error":"#VALUE!"}},{"$f":"Tabla13[[#This Row],[Importe de adjudicación (IVA INCLUIDO)]]","v":{"$error":"#VALUE!"}}]
[{"$nulls":18},{"$f":"Tabla13[[#This Row],[Título del contrato]]&Tabla13[[#This Row],[Nº Expediente de la plataforma de contratación]]","v":{"$error":"#VALUE!"}},{"$f":"Tabla13[[#This Row],[Nº Expediente de la plataforma de contratación]]","v":{"$error":"#VALUE!"}},{"$f":"Tabla13[[#This Row],[Importe IVA ]]","v":{"$error":"#VALUE!"}},{"$f":"Tabla13[[#This Row],[Importe de adjudicación (IVA INCLUIDO)]]","v":{"$error":"#VALUE!"}}]
[{"$nulls":18},{"$f":"Tabla13[[#This Row],[Título del contrato]]&Tabla13[[#This Row],[Nº Expediente de la plataforma de contratación]]","v":{"$error":"#VALUE!"}},{"$f":"Tabla13[[#This Row],[Nº Expediente de la plataforma de contratación]]","v":{"$error":"#VALUE!"}},{"$f":"Tabla13[[#This Row],[Importe IVA ]]","v":{"$error":"#VALUE!"}},{"$f":"Tabla13[[#This Row],[Importe de adjudicación (IVA INCLUIDO)]]","v":{"$error":"#VALUE!"}}]
[{"$nulls":18},{"$f":"Tabla13[[#This Row],[Título del contrato]]&Tabla13[[#This Row],[Nº Expediente de la plataforma de contratación]]","v":{"$error":"#VALUE!"}},{"$f":"Tabla13[[#This Row],[Nº Expediente de la plataforma de contratación]]","v":{"$error":"#VALUE!"}},{"$f":"Tabla13[[#This Row],[Importe IVA ]]","v":{"$error":"#VALUE!"}},{"$f":"Tabla13[[#This Row],[Importe de adjudicación (IVA INCLUIDO)]]","v":{"$error":"#VALUE!"}}]
[{"$nulls":18},{"$f":"Tabla13[[#This Row],[Título del contrato]]&Tabla13[[#This Row],[Nº Expediente de la plataforma de contratación]]","v":{"$error":"#VALUE!"}},{"$f":"Tabla13[[#This Row],[Nº Expediente de la plataforma de contratación]]","v":{"$error":"#VALUE!"}},{"$f":"Tabla13[[#This Row],[Importe IVA ]]","v":{"$error":"#VALUE!"}},{"$f":"Tabla13[[#This Row],[Importe de adjudicación (IVA INCLUIDO)]]","v":{"$error":"#VALUE!"}}]
[{"$nulls":18},{"$f":"Tabla13[[#This Row],[Título del contrato]]&Tabla13[[#This Row],[Nº Expediente de la plataforma de contratación]]","v":{"$error":"#VALUE!"}},{"$f":"Tabla13[[#This Row],[Nº Expediente de la plataforma de contratación]]","v":{"$error":"#VALUE!"}},{"$f":"Tabla13[[#This Row],[Importe IVA ]]","v":{"$error":"#VALUE!"}},{"$f":"Tabla13[[#This Row],[Importe de adjudicación (IVA INCLUIDO)]]","v":{"$error":"#VALUE!"}}]
[{"$nulls":18},{"$f":"Tabla13[[#This Row],[Título del contrato]]&Tabla13[[#This Row],[Nº Expediente de la plataforma de contratación]]","v":{"$error":"#VALUE!"}},{"$f":"Tabla13[[#This Row],[Nº Expediente de la plataforma de contratación]]","v":{"$error":"#VALUE!"}},{"$f":"Tabla13[[#This Row],[Importe IVA ]]","v":{"$error":"#VALUE!"}},{"$f":"Tabla13[[#This Row],[Importe de adjudicación (IVA INCLUIDO)]]","v":{"$error":"#VALUE!"}}]
[{"$nulls":18},{"$f":"Tabla13[[#This Row],[Título del contrato]]&Tabla13[[#This Row],[Nº Expediente de la plataforma de contratación]]","v":{"$error":"#VALUE!"}},{"$f":"Tabla13[[#This Row],[Nº Expediente de la plataforma de contratación]]","v":{"$error":"#VALUE!"}},{"$f":"Tabla13[[#This Row],[Importe IVA ]]","v":{"$error":"#VALUE!"}},{"$f":"Tabla13[[#This Row],[Importe de adjudicación (IVA INCLUIDO)]]","v":{"$error":"#VALUE!"}}]
[{"$nulls":18},{"$f":"Tabla13[[#This Row],[Título del contrato]]&Tabla13[[#This Row],[Nº Expediente de la plataforma de contratación]]","v":{"$error":"#VALUE!"}},{"$f":"Tabla13[[#This Row],[Nº Expediente de la plataforma de contratación]]","v":{"$error":"#VALUE!"}},{"$f":"Tabla13[[#This Row],[Importe IVA ]]","v":{"$error":"#VALUE!"}},{"$f":"Tabla13[[#This Row],[Importe de adjudicación (IVA INCLUIDO)]]","v":{"$error":"#VALUE!"}}]
[{"$nulls":18},{"$f":"Tabla13[[#This Row],[Título del contrato]]&Tabla13[[#This Row],[Nº Expediente de la plataforma de contratación]]","v":{"$error":"#VALUE!"}},{"$f":"Tabla13[[#This Row],[Nº Expediente de la plataforma de contratación]]","v":{"$error":"#VALUE!"}},{"$f":"Tabla13[[#This Row],[Importe IVA ]]","v":{"$error":"#VALUE!"}},{"$f":"Tabla13[[#This Row],[Importe de adjudicación (IVA INCLUIDO)]]","v":{"$error":"#VALUE!"}}]
[{"$nulls":18},{"$f":"Tabla13[[#This Row],[Título del contrato]]&Tabla13[[#This Row],[Nº Expediente de la plataforma de contratación]]","v":{"$error":"#VALUE!"}},{"$f":"Tabla13[[#This Row],[Nº Expediente de la plataforma de contratación]]","v":{"$error":"#VALUE!"}},{"$f":"Tabla13[[#This Row],[Importe IVA ]]","v":{"$error":"#VALUE!"}},{"$f":"Tabla13[[#This Row],[Importe de adjudicación (IVA INCLUIDO)]]","v":{"$error":"#VALUE!"}}]
[{"$nulls":18},{"$f":"Tabla13[[#This Row],[Título del contrato]]&Tabla13[[#This Row],[Nº Expediente de la plataforma de contratación]]","v":{"$error":"#VALUE!"}},{"$f":"Tabla13[[#This Row],[Nº Expediente de la plataforma de contratación]]","v":{"$error":"#VALUE!"}},{"$f":"Tabla13[[#This Row],[Importe IVA ]]","v":{"$error":"#VALUE!"}},{"$f":"Tabla13[[#This Row],[Importe de adjudicación (IVA INCLUIDO)]]","v":{"$error":"#VALUE!"}}]
[{"$nulls":18},{"$f":"Tabla13[[#This Row],[Título del contrato]]&Tabla13[[#This Row],[Nº Expediente de la plataforma de contratación]]","v":{"$error":"#VALUE!"}},{"$f":"Tabla13[[#This Row],[Nº Expediente de la plataforma de contratación]]","v":{"$error":"#VALUE!"}},{"$f":"Tabla13[[#This Row],[Importe IVA ]]","v":{"$error":"#VALUE!"}},{"$f":"Tabla13[[#This Row],[Importe de adjudicación (IVA INCLUIDO)]]","v":{"$error":"#VALUE!"}}]
[{"$nulls":18},{"$f":"Tabla13[[#This Row],[Título del contrato]]&Tabla13[[#This Row],[Nº Expediente de la plataforma de contratación]]","v":{"$error":"#VALUE!"}},{"$f":"Tabla13[[#This Row],[Nº Expediente de la plataforma de contratación]]","v":{"$error":"#VALUE!"}},{"$f":"Tabla13[[#This Row],[Importe IVA ]]","v":{"$error":"#VALUE!"}},{"$f":"Tabla13[[#This Row],[Importe de adjudicación (IVA INCLUIDO)]]","v":{"$error":"#VALUE!"}}]
[{"$nulls":18},{"$f":"Tabla13[[#This Row],[Título del contrato]]&Tabla13[[#This Row],[Nº Expediente de la plataforma de contratación]]","v":{"$error":"#VALUE!"}},{"$f":"Tabla13[[#This Row],[Nº Expediente de la plataforma de contratación]]","v":{"$error":"#VALUE!"}},{"$f":"Tabla13[[#This Row],[Importe IVA ]]","v":{"$error":"#VALUE!"}},{"$f":"Tabla13[[#This Row],[Importe de adjudicación (IVA INCLUIDO)]]","v":{"$error":"#VALUE!"}}]
[{"$nulls":18},{"$f":"Tabla13[[#This Row],[Título del contrato]]&Tabla13[[#This Row],[Nº Expediente de la plataforma de contratación]]","v":{"$error":"#VALUE!"}},{"$f":"Tabla13[[#This Row],[Nº Expediente de la plataforma de contratación]]","v":{"$error":"#VALUE!"}},{"$f":"Tabla13[[#This Row],[Importe IVA ]]","v":{"$error":"#VALUE!"}},{"$f":"Tabla13[[#This Row],[Importe de adjudicación (IVA INCLUIDO)]]","v":{"$error":"#VALUE!"}}]
[{"$nulls":18},{"$f":"Tabla13[[#This Row],[Título del contrato]]&Tabla13[[#This Row],[Nº Expediente de la plataforma de contratación]]","v":{"$error":"#VALUE!"}},{"$f":"Tabla13[[#This Row],[Nº Expediente de la plataforma de contratación]]","v":{"$error":"#VALUE!"}},{"$f":"Tabla13[[#This Row],[Importe IVA ]]","v":{"$error":"#VALUE!"}},{"$f":"Tabla13[[#This Row],[Importe de adjudicación (IVA INCLUIDO)]]","v":{"$error":"#VALUE!"}}]
[{"$nulls":18},{"$f":"Tabla13[[#This Row],[Título del contrato]]&Tabla13[[#This Row],[Nº Expediente de la plataforma de contratación]]","v":{"$error":"#VALUE!"}},{"$f":"Tabla13[[#This Row],[Nº Expediente de la plataforma de contratación]]","v":{"$error":"#VALUE!"}},{"$f":"Tabla13[[#This Row],[Importe IVA ]]","v":{"$error":"#VALUE!"}},{"$f":"Tabla13[[#This Row],[Importe de adjudicación (IVA INCLUIDO)]]","v":{"$error":"#VALUE!"}}]
[{"$nulls":18},{"$f":"Tabla13[[#This Row],[Título del contrato]]&Tabla13[[#This Row],[Nº Expediente de la plataforma de contratación]]","v":{"$error":"#VALUE!"}},{"$f":"Tabla13[[#This Row],[Nº Expediente de la plataforma de contratación]]","v":{"$error":"#VALUE!"}},{"$f":"Tabla13[[#This Row],[Importe IVA ]]","v":{"$error":"#VALUE!"}},{"$f":"Tabla13[[#This Row],[Importe de adjudicación (IVA INCLUIDO)]]","v":{"$error":"#VALUE!"}}]
[{"$nulls":18},{"$f":"Tabla13[[#This Row],[Título del contrato]]&Tabla13[[#This Row],[Nº Expediente de la plataforma de contratación]]","v":{"$error":"#VALUE!"}},{"$f":"Tabla13[[#This Row],[Nº Expediente de la plataforma de contratación]]","v":{"$error":"#VALUE!"}},{"$f":"Tabla13[[#This Row],[Importe IVA ]]","v":{"$error":"#VALUE!"}},{"$f":"Tabla13[[#This Row],[Importe de adjudicación (IVA INCLUIDO)]]","v":{"$error":"#VALUE!"}}]
[{"$nulls":18},{"$f":"Tabla13[[#This Row],[Título del contrato]]&Tabla13[[#This Row],[Nº Expediente de la plataforma de contratación]]","v":{"$error":"#VALUE!"}},{"$f":"Tabla13[[#This Row],[Nº Expediente de la plataforma de contratación]]","v":{"$error":"#VALUE!"}},{"$f":"Tabla13[[#This Row],[Importe IVA ]]","v":{"$error":"#VALUE!"}},{"$f":"Tabla13[[#This Row],[Importe de adjudicación (IVA INCLUIDO)]]","v":{"$error":"#VALUE!"}}]
[{"$nulls":18},{"$f":"Tabla13[[#This Row],[Título del contrato]]&Tabla13[[#This Row],[Nº Expediente de la plataforma de contratación]]","v":{"$error":"#VALUE!"}},{"$f":"Tabla13[[#This Row],[Nº Expediente de la plataforma de contratación]]","v":{"$error":"#VALUE!"}},{"$f":"Tabla13[[#This Row],[Importe IVA ]]","v":{"$error":"#VALUE!"}},{"$f":"Tabla13[[#This Row],[Importe de adjudicación (IVA INCLUIDO)]]","v":{"$error":"#VALUE!"}}]
[{"$nulls":18},{"$f":"Tabla13[[#This Row],[Título del contrato]]&Tabla13[[#This Row],[Nº Expediente de la plataforma de contratación]]","v":{"$error":"#VALUE!"}},{"$f":"Tabla13[[#This Row],[Nº Expediente de la plataforma de contratación]]","v":{"$error":"#VALUE!"}},{"$f":"Tabla13[[#This Row],[Importe IVA ]]","v":{"$error":"#VALUE!"}},{"$f":"Tabla13[[#This Row],[Importe de adjudicación (IVA INCLUIDO)]]","v":{"$error":"#VALUE!"}}]
[{"$nulls":18},{"$f":"Tabla13[[#This Row],[Título del contrato]]&Tabla13[[#This Row],[Nº Expediente de la plataforma de contratación]]","v":{"$error":"#VALUE!"}},{"$f":"Tabla13[[#This Row],[Nº Expediente de la plataforma de contratación]]","v":{"$error":"#VALUE!"}},{"$f":"Tabla13[[#This Row],[Importe IVA ]]","v":{"$error":"#VALUE!"}},{"$f":"Tabla13[[#This Row],[Importe de adjudicación (IVA INCLUIDO)]]","v":{"$error":"#VALUE!"}}]
[{"$nulls":18},{"$f":"Tabla13[[#This Row],[Título del contrato]]&Tabla13[[#This Row],[Nº Expediente de la plataforma de contratación]]","v":{"$error":"#VALUE!"}},{"$f":"Tabla13[[#This Row],[Nº Expediente de la plataforma de contratación]]","v":{"$error":"#VALUE!"}},{"$f":"Tabla13[[#This Row],[Importe IVA ]]","v":{"$error":"#VALUE!"}},{"$f":"Tabla13[[#This Row],[Importe de adjudicación (IVA INCLUIDO)]]","v":{"$error":"#VALUE!"}}]
[{"$nulls":18},{"$f":"Tabla13[[#This Row],[Título del contrato]]&Tabla13[[#This Row],[Nº Expediente de la plataforma de contratación]]","v":{"$error":"#VALUE!"}},{"$f":"Tabla13[[#This Row],[Nº Expediente de la plataforma de contratación]]","v":{"$error":"#VALUE!"}},{"$f":"Tabla13[[#This Row],[Importe IVA ]]","v":{"$error":"#VALUE!"}},{"$f":"Tabla13[[#This Row],[Importe de adjudicación (IVA INCLUIDO)]]","v":{"$error":"#VALUE!"}}]
[{"$nulls":18},{"$f":"Tabla13[[#This Row],[Título del contrato]]&Tabla13[[#This Row],[Nº Expediente de la plataforma de contratación]]","v":{"$error":"#VALUE!"}},{"$f":"Tabla13[[#This Row],[Nº Expediente de la plataforma de contratación]]","v":{"$error":"#VALUE!"}},{"$f":"Tabla13[[#This Row],[Importe IVA ]]","v":{"$error":"#VALUE!"}},{"$f":"Tabla13[[#This Row],[Importe de adjudicación (IVA INCLUIDO)]]","v":{"$error":"#VALUE!"}}]
[{"$nulls":18},{"$f":"Tabla13[[#This Row],[Título del contrato]]&Tabla13[[#This Row],[Nº Expediente de la plataforma de contratación]]","v":{"$error":"#VALUE!"}},{"$f":"Tabla13[[#This Row],[Nº Expediente de la plataforma de contratación]]","v":{"$error":"#VALUE!"}},{"$f":"Tabla13[[#This Row],[Importe IVA ]]","v":{"$error":"#VALUE!"}},{"$f":"Tabla13[[#This Row],[Importe de adjudicación (IVA INCLUIDO)]]","v":{"$error":"#VALUE!"}}]
[{"$nulls":18},{"$f":"Tabla13[[#This Row],[Título del contrato]]&Tabla13[[#This Row],[Nº Expediente de la plataforma de contratación]]","v":{"$error":"#VALUE!"}},{"$f":"Tabla13[[#This Row],[Nº Expediente de la plataforma de contratación]]","v":{"$error":"#VALUE!"}},{"$f":"Tabla13[[#This Row],[Importe IVA ]]","v":{"$error":"#VALUE!"}},{"$f":"Tabla13[[#This Row],[Importe de adjudicación (IVA INCLUIDO)]]","v":{"$error":"#VALUE!"}}]
[{"$nulls":18},{"$f":"Tabla13[[#This Row],[Título del contrato]]&Tabla13[[#This Row],[Nº Expediente de la plataforma de contratación]]","v":{"$error":"#VALUE!"}},{"$f":"Tabla13[[#This Row],[Nº Expediente de la plataforma de contratación]]","v":{"$error":"#VALUE!"}},{"$f":"Tabla13[[#This Row],[Importe IVA ]]","v":{"$error":"#VALUE!"}},{"$f":"Tabla13[[#This Row],[Importe de adjudicación (IVA INCLUIDO)]]","v":{"$error":"#VALUE!"}}]
[{"$nulls":18},{"$f":"Tabla13[[#This Row],[Título del contrato]]&Tabla13[[#This Row],[Nº Expediente de la plataforma de contratación]]","v":{"$error":"#VALUE!"}},{"$f":"Tabla13[[#This Row],[Nº Expediente de la plataforma de contratación]]","v":{"$error":"#VALUE!"}},{"$f":"Tabla13[[#This Row],[Importe IVA ]]","v":{"$error":"#VALUE!"}},{"$f":"Tabla13[[#This Row],[Importe de adjudicación (IVA INCLUIDO)]]","v":{"$error":"#VALUE!"}}]
[{"$nulls":18},{"$f":"Tabla13[[#This Row],[Título del contrato]]&Tabla13[[#This Row],[Nº Expediente de la plataforma de contratación]]","v":{"$error":"#VALUE!"}},{"$f":"Tabla13[[#This Row],[Nº Expediente de la plataforma de contratación]]","v":{"$error":"#VALUE!"}},{"$f":"Tabla13[[#This Row],[Importe IVA ]]","v":{"$error":"#VALUE!"}},{"$f":"Tabla13[[#This Row],[Importe de adjudicación (IVA INCLUIDO)]]","v":{"$error":"#VALUE!"}}]
[{"$nulls":18},{"$f":"Tabla13[[#This Row],[Título del contrato]]&Tabla13[[#This Row],[Nº Expediente de la plataforma de contratación]]","v":{"$error":"#VALUE!"}},{"$f":"Tabla13[[#This Row],[Nº Expediente de la plataforma de contratación]]","v":{"$error":"#VALUE!"}},{"$f":"Tabla13[[#This Row],[Importe IVA ]]","v":{"$error":"#VALUE!"}},{"$f":"Tabla13[[#This Row],[Importe de adjudicación (IVA INCLUIDO)]]","v":{"$error":"#VALUE!"}}]
[{"$nulls":18},{"$f":"Tabla13[[#This Row],[Título del contrato]]&Tabla13[[#This Row],[Nº Expediente de la plataforma de contratación]]","v":{"$error":"#VALUE!"}},{"$f":"Tabla13[[#This Row],[Nº Expediente de la plataforma de contratación]]","v":{"$error":"#VALUE!"}},{"$f":"Tabla13[[#This Row],[Importe IVA ]]","v":{"$error":"#VALUE!"}},{"$f":"Tabla13[[#This Row],[Importe de adjudicación (IVA INCLUIDO)]]","v":{"$error":"#VALUE!"}}]
[{"$nulls":18},{"$f":"Tabla13[[#This Row],[Título del contrato]]&Tabla13[[#This Row],[Nº Expediente de la plataforma de contratación]]","v":{"$error":"#VALUE!"}},{"$f":"Tabla13[[#This Row],[Nº Expediente de la plataforma de contratación]]","v":{"$error":"#VALUE!"}},{"$f":"Tabla13[[#This Row],[Importe IVA ]]","v":{"$error":"#VALUE!"}},{"$f":"Tabla13[[#This Row],[Importe de adjudicación (IVA INCLUIDO)]]","v":{"$error":"#VALUE!"}}]
[{"$nulls":18},{"$f":"Tabla13[[#This Row],[Título del contrato]]&Tabla13[[#This Row],[Nº Expediente de la plataforma de contratación]]","v":{"$error":"#VALUE!"}},{"$f":"Tabla13[[#This Row],[Nº Expediente de la plataforma de contratación]]","v":{"$error":"#VALUE!"}},{"$f":"Tabla13[[#This Row],[Importe IVA ]]","v":{"$error":"#VALUE!"}},{"$f":"Tabla13[[#This Row],[Importe de adjudicación (IVA INCLUIDO)]]","v":{"$error":"#VALUE!"}}]
[{"$nulls":18},{"$f":"Tabla13[[#This Row],[Título del contrato]]&Tabla13[[#This Row],[Nº Expediente de la plataforma de contratación]]","v":{"$error":"#VALUE!"}},{"$f":"Tabla13[[#This Row],[Nº Expediente de la plataforma de contratación]]","v":{"$error":"#VALUE!"}},{"$f":"Tabla13[[#This Row],[Importe IVA ]]","v":{"$error":"#VALUE!"}},{"$f":"Tabla13[[#This Row],[Importe de adjudicación (IVA INCLUIDO)]]","v":{"$error":"#VALUE!"}}]
[{"$nulls":18},{"$f":"Tabla13[[#This Row],[Título del contrato]]&Tabla13[[#This Row],[Nº Expediente de la plataforma de contratación]]","v":{"$error":"#VALUE!"}},{"$f":"Tabla13[[#This Row],[Nº Expediente de la plataforma de contratación]]","v":{"$error":"#VALUE!"}},{"$f":"Tabla13[[#This Row],[Importe IVA ]]","v":{"$error":"#VALUE!"}},{"$f":"Tabla13[[#This Row],[Importe de adjudicación (IVA INCLUIDO)]]","v":{"$error":"#VALUE!"}}]
[{"$nulls":18},{"$f":"Tabla13[[#This Row],[Título del contrato]]&Tabla13[[#This Row],[Nº Expediente de la plataforma de contratación]]","v":{"$error":"#VALUE!"}},{"$f":"Tabla13[[#This Row],[Nº Expediente de la plataforma de contratación]]","v":{"$error":"#VALUE!"}},{"$f":"Tabla13[[#This Row],[Importe IVA ]]","v":{"$error":"#VALUE!"}},{"$f":"Tabla13[[#This Row],[Importe de adjudicación (IVA INCLUIDO)]]","v":{"$error":"#VALUE!"}}]
[{"$nulls":18},{"$f":"Tabla13[[#This Row],[Título del contrato]]&Tabla13[[#This Row],[Nº Expediente de la plataforma de contratación]]","v":{"$error":"#VALUE!"}},{"$f":"Tabla13[[#This Row],[Nº Expediente de la plataforma de contratación]]","v":{"$error":"#VALUE!"}},{"$f":"Tabla13[[#This Row],[Importe IVA ]]","v":{"$error":"#VALUE!"}},{"$f":"Tabla13[[#This Row],[Importe de adjudicación (IVA INCLUIDO)]]","v":{"$error":"#VALUE!"}}]
[{"$nulls":18},{"$f":"Tabla13[[#This Row],[Título del contrato]]&Tabla13[[#This Row],[Nº Expediente de la plataforma de contratación]]","v":{"$error":"#VALUE!"}},{"$f":"Tabla13[[#This Row],[Nº Expediente de la plataforma de contratación]]","v":{"$error":"#VALUE!"}},{"$f":"Tabla13[[#This Row],[Importe IVA ]]","v":{"$error":"#VALUE!"}},{"$f":"Tabla13[[#This Row],[Importe de adjudicación (IVA INCLUIDO)]]","v":{"$error":"#VALUE!"}}]
[{"$nulls":18},{"$f":"Tabla13[[#This Row],[Título del contrato]]&Tabla13[[#This Row],[Nº Expediente de la plataforma de contratación]]","v":{"$error":"#VALUE!"}},{"$f":"Tabla13[[#This Row],[Nº Expediente de la plataforma de contratación]]","v":{"$error":"#VALUE!"}},{"$f":"Tabla13[[#This Row],[Importe IVA ]]","v":{"$error":"#VALUE!"}},{"$f":"Tabla13[[#This Row],[Importe de adjudicación (IVA INCLUIDO)]]","v":{"$error":"#VALUE!"}}]
[{"$nulls":18},{"$f":"Tabla13[[#This Row],[Título del contrato]]&Tabla13[[#This Row],[Nº Expediente de la plataforma de contratación]]","v":{"$error":"#VALUE!"}},{"$f":"Tabla13[[#This Row],[Nº Expediente de la plataforma de contratación]]","v":{"$error":"#VALUE!"}},{"$f":"Tabla13[[#This Row],[Importe IVA ]]","v":{"$error":"#VALUE!"}},{"$f":"Tabla13[[#This Row],[Importe de adjudicación (IVA INCLUIDO)]]","v":{"$error":"#VALUE!"}}]
[{"$nulls":18},{"$f":"Tabla13[[#This Row],[Título del contrato]]&Tabla13[[#This Row],[Nº Expediente de la plataforma de contratación]]","v":{"$error":"#VALUE!"}},{"$f":"Tabla13[[#This Row],[Nº Expediente de la plataforma de contratación]]","v":{"$error":"#VALUE!"}},{"$f":"Tabla13[[#This Row],[Importe IVA ]]","v":{"$error":"#VALUE!"}},{"$f":"Tabla13[[#This Row],[Importe de adjudicación (IVA INCLUIDO)]]","v":{"$error":"#VALUE!"}}]
[{"$nulls":18},{"$f":"Tabla13[[#This Row],[Título del contrato]]&Tabla13[[#This Row],[Nº Expediente de la plataforma de contratación]]","v":{"$error":"#VALUE!"}},{"$f":"Tabla13[[#This Row],[Nº Expediente de la plataforma de contratación]]","v":{"$error":"#VALUE!"}},{"$f":"Tabla13[[#This Row],[Importe IVA ]]","v":{"$error":"#VALUE!"}},{"$f":"Tabla13[[#This Row],[Importe de adjudicación (IVA INCLUIDO)]]","v":{"$error":"#VALUE!"}}]
[{"$nulls":18},{"$f":"Tabla13[[#This Row],[Título del contrato]]&Tabla13[[#This Row],[Nº Expediente de la plataforma de contratación]]","v":{"$error":"#VALUE!"}},{"$f":"Tabla13[[#This Row],[Nº Expediente de la plataforma de contratación]]","v":{"$error":"#VALUE!"}},{"$f":"Tabla13[[#This Row],[Importe IVA ]]","v":{"$error":"#VALUE!"}},{"$f":"Tabla13[[#This Row],[Importe de adjudicación (IVA INCLUIDO)]]","v":{"$error":"#VALUE!"}}]
[{"$nulls":18},{"$f":"Tabla13[[#This Row],[Título del contrato]]&Tabla13[[#This Row],[Nº Expediente de la plataforma de contratación]]","v":{"$error":"#VALUE!"}},{"$f":"Tabla13[[#This Row],[Nº Expediente de la plataforma de contratación]]","v":{"$error":"#VALUE!"}},{"$f":"Tabla13[[#This Row],[Importe IVA ]]","v":{"$error":"#VALUE!"}},{"$f":"Tabla13[[#This Row],[Importe de adjudicación (IVA INCLUIDO)]]","v":{"$error":"#VALUE!"}}]
[{"$nulls":18},{"$f":"Tabla13[[#This Row],[Título del contrato]]&Tabla13[[#This Row],[Nº Expediente de la plataforma de contratación]]","v":{"$error":"#VALUE!"}},{"$f":"Tabla13[[#This Row],[Nº Expediente de la plataforma de contratación]]","v":{"$error":"#VALUE!"}},{"$f":"Tabla13[[#This Row],[Importe IVA ]]","v":{"$error":"#VALUE!"}},{"$f":"Tabla13[[#This Row],[Importe de adjudicación (IVA INCLUIDO)]]","v":{"$error":"#VALUE!"}}]
[{"$nulls":18},{"$f":"Tabla13[[#This Row],[Título del contrato]]&Tabla13[[#This Row],[Nº Expediente de la plataforma de contratación]]","v":{"$error":"#VALUE!"}},{"$f":"Tabla13[[#This Row],[Nº Expediente de la plataforma de contratación]]","v":{"$error":"#VALUE!"}},{"$f":"Tabla13[[#This Row],[Importe IVA ]]","v":{"$error":"#VALUE!"}},{"$f":"Tabla13[[#This Row],[Importe de adjudicación (IVA INCLUIDO)]]","v":{"$error":"#VALUE!"}}]
[{"$nulls":18},{"$f":"Tabla13[[#This Row],[Título del contrato]]&Tabla13[[#This Row],[Nº Expediente de la plataforma de contratación]]","v":{"$error":"#VALUE!"}},{"$f":"Tabla13[[#This Row],[Nº Expediente de la plataforma de contratación]]","v":{"$error":"#VALUE!"}},{"$f":"Tabla13[[#This Row],[Importe IVA ]]","v":{"$error":"#VALUE!"}},{"$f":"Tabla13[[#This Row],[Importe de adjudicación (IVA INCLUIDO)]]","v":{"$error":"#VALUE!"}}]
[{"$nulls":18},{"$f":"Tabla13[[#This Row],[Título del contrato]]&Tabla13[[#This Row],[Nº Expediente de la plataforma de contratación]]","v":{"$error":"#VALUE!"}},{"$f":"Tabla13[[#This Row],[Nº Expediente de la plataforma de contratación]]","v":{"$error":"#VALUE!"}},{"$f":"Tabla13[[#This Row],[Importe IVA ]]","v":{"$error":"#VALUE!"}},{"$f":"Tabla13[[#This Row],[Importe de adjudicación (IVA INCLUIDO)]]","v":{"$error":"#VALUE!"}}]
[{"$nulls":18},{"$f":"Tabla13[[#This Row],[Título del contrato]]&Tabla13[[#This Row],[Nº Expediente de la plataforma de contratación]]","v":{"$error":"#VALUE!"}},{"$f":"Tabla13[[#This Row],[Nº Expediente de la plataforma de contratación]]","v":{"$error":"#VALUE!"}},{"$f":"Tabla13[[#This Row],[Importe IVA ]]","v":{"$error":"#VALUE!"}},{"$f":"Tabla13[[#This Row],[Importe de adjudicación (IVA INCLUIDO)]]","v":{"$error":"#VALUE!"}}]
[{"$nulls":18},{"$f":"Tabla13[[#This Row],[Título del contrato]]&Tabla13[[#This Row],[Nº Expediente de la plataforma de contratación]]","v":{"$error":"#VALUE!"}},{"$f":"Tabla13[[#This Row],[Nº Expediente de la plataforma de contratación]]","v":{"$error":"#VALUE!"}},{"$f":"Tabla13[[#This Row],[Importe IVA ]]","v":{"$error":"#VALUE!"}},{"$f":"Tabla13[[#This Row],[Importe de adjudicación (IVA INCLUIDO)]]","v":{"$error":"#VALUE!"}}]
[{"$nulls":18},{"$f":"Tabla13[[#This Row],[Título del contrato]]&Tabla13[[#This Row],[Nº Expediente de la plataforma de contratación]]","v":{"$error":"#VALUE!"}},{"$f":"Tabla13[[#This Row],[Nº Expediente de la plataforma de contratación]]","v":{"$error":"#VALUE!"}},{"$f":"Tabla13[[#This Row],[Importe IVA ]]","v":{"$error":"#VALUE!"}},{"$f":"Tabla13[[#This Row],[Importe de adjudicación (IVA INCLUIDO)]]","v":{"$error":"#VALUE!"}}]
[{"$nulls":18},{"$f":"Tabla13[[#This Row],[Título del contrato]]&Tabla13[[#This Row],[Nº Expediente de la plataforma de contratación]]","v":{"$error":"#VALUE!"}},{"$f":"Tabla13[[#This Row],[Nº Expediente de la plataforma de contratación]]","v":{"$error":"#VALUE!"}},{"$f":"Tabla13[[#This Row],[Importe IVA ]]","v":{"$error":"#VALUE!"}},{"$f":"Tabla13[[#This Row],[Importe de adjudicación (IVA INCLUIDO)]]","v":{"$error":"#VALUE!"}}]
[{"$nulls":18},{"$f":"Tabla13[[#This Row],[Título del contrato]]&Tabla13[[#This Row],[Nº Expediente de la plataforma de contratación]]","v":{"$error":"#VALUE!"}},{"$f":"Tabla13[[#This Row],[Nº Expediente de la plataforma de contratación]]","v":{"$error":"#VALUE!"}},{"$f":"Tabla13[[#This Row],[Importe IVA ]]","v":{"$error":"#VALUE!"}},{"$f":"Tabla13[[#This Row],[Importe de adjudicación (IVA INCLUIDO)]]","v":{"$error":"#VALUE!"}}]
[{"$nulls":18},{"$f":"Tabla13[[#This Row],[Título del contrato]]&Tabla13[[#This Row],[Nº Expediente de la plataforma de contratación]]","v":{"$error":"#VALUE!"}},{"$f":"Tabla13[[#This Row],[Nº Expediente de la plataforma de contratación]]","v":{"$error":"#VALUE!"}},{"$f":"Tabla13[[#This Row],[Importe IVA ]]","v":{"$error":"#VALUE!"}},{"$f":"Tabla13[[#This Row],[Importe de adjudicación (IVA INCLUIDO)]]","v":{"$error":"#VALUE!"}}]
[{"$nulls":18},{"$f":"Tabla13[[#This Row],[Título del contrato]]&Tabla13[[#This Row],[Nº Expediente de la plataforma de contratación]]","v":{"$error":"#VALUE!"}},{"$f":"Tabla13[[#This Row],[Nº Expediente de la plataforma de contratación]]","v":{"$error":"#VALUE!"}},{"$f":"Tabla13[[#This Row],[Importe IVA ]]","v":{"$error":"#VALUE!"}},{"$f":"Tabla13[[#This Row],[Importe de adjudicación (IVA INCLUIDO)]]","v":{"$error":"#VALUE!"}}]
[{"$nulls":18},{"$f":"Tabla13[[#This Row],[Título del contrato]]&Tabla13[[#This Row],[Nº Expediente de la plataforma de contratación]]","v":{"$error":"#VALUE!"}},{"$f":"Tabla13[[#This Row],[Nº Expediente de la plataforma de contratación]]","v":{"$error":"#VALUE!"}},{"$f":"Tabla13[[#This Row],[Importe IVA ]]","v":{"$error":"#VALUE!"}},{"$f":"Tabla13[[#This Row],[Importe de adjudicación (IVA INCLUIDO)]]","v":{"$error":"#VALUE!"}}]
[{"$nulls":18},{"$f":"Tabla13[[#This Row],[Título del contrato]]&Tabla13[[#This Row],[Nº Expediente de la plataforma de contratación]]","v":{"$error":"#VALUE!"}},{"$f":"Tabla13[[#This Row],[Nº Expediente de la plataforma de contratación]]","v":{"$error":"#VALUE!"}},{"$f":"Tabla13[[#This Row],[Importe IVA ]]","v":{"$error":"#VALUE!"}},{"$f":"Tabla13[[#This Row],[Importe de adjudicación (IVA INCLUIDO)]]","v":{"$error":"#VALUE!"}}]
[{"$nulls":18},{"$f":"Tabla13[[#This Row],[Título del contrato]]&Tabla13[[#This Row],[Nº Expediente de la plataforma de contratación]]","v":{"$error":"#VALUE!"}},{"$f":"Tabla13[[#This Row],[Nº Expediente de la plataforma de contratación]]","v":{"$error":"#VALUE!"}},{"$f":"Tabla13[[#This Row],[Importe IVA ]]","v":{"$error":"#VALUE!"}},{"$f":"Tabla13[[#This Row],[Importe de adjudicación (IVA INCLUIDO)]]","v":{"$error":"#VALUE!"}}]
[{"$nulls":18},{"$f":"Tabla13[[#This Row],[Título del contrato]]&Tabla13[[#This Row],[Nº Expediente de la plataforma de contratación]]","v":{"$error":"#VALUE!"}},{"$f":"Tabla13[[#This Row],[Nº Expediente de la plataforma de contratación]]","v":{"$error":"#VALUE!"}},{"$f":"Tabla13[[#This Row],[Importe IVA ]]","v":{"$error":"#VALUE!"}},{"$f":"Tabla13[[#This Row],[Importe de adjudicación (IVA INCLUIDO)]]","v":{"$error":"#VALUE!"}}]
[{"$nulls":18},{"$f":"Tabla13[[#This Row],[Título del contrato]]&Tabla13[[#This Row],[Nº Expediente de la plataforma de contratación]]","v":{"$error":"#VALUE!"}},{"$f":"Tabla13[[#This Row],[Nº Expediente de la plataforma de contratación]]","v":{"$error":"#VALUE!"}},{"$f":"Tabla13[[#This Row],[Importe IVA ]]","v":{"$error":"#VALUE!"}},{"$f":"Tabla13[[#This Row],[Importe de adjudicación (IVA INCLUIDO)]]","v":{"$error":"#VALUE!"}}]
[{"$nulls":18},{"$f":"Tabla13[[#This Row],[Título del contrato]]&Tabla13[[#This Row],[Nº Expediente de la plataforma de contratación]]","v":{"$error":"#VALUE!"}},{"$f":"Tabla13[[#This Row],[Nº Expediente de la plataforma de contratación]]","v":{"$error":"#VALUE!"}},{"$f":"Tabla13[[#This Row],[Importe IVA ]]","v":{"$error":"#VALUE!"}},{"$f":"Tabla13[[#This Row],[Importe de adjudicación (IVA INCLUIDO)]]","v":{"$error":"#VALUE!"}}]
[{"$nulls":18},{"$f":"Tabla13[[#This Row],[Título del contrato]]&Tabla13[[#This Row],[Nº Expediente de la plataforma de contratación]]","v":{"$error":"#VALUE!"}},{"$f":"Tabla13[[#This Row],[Nº Expediente de la plataforma de contratación]]","v":{"$error":"#VALUE!"}},{"$f":"Tabla13[[#This Row],[Importe IVA ]]","v":{"$error":"#VALUE!"}},{"$f":"Tabla13[[#This Row],[Importe de adjudicación (IVA INCLUIDO)]]","v":{"$error":"#VALUE!"}}]
[{"$nulls":18},{"$f":"Tabla13[[#This Row],[Título del contrato]]&Tabla13[[#This Row],[Nº Expediente de la plataforma de contratación]]","v":{"$error":"#VALUE!"}},{"$f":"Tabla13[[#This Row],[Nº Expediente de la plataforma de contratación]]","v":{"$error":"#VALUE!"}},{"$f":"Tabla13[[#This Row],[Importe IVA ]]","v":{"$error":"#VALUE!"}},{"$f":"Tabla13[[#This Row],[Importe de adjudicación (IVA INCLUIDO)]]","v":{"$error":"#VALUE!"}}]
[{"$nulls":18},{"$f":"Tabla13[[#This Row],[Título del contrato]]&Tabla13[[#This Row],[Nº Expediente de la plataforma de contratación]]","v":{"$error":"#VALUE!"}},{"$f":"Tabla13[[#This Row],[Nº Expediente de la plataforma de contratación]]","v":{"$error":"#VALUE!"}},{"$f":"Tabla13[[#This Row],[Importe IVA ]]","v":{"$error":"#VALUE!"}},{"$f":"Tabla13[[#This Row],[Importe de adjudicación (IVA INCLUIDO)]]","v":{"$error":"#VALUE!"}}]
[{"$nulls":18},{"$f":"Tabla13[[#This Row],[Título del contrato]]&Tabla13[[#This Row],[Nº Expediente de la plataforma de contratación]]","v":{"$error":"#VALUE!"}},{"$f":"Tabla13[[#This Row],[Nº Expediente de la plataforma de contratación]]","v":{"$error":"#VALUE!"}},{"$f":"Tabla13[[#This Row],[Importe IVA ]]","v":{"$error":"#VALUE!"}},{"$f":"Tabla13[[#This Row],[Importe de adjudicación (IVA INCLUIDO)]]","v":{"$error":"#VALUE!"}}]
[{"$nulls":18},{"$f":"Tabla13[[#This Row],[Título del contrato]]&Tabla13[[#This Row],[Nº Expediente de la plataforma de contratación]]","v":{"$error":"#VALUE!"}},{"$f":"Tabla13[[#This Row],[Nº Expediente de la plataforma de contratación]]","v":{"$error":"#VALUE!"}},{"$f":"Tabla13[[#This Row],[Importe IVA ]]","v":{"$error":"#VALUE!"}},{"$f":"Tabla13[[#This Row],[Importe de adjudicación (IVA INCLUIDO)]]","v":{"$error":"#VALUE!"}}]
[{"$nulls":18},{"$f":"Tabla13[[#This Row],[Título del contrato]]&Tabla13[[#This Row],[Nº Expediente de la plataforma de contratación]]","v":{"$error":"#VALUE!"}},{"$f":"Tabla13[[#This Row],[Nº Expediente de la plataforma de contratación]]","v":{"$error":"#VALUE!"}},{"$f":"Tabla13[[#This Row],[Importe IVA ]]","v":{"$error":"#VALUE!"}},{"$f":"Tabla13[[#This Row],[Importe de adjudicación (IVA INCLUIDO)]]","v":{"$error":"#VALUE!"}}]
[{"$nulls":18},{"$f":"Tabla13[[#This Row],[Título del contrato]]&Tabla13[[#This Row],[Nº Expediente de la plataforma de contratación]]","v":{"$error":"#VALUE!"}},{"$f":"Tabla13[[#This Row],[Nº Expediente de la plataforma de contratación]]","v":{"$error":"#VALUE!"}},{"$f":"Tabla13[[#This Row],[Importe IVA ]]","v":{"$error":"#VALUE!"}},{"$f":"Tabla13[[#This Row],[Importe de adjudicación (IVA INCLUIDO)]]","v":{"$error":"#VALUE!"}}]
[{"$nulls":18},{"$f":"Tabla13[[#This Row],[Título del contrato]]&Tabla13[[#This Row],[Nº Expediente de la plataforma de contratación]]","v":{"$error":"#VALUE!"}},{"$f":"Tabla13[[#This Row],[Nº Expediente de la plataforma de contratación]]","v":{"$error":"#VALUE!"}},{"$f":"Tabla13[[#This Row],[Importe IVA ]]","v":{"$error":"#VALUE!"}},{"$f":"Tabla13[[#This Row],[Importe de adjudicación (IVA INCLUIDO)]]","v":{"$error":"#VALUE!"}}]
[{"$nulls":18},{"$f":"Tabla13[[#This Row],[Título del contrato]]&Tabla13[[#This Row],[Nº Expediente de la plataforma de contratación]]","v":{"$error":"#VALUE!"}},{"$f":"Tabla13[[#This Row],[Nº Expediente de la plataforma de contratación]]","v":{"$error":"#VALUE!"}},{"$f":"Tabla13[[#This Row],[Importe IVA ]]","v":{"$error":"#VALUE!"}},{"$f":"Tabla13[[#This Row],[Importe de adjudicación (IVA INCLUIDO)]]","v":{"$error":"#VALUE!"}}]
[{"$nulls":18},{"$f":"Tabla13[[#This Row],[Título del contrato]]&Tabla13[[#This Row],[Nº Expediente de la plataforma de contratación]]","v":{"$error":"#VALUE!"}},{"$f":"Tabla13[[#This Row],[Nº Expediente de la plataforma de contratación]]","v":{"$error":"#VALUE!"}},{"$f":"Tabla13[[#This Row],[Importe IVA ]]","v":{"$error":"#VALUE!"}},{"$f":"Tabla13[[#This Row],[Importe de adjudicación (IVA INCLUIDO)]]","v":{"$error":"#VALUE!"}}]
[{"$nulls":18},{"$f":"Tabla13[[#This Row],[Título del contrato]]&Tabla13[[#This Row],[Nº Expediente de la plataforma de contratación]]","v":{"$error":"#VALUE!"}},{"$f":"Tabla13[[#This Row],[Nº Expediente de la plataforma de contratación]]","v":{"$error":"#VALUE!"}},{"$f":"Tabla13[[#This Row],[Importe IVA ]]","v":{"$error":"#VALUE!"}},{"$f":"Tabla13[[#This Row],[Importe de adjudicación (IVA INCLUIDO)]]","v":{"$error":"#VALUE!"}}]
[{"$nulls":18},{"$f":"Tabla13[[#This Row],[Título del contrato]]&Tabla13[[#This Row],[Nº Expediente de la plataforma de contratación]]","v":{"$error":"#VALUE!"}},{"$f":"Tabla13[[#This Row],[Nº Expediente de la plataforma de contratación]]","v":{"$error":"#VALUE!"}},{"$f":"Tabla13[[#This Row],[Importe IVA ]]","v":{"$error":"#VALUE!"}},{"$f":"Tabla13[[#This Row],[Importe de adjudicación (IVA INCLUIDO)]]","v":{"$error":"#VALUE!"}}]
[{"$nulls":18},{"$f":"Tabla13[[#This Row],[Título del contrato]]&Tabla13[[#This Row],[Nº Expediente de la plataforma de contratación]]","v":{"$error":"#VALUE!"}},{"$f":"Tabla13[[#This Row],[Nº Expediente de la plataforma de contratación]]","v":{"$error":"#VALUE!"}},{"$f":"Tabla13[[#This Row],[Importe IVA ]]","v":{"$error":"#VALUE!"}},{"$f":"Tabla13[[#This Row],[Importe de adjudicación (IVA INCLUIDO)]]","v":{"$error":"#VALUE!"}}]
[{"$nulls":18},{"$f":"Tabla13[[#This Row],[Título del contrato]]&Tabla13[[#This Row],[Nº Expediente de la plataforma de contratación]]","v":{"$error":"#VALUE!"}},{"$f":"Tabla13[[#This Row],[Nº Expediente de la plataforma de contratación]]","v":{"$error":"#VALUE!"}},{"$f":"Tabla13[[#This Row],[Importe IVA ]]","v":{"$error":"#VALUE!"}},{"$f":"Tabla13[[#This Row],[Importe de adjudicación (IVA INCLUIDO)]]","v":{"$error":"#VALUE!"}}]
[{"$nulls":18},{"$f":"Tabla13[[#This Row],[Título del contrato]]&Tabla13[[#This Row],[Nº Expediente de la plataforma de contratación]]","v":{"$error":"#VALUE!"}},{"$f":"Tabla13[[#This Row],[Nº Expediente de la plataforma de contratación]]","v":{"$error":"#VALUE!"}},{"$f":"Tabla13[[#This Row],[Importe IVA ]]","v":{"$error":"#VALUE!"}},{"$f":"Tabla13[[#This Row],[Importe de adjudicación (IVA INCLUIDO)]]","v":{"$error":"#VALUE!"}}]
[{"$nulls":18},{"$f":"Tabla13[[#This Row],[Título del contrato]]&Tabla13[[#This Row],[Nº Expediente de la plataforma de contratación]]","v":{"$error":"#VALUE!"}},{"$f":"Tabla13[[#This Row],[Nº Expediente de la plataforma de contratación]]","v":{"$error":"#VALUE!"}},{"$f":"Tabla13[[#This Row],[Importe IVA ]]","v":{"$error":"#VALUE!"}},{"$f":"Tabla13[[#This Row],[Importe de adjudicación (IVA INCLUIDO)]]","v":{"$error":"#VALUE!"}}]
[{"$nulls":18},{"$f":"Tabla13[[#This Row],[Título del contrato]]&Tabla13[[#This Row],[Nº Expediente de la plataforma de contratación]]","v":{"$error":"#VALUE!"}},{"$f":"Tabla13[[#This Row],[Nº Expediente de la plataforma de contratación]]","v":{"$error":"#VALUE!"}},{"$f":"Tabla13[[#This Row],[Importe IVA ]]","v":{"$error":"#VALUE!"}},{"$f":"Tabla13[[#This Row],[Importe de adjudicación (IVA INCLUIDO)]]","v":{"$error":"#VALUE!"}}]
[{"$nulls":18},{"$f":"Tabla13[[#This Row],[Título del contrato]]&Tabla13[[#This Row],[Nº Expediente de la plataforma de contratación]]","v":{"$error":"#VALUE!"}},{"$f":"Tabla13[[#This Row],[Nº Expediente de la plataforma de contratación]]","v":{"$error":"#VALUE!"}},{"$f":"Tabla13[[#This Row],[Importe IVA ]]","v":{"$error":"#VALUE!"}},{"$f":"Tabla13[[#This Row],[Importe de adjudicación (IVA INCLUIDO)]]","v":{"$error":"#VALUE!"}}]
[{"$nulls":18},{"$f":"Tabla13[[#This Row],[Título del contrato]]&Tabla13[[#This Row],[Nº Expediente de la plataforma de contratación]]","v":{"$error":"#VALUE!"}},{"$f":"Tabla13[[#This Row],[Nº Expediente de la plataforma de contratación]]","v":{"$error":"#VALUE!"}},{"$f":"Tabla13[[#This Row],[Importe IVA ]]","v":{"$error":"#VALUE!"}},{"$f":"Tabla13[[#This Row],[Importe de adjudicación (IVA INCLUIDO)]]","v":{"$error":"#VALUE!"}}]
[{"$nulls":18},{"$f":"Tabla13[[#This Row],[Título del contrato]]&Tabla13[[#This Row],[Nº Expediente de la plataforma de contratación]]","v":{"$error":"#VALUE!"}},{"$f":"Tabla13[[#This Row],[Nº Expediente de la plataforma de contratación]]","v":{"$error":"#VALUE!"}},{"$f":"Tabla13[[#This Row],[Importe IVA ]]","v":{"$error":"#VALUE!"}},{"$f":"Tabla13[[#This Row],[Importe de adjudicación (IVA INCLUIDO)]]","v":{"$error":"#VALUE!"}}]
[{"$nulls":18},{"$f":"Tabla13[[#This Row],[Título del contrato]]&Tabla13[[#This Row],[Nº Expediente de la plataforma de contratación]]","v":{"$error":"#VALUE!"}},{"$f":"Tabla13[[#This Row],[Nº Expediente de la plataforma de contratación]]","v":{"$error":"#VALUE!"}},{"$f":"Tabla13[[#This Row],[Importe IVA ]]","v":{"$error":"#VALUE!"}},{"$f":"Tabla13[[#This Row],[Importe de adjudicación (IVA INCLUIDO)]]","v":{"$error":"#VALUE!"}}]
[{"$nulls":18},{"$f":"Tabla13[[#This Row],[Título del contrato]]&Tabla13[[#This Row],[Nº Expediente de la plataforma de contratación]]","v":{"$error":"#VALUE!"}},{"$f":"Tabla13[[#This Row],[Nº Expediente de la plataforma de contratación]]","v":{"$error":"#VALUE!"}},{"$f":"Tabla13[[#This Row],[Importe IVA ]]","v":{"$error":"#VALUE!"}},{"$f":"Tabla13[[#This Row],[Importe de adjudicación (IVA INCLUIDO)]]","v":{"$error":"#VALUE!"}}]
[{"$nulls":18},{"$f":"Tabla13[[#This Row],[Título del contrato]]&Tabla13[[#This Row],[Nº Expediente de la plataforma de contratación]]","v":{"$error":"#VALUE!"}},{"$f":"Tabla13[[#This Row],[Nº Expediente de la plataforma de contratación]]","v":{"$error":"#VALUE!"}},{"$f":"Tabla13[[#This Row],[Importe IVA ]]","v":{"$error":"#VALUE!"}},{"$f":"Tabla13[[#This Row],[Importe de adjudicación (IVA INCLUIDO)]]","v":{"$error":"#VALUE!"}}]
[{"$nulls":18},{"$f":"Tabla13[[#This Row],[Título del contrato]]&Tabla13[[#This Row],[Nº Expediente de la plataforma de contratación]]","v":{"$error":"#VALUE!"}},{"$f":"Tabla13[[#This Row],[Nº Expediente de la plataforma de contratación]]","v":{"$error":"#VALUE!"}},{"$f":"Tabla13[[#This Row],[Importe IVA ]]","v":{"$error":"#VALUE!"}},{"$f":"Tabla13[[#This Row],[Importe de adjudicación (IVA INCLUIDO)]]","v":{"$error":"#VALUE!"}}]
[{"$nulls":18},{"$f":"Tabla13[[#This Row],[Título del contrato]]&Tabla13[[#This Row],[Nº Expediente de la plataforma de contratación]]","v":{"$error":"#VALUE!"}},{"$f":"Tabla13[[#This Row],[Nº Expediente de la plataforma de contratación]]","v":{"$error":"#VALUE!"}},{"$f":"Tabla13[[#This Row],[Importe IVA ]]","v":{"$error":"#VALUE!"}},{"$f":"Tabla13[[#This Row],[Importe de adjudicación (IVA INCLUIDO)]]","v":{"$error":"#VALUE!"}}]
[{"$nulls":18},{"$f":"Tabla13[[#This Row],[Título del contrato]]&Tabla13[[#This Row],[Nº Expediente de la plataforma de contratación]]","v":{"$error":"#VALUE!"}},{"$f":"Tabla13[[#This Row],[Nº Expediente de la plataforma de contratación]]","v":{"$error":"#VALUE!"}},{"$f":"Tabla13[[#This Row],[Importe IVA ]]","v":{"$error":"#VALUE!"}},{"$f":"Tabla13[[#This Row],[Importe de adjudicación (IVA INCLUIDO)]]","v":{"$error":"#VALUE!"}}]
[{"$nulls":18},{"$f":"Tabla13[[#This Row],[Título del contrato]]&Tabla13[[#This Row],[Nº Expediente de la plataforma de contratación]]","v":{"$error":"#VALUE!"}},{"$f":"Tabla13[[#This Row],[Nº Expediente de la plataforma de contratación]]","v":{"$error":"#VALUE!"}},{"$f":"Tabla13[[#This Row],[Importe IVA ]]","v":{"$error":"#VALUE!"}},{"$f":"Tabla13[[#This Row],[Importe de adjudicación (IVA INCLUIDO)]]","v":{"$error":"#VALUE!"}}]
[{"$nulls":18},{"$f":"Tabla13[[#This Row],[Título del contrato]]&Tabla13[[#This Row],[Nº Expediente de la plataforma de contratación]]","v":{"$error":"#VALUE!"}},{"$f":"Tabla13[[#This Row],[Nº Expediente de la plataforma de contratación]]","v":{"$error":"#VALUE!"}},{"$f":"Tabla13[[#This Row],[Importe IVA ]]","v":{"$error":"#VALUE!"}},{"$f":"Tabla13[[#This Row],[Importe de adjudicación (IVA INCLUIDO)]]","v":{"$error":"#VALUE!"}}]
[{"$nulls":18},{"$f":"Tabla13[[#This Row],[Título del contrato]]&Tabla13[[#This Row],[Nº Expediente de la plataforma de contratación]]","v":{"$error":"#VALUE!"}},{"$f":"Tabla13[[#This Row],[Nº Expediente de la plataforma de contratación]]","v":{"$error":"#VALUE!"}},{"$f":"Tabla13[[#This Row],[Importe IVA ]]","v":{"$error":"#VALUE!"}},{"$f":"Tabla13[[#This Row],[Importe de adjudicación (IVA INCLUIDO)]]","v":{"$error":"#VALUE!"}}]
[{"$nulls":18},{"$f":"Tabla13[[#This Row],[Título del contrato]]&Tabla13[[#This Row],[Nº Expediente de la plataforma de contratación]]","v":{"$error":"#VALUE!"}},{"$f":"Tabla13[[#This Row],[Nº Expediente de la plataforma de contratación]]","v":{"$error":"#VALUE!"}},{"$f":"Tabla13[[#This Row],[Importe IVA ]]","v":{"$error":"#VALUE!"}},{"$f":"Tabla13[[#This Row],[Importe de adjudicación (IVA INCLUIDO)]]","v":{"$error":"#VALUE!"}}]
[{"$nulls":18},{"$f":"Tabla13[[#This Row],[Título del contrato]]&Tabla13[[#This Row],[Nº Expediente de la plataforma de contratación]]","v":{"$error":"#VALUE!"}},{"$f":"Tabla13[[#This Row],[Nº Expediente de la plataforma de contratación]]","v":{"$error":"#VALUE!"}},{"$f":"Tabla13[[#This Row],[Importe IVA ]]","v":{"$error":"#VALUE!"}},{"$f":"Tabla13[[#This Row],[Importe de adjudicación (IVA INCLUIDO)]]","v":{"$error":"#VALUE!"}}]
[{"$nulls":18},{"$f":"Tabla13[[#This Row],[Título del contrato]]&Tabla13[[#This Row],[Nº Expediente de la plataforma de contratación]]","v":{"$error":"#VALUE!"}},{"$f":"Tabla13[[#This Row],[Nº Expediente de la plataforma de contratación]]","v":{"$error":"#VALUE!"}},{"$f":"Tabla13[[#This Row],[Importe IVA ]]","v":{"$error":"#VALUE!"}},{"$f":"Tabla13[[#This Row],[Importe de adjudicación (IVA INCLUIDO)]]","v":{"$error":"#VALUE!"}}]
[{"$nulls":18},{"$f":"Tabla13[[#This Row],[Título del contrato]]&Tabla13[[#This Row],[Nº Expediente de la plataforma de contratación]]","v":{"$error":"#VALUE!"}},{"$f":"Tabla13[[#This Row],[Nº Expediente de la plataforma de contratación]]","v":{"$error":"#VALUE!"}},{"$f":"Tabla13[[#This Row],[Importe IVA ]]","v":{"$error":"#VALUE!"}},{"$f":"Tabla13[[#This Row],[Importe de adjudicación (IVA INCLUIDO)]]","v":{"$error":"#VALUE!"}}]
[{"$nulls":18},{"$f":"Tabla13[[#This Row],[Título del contrato]]&Tabla13[[#This Row],[Nº Expediente de la plataforma de contratación]]","v":{"$error":"#VALUE!"}},{"$f":"Tabla13[[#This Row],[Nº Expediente de la plataforma de contratación]]","v":{"$error":"#VALUE!"}},{"$f":"Tabla13[[#This Row],[Importe IVA ]]","v":{"$error":"#VALUE!"}},{"$f":"Tabla13[[#This Row],[Importe de adjudicación (IVA INCLUIDO)]]","v":{"$error":"#VALUE!"}}]
[{"$nulls":18},{"$f":"Tabla13[[#This Row],[Título del contrato]]&Tabla13[[#This Row],[Nº Expediente de la plataforma de contratación]]","v":{"$error":"#VALUE!"}},{"$f":"Tabla13[[#This Row],[Nº Expediente de la plataforma de contratación]]","v":{"$error":"#VALUE!"}},{"$f":"Tabla13[[#This Row],[Importe IVA ]]","v":{"$error":"#VALUE!"}},{"$f":"Tabla13[[#This Row],[Importe de adjudicación (IVA INCLUIDO)]]","v":{"$error":"#VALUE!"}}]
[{"$nulls":18},{"$f":"Tabla13[[#This Row],[Título del contrato]]&Tabla13[[#This Row],[Nº Expediente de la plataforma de contratación]]","v":{"$error":"#VALUE!"}},{"$f":"Tabla13[[#This Row],[Nº Expediente de la plataforma de contratación]]","v":{"$error":"#VALUE!"}},{"$f":"Tabla13[[#This Row],[Importe IVA ]]","v":{"$error":"#VALUE!"}},{"$f":"Tabla13[[#This Row],[Importe de adjudicación (IVA INCLUIDO)]]","v":{"$error":"#VALUE!"}}]
[{"$nulls":18},{"$f":"Tabla13[[#This Row],[Título del contrato]]&Tabla13[[#This Row],[Nº Expediente de la plataforma de contratación]]","v":{"$error":"#VALUE!"}},{"$f":"Tabla13[[#This Row],[Nº Expediente de la plataforma de contratación]]","v":{"$error":"#VALUE!"}},{"$f":"Tabla13[[#This Row],[Importe IVA ]]","v":{"$error":"#VALUE!"}},{"$f":"Tabla13[[#This Row],[Importe de adjudicación (IVA INCLUIDO)]]","v":{"$error":"#VALUE!"}}]
[{"$nulls":18},{"$f":"Tabla13[[#This Row],[Título del contrato]]&Tabla13[[#This Row],[Nº Expediente de la plataforma de contratación]]","v":{"$error":"#VALUE!"}},{"$f":"Tabla13[[#This Row],[Nº Expediente de la plataforma de contratación]]","v":{"$error":"#VALUE!"}},{"$f":"Tabla13[[#This Row],[Importe IVA ]]","v":{"$error":"#VALUE!"}},{"$f":"Tabla13[[#This Row],[Importe de adjudicación (IVA INCLUIDO)]]","v":{"$error":"#VALUE!"}}]
[{"$nulls":18},{"$f":"Tabla13[[#This Row],[Título del contrato]]&Tabla13[[#This Row],[Nº Expediente de la plataforma de contratación]]","v":{"$error":"#VALUE!"}},{"$f":"Tabla13[[#This Row],[Nº Expediente de la plataforma de contratación]]","v":{"$error":"#VALUE!"}},{"$f":"Tabla13[[#This Row],[Importe IVA ]]","v":{"$error":"#VALUE!"}},{"$f":"Tabla13[[#This Row],[Importe de adjudicación (IVA INCLUIDO)]]","v":{"$error":"#VALUE!"}}]
[{"$nulls":18},{"$f":"Tabla13[[#This Row],[Título del contrato]]&Tabla13[[#This Row],[Nº Expediente de la plataforma de contratación]]","v":{"$error":"#VALUE!"}},{"$f":"Tabla13[[#This Row],[Nº Expediente de la plataforma de contratación]]","v":{"$error":"#VALUE!"}},{"$f":"Tabla13[[#This Row],[Importe IVA ]]","v":{"$error":"#VALUE!"}},{"$f":"Tabla13[[#This Row],[Importe de adjudicación (IVA INCLUIDO)]]","v":{"$error":"#VALUE!"}}]
[{"$nulls":18},{"$f":"Tabla13[[#This Row],[Título del contrato]]&Tabla13[[#This Row],[Nº Expediente de la plataforma de contratación]]","v":{"$error":"#VALUE!"}},{"$f":"Tabla13[[#This Row],[Nº Expediente de la plataforma de contratación]]","v":{"$error":"#VALUE!"}},{"$f":"Tabla13[[#This Row],[Importe IVA ]]","v":{"$error":"#VALUE!"}},{"$f":"Tabla13[[#This Row],[Importe de adjudicación (IVA INCLUIDO)]]","v":{"$error":"#VALUE!"}}]
[{"$nulls":18},{"$f":"Tabla13[[#This Row],[Título del contrato]]&Tabla13[[#This Row],[Nº Expediente de la plataforma de contratación]]","v":{"$error":"#VALUE!"}},{"$f":"Tabla13[[#This Row],[Nº Expediente de la plataforma de contratación]]","v":{"$error":"#VALUE!"}},{"$f":"Tabla13[[#This Row],[Importe IVA ]]","v":{"$error":"#VALUE!"}},{"$f":"Tabla13[[#This Row],[Importe de adjudicación (IVA INCLUIDO)]]","v":{"$error":"#VALUE!"}}]
[{"$nulls":18},{"$f":"Tabla13[[#This Row],[Título del contrato]]&Tabla13[[#This Row],[Nº Expediente de la plataforma de contratación]]","v":{"$error":"#VALUE!"}},{"$f":"Tabla13[[#This Row],[Nº Expediente de la plataforma de contratación]]","v":{"$error":"#VALUE!"}},{"$f":"Tabla13[[#This Row],[Importe IVA ]]","v":{"$error":"#VALUE!"}},{"$f":"Tabla13[[#This Row],[Importe de adjudicación (IVA INCLUIDO)]]","v":{"$error":"#VALUE!"}}]
[{"$nulls":18},{"$f":"Tabla13[[#This Row],[Título del contrato]]&Tabla13[[#This Row],[Nº Expediente de la plataforma de contratación]]","v":{"$error":"#VALUE!"}},{"$f":"Tabla13[[#This Row],[Nº Expediente de la plataforma de contratación]]","v":{"$error":"#VALUE!"}},{"$f":"Tabla13[[#This Row],[Importe IVA ]]","v":{"$error":"#VALUE!"}},{"$f":"Tabla13[[#This Row],[Importe de adjudicación (IVA INCLUIDO)]]","v":{"$error":"#VALUE!"}}]
[{"$nulls":18},{"$f":"Tabla13[[#This Row],[Título del contrato]]&Tabla13[[#This Row],[Nº Expediente de la plataforma de contratación]]","v":{"$error":"#VALUE!"}},{"$f":"Tabla13[[#This Row],[Nº Expediente de la plataforma de contratación]]","v":{"$error":"#VALUE!"}},{"$f":"Tabla13[[#This Row],[Importe IVA ]]","v":{"$error":"#VALUE!"}},{"$f":"Tabla13[[#This Row],[Importe de adjudicación (IVA INCLUIDO)]]","v":{"$error":"#VALUE!"}}]
[{"$nulls":18},{"$f":"Tabla13[[#This Row],[Título del contrato]]&Tabla13[[#This Row],[Nº Expediente de la plataforma de contratación]]","v":{"$error":"#VALUE!"}},{"$f":"Tabla13[[#This Row],[Nº Expediente de la plataforma de contratación]]","v":{"$error":"#VALUE!"}},{"$f":"Tabla13[[#This Row],[Importe IVA ]]","v":{"$error":"#VALUE!"}},{"$f":"Tabla13[[#This Row],[Importe de adjudicación (IVA INCLUIDO)]]","v":{"$error":"#VALUE!"}}]
[{"$nulls":18},{"$f":"Tabla13[[#This Row],[Título del contrato]]&Tabla13[[#This Row],[Nº Expediente de la plataforma de contratación]]","v":{"$error":"#VALUE!"}},{"$f":"Tabla13[[#This Row],[Nº Expediente de la plataforma de contratación]]","v":{"$error":"#VALUE!"}},{"$f":"Tabla13[[#This Row],[Importe IVA ]]","v":{"$error":"#VALUE!"}},{"$f":"Tabla13[[#This Row],[Importe de adjudicación (IVA INCLUIDO)]]","v":{"$error":"#VALUE!"}}]
[{"$nulls":18},{"$f":"Tabla13[[#This Row],[Título del contrato]]&Tabla13[[#This Row],[Nº Expediente de la plataforma de contratación]]","v":{"$error":"#VALUE!"}},{"$f":"Tabla13[[#This Row],[Nº Expediente de la plataforma de contratación]]","v":{"$error":"#VALUE!"}},{"$f":"Tabla13[[#This Row],[Importe IVA ]]","v":{"$error":"#VALUE!"}},{"$f":"Tabla13[[#This Row],[Importe de adjudicación (IVA INCLUIDO)]]","v":{"$error":"#VALUE!"}}]
[{"$nulls":18},{"$f":"Tabla13[[#This Row],[Título del contrato]]&Tabla13[[#This Row],[Nº Expediente de la plataforma de contratación]]","v":{"$error":"#VALUE!"}},{"$f":"Tabla13[[#This Row],[Nº Expediente de la plataforma de contratación]]","v":{"$error":"#VALUE!"}},{"$f":"Tabla13[[#This Row],[Importe IVA ]]","v":{"$error":"#VALUE!"}},{"$f":"Tabla13[[#This Row],[Importe de adjudicación (IVA INCLUIDO)]]","v":{"$error":"#VALUE!"}}]
[{"$nulls":18},{"$f":"Tabla13[[#This Row],[Título del contrato]]&Tabla13[[#This Row],[Nº Expediente de la plataforma de contratación]]","v":{"$error":"#VALUE!"}},{"$f":"Tabla13[[#This Row],[Nº Expediente de la plataforma de contratación]]","v":{"$error":"#VALUE!"}},{"$f":"Tabla13[[#This Row],[Importe IVA ]]","v":{"$error":"#VALUE!"}},{"$f":"Tabla13[[#This Row],[Importe de adjudicación (IVA INCLUIDO)]]","v":{"$error":"#VALUE!"}}]
[{"$nulls":18},{"$f":"Tabla13[[#This Row],[Título del contrato]]&Tabla13[[#This Row],[Nº Expediente de la plataforma de contratación]]","v":{"$error":"#VALUE!"}},{"$f":"Tabla13[[#This Row],[Nº Expediente de la plataforma de contratación]]","v":{"$error":"#VALUE!"}},{"$f":"Tabla13[[#This Row],[Importe IVA ]]","v":{"$error":"#VALUE!"}},{"$f":"Tabla13[[#This Row],[Importe de adjudicación (IVA INCLUIDO)]]","v":{"$error":"#VALUE!"}}]
[{"$nulls":18},{"$f":"Tabla13[[#This Row],[Título del contrato]]&Tabla13[[#This Row],[Nº Expediente de la plataforma de contratación]]","v":{"$error":"#VALUE!"}},{"$f":"Tabla13[[#This Row],[Nº Expediente de la plataforma de contratación]]","v":{"$error":"#VALUE!"}},{"$f":"Tabla13[[#This Row],[Importe IVA ]]","v":{"$error":"#VALUE!"}},{"$f":"Tabla13[[#This Row],[Importe de adjudicación (IVA INCLUIDO)]]","v":{"$error":"#VALUE!"}}]
[{"$nulls":18},{"$f":"Tabla13[[#This Row],[Título del contrato]]&Tabla13[[#This Row],[Nº Expediente de la plataforma de contratación]]","v":{"$error":"#VALUE!"}},{"$f":"Tabla13[[#This Row],[Nº Expediente de la plataforma de contratación]]","v":{"$error":"#VALUE!"}},{"$f":"Tabla13[[#This Row],[Importe IVA ]]","v":{"$error":"#VALUE!"}},{"$f":"Tabla13[[#This Row],[Importe de adjudicación (IVA INCLUIDO)]]","v":{"$error":"#VALUE!"}}]
[{"$nulls":18},{"$f":"Tabla13[[#This Row],[Título del contrato]]&Tabla13[[#This Row],[Nº Expediente de la plataforma de contratación]]","v":{"$error":"#VALUE!"}},{"$f":"Tabla13[[#This Row],[Nº Expediente de la plataforma de contratación]]","v":{"$error":"#VALUE!"}},{"$f":"Tabla13[[#This Row],[Importe IVA ]]","v":{"$error":"#VALUE!"}},{"$f":"Tabla13[[#This Row],[Importe de adjudicación (IVA INCLUIDO)]]","v":{"$error":"#VALUE!"}}]
[{"$nulls":18},{"$f":"Tabla13[[#This Row],[Título del contrato]]&Tabla13[[#This Row],[Nº Expediente de la plataforma de contratación]]","v":{"$error":"#VALUE!"}},{"$f":"Tabla13[[#This Row],[Nº Expediente de la plataforma de contratación]]","v":{"$error":"#VALUE!"}},{"$f":"Tabla13[[#This Row],[Importe IVA ]]","v":{"$error":"#VALUE!"}},{"$f":"Tabla13[[#This Row],[Importe de adjudicación (IVA INCLUIDO)]]","v":{"$error":"#VALUE!"}}]
[{"$nulls":18},{"$f":"Tabla13[[#This Row],[Título del contrato]]&Tabla13[[#This Row],[Nº Expediente de la plataforma de contratación]]","v":{"$error":"#VALUE!"}},{"$f":"Tabla13[[#This Row],[Nº Expediente de la plataforma de contratación]]","v":{"$error":"#VALUE!"}},{"$f":"Tabla13[[#This Row],[Importe IVA ]]","v":{"$error":"#VALUE!"}},{"$f":"Tabla13[[#This Row],[Importe de adjudicación (IVA INCLUIDO)]]","v":{"$error":"#VALUE!"}}]
[{"$nulls":18},{"$f":"Tabla13[[#This Row],[Título del contrato]]&Tabla13[[#This Row],[Nº Expediente de la plataforma de contratación]]","v":{"$error":"#VALUE!"}},{"$f":"Tabla13[[#This Row],[Nº Expediente de la plataforma de contratación]]","v":{"$error":"#VALUE!"}},{"$f":"Tabla13[[#This Row],[Importe IVA ]]","v":{"$error":"#VALUE!"}},{"$f":"Tabla13[[#This Row],[Importe de adjudicación (IVA INCLUIDO)]]","v":{"$error":"#VALUE!"}}]
[{"$nulls":18},{"$f":"Tabla13[[#This Row],[Título del contrato]]&Tabla13[[#This Row],[Nº Expediente de la plataforma de contratación]]","v":{"$error":"#VALUE!"}},{"$f":"Tabla13[[#This Row],[Nº Expediente de la plataforma de contratación]]","v":{"$error":"#VALUE!"}},{"$f":"Tabla13[[#This Row],[Importe IVA ]]","v":{"$error":"#VALUE!"}},{"$f":"Tabla13[[#This Row],[Importe de adjudicación (IVA INCLUIDO)]]","v":{"$error":"#VALUE!"}}]
[{"$nulls":18},{"$f":"Tabla13[[#This Row],[Título del contrato]]&Tabla13[[#This Row],[Nº Expediente de la plataforma de contratación]]","v":{"$error":"#VALUE!"}},{"$f":"Tabla13[[#This Row],[Nº Expediente de la plataforma de contratación]]","v":{"$error":"#VALUE!"}},{"$f":"Tabla13[[#This Row],[Importe IVA ]]","v":{"$error":"#VALUE!"}},{"$f":"Tabla13[[#This Row],[Importe de adjudicación (IVA INCLUIDO)]]","v":{"$error":"#VALUE!"}}]
[{"$nulls":18},{"$f":"Tabla13[[#This Row],[Título del contrato]]&Tabla13[[#This Row],[Nº Expediente de la plataforma de contratación]]","v":{"$error":"#VALUE!"}},{"$f":"Tabla13[[#This Row],[Nº Expediente de la plataforma de contratación]]","v":{"$error":"#VALUE!"}},{"$f":"Tabla13[[#This Row],[Importe IVA ]]","v":{"$error":"#VALUE!"}},{"$f":"Tabla13[[#This Row],[Importe de adjudicación (IVA INCLUIDO)]]","v":{"$error":"#VALUE!"}}]
[{"$nulls":18},{"$f":"Tabla13[[#This Row],[Título del contrato]]&Tabla13[[#This Row],[Nº Expediente de la plataforma de contratación]]","v":{"$error":"#VALUE!"}},{"$f":"Tabla13[[#This Row],[Nº Expediente de la plataforma de contratación]]","v":{"$error":"#VALUE!"}},{"$f":"Tabla13[[#This Row],[Importe IVA ]]","v":{"$error":"#VALUE!"}},{"$f":"Tabla13[[#This Row],[Importe de adjudicación (IVA INCLUIDO)]]","v":{"$error":"#VALUE!"}}]
[{"$nulls":18},{"$f":"Tabla13[[#This Row],[Título del contrato]]&Tabla13[[#This Row],[Nº Expediente de la plataforma de contratación]]","v":{"$error":"#VALUE!"}},{"$f":"Tabla13[[#This Row],[Nº Expediente de la plataforma de contratación]]","v":{"$error":"#VALUE!"}},{"$f":"Tabla13[[#This Row],[Importe IVA ]]","v":{"$error":"#VALUE!"}},{"$f":"Tabla13[[#This Row],[Importe de adjudicación (IVA INCLUIDO)]]","v":{"$error":"#VALUE!"}}]
[{"$nulls":18},{"$f":"Tabla13[[#This Row],[Título del contrato]]&Tabla13[[#This Row],[Nº Expediente de la plataforma de contratación]]","v":{"$error":"#VALUE!"}},{"$f":"Tabla13[[#This Row],[Nº Expediente de la plataforma de contratación]]","v":{"$error":"#VALUE!"}},{"$f":"Tabla13[[#This Row],[Importe IVA ]]","v":{"$error":"#VALUE!"}},{"$f":"Tabla13[[#This Row],[Importe de adjudicación (IVA INCLUIDO)]]","v":{"$error":"#VALUE!"}}]
[{"$nulls":18},{"$f":"Tabla13[[#This Row],[Título del contrato]]&Tabla13[[#This Row],[Nº Expediente de la plataforma de contratación]]","v":{"$error":"#VALUE!"}},{"$f":"Tabla13[[#This Row],[Nº Expediente de la plataforma de contratación]]","v":{"$error":"#VALUE!"}},{"$f":"Tabla13[[#This Row],[Importe IVA ]]","v":{"$error":"#VALUE!"}},{"$f":"Tabla13[[#This Row],[Importe de adjudicación (IVA INCLUIDO)]]","v":{"$error":"#VALUE!"}}]
[{"$nulls":18},{"$f":"Tabla13[[#This Row],[Título del contrato]]&Tabla13[[#This Row],[Nº Expediente de la plataforma de contratación]]","v":{"$error":"#VALUE!"}},{"$f":"Tabla13[[#This Row],[Nº Expediente de la plataforma de contratación]]","v":{"$error":"#VALUE!"}},{"$f":"Tabla13[[#This Row],[Importe IVA ]]","v":{"$error":"#VALUE!"}},{"$f":"Tabla13[[#This Row],[Importe de adjudicación (IVA INCLUIDO)]]","v":{"$error":"#VALUE!"}}]
[{"$nulls":18},{"$f":"Tabla13[[#This Row],[Título del contrato]]&Tabla13[[#This Row],[Nº Expediente de la plataforma de contratación]]","v":{"$error":"#VALUE!"}},{"$f":"Tabla13[[#This Row],[Nº Expediente de la plataforma de contratación]]","v":{"$error":"#VALUE!"}},{"$f":"Tabla13[[#This Row],[Importe IVA ]]","v":{"$error":"#VALUE!"}},{"$f":"Tabla13[[#This Row],[Importe de adjudicación (IVA INCLUIDO)]]","v":{"$error":"#VALUE!"}}]
[{"$nulls":18},{"$f":"Tabla13[[#This Row],[Título del contrato]]&Tabla13[[#This Row],[Nº Expediente de la plataforma de contratación]]","v":{"$error":"#VALUE!"}},{"$f":"Tabla13[[#This Row],[Nº Expediente de la plataforma de contratación]]","v":{"$error":"#VALUE!"}},{"$f":"Tabla13[[#This Row],[Importe IVA ]]","v":{"$error":"#VALUE!"}},{"$f":"Tabla13[[#This Row],[Importe de adjudicación (IVA INCLUIDO)]]","v":{"$error":"#VALUE!"}}]
[{"$nulls":18},{"$f":"Tabla13[[#This Row],[Título del contrato]]&Tabla13[[#This Row],[Nº Expediente de la plataforma de contratación]]","v":{"$error":"#VALUE!"}},{"$f":"Tabla13[[#This Row],[Nº Expediente de la plataforma de contratación]]","v":{"$error":"#VALUE!"}},{"$f":"Tabla13[[#This Row],[Importe IVA ]]","v":{"$error":"#VALUE!"}},{"$f":"Tabla13[[#This Row],[Importe de adjudicación (IVA INCLUIDO)]]","v":{"$error":"#VALUE!"}}]
[{"$nulls":18},{"$f":"Tabla13[[#This Row],[Título del contrato]]&Tabla13[[#This Row],[Nº Expediente de la plataforma de contratación]]","v":{"$error":"#VALUE!"}},{"$f":"Tabla13[[#This Row],[Nº Expediente de la plataforma de contratación]]","v":{"$error":"#VALUE!"}},{"$f":"Tabla13[[#This Row],[Importe IVA ]]","v":{"$error":"#VALUE!"}},{"$f":"Tabla13[[#This Row],[Importe de adjudicación (IVA INCLUIDO)]]","v":{"$error":"#VALUE!"}}]
[{"$nulls":18},{"$f":"Tabla13[[#This Row],[Título del contrato]]&Tabla13[[#This Row],[Nº Expediente de la plataforma de contratación]]","v":{"$error":"#VALUE!"}},{"$f":"Tabla13[[#This Row],[Nº Expediente de la plataforma de contratación]]","v":{"$error":"#VALUE!"}},{"$f":"Tabla13[[#This Row],[Importe IVA ]]","v":{"$error":"#VALUE!"}},{"$f":"Tabla13[[#This Row],[Importe de adjudicación (IVA INCLUIDO)]]","v":{"$error":"#VALUE!"}}]
[{"$nulls":18},{"$f":"Tabla13[[#This Row],[Título del contrato]]&Tabla13[[#This Row],[Nº Expediente de la plataforma de contratación]]","v":{"$error":"#VALUE!"}},{"$f":"Tabla13[[#This Row],[Nº Expediente de la plataforma de contratación]]","v":{"$error":"#VALUE!"}},{"$f":"Tabla13[[#This Row],[Importe IVA ]]","v":{"$error":"#VALUE!"}},{"$f":"Tabla13[[#This Row],[Importe de adjudicación (IVA INCLUIDO)]]","v":{"$error":"#VALUE!"}}]
[{"$nulls":18},{"$f":"Tabla13[[#This Row],[Título del contrato]]&Tabla13[[#This Row],[Nº Expediente de la plataforma de contratación]]","v":{"$error":"#VALUE!"}},{"$f":"Tabla13[[#This Row],[Nº Expediente de la plataforma de contratación]]","v":{"$error":"#VALUE!"}},{"$f":"Tabla13[[#This Row],[Importe IVA ]]","v":{"$error":"#VALUE!"}},{"$f":"Tabla13[[#This Row],[Importe de adjudicación (IVA INCLUIDO)]]","v":{"$error":"#VALUE!"}}]
[{"$nulls":18},{"$f":"Tabla13[[#This Row],[Título del contrato]]&Tabla13[[#This Row],[Nº Expediente de la plataforma de contratación]]","v":{"$error":"#VALUE!"}},{"$f":"Tabla13[[#This Row],[Nº Expediente de la plataforma de contratación]]","v":{"$error":"#VALUE!"}},{"$f":"Tabla13[[#This Row],[Importe IVA ]]","v":{"$error":"#VALUE!"}},{"$f":"Tabla13[[#This Row],[Importe de adjudicación (IVA INCLUIDO)]]","v":{"$error":"#VALUE!"}}]
[{"$nulls":18},{"$f":"Tabla13[[#This Row],[Título del contrato]]&Tabla13[[#This Row],[Nº Expediente de la plataforma de contratación]]","v":{"$error":"#VALUE!"}},{"$f":"Tabla13[[#This Row],[Nº Expediente de la plataforma de contratación]]","v":{"$error":"#VALUE!"}},{"$f":"Tabla13[[#This Row],[Importe IVA ]]","v":{"$error":"#VALUE!"}},{"$f":"Tabla13[[#This Row],[Importe de adjudicación (IVA INCLUIDO)]]","v":{"$error":"#VALUE!"}}]
[{"$nulls":18},{"$f":"Tabla13[[#This Row],[Título del contrato]]&Tabla13[[#This Row],[Nº Expediente de la plataforma de contratación]]","v":{"$error":"#VALUE!"}},{"$f":"Tabla13[[#This Row],[Nº Expediente de la plataforma de contratación]]","v":{"$error":"#VALUE!"}},{"$f":"Tabla13[[#This Row],[Importe IVA ]]","v":{"$error":"#VALUE!"}},{"$f":"Tabla13[[#This Row],[Importe de adjudicación (IVA INCLUIDO)]]","v":{"$error":"#VALUE!"}}]
[{"$nulls":18},{"$f":"Tabla13[[#This Row],[Título del contrato]]&Tabla13[[#This Row],[Nº Expediente de la plataforma de contratación]]","v":{"$error":"#VALUE!"}},{"$f":"Tabla13[[#This Row],[Nº Expediente de la plataforma de contratación]]","v":{"$error":"#VALUE!"}},{"$f":"Tabla13[[#This Row],[Importe IVA ]]","v":{"$error":"#VALUE!"}},{"$f":"Tabla13[[#This Row],[Importe de adjudicación (IVA INCLUIDO)]]","v":{"$error":"#VALUE!"}}]
[{"$nulls":18},{"$f":"Tabla13[[#This Row],[Título del contrato]]&Tabla13[[#This Row],[Nº Expediente de la plataforma de contratación]]","v":{"$error":"#VALUE!"}},{"$f":"Tabla13[[#This Row],[Nº Expediente de la plataforma de contratación]]","v":{"$error":"#VALUE!"}},{"$f":"Tabla13[[#This Row],[Importe IVA ]]","v":{"$error":"#VALUE!"}},{"$f":"Tabla13[[#This Row],[Importe de adjudicación (IVA INCLUIDO)]]","v":{"$error":"#VALUE!"}}]
[{"$nulls":18},{"$f":"Tabla13[[#This Row],[Título del contrato]]&Tabla13[[#This Row],[Nº Expediente de la plataforma de contratación]]","v":{"$error":"#VALUE!"}},{"$f":"Tabla13[[#This Row],[Nº Expediente de la plataforma de contratación]]","v":{"$error":"#VALUE!"}},{"$f":"Tabla13[[#This Row],[Importe IVA ]]","v":{"$error":"#VALUE!"}},{"$f":"Tabla13[[#This Row],[Importe de adjudicación (IVA INCLUIDO)]]","v":{"$error":"#VALUE!"}}]
[{"$nulls":18},{"$f":"Tabla13[[#This Row],[Título del contrato]]&Tabla13[[#This Row],[Nº Expediente de la plataforma de contratación]]","v":{"$error":"#VALUE!"}},{"$f":"Tabla13[[#This Row],[Nº Expediente de la plataforma de contratación]]","v":{"$error":"#VALUE!"}},{"$f":"Tabla13[[#This Row],[Importe IVA ]]","v":{"$error":"#VALUE!"}},{"$f":"Tabla13[[#This Row],[Importe de adjudicación (IVA INCLUIDO)]]","v":{"$error":"#VALUE!"}}]
[{"$nulls":18},{"$f":"Tabla13[[#This Row],[Título del contrato]]&Tabla13[[#This Row],[Nº Expediente de la plataforma de contratación]]","v":{"$error":"#VALUE!"}},{"$f":"Tabla13[[#This Row],[Nº Expediente de la plataforma de contratación]]","v":{"$error":"#VALUE!"}},{"$f":"Tabla13[[#This Row],[Importe IVA ]]","v":{"$error":"#VALUE!"}},{"$f":"Tabla13[[#This Row],[Importe de adjudicación (IVA INCLUIDO)]]","v":{"$error":"#VALUE!"}}]
[{"$nulls":18},{"$f":"Tabla13[[#This Row],[Título del contrato]]&Tabla13[[#This Row],[Nº Expediente de la plataforma de contratación]]","v":{"$error":"#VALUE!"}},{"$f":"Tabla13[[#This Row],[Nº Expediente de la plataforma de contratación]]","v":{"$error":"#VALUE!"}},{"$f":"Tabla13[[#This Row],[Importe IVA ]]","v":{"$error":"#VALUE!"}},{"$f":"Tabla13[[#This Row],[Importe de adjudicación (IVA INCLUIDO)]]","v":{"$error":"#VALUE!"}}]
[{"$nulls":18},{"$f":"Tabla13[[#This Row],[Título del contrato]]&Tabla13[[#This Row],[Nº Expediente de la plataforma de contratación]]","v":{"$error":"#VALUE!"}},{"$f":"Tabla13[[#This Row],[Nº Expediente de la plataforma de contratación]]","v":{"$error":"#VALUE!"}},{"$f":"Tabla13[[#This Row],[Importe IVA ]]","v":{"$error":"#VALUE!"}},{"$f":"Tabla13[[#This Row],[Importe de adjudicación (IVA INCLUIDO)]]","v":{"$error":"#VALUE!"}}]
[{"$nulls":18},{"$f":"Tabla13[[#This Row],[Título del contrato]]&Tabla13[[#This Row],[Nº Expediente de la plataforma de contratación]]","v":{"$error":"#VALUE!"}},{"$f":"Tabla13[[#This Row],[Nº Expediente de la plataforma de contratación]]","v":{"$error":"#VALUE!"}},{"$f":"Tabla13[[#This Row],[Importe IVA ]]","v":{"$error":"#VALUE!"}},{"$f":"Tabla13[[#This Row],[Importe de adjudicación (IVA INCLUIDO)]]","v":{"$error":"#VALUE!"}}]
[{"$nulls":18},{"$f":"Tabla13[[#This Row],[Título del contrato]]&Tabla13[[#This Row],[Nº Expediente de la plataforma de contratación]]","v":{"$error":"#VALUE!"}},{"$f":"Tabla13[[#This Row],[Nº Expediente de la plataforma de contratación]]","v":{"$error":"#VALUE!"}},{"$f":"Tabla13[[#This Row],[Importe IVA ]]","v":{"$error":"#VALUE!"}},{"$f":"Tabla13[[#This Row],[Importe de adjudicación (IVA INCLUIDO)]]","v":{"$error":"#VALUE!"}}]
[{"$nulls":18},{"$f":"Tabla13[[#This Row],[Título del contrato]]&Tabla13[[#This Row],[Nº Expediente de la plataforma de contratación]]","v":{"$error":"#VALUE!"}},{"$f":"Tabla13[[#This Row],[Nº Expediente de la plataforma de contratación]]","v":{"$error":"#VALUE!"}},{"$f":"Tabla13[[#This Row],[Importe IVA ]]","v":{"$error":"#VALUE!"}},{"$f":"Tabla13[[#This Row],[Importe de adjudicación (IVA INCLUIDO)]]","v":{"$error":"#VALUE!"}}]
[{"$nulls":18},{"$f":"Tabla13[[#This Row],[Título del contrato]]&Tabla13[[#This Row],[Nº Expediente de la plataforma de contratación]]","v":{"$error":"#VALUE!"}},{"$f":"Tabla13[[#This Row],[Nº Expediente de la plataforma de contratación]]","v":{"$error":"#VALUE!"}},{"$f":"Tabla13[[#This Row],[Importe IVA ]]","v":{"$error":"#VALUE!"}},{"$f":"Tabla13[[#This Row],[Importe de adjudicación (IVA INCLUIDO)]]","v":{"$error":"#VALUE!"}}]
[{"$nulls":18},{"$f":"Tabla13[[#This Row],[Título del contrato]]&Tabla13[[#This Row],[Nº Expediente de la plataforma de contratación]]","v":{"$error":"#VALUE!"}},{"$f":"Tabla13[[#This Row],[Nº Expediente de la plataforma de contratación]]","v":{"$error":"#VALUE!"}},{"$f":"Tabla13[[#This Row],[Importe IVA ]]","v":{"$error":"#VALUE!"}},{"$f":"Tabla13[[#This Row],[Importe de adjudicación (IVA INCLUIDO)]]","v":{"$error":"#VALUE!"}}]
[{"$nulls":18},{"$f":"Tabla13[[#This Row],[Título del contrato]]&Tabla13[[#This Row],[Nº Expediente de la plataforma de contratación]]","v":{"$error":"#VALUE!"}},{"$f":"Tabla13[[#This Row],[Nº Expediente de la plataforma de contratación]]","v":{"$error":"#VALUE!"}},{"$f":"Tabla13[[#This Row],[Importe IVA ]]","v":{"$error":"#VALUE!"}},{"$f":"Tabla13[[#This Row],[Importe de adjudicación (IVA INCLUIDO)]]","v":{"$error":"#VALUE!"}}]
[{"$nulls":18},{"$f":"Tabla13[[#This Row],[Título del contrato]]&Tabla13[[#This Row],[Nº Expediente de la plataforma de contratación]]","v":{"$error":"#VALUE!"}},{"$f":"Tabla13[[#This Row],[Nº Expediente de la plataforma de contratación]]","v":{"$error":"#VALUE!"}},{"$f":"Tabla13[[#This Row],[Importe IVA ]]","v":{"$error":"#VALUE!"}},{"$f":"Tabla13[[#This Row],[Importe de adjudicación (IVA INCLUIDO)]]","v":{"$error":"#VALUE!"}}]
[{"$nulls":18},{"$f":"Tabla13[[#This Row],[Título del contrato]]&Tabla13[[#This Row],[Nº Expediente de la plataforma de contratación]]","v":{"$error":"#VALUE!"}},{"$f":"Tabla13[[#This Row],[Nº Expediente de la plataforma de contratación]]","v":{"$error":"#VALUE!"}},{"$f":"Tabla13[[#This Row],[Importe IVA ]]","v":{"$error":"#VALUE!"}},{"$f":"Tabla13[[#This Row],[Importe de adjudicación (IVA INCLUIDO)]]","v":{"$error":"#VALUE!"}}]
[{"$nulls":18},{"$f":"Tabla13[[#This Row],[Título del contrato]]&Tabla13[[#This Row],[Nº Expediente de la plataforma de contratación]]","v":{"$error":"#VALUE!"}},{"$f":"Tabla13[[#This Row],[Nº Expediente de la plataforma de contratación]]","v":{"$error":"#VALUE!"}},{"$f":"Tabla13[[#This Row],[Importe IVA ]]","v":{"$error":"#VALUE!"}},{"$f":"Tabla13[[#This Row],[Importe de adjudicación (IVA INCLUIDO)]]","v":{"$error":"#VALUE!"}}]
[{"$nulls":18},{"$f":"Tabla13[[#This Row],[Título del contrato]]&Tabla13[[#This Row],[Nº Expediente de la plataforma de contratación]]","v":{"$error":"#VALUE!"}},{"$f":"Tabla13[[#This Row],[Nº Expediente de la plataforma de contratación]]","v":{"$error":"#VALUE!"}},{"$f":"Tabla13[[#This Row],[Importe IVA ]]","v":{"$error":"#VALUE!"}},{"$f":"Tabla13[[#This Row],[Importe de adjudicación (IVA INCLUIDO)]]","v":{"$error":"#VALUE!"}}]
[{"$nulls":18},{"$f":"Tabla13[[#This Row],[Título del contrato]]&Tabla13[[#This Row],[Nº Expediente de la plataforma de contratación]]","v":{"$error":"#VALUE!"}},{"$f":"Tabla13[[#This Row],[Nº Expediente de la plataforma de contratación]]","v":{"$error":"#VALUE!"}},{"$f":"Tabla13[[#This Row],[Importe IVA ]]","v":{"$error":"#VALUE!"}},{"$f":"Tabla13[[#This Row],[Importe de adjudicación (IVA INCLUIDO)]]","v":{"$error":"#VALUE!"}}]
[{"$nulls":18},{"$f":"Tabla13[[#This Row],[Título del contrato]]&Tabla13[[#This Row],[Nº Expediente de la plataforma de contratación]]","v":{"$error":"#VALUE!"}},{"$f":"Tabla13[[#This Row],[Nº Expediente de la plataforma de contratación]]","v":{"$error":"#VALUE!"}},{"$f":"Tabla13[[#This Row],[Importe IVA ]]","v":{"$error":"#VALUE!"}},{"$f":"Tabla13[[#This Row],[Importe de adjudicación (IVA INCLUIDO)]]","v":{"$error":"#VALUE!"}}]
[{"$nulls":18},{"$f":"Tabla13[[#This Row],[Título del contrato]]&Tabla13[[#This Row],[Nº Expediente de la plataforma de contratación]]","v":{"$error":"#VALUE!"}},{"$f":"Tabla13[[#This Row],[Nº Expediente de la plataforma de contratación]]","v":{"$error":"#VALUE!"}},{"$f":"Tabla13[[#This Row],[Importe IVA ]]","v":{"$error":"#VALUE!"}},{"$f":"Tabla13[[#This Row],[Importe de adjudicación (IVA INCLUIDO)]]","v":{"$error":"#VALUE!"}}]
[{"$nulls":18},{"$f":"Tabla13[[#This Row],[Título del contrato]]&Tabla13[[#This Row],[Nº Expediente de la plataforma de contratación]]","v":{"$error":"#VALUE!"}},{"$f":"Tabla13[[#This Row],[Nº Expediente de la plataforma de contratación]]","v":{"$error":"#VALUE!"}},{"$f":"Tabla13[[#This Row],[Importe IVA ]]","v":{"$error":"#VALUE!"}},{"$f":"Tabla13[[#This Row],[Importe de adjudicación (IVA INCLUIDO)]]","v":{"$error":"#VALUE!"}}]
[{"$nulls":18},{"$f":"Tabla13[[#This Row],[Título del contrato]]&Tabla13[[#This Row],[Nº Expediente de la plataforma de contratación]]","v":{"$error":"#VALUE!"}},{"$f":"Tabla13[[#This Row],[Nº Expediente de la plataforma de contratación]]","v":{"$error":"#VALUE!"}},{"$f":"Tabla13[[#This Row],[Importe IVA ]]","v":{"$error":"#VALUE!"}},{"$f":"Tabla13[[#This Row],[Importe de adjudicación (IVA INCLUIDO)]]","v":{"$error":"#VALUE!"}}]
[{"$nulls":18},{"$f":"Tabla13[[#This Row],[Título del contrato]]&Tabla13[[#This Row],[Nº Expediente de la plataforma de contratación]]","v":{"$error":"#VALUE!"}},{"$f":"Tabla13[[#This Row],[Nº Expediente de la plataforma de contratación]]","v":{"$error":"#VALUE!"}},{"$f":"Tabla13[[#This Row],[Importe IVA ]]","v":{"$error":"#VALUE!"}},{"$f":"Tabla13[[#This Row],[Importe de adjudicación (IVA INCLUIDO)]]","v":{"$error":"#VALUE!"}}]
[{"$nulls":18},{"$f":"Tabla13[[#This Row],[Título del contrato]]&Tabla13[[#This Row],[Nº Expediente de la plataforma de contratación]]","v":{"$error":"#VALUE!"}},{"$f":"Tabla13[[#This Row],[Nº Expediente de la plataforma de contratación]]","v":{"$error":"#VALUE!"}},{"$f":"Tabla13[[#This Row],[Importe IVA ]]","v":{"$error":"#VALUE!"}},{"$f":"Tabla13[[#This Row],[Importe de adjudicación (IVA INCLUIDO)]]","v":{"$error":"#VALUE!"}}]
[{"$nulls":18},{"$f":"Tabla13[[#This Row],[Título del contrato]]&Tabla13[[#This Row],[Nº Expediente de la plataforma de contratación]]","v":{"$error":"#VALUE!"}},{"$f":"Tabla13[[#This Row],[Nº Expediente de la plataforma de contratación]]","v":{"$error":"#VALUE!"}},{"$f":"Tabla13[[#This Row],[Importe IVA ]]","v":{"$error":"#VALUE!"}},{"$f":"Tabla13[[#This Row],[Importe de adjudicación (IVA INCLUIDO)]]","v":{"$error":"#VALUE!"}}]
[{"$nulls":18},{"$f":"Tabla13[[#This Row],[Título del contrato]]&Tabla13[[#This Row],[Nº Expediente de la plataforma de contratación]]","v":{"$error":"#VALUE!"}},{"$f":"Tabla13[[#This Row],[Nº Expediente de la plataforma de contratación]]","v":{"$error":"#VALUE!"}},{"$f":"Tabla13[[#This Row],[Importe IVA ]]","v":{"$error":"#VALUE!"}},{"$f":"Tabla13[[#This Row],[Importe de adjudicación (IVA INCLUIDO)]]","v":{"$error":"#VALUE!"}}]
[{"$nulls":18},{"$f":"Tabla13[[#This Row],[Título del contrato]]&Tabla13[[#This Row],[Nº Expediente de la plataforma de contratación]]","v":{"$error":"#VALUE!"}},{"$f":"Tabla13[[#This Row],[Nº Expediente de la plataforma de contratación]]","v":{"$error":"#VALUE!"}},{"$f":"Tabla13[[#This Row],[Importe IVA ]]","v":{"$error":"#VALUE!"}},{"$f":"Tabla13[[#This Row],[Importe de adjudicación (IVA INCLUIDO)]]","v":{"$error":"#VALUE!"}}]
[{"$nulls":18},{"$f":"Tabla13[[#This Row],[Título del contrato]]&Tabla13[[#This Row],[Nº Expediente de la plataforma de contratación]]","v":{"$error":"#VALUE!"}},{"$f":"Tabla13[[#This Row],[Nº Expediente de la plataforma de contratación]]","v":{"$error":"#VALUE!"}},{"$f":"Tabla13[[#This Row],[Importe IVA ]]","v":{"$error":"#VALUE!"}},{"$f":"Tabla13[[#This Row],[Importe de adjudicación (IVA INCLUIDO)]]","v":{"$error":"#VALUE!"}}]
[{"$nulls":18},{"$f":"Tabla13[[#This Row],[Título del contrato]]&Tabla13[[#This Row],[Nº Expediente de la plataforma de contratación]]","v":{"$error":"#VALUE!"}},{"$f":"Tabla13[[#This Row],[Nº Expediente de la plataforma de contratación]]","v":{"$error":"#VALUE!"}},{"$f":"Tabla13[[#This Row],[Importe IVA ]]","v":{"$error":"#VALUE!"}},{"$f":"Tabla13[[#This Row],[Importe de adjudicación (IVA INCLUIDO)]]","v":{"$error":"#VALUE!"}}]
[{"$nulls":18},{"$f":"Tabla13[[#This Row],[Título del contrato]]&Tabla13[[#This Row],[Nº Expediente de la plataforma de contratación]]","v":{"$error":"#VALUE!"}},{"$f":"Tabla13[[#This Row],[Nº Expediente de la plataforma de contratación]]","v":{"$error":"#VALUE!"}},{"$f":"Tabla13[[#This Row],[Importe IVA ]]","v":{"$error":"#VALUE!"}},{"$f":"Tabla13[[#This Row],[Importe de adjudicación (IVA INCLUIDO)]]","v":{"$error":"#VALUE!"}}]
[{"$nulls":18},{"$f":"Tabla13[[#This Row],[Título del contrato]]&Tabla13[[#This Row],[Nº Expediente de la plataforma de contratación]]","v":{"$error":"#VALUE!"}},{"$f":"Tabla13[[#This Row],[Nº Expediente de la plataforma de contratación]]","v":{"$error":"#VALUE!"}},{"$f":"Tabla13[[#This Row],[Importe IVA ]]","v":{"$error":"#VALUE!"}},{"$f":"Tabla13[[#This Row],[Importe de adjudicación (IVA INCLUIDO)]]","v":{"$error":"#VALUE!"}}]
[{"$nulls":18},{"$f":"Tabla13[[#This Row],[Título del contrato]]&Tabla13[[#This Row],[Nº Expediente de la plataforma de contratación]]","v":{"$error":"#VALUE!"}},{"$f":"Tabla13[[#This Row],[Nº Expediente de la plataforma de contratación]]","v":{"$error":"#VALUE!"}},{"$f":"Tabla13[[#This Row],[Importe IVA ]]","v":{"$error":"#VALUE!"}},{"$f":"Tabla13[[#This Row],[Importe de adjudicación (IVA INCLUIDO)]]","v":{"$error":"#VALUE!"}}]
[{"$nulls":18},{"$f":"Tabla13[[#This Row],[Título del contrato]]&Tabla13[[#This Row],[Nº Expediente de la plataforma de contratación]]","v":{"$error":"#VALUE!"}},{"$f":"Tabla13[[#This Row],[Nº Expediente de la plataforma de contratación]]","v":{"$error":"#VALUE!"}},{"$f":"Tabla13[[#This Row],[Importe IVA ]]","v":{"$error":"#VALUE!"}},{"$f":"Tabla13[[#This Row],[Importe de adjudicación (IVA INCLUIDO)]]","v":{"$error":"#VALUE!"}}]
[{"$nulls":18},{"$f":"Tabla13[[#This Row],[Título del contrato]]&Tabla13[[#This Row],[Nº Expediente de la plataforma de contratación]]","v":{"$error":"#VALUE!"}},{"$f":"Tabla13[[#This Row],[Nº Expediente de la plataforma de contratación]]","v":{"$error":"#VALUE!"}},{"$f":"Tabla13[[#This Row],[Importe IVA ]]","v":{"$error":"#VALUE!"}},{"$f":"Tabla13[[#This Row],[Importe de adjudicación (IVA INCLUIDO)]]","v":{"$error":"#VALUE!"}}]
[{"$nulls":18},{"$f":"Tabla13[[#This Row],[Título del contrato]]&Tabla13[[#This Row],[Nº Expediente de la plataforma de contratación]]","v":{"$error":"#VALUE!"}},{"$f":"Tabla13[[#This Row],[Nº Expediente de la plataforma de contratación]]","v":{"$error":"#VALUE!"}},{"$f":"Tabla13[[#This Row],[Importe IVA ]]","v":{"$error":"#VALUE!"}},{"$f":"Tabla13[[#This Row],[Importe de adjudicación (IVA INCLUIDO)]]","v":{"$error":"#VALUE!"}}]
[{"$nulls":18},{"$f":"Tabla13[[#This Row],[Título del contrato]]&Tabla13[[#This Row],[Nº Expediente de la plataforma de contratación]]","v":{"$error":"#VALUE!"}},{"$f":"Tabla13[[#This Row],[Nº Expediente de la plataforma de contratación]]","v":{"$error":"#VALUE!"}},{"$f":"Tabla13[[#This Row],[Importe IVA ]]","v":{"$error":"#VALUE!"}},{"$f":"Tabla13[[#This Row],[Importe de adjudicación (IVA INCLUIDO)]]","v":{"$error":"#VALUE!"}}]
[{"$nulls":18},{"$f":"Tabla13[[#This Row],[Título del contrato]]&Tabla13[[#This Row],[Nº Expediente de la plataforma de contratación]]","v":{"$error":"#VALUE!"}},{"$f":"Tabla13[[#This Row],[Nº Expediente de la plataforma de contratación]]","v":{"$error":"#VALUE!"}},{"$f":"Tabla13[[#This Row],[Importe IVA ]]","v":{"$error":"#VALUE!"}},{"$f":"Tabla13[[#This Row],[Importe de adjudicación (IVA INCLUIDO)]]","v":{"$error":"#VALUE!"}}]
[{"$nulls":18},{"$f":"Tabla13[[#This Row],[Título del contrato]]&Tabla13[[#This Row],[Nº Expediente de la plataforma de contratación]]","v":{"$error":"#VALUE!"}},{"$f":"Tabla13[[#This Row],[Nº Expediente de la plataforma de contratación]]","v":{"$error":"#VALUE!"}},{"$f":"Tabla13[[#This Row],[Importe IVA ]]","v":{"$error":"#VALUE!"}},{"$f":"Tabla13[[#This Row],[Importe de adjudicación (IVA INCLUIDO)]]","v":{"$error":"#VALUE!"}}]
[{"$nulls":18},{"$f":"Tabla13[[#This Row],[Título del contrato]]&Tabla13[[#This Row],[Nº Expediente de la plataforma de contratación]]","v":{"$error":"#VALUE!"}},{"$f":"Tabla13[[#This Row],[Nº Expediente de la plataforma de contratación]]","v":{"$error":"#VALUE!"}},{"$f":"Tabla13[[#This Row],[Importe IVA ]]","v":{"$error":"#VALUE!"}},{"$f":"Tabla13[[#This Row],[Importe de adjudicación (IVA INCLUIDO)]]","v":{"$error":"#VALUE!"}}]
[{"$nulls":18},{"$f":"Tabla13[[#This Row],[Título del contrato]]&Tabla13[[#This Row],[Nº Expediente de la plataforma de contratación]]","v":{"$error":"#VALUE!"}},{"$f":"Tabla13[[#This Row],[Nº Expediente de la plataforma de contratación]]","v":{"$error":"#VALUE!"}},{"$f":"Tabla13[[#This Row],[Importe IVA ]]","v":{"$error":"#VALUE!"}},{"$f":"Tabla13[[#This Row],[Importe de adjudicación (IVA INCLUIDO)]]","v":{"$error":"#VALUE!"}}]
[{"$nulls":18},{"$f":"Tabla13[[#This Row],[Título del contrato]]&Tabla13[[#This Row],[Nº Expediente de la plataforma de contratación]]","v":{"$error":"#VALUE!"}},{"$f":"Tabla13[[#This Row],[Nº Expediente de la plataforma de contratación]]","v":{"$error":"#VALUE!"}},{"$f":"Tabla13[[#This Row],[Importe IVA ]]","v":{"$error":"#VALUE!"}},{"$f":"Tabla13[[#This Row],[Importe de adjudicación (IVA INCLUIDO)]]","v":{"$error":"#VALUE!"}}]
[{"$nulls":18},{"$f":"Tabla13[[#This Row],[Título del contrato]]&Tabla13[[#This Row],[Nº Expediente de la plataforma de contratación]]","v":{"$error":"#VALUE!"}},{"$f":"Tabla13[[#This Row],[Nº Expediente de la plataforma de contratación]]","v":{"$error":"#VALUE!"}},{"$f":"Tabla13[[#This Row],[Importe IVA ]]","v":{"$error":"#VALUE!"}},{"$f":"Tabla13[[#This Row],[Importe de adjudicación (IVA INCLUIDO)]]","v":{"$error":"#VALUE!"}}]
[{"$nulls":18},{"$f":"Tabla13[[#This Row],[Título del contrato]]&Tabla13[[#This Row],[Nº Expediente de la plataforma de contratación]]","v":{"$error":"#VALUE!"}},{"$f":"Tabla13[[#This Row],[Nº Expediente de la plataforma de contratación]]","v":{"$error":"#VALUE!"}},{"$f":"Tabla13[[#This Row],[Importe IVA ]]","v":{"$error":"#VALUE!"}},{"$f":"Tabla13[[#This Row],[Importe de adjudicación (IVA INCLUIDO)]]","v":{"$error":"#VALUE!"}}]
[{"$nulls":18},{"$f":"Tabla13[[#This Row],[Título del contrato]]&Tabla13[[#This Row],[Nº Expediente de la plataforma de contratación]]","v":{"$error":"#VALUE!"}},{"$f":"Tabla13[[#This Row],[Nº Expediente de la plataforma de contratación]]","v":{"$error":"#VALUE!"}},{"$f":"Tabla13[[#This Row],[Importe IVA ]]","v":{"$error":"#VALUE!"}},{"$f":"Tabla13[[#This Row],[Importe de adjudicación (IVA INCLUIDO)]]","v":{"$error":"#VALUE!"}}]
[{"$nulls":18},{"$f":"Tabla13[[#This Row],[Título del contrato]]&Tabla13[[#This Row],[Nº Expediente de la plataforma de contratación]]","v":{"$error":"#VALUE!"}},{"$f":"Tabla13[[#This Row],[Nº Expediente de la plataforma de contratación]]","v":{"$error":"#VALUE!"}},{"$f":"Tabla13[[#This Row],[Importe IVA ]]","v":{"$error":"#VALUE!"}},{"$f":"Tabla13[[#This Row],[Importe de adjudicación (IVA INCLUIDO)]]","v":{"$error":"#VALUE!"}}]
[{"$nulls":18},{"$f":"Tabla13[[#This Row],[Título del contrato]]&Tabla13[[#This Row],[Nº Expediente de la plataforma de contratación]]","v":{"$error":"#VALUE!"}},{"$f":"Tabla13[[#This Row],[Nº Expediente de la plataforma de contratación]]","v":{"$error":"#VALUE!"}},{"$f":"Tabla13[[#This Row],[Importe IVA ]]","v":{"$error":"#VALUE!"}},{"$f":"Tabla13[[#This Row],[Importe de adjudicación (IVA INCLUIDO)]]","v":{"$error":"#VALUE!"}}]
[{"$nulls":18},{"$f":"Tabla13[[#This Row],[Título del contrato]]&Tabla13[[#This Row],[Nº Expediente de la plataforma de contratación]]","v":{"$error":"#VALUE!"}},{"$f":"Tabla13[[#This Row],[Nº Expediente de la plataforma de contratación]]","v":{"$error":"#VALUE!"}},{"$f":"Tabla13[[#This Row],[Importe IVA ]]","v":{"$error":"#VALUE!"}},{"$f":"Tabla13[[#This Row],[Importe de adjudicación (IVA INCLUIDO)]]","v":{"$error":"#VALUE!"}}]
[{"$nulls":18},{"$f":"Tabla13[[#This Row],[Título del contrato]]&Tabla13[[#This Row],[Nº Expediente de la plataforma de contratación]]","v":{"$error":"#VALUE!"}},{"$f":"Tabla13[[#This Row],[Nº Expediente de la plataforma de contratación]]","v":{"$error":"#VALUE!"}},{"$f":"Tabla13[[#This Row],[Importe IVA ]]","v":{"$error":"#VALUE!"}},{"$f":"Tabla13[[#This Row],[Importe de adjudicación (IVA INCLUIDO)]]","v":{"$error":"#VALUE!"}}]
[{"$nulls":18},{"$f":"Tabla13[[#This Row],[Título del contrato]]&Tabla13[[#This Row],[Nº Expediente de la plataforma de contratación]]","v":{"$error":"#VALUE!"}},{"$f":"Tabla13[[#This Row],[Nº Expediente de la plataforma de contratación]]","v":{"$error":"#VALUE!"}},{"$f":"Tabla13[[#This Row],[Importe IVA ]]","v":{"$error":"#VALUE!"}},{"$f":"Tabla13[[#This Row],[Importe de adjudicación (IVA INCLUIDO)]]","v":{"$error":"#VALUE!"}}]
[{"$nulls":18},{"$f":"Tabla13[[#This Row],[Título del contrato]]&Tabla13[[#This Row],[Nº Expediente de la plataforma de contratación]]","v":{"$error":"#VALUE!"}},{"$f":"Tabla13[[#This Row],[Nº Expediente de la plataforma de contratación]]","v":{"$error":"#VALUE!"}},{"$f":"Tabla13[[#This Row],[Importe IVA ]]","v":{"$error":"#VALUE!"}},{"$f":"Tabla13[[#This Row],[Importe de adjudicación (IVA INCLUIDO)]]","v":{"$error":"#VALUE!"}}]
[{"$nulls":18},{"$f":"Tabla13[[#This Row],[Título del contrato]]&Tabla13[[#This Row],[Nº Expediente de la plataforma de contratación]]","v":{"$error":"#VALUE!"}},{"$f":"Tabla13[[#This Row],[Nº Expediente de la plataforma de contratación]]","v":{"$error":"#VALUE!"}},{"$f":"Tabla13[[#This Row],[Importe IVA ]]","v":{"$error":"#VALUE!"}},{"$f":"Tabla13[[#This Row],[Importe de adjudicación (IVA INCLUIDO)]]","v":{"$error":"#VALUE!"}}]
[{"$nulls":18},{"$f":"Tabla13[[#This Row],[Título del contrato]]&Tabla13[[#This Row],[Nº Expediente de la plataforma de contratación]]","v":{"$error":"#VALUE!"}},{"$f":"Tabla13[[#This Row],[Nº Expediente de la plataforma de contratación]]","v":{"$error":"#VALUE!"}},{"$f":"Tabla13[[#This Row],[Importe IVA ]]","v":{"$error":"#VALUE!"}},{"$f":"Tabla13[[#This Row],[Importe de adjudicación (IVA INCLUIDO)]]","v":{"$error":"#VALUE!"}}]
[{"$nulls":18},{"$f":"Tabla13[[#This Row],[Título del contrato]]&Tabla13[[#This Row],[Nº Expediente de la plataforma de contratación]]","v":{"$error":"#VALUE!"}},{"$f":"Tabla13[[#This Row],[Nº Expediente de la plataforma de contratación]]","v":{"$error":"#VALUE!"}},{"$f":"Tabla13[[#This Row],[Importe IVA ]]","v":{"$error":"#VALUE!"}},{"$f":"Tabla13[[#This Row],[Importe de adjudicación (IVA INCLUIDO)]]","v":{"$error":"#VALUE!"}}]
[{"$nulls":18},{"$f":"Tabla13[[#This Row],[Título del contrato]]&Tabla13[[#This Row],[Nº Expediente de la plataforma de contratación]]","v":{"$error":"#VALUE!"}},{"$f":"Tabla13[[#This Row],[Nº Expediente de la plataforma de contratación]]","v":{"$error":"#VALUE!"}},{"$f":"Tabla13[[#This Row],[Importe IVA ]]","v":{"$error":"#VALUE!"}},{"$f":"Tabla13[[#This Row],[Importe de adjudicación (IVA INCLUIDO)]]","v":{"$error":"#VALUE!"}}]
[{"$nulls":18},{"$f":"Tabla13[[#This Row],[Título del contrato]]&Tabla13[[#This Row],[Nº Expediente de la plataforma de contratación]]","v":{"$error":"#VALUE!"}},{"$f":"Tabla13[[#This Row],[Nº Expediente de la plataforma de contratación]]","v":{"$error":"#VALUE!"}},{"$f":"Tabla13[[#This Row],[Importe IVA ]]","v":{"$error":"#VALUE!"}},{"$f":"Tabla13[[#This Row],[Importe de adjudicación (IVA INCLUIDO)]]","v":{"$error":"#VALUE!"}}]
[{"$nulls":18},{"$f":"Tabla13[[#This Row],[Título del contrato]]&Tabla13[[#This Row],[Nº Expediente de la plataforma de contratación]]","v":{"$error":"#VALUE!"}},{"$f":"Tabla13[[#This Row],[Nº Expediente de la plataforma de contratación]]","v":{"$error":"#VALUE!"}},{"$f":"Tabla13[[#This Row],[Importe IVA ]]","v":{"$error":"#VALUE!"}},{"$f":"Tabla13[[#This Row],[Importe de adjudicación (IVA INCLUIDO)]]","v":{"$error":"#VALUE!"}}]
[{"$nulls":18},{"$f":"Tabla13[[#This Row],[Título del contrato]]&Tabla13[[#This Row],[Nº Expediente de la plataforma de contratación]]","v":{"$error":"#VALUE!"}},{"$f":"Tabla13[[#This Row],[Nº Expediente de la plataforma de contratación]]","v":{"$error":"#VALUE!"}},{"$f":"Tabla13[[#This Row],[Importe IVA ]]","v":{"$error":"#VALUE!"}},{"$f":"Tabla13[[#This Row],[Importe de adjudicación (IVA INCLUIDO)]]","v":{"$error":"#VALUE!"}}]
[{"$nulls":18},{"$f":"Tabla13[[#This Row],[Título del contrato]]&Tabla13[[#This Row],[Nº Expediente de la plataforma de contratación]]","v":{"$error":"#VALUE!"}},{"$f":"Tabla13[[#This Row],[Nº Expediente de la plataforma de contratación]]","v":{"$error":"#VALUE!"}},{"$f":"Tabla13[[#This Row],[Importe IVA ]]","v":{"$error":"#VALUE!"}},{"$f":"Tabla13[[#This Row],[Importe de adjudicación (IVA INCLUIDO)]]","v":{"$error":"#VALUE!"}}]
[{"$nulls":18},{"$f":"Tabla13[[#This Row],[Título del contrato]]&Tabla13[[#This Row],[Nº Expediente de la plataforma de contratación]]","v":{"$error":"#VALUE!"}},{"$f":"Tabla13[[#This Row],[Nº Expediente de la plataforma de contratación]]","v":{"$error":"#VALUE!"}},{"$f":"Tabla13[[#This Row],[Importe IVA ]]","v":{"$error":"#VALUE!"}},{"$f":"Tabla13[[#This Row],[Importe de adjudicación (IVA INCLUIDO)]]","v":{"$error":"#VALUE!"}}]
[{"$nulls":18},{"$f":"Tabla13[[#This Row],[Título del contrato]]&Tabla13[[#This Row],[Nº Expediente de la plataforma de contratación]]","v":{"$error":"#VALUE!"}},{"$f":"Tabla13[[#This Row],[Nº Expediente de la plataforma de contratación]]","v":{"$error":"#VALUE!"}},{"$f":"Tabla13[[#This Row],[Importe IVA ]]","v":{"$error":"#VALUE!"}},{"$f":"Tabla13[[#This Row],[Importe de adjudicación (IVA INCLUIDO)]]","v":{"$error":"#VALUE!"}}]
[{"$nulls":18},{"$f":"Tabla13[[#This Row],[Título del contrato]]&Tabla13[[#This Row],[Nº Expediente de la plataforma de contratación]]","v":{"$error":"#VALUE!"}},{"$f":"Tabla13[[#This Row],[Nº Expediente de la plataforma de contratación]]","v":{"$error":"#VALUE!"}},{"$f":"Tabla13[[#This Row],[Importe IVA ]]","v":{"$error":"#VALUE!"}},{"$f":"Tabla13[[#This Row],[Importe de adjudicación (IVA INCLUIDO)]]","v":{"$error":"#VALUE!"}}]
[{"$nulls":18},{"$f":"Tabla13[[#This Row],[Título del contrato]]&Tabla13[[#This Row],[Nº Expediente de la plataforma de contratación]]","v":{"$error":"#VALUE!"}},{"$f":"Tabla13[[#This Row],[Nº Expediente de la plataforma de contratación]]","v":{"$error":"#VALUE!"}},{"$f":"Tabla13[[#This Row],[Importe IVA ]]","v":{"$error":"#VALUE!"}},{"$f":"Tabla13[[#This Row],[Importe de adjudicación (IVA INCLUIDO)]]","v":{"$error":"#VALUE!"}}]
[{"$nulls":18},{"$f":"Tabla13[[#This Row],[Título del contrato]]&Tabla13[[#This Row],[Nº Expediente de la plataforma de contratación]]","v":{"$error":"#VALUE!"}},{"$f":"Tabla13[[#This Row],[Nº Expediente de la plataforma de contratación]]","v":{"$error":"#VALUE!"}},{"$f":"Tabla13[[#This Row],[Importe IVA ]]","v":{"$error":"#VALUE!"}},{"$f":"Tabla13[[#This Row],[Importe de adjudicación (IVA INCLUIDO)]]","v":{"$error":"#VALUE!"}}]
[{"$nulls":18},{"$f":"Tabla13[[#This Row],[Título del contrato]]&Tabla13[[#This Row],[Nº Expediente de la plataforma de contratación]]","v":{"$error":"#VALUE!"}},{"$f":"Tabla13[[#This Row],[Nº Expediente de la plataforma de contratación]]","v":{"$error":"#VALUE!"}},{"$f":"Tabla13[[#This Row],[Importe IVA ]]","v":{"$error":"#VALUE!"}},{"$f":"Tabla13[[#This Row],[Importe de adjudicación (IVA INCLUIDO)]]","v":{"$error":"#VALUE!"}}]
[{"$nulls":18},{"$f":"Tabla13[[#This Row],[Título del contrato]]&Tabla13[[#This Row],[Nº Expediente de la plataforma de contratación]]","v":{"$error":"#VALUE!"}},{"$f":"Tabla13[[#This Row],[Nº Expediente de la plataforma de contratación]]","v":{"$error":"#VALUE!"}},{"$f":"Tabla13[[#This Row],[Importe IVA ]]","v":{"$error":"#VALUE!"}},{"$f":"Tabla13[[#This Row],[Importe de adjudicación (IVA INCLUIDO)]]","v":{"$error":"#VALUE!"}}]
[{"$nulls":18},{"$f":"Tabla13[[#This Row],[Título del contrato]]&Tabla13[[#This Row],[Nº Expediente de la plataforma de contratación]]","v":{"$error":"#VALUE!"}},{"$f":"Tabla13[[#This Row],[Nº Expediente de la plataforma de contratación]]","v":{"$error":"#VALUE!"}},{"$f":"Tabla13[[#This Row],[Importe IVA ]]","v":{"$error":"#VALUE!"}},{"$f":"Tabla13[[#This Row],[Importe de adjudicación (IVA INCLUIDO)]]","v":{"$error":"#VALUE!"}}]
[{"$nulls":18},{"$f":"Tabla13[[#This Row],[Título del contrato]]&Tabla13[[#This Row],[Nº Expediente de la plataforma de contratación]]","v":{"$error":"#VALUE!"}},{"$f":"Tabla13[[#This Row],[Nº Expediente de la plataforma de contratación]]","v":{"$error":"#VALUE!"}},{"$f":"Tabla13[[#This Row],[Importe IVA ]]","v":{"$error":"#VALUE!"}},{"$f":"Tabla13[[#This Row],[Importe de adjudicación (IVA INCLUIDO)]]","v":{"$error":"#VALUE!"}}]
[{"$nulls":18},{"$f":"Tabla13[[#This Row],[Título del contrato]]&Tabla13[[#This Row],[Nº Expediente de la plataforma de contratación]]","v":{"$error":"#VALUE!"}},{"$f":"Tabla13[[#This Row],[Nº Expediente de la plataforma de contratación]]","v":{"$error":"#VALUE!"}},{"$f":"Tabla13[[#This Row],[Importe IVA ]]","v":{"$error":"#VALUE!"}},{"$f":"Tabla13[[#This Row],[Importe de adjudicación (IVA INCLUIDO)]]","v":{"$error":"#VALUE!"}}]
[{"$nulls":18},{"$f":"Tabla13[[#This Row],[Título del contrato]]&Tabla13[[#This Row],[Nº Expediente de la plataforma de contratación]]","v":{"$error":"#VALUE!"}},{"$f":"Tabla13[[#This Row],[Nº Expediente de la plataforma de contratación]]","v":{"$error":"#VALUE!"}},{"$f":"Tabla13[[#This Row],[Importe IVA ]]","v":{"$error":"#VALUE!"}},{"$f":"Tabla13[[#This Row],[Importe de adjudicación (IVA INCLUIDO)]]","v":{"$error":"#VALUE!"}}]
[{"$nulls":18},{"$f":"Tabla13[[#This Row],[Título del contrato]]&Tabla13[[#This Row],[Nº Expediente de la plataforma de contratación]]","v":{"$error":"#VALUE!"}},{"$f":"Tabla13[[#This Row],[Nº Expediente de la plataforma de contratación]]","v":{"$error":"#VALUE!"}},{"$f":"Tabla13[[#This Row],[Importe IVA ]]","v":{"$error":"#VALUE!"}},{"$f":"Tabla13[[#This Row],[Importe de adjudicación (IVA INCLUIDO)]]","v":{"$error":"#VALUE!"}}]
[{"$nulls":18},{"$f":"Tabla13[[#This Row],[Título del contrato]]&Tabla13[[#This Row],[Nº Expediente de la plataforma de contratación]]","v":{"$error":"#VALUE!"}},{"$f":"Tabla13[[#This Row],[Nº Expediente de la plataforma de contratación]]","v":{"$error":"#VALUE!"}},{"$f":"Tabla13[[#This Row],[Importe IVA ]]","v":{"$error":"#VALUE!"}},{"$f":"Tabla13[[#This Row],[Importe de adjudicación (IVA INCLUIDO)]]","v":{"$error":"#VALUE!"}}]
[{"$nulls":18},{"$f":"Tabla13[[#This Row],[Título del contrato]]&Tabla13[[#This Row],[Nº Expediente de la plataforma de contratación]]","v":{"$error":"#VALUE!"}},{"$f":"Tabla13[[#This Row],[Nº Expediente de la plataforma de contratación]]","v":{"$error":"#VALUE!"}},{"$f":"Tabla13[[#This Row],[Importe IVA ]]","v":{"$error":"#VALUE!"}},{"$f":"Tabla13[[#This Row],[Importe de adjudicación (IVA INCLUIDO)]]","v":{"$error":"#VALUE!"}}]
[{"$nulls":18},{"$f":"Tabla13[[#This Row],[Título del contrato]]&Tabla13[[#This Row],[Nº Expediente de la plataforma de contratación]]","v":{"$error":"#VALUE!"}},{"$f":"Tabla13[[#This Row],[Nº Expediente de la plataforma de contratación]]","v":{"$error":"#VALUE!"}},{"$f":"Tabla13[[#This Row],[Importe IVA ]]","v":{"$error":"#VALUE!"}},{"$f":"Tabla13[[#This Row],[Importe de adjudicación (IVA INCLUIDO)]]","v":{"$error":"#VALUE!"}}]
[{"$nulls":18},{"$f":"Tabla13[[#This Row],[Título del contrato]]&Tabla13[[#This Row],[Nº Expediente de la plataforma de contratación]]","v":{"$error":"#VALUE!"}},{"$f":"Tabla13[[#This Row],[Nº Expediente de la plataforma de contratación]]","v":{"$error":"#VALUE!"}},{"$f":"Tabla13[[#This Row],[Importe IVA ]]","v":{"$error":"#VALUE!"}},{"$f":"Tabla13[[#This Row],[Importe de adjudicación (IVA INCLUIDO)]]","v":{"$error":"#VALUE!"}}]
[{"$nulls":18},{"$f":"Tabla13[[#This Row],[Título del contrato]]&Tabla13[[#This Row],[Nº Expediente de la plataforma de contratación]]","v":{"$error":"#VALUE!"}},{"$f":"Tabla13[[#This Row],[Nº Expediente de la plataforma de contratación]]","v":{"$error":"#VALUE!"}},{"$f":"Tabla13[[#This Row],[Importe IVA ]]","v":{"$error":"#VALUE!"}},{"$f":"Tabla13[[#This Row],[Importe de adjudicación (IVA INCLUIDO)]]","v":{"$error":"#VALUE!"}}]
[{"$nulls":18},{"$f":"Tabla13[[#This Row],[Título del contrato]]&Tabla13[[#This Row],[Nº Expediente de la plataforma de contratación]]","v":{"$error":"#VALUE!"}},{"$f":"Tabla13[[#This Row],[Nº Expediente de la plataforma de contratación]]","v":{"$error":"#VALUE!"}},{"$f":"Tabla13[[#This Row],[Importe IVA ]]","v":{"$error":"#VALUE!"}},{"$f":"Tabla13[[#This Row],[Importe de adjudicación (IVA INCLUIDO)]]","v":{"$error":"#VALUE!"}}]
[{"$nulls":18},{"$f":"Tabla13[[#This Row],[Título del contrato]]&Tabla13[[#This Row],[Nº Expediente de la plataforma de contratación]]","v":{"$error":"#VALUE!"}},{"$f":"Tabla13[[#This Row],[Nº Expediente de la plataforma de contratación]]","v":{"$error":"#VALUE!"}},{"$f":"Tabla13[[#This Row],[Importe IVA ]]","v":{"$error":"#VALUE!"}},{"$f":"Tabla13[[#This Row],[Importe de adjudicación (IVA INCLUIDO)]]","v":{"$error":"#VALUE!"}}]
[{"$nulls":18},{"$f":"Tabla13[[#This Row],[Título del contrato]]&Tabla13[[#This Row],[Nº Expediente de la plataforma de contratación]]","v":{"$error":"#VALUE!"}},{"$f":"Tabla13[[#This Row],[Nº Expediente de la plataforma de contratación]]","v":{"$error":"#VALUE!"}},{"$f":"Tabla13[[#This Row],[Importe IVA ]]","v":{"$error":"#VALUE!"}},{"$f":"Tabla13[[#This Row],[Importe de adjudicación (IVA INCLUIDO)]]","v":{"$error":"#VALUE!"}}]
[{"$nulls":18},{"$f":"Tabla13[[#This Row],[Título del contrato]]&Tabla13[[#This Row],[Nº Expediente de la plataforma de contratación]]","v":{"$error":"#VALUE!"}},{"$f":"Tabla13[[#This Row],[Nº Expediente de la plataforma de contratación]]","v":{"$error":"#VALUE!"}},{"$f":"Tabla13[[#This Row],[Importe IVA ]]","v":{"$error":"#VALUE!"}},{"$f":"Tabla13[[#This Row],[Importe de adjudicación (IVA INCLUIDO)]]","v":{"$error":"#VALUE!"}}]
[{"$nulls":18},{"$f":"Tabla13[[#This Row],[Título del contrato]]&Tabla13[[#This Row],[Nº Expediente de la plataforma de contratación]]","v":{"$error":"#VALUE!"}},{"$f":"Tabla13[[#This Row],[Nº Expediente de la plataforma de contratación]]","v":{"$error":"#VALUE!"}},{"$f":"Tabla13[[#This Row],[Importe IVA ]]","v":{"$error":"#VALUE!"}},{"$f":"Tabla13[[#This Row],[Importe de adjudicación (IVA INCLUIDO)]]","v":{"$error":"#VALUE!"}}]
[{"$nulls":18},{"$f":"Tabla13[[#This Row],[Título del contrato]]&Tabla13[[#This Row],[Nº Expediente de la plataforma de contratación]]","v":{"$error":"#VALUE!"}},{"$f":"Tabla13[[#This Row],[Nº Expediente de la plataforma de contratación]]","v":{"$error":"#VALUE!"}},{"$f":"Tabla13[[#This Row],[Importe IVA ]]","v":{"$error":"#VALUE!"}},{"$f":"Tabla13[[#This Row],[Importe de adjudicación (IVA INCLUIDO)]]","v":{"$error":"#VALUE!"}}]
[{"$nulls":18},{"$f":"Tabla13[[#This Row],[Título del contrato]]&Tabla13[[#This Row],[Nº Expediente de la plataforma de contratación]]","v":{"$error":"#VALUE!"}},{"$f":"Tabla13[[#This Row],[Nº Expediente de la plataforma de contratación]]","v":{"$error":"#VALUE!"}},{"$f":"Tabla13[[#This Row],[Importe IVA ]]","v":{"$error":"#VALUE!"}},{"$f":"Tabla13[[#This Row],[Importe de adjudicación (IVA INCLUIDO)]]","v":{"$error":"#VALUE!"}}]
[{"$nulls":18},{"$f":"Tabla13[[#This Row],[Título del contrato]]&Tabla13[[#This Row],[Nº Expediente de la plataforma de contratación]]","v":{"$error":"#VALUE!"}},{"$f":"Tabla13[[#This Row],[Nº Expediente de la plataforma de contratación]]","v":{"$error":"#VALUE!"}},{"$f":"Tabla13[[#This Row],[Importe IVA ]]","v":{"$error":"#VALUE!"}},{"$f":"Tabla13[[#This Row],[Importe de adjudicación (IVA INCLUIDO)]]","v":{"$error":"#VALUE!"}}]
[{"$nulls":18},{"$f":"Tabla13[[#This Row],[Título del contrato]]&Tabla13[[#This Row],[Nº Expediente de la plataforma de contratación]]","v":{"$error":"#VALUE!"}},{"$f":"Tabla13[[#This Row],[Nº Expediente de la plataforma de contratación]]","v":{"$error":"#VALUE!"}},{"$f":"Tabla13[[#This Row],[Importe IVA ]]","v":{"$error":"#VALUE!"}},{"$f":"Tabla13[[#This Row],[Importe de adjudicación (IVA INCLUIDO)]]","v":{"$error":"#VALUE!"}}]
[{"$nulls":18},{"$f":"Tabla13[[#This Row],[Título del contrato]]&Tabla13[[#This Row],[Nº Expediente de la plataforma de contratación]]","v":{"$error":"#VALUE!"}},{"$f":"Tabla13[[#This Row],[Nº Expediente de la plataforma de contratación]]","v":{"$error":"#VALUE!"}},{"$f":"Tabla13[[#This Row],[Importe IVA ]]","v":{"$error":"#VALUE!"}},{"$f":"Tabla13[[#This Row],[Importe de adjudicación (IVA INCLUIDO)]]","v":{"$error":"#VALUE!"}}]
[{"$nulls":18},{"$f":"Tabla13[[#This Row],[Título del contrato]]&Tabla13[[#This Row],[Nº Expediente de la plataforma de contratación]]","v":{"$error":"#VALUE!"}},{"$f":"Tabla13[[#This Row],[Nº Expediente de la plataforma de contratación]]","v":{"$error":"#VALUE!"}},{"$f":"Tabla13[[#This Row],[Importe IVA ]]","v":{"$error":"#VALUE!"}},{"$f":"Tabla13[[#This Row],[Importe de adjudicación (IVA INCLUIDO)]]","v":{"$error":"#VALUE!"}}]
[{"$nulls":18},{"$f":"Tabla13[[#This Row],[Título del contrato]]&Tabla13[[#This Row],[Nº Expediente de la plataforma de contratación]]","v":{"$error":"#VALUE!"}},{"$f":"Tabla13[[#This Row],[Nº Expediente de la plataforma de contratación]]","v":{"$error":"#VALUE!"}},{"$f":"Tabla13[[#This Row],[Importe IVA ]]","v":{"$error":"#VALUE!"}},{"$f":"Tabla13[[#This Row],[Importe de adjudicación (IVA INCLUIDO)]]","v":{"$error":"#VALUE!"}}]
[{"$nulls":18},{"$f":"Tabla13[[#This Row],[Título del contrato]]&Tabla13[[#This Row],[Nº Expediente de la plataforma de contratación]]","v":{"$error":"#VALUE!"}},{"$f":"Tabla13[[#This Row],[Nº Expediente de la plataforma de contratación]]","v":{"$error":"#VALUE!"}},{"$f":"Tabla13[[#This Row],[Importe IVA ]]","v":{"$error":"#VALUE!"}},{"$f":"Tabla13[[#This Row],[Importe de adjudicación (IVA INCLUIDO)]]","v":{"$error":"#VALUE!"}}]
[{"$nulls":18},{"$f":"Tabla13[[#This Row],[Título del contrato]]&Tabla13[[#This Row],[Nº Expediente de la plataforma de contratación]]","v":{"$error":"#VALUE!"}},{"$f":"Tabla13[[#This Row],[Nº Expediente de la plataforma de contratación]]","v":{"$error":"#VALUE!"}},{"$f":"Tabla13[[#This Row],[Importe IVA ]]","v":{"$error":"#VALUE!"}},{"$f":"Tabla13[[#This Row],[Importe de adjudicación (IVA INCLUIDO)]]","v":{"$error":"#VALUE!"}}]
[{"$nulls":18},{"$f":"Tabla13[[#This Row],[Título del contrato]]&Tabla13[[#This Row],[Nº Expediente de la plataforma de contratación]]","v":{"$error":"#VALUE!"}},{"$f":"Tabla13[[#This Row],[Nº Expediente de la plataforma de contratación]]","v":{"$error":"#VALUE!"}},{"$f":"Tabla13[[#This Row],[Importe IVA ]]","v":{"$error":"#VALUE!"}},{"$f":"Tabla13[[#This Row],[Importe de adjudicación (IVA INCLUIDO)]]","v":{"$error":"#VALUE!"}}]
[{"$nulls":18},{"$f":"Tabla13[[#This Row],[Título del contrato]]&Tabla13[[#This Row],[Nº Expediente de la plataforma de contratación]]","v":{"$error":"#VALUE!"}},{"$f":"Tabla13[[#This Row],[Nº Expediente de la plataforma de contratación]]","v":{"$error":"#VALUE!"}},{"$f":"Tabla13[[#This Row],[Importe IVA ]]","v":{"$error":"#VALUE!"}},{"$f":"Tabla13[[#This Row],[Importe de adjudicación (IVA INCLUIDO)]]","v":{"$error":"#VALUE!"}}]
[{"$nulls":18},{"$f":"Tabla13[[#This Row],[Título del contrato]]&Tabla13[[#This Row],[Nº Expediente de la plataforma de contratación]]","v":{"$error":"#VALUE!"}},{"$f":"Tabla13[[#This Row],[Nº Expediente de la plataforma de contratación]]","v":{"$error":"#VALUE!"}},{"$f":"Tabla13[[#This Row],[Importe IVA ]]","v":{"$error":"#VALUE!"}},{"$f":"Tabla13[[#This Row],[Importe de adjudicación (IVA INCLUIDO)]]","v":{"$error":"#VALUE!"}}]
[{"$nulls":18},{"$f":"Tabla13[[#This Row],[Título del contrato]]&Tabla13[[#This Row],[Nº Expediente de la plataforma de contratación]]","v":{"$error":"#VALUE!"}},{"$f":"Tabla13[[#This Row],[Nº Expediente de la plataforma de contratación]]","v":{"$error":"#VALUE!"}},{"$f":"Tabla13[[#This Row],[Importe IVA ]]","v":{"$error":"#VALUE!"}},{"$f":"Tabla13[[#This Row],[Importe de adjudicación (IVA INCLUIDO)]]","v":{"$error":"#VALUE!"}}]
[{"$nulls":18},{"$f":"Tabla13[[#This Row],[Título del contrato]]&Tabla13[[#This Row],[Nº Expediente de la plataforma de contratación]]","v":{"$error":"#VALUE!"}},{"$f":"Tabla13[[#This Row],[Nº Expediente de la plataforma de contratación]]","v":{"$error":"#VALUE!"}},{"$f":"Tabla13[[#This Row],[Importe IVA ]]","v":{"$error":"#VALUE!"}},{"$f":"Tabla13[[#This Row],[Importe de adjudicación (IVA INCLUIDO)]]","v":{"$error":"#VALUE!"}}]
[{"$nulls":18},{"$f":"Tabla13[[#This Row],[Título del contrato]]&Tabla13[[#This Row],[Nº Expediente de la plataforma de contratación]]","v":{"$error":"#VALUE!"}},{"$f":"Tabla13[[#This Row],[Nº Expediente de la plataforma de contratación]]","v":{"$error":"#VALUE!"}},{"$f":"Tabla13[[#This Row],[Importe IVA ]]","v":{"$error":"#VALUE!"}},{"$f":"Tabla13[[#This Row],[Importe de adjudicación (IVA INCLUIDO)]]","v":{"$error":"#VALUE!"}}]
[{"$nulls":18},{"$f":"Tabla13[[#This Row],[Título del contrato]]&Tabla13[[#This Row],[Nº Expediente de la plataforma de contratación]]","v":{"$error":"#VALUE!"}},{"$f":"Tabla13[[#This Row],[Nº Expediente de la plataforma de contratación]]","v":{"$error":"#VALUE!"}},{"$f":"Tabla13[[#This Row],[Importe IVA ]]","v":{"$error":"#VALUE!"}},{"$f":"Tabla13[[#This Row],[Importe de adjudicación (IVA INCLUIDO)]]","v":{"$error":"#VALUE!"}}]
[{"$nulls":18},{"$f":"Tabla13[[#This Row],[Título del contrato]]&Tabla13[[#This Row],[Nº Expediente de la plataforma de contratación]]","v":{"$error":"#VALUE!"}},{"$f":"Tabla13[[#This Row],[Nº Expediente de la plataforma de contratación]]","v":{"$error":"#VALUE!"}},{"$f":"Tabla13[[#This Row],[Importe IVA ]]","v":{"$error":"#VALUE!"}},{"$f":"Tabla13[[#This Row],[Importe de adjudicación (IVA INCLUIDO)]]","v":{"$error":"#VALUE!"}}]
[{"$nulls":18},{"$f":"Tabla13[[#This Row],[Título del contrato]]&Tabla13[[#This Row],[Nº Expediente de la plataforma de contratación]]","v":{"$error":"#VALUE!"}},{"$f":"Tabla13[[#This Row],[Nº Expediente de la plataforma de contratación]]","v":{"$error":"#VALUE!"}},{"$f":"Tabla13[[#This Row],[Importe IVA ]]","v":{"$error":"#VALUE!"}},{"$f":"Tabla13[[#This Row],[Importe de adjudicación (IVA INCLUIDO)]]","v":{"$error":"#VALUE!"}}]
[{"$nulls":18},{"$f":"Tabla13[[#This Row],[Título del contrato]]&Tabla13[[#This Row],[Nº Expediente de la plataforma de contratación]]","v":{"$error":"#VALUE!"}},{"$f":"Tabla13[[#This Row],[Nº Expediente de la plataforma de contratación]]","v":{"$error":"#VALUE!"}},{"$f":"Tabla13[[#This Row],[Importe IVA ]]","v":{"$error":"#VALUE!"}},{"$f":"Tabla13[[#This Row],[Importe de adjudicación (IVA INCLUIDO)]]","v":{"$error":"#VALUE!"}}]
[{"$nulls":18},{"$f":"Tabla13[[#This Row],[Título del contrato]]&Tabla13[[#This Row],[Nº Expediente de la plataforma de contratación]]","v":{"$error":"#VALUE!"}},{"$f":"Tabla13[[#This Row],[Nº Expediente de la plataforma de contratación]]","v":{"$error":"#VALUE!"}},{"$f":"Tabla13[[#This Row],[Importe IVA ]]","v":{"$error":"#VALUE!"}},{"$f":"Tabla13[[#This Row],[Importe de adjudicación (IVA INCLUIDO)]]","v":{"$error":"#VALUE!"}}]
[{"$nulls":18},{"$f":"Tabla13[[#This Row],[Título del contrato]]&Tabla13[[#This Row],[Nº Expediente de la plataforma de contratación]]","v":{"$error":"#VALUE!"}},{"$f":"Tabla13[[#This Row],[Nº Expediente de la plataforma de contratación]]","v":{"$error":"#VALUE!"}},{"$f":"Tabla13[[#This Row],[Importe IVA ]]","v":{"$error":"#VALUE!"}},{"$f":"Tabla13[[#This Row],[Importe de adjudicación (IVA INCLUIDO)]]","v":{"$error":"#VALUE!"}}]
[{"$nulls":18},{"$f":"Tabla13[[#This Row],[Título del contrato]]&Tabla13[[#This Row],[Nº Expediente de la plataforma de contratación]]","v":{"$error":"#VALUE!"}},{"$f":"Tabla13[[#This Row],[Nº Expediente de la plataforma de contratación]]","v":{"$error":"#VALUE!"}},{"$f":"Tabla13[[#This Row],[Importe IVA ]]","v":{"$error":"#VALUE!"}},{"$f":"Tabla13[[#This Row],[Importe de adjudicación (IVA INCLUIDO)]]","v":{"$error":"#VALUE!"}}]
[{"$nulls":18},{"$f":"Tabla13[[#This Row],[Título del contrato]]&Tabla13[[#This Row],[Nº Expediente de la plataforma de contratación]]","v":{"$error":"#VALUE!"}},{"$f":"Tabla13[[#This Row],[Nº Expediente de la plataforma de contratación]]","v":{"$error":"#VALUE!"}},{"$f":"Tabla13[[#This Row],[Importe IVA ]]","v":{"$error":"#VALUE!"}},{"$f":"Tabla13[[#This Row],[Importe de adjudicación (IVA INCLUIDO)]]","v":{"$error":"#VALUE!"}}]
[{"$nulls":18},{"$f":"Tabla13[[#This Row],[Título del contrato]]&Tabla13[[#This Row],[Nº Expediente de la plataforma de contratación]]","v":{"$error":"#VALUE!"}},{"$f":"Tabla13[[#This Row],[Nº Expediente de la plataforma de contratación]]","v":{"$error":"#VALUE!"}},{"$f":"Tabla13[[#This Row],[Importe IVA ]]","v":{"$error":"#VALUE!"}},{"$f":"Tabla13[[#This Row],[Importe de adjudicación (IVA INCLUIDO)]]","v":{"$error":"#VALUE!"}}]
[{"$nulls":18},{"$f":"Tabla13[[#This Row],[Título del contrato]]&Tabla13[[#This Row],[Nº Expediente de la plataforma de contratación]]","v":{"$error":"#VALUE!"}},{"$f":"Tabla13[[#This Row],[Nº Expediente de la plataforma de contratación]]","v":{"$error":"#VALUE!"}},{"$f":"Tabla13[[#This Row],[Importe IVA ]]","v":{"$error":"#VALUE!"}},{"$f":"Tabla13[[#This Row],[Importe de adjudicación (IVA INCLUIDO)]]","v":{"$error":"#VALUE!"}}]
[{"$nulls":18},{"$f":"Tabla13[[#This Row],[Título del contrato]]&Tabla13[[#This Row],[Nº Expediente de la plataforma de contratación]]","v":{"$error":"#VALUE!"}},{"$f":"Tabla13[[#This Row],[Nº Expediente de la plataforma de contratación]]","v":{"$error":"#VALUE!"}},{"$f":"Tabla13[[#This Row],[Importe IVA ]]","v":{"$error":"#VALUE!"}},{"$f":"Tabla13[[#This Row],[Importe de adjudicación (IVA INCLUIDO)]]","v":{"$error":"#VALUE!"}}]
[{"$nulls":18},{"$f":"Tabla13[[#This Row],[Título del contrato]]&Tabla13[[#This Row],[Nº Expediente de la plataforma de contratación]]","v":{"$error":"#VALUE!"}},{"$f":"Tabla13[[#This Row],[Nº Expediente de la plataforma de contratación]]","v":{"$error":"#VALUE!"}},{"$f":"Tabla13[[#This Row],[Importe IVA ]]","v":{"$error":"#VALUE!"}},{"$f":"Tabla13[[#This Row],[Importe de adjudicación (IVA INCLUIDO)]]","v":{"$error":"#VALUE!"}}]
[{"$nulls":18},{"$f":"Tabla13[[#This Row],[Título del contrato]]&Tabla13[[#This Row],[Nº Expediente de la plataforma de contratación]]","v":{"$error":"#VALUE!"}},{"$f":"Tabla13[[#This Row],[Nº Expediente de la plataforma de contratación]]","v":{"$error":"#VALUE!"}},{"$f":"Tabla13[[#This Row],[Importe IVA ]]","v":{"$error":"#VALUE!"}},{"$f":"Tabla13[[#This Row],[Importe de adjudicación (IVA INCLUIDO)]]","v":{"$error":"#VALUE!"}}]
[{"$nulls":18},{"$f":"Tabla13[[#This Row],[Título del contrato]]&Tabla13[[#This Row],[Nº Expediente de la plataforma de contratación]]","v":{"$error":"#VALUE!"}},{"$f":"Tabla13[[#This Row],[Nº Expediente de la plataforma de contratación]]","v":{"$error":"#VALUE!"}},{"$f":"Tabla13[[#This Row],[Importe IVA ]]","v":{"$error":"#VALUE!"}},{"$f":"Tabla13[[#This Row],[Importe de adjudicación (IVA INCLUIDO)]]","v":{"$error":"#VALUE!"}}]
[{"$nulls":18},{"$f":"Tabla13[[#This Row],[Título del contrato]]&Tabla13[[#This Row],[Nº Expediente de la plataforma de contratación]]","v":{"$error":"#VALUE!"}},{"$f":"Tabla13[[#This Row],[Nº Expediente de la plataforma de contratación]]","v":{"$error":"#VALUE!"}},{"$f":"Tabla13[[#This Row],[Importe IVA ]]","v":{"$error":"#VALUE!"}},{"$f":"Tabla13[[#This Row],[Importe de adjudicación (IVA INCLUIDO)]]","v":{"$error":"#VALUE!"}}]
[{"$nulls":18},{"$f":"Tabla13[[#This Row],[Título del contrato]]&Tabla13[[#This Row],[Nº Expediente de la plataforma de contratación]]","v":{"$error":"#VALUE!"}},{"$f":"Tabla13[[#This Row],[Nº Expediente de la plataforma de contratación]]","v":{"$error":"#VALUE!"}},{"$f":"Tabla13[[#This Row],[Importe IVA ]]","v":{"$error":"#VALUE!"}},{"$f":"Tabla13[[#This Row],[Importe de adjudicación (IVA INCLUIDO)]]","v":{"$error":"#VALUE!"}}]
[{"$nulls":18},{"$f":"Tabla13[[#This Row],[Título del contrato]]&Tabla13[[#This Row],[Nº Expediente de la plataforma de contratación]]","v":{"$error":"#VALUE!"}},{"$f":"Tabla13[[#This Row],[Nº Expediente de la plataforma de contratación]]","v":{"$error":"#VALUE!"}},{"$f":"Tabla13[[#This Row],[Importe IVA ]]","v":{"$error":"#VALUE!"}},{"$f":"Tabla13[[#This Row],[Importe de adjudicación (IVA INCLUIDO)]]","v":{"$error":"#VALUE!"}}]
[{"$nulls":18},{"$f":"Tabla13[[#This Row],[Título del contrato]]&Tabla13[[#This Row],[Nº Expediente de la plataforma de contratación]]","v":{"$error":"#VALUE!"}},{"$f":"Tabla13[[#This Row],[Nº Expediente de la plataforma de contratación]]","v":{"$error":"#VALUE!"}},{"$f":"Tabla13[[#This Row],[Importe IVA ]]","v":{"$error":"#VALUE!"}},{"$f":"Tabla13[[#This Row],[Importe de adjudicación (IVA INCLUIDO)]]","v":{"$error":"#VALUE!"}}]
[{"$nulls":18},{"$f":"Tabla13[[#This Row],[Título del contrato]]&Tabla13[[#This Row],[Nº Expediente de la plataforma de contratación]]","v":{"$error":"#VALUE!"}},{"$f":"Tabla13[[#This Row],[Nº Expediente de la plataforma de contratación]]","v":{"$error":"#VALUE!"}},{"$f":"Tabla13[[#This Row],[Importe IVA ]]","v":{"$error":"#VALUE!"}},{"$f":"Tabla13[[#This Row],[Importe de adjudicación (IVA INCLUIDO)]]","v":{"$error":"#VALUE!"}}]
[{"$nulls":18},{"$f":"Tabla13[[#This Row],[Título del contrato]]&Tabla13[[#This Row],[Nº Expediente de la plataforma de contratación]]","v":{"$error":"#VALUE!"}},{"$f":"Tabla13[[#This Row],[Nº Expediente de la plataforma de contratación]]","v":{"$error":"#VALUE!"}},{"$f":"Tabla13[[#This Row],[Importe IVA ]]","v":{"$error":"#VALUE!"}},{"$f":"Tabla13[[#This Row],[Importe de adjudicación (IVA INCLUIDO)]]","v":{"$error":"#VALUE!"}}]
[{"$nulls":18},{"$f":"Tabla13[[#This Row],[Título del contrato]]&Tabla13[[#This Row],[Nº Expediente de la plataforma de contratación]]","v":{"$error":"#VALUE!"}},{"$f":"Tabla13[[#This Row],[Nº Expediente de la plataforma de contratación]]","v":{"$error":"#VALUE!"}},{"$f":"Tabla13[[#This Row],[Importe IVA ]]","v":{"$error":"#VALUE!"}},{"$f":"Tabla13[[#This Row],[Importe de adjudicación (IVA INCLUIDO)]]","v":{"$error":"#VALUE!"}}]
[{"$nulls":18},{"$f":"Tabla13[[#This Row],[Título del contrato]]&Tabla13[[#This Row],[Nº Expediente de la plataforma de contratación]]","v":{"$error":"#VALUE!"}},{"$f":"Tabla13[[#This Row],[Nº Expediente de la plataforma de contratación]]","v":{"$error":"#VALUE!"}},{"$f":"Tabla13[[#This Row],[Importe IVA ]]","v":{"$error":"#VALUE!"}},{"$f":"Tabla13[[#This Row],[Importe de adjudicación (IVA INCLUIDO)]]","v":{"$error":"#VALUE!"}}]
[{"$nulls":18},{"$f":"Tabla13[[#This Row],[Título del contrato]]&Tabla13[[#This Row],[Nº Expediente de la plataforma de contratación]]","v":{"$error":"#VALUE!"}},{"$f":"Tabla13[[#This Row],[Nº Expediente de la plataforma de contratación]]","v":{"$error":"#VALUE!"}},{"$f":"Tabla13[[#This Row],[Importe IVA ]]","v":{"$error":"#VALUE!"}},{"$f":"Tabla13[[#This Row],[Importe de adjudicación (IVA INCLUIDO)]]","v":{"$error":"#VALUE!"}}]
[{"$nulls":18},{"$f":"Tabla13[[#This Row],[Título del contrato]]&Tabla13[[#This Row],[Nº Expediente de la plataforma de contratación]]","v":{"$error":"#VALUE!"}},{"$f":"Tabla13[[#This Row],[Nº Expediente de la plataforma de contratación]]","v":{"$error":"#VALUE!"}},{"$f":"Tabla13[[#This Row],[Importe IVA ]]","v":{"$error":"#VALUE!"}},{"$f":"Tabla13[[#This Row],[Importe de adjudicación (IVA INCLUIDO)]]","v":{"$error":"#VALUE!"}}]
[{"$nulls":18},{"$f":"Tabla13[[#This Row],[Título del contrato]]&Tabla13[[#This Row],[Nº Expediente de la plataforma de contratación]]","v":{"$error":"#VALUE!"}},{"$f":"Tabla13[[#This Row],[Nº Expediente de la plataforma de contratación]]","v":{"$error":"#VALUE!"}},{"$f":"Tabla13[[#This Row],[Importe IVA ]]","v":{"$error":"#VALUE!"}},{"$f":"Tabla13[[#This Row],[Importe de adjudicación (IVA INCLUIDO)]]","v":{"$error":"#VALUE!"}}]
[{"$nulls":18},{"$f":"Tabla13[[#This Row],[Título del contrato]]&Tabla13[[#This Row],[Nº Expediente de la plataforma de contratación]]","v":{"$error":"#VALUE!"}},{"$f":"Tabla13[[#This Row],[Nº Expediente de la plataforma de contratación]]","v":{"$error":"#VALUE!"}},{"$f":"Tabla13[[#This Row],[Importe IVA ]]","v":{"$error":"#VALUE!"}},{"$f":"Tabla13[[#This Row],[Importe de adjudicación (IVA INCLUIDO)]]","v":{"$error":"#VALUE!"}}]
[{"$nulls":18},{"$f":"Tabla13[[#This Row],[Título del contrato]]&Tabla13[[#This Row],[Nº Expediente de la plataforma de contratación]]","v":{"$error":"#VALUE!"}},{"$f":"Tabla13[[#This Row],[Nº Expediente de la plataforma de contratación]]","v":{"$error":"#VALUE!"}},{"$f":"Tabla13[[#This Row],[Importe IVA ]]","v":{"$error":"#VALUE!"}},{"$f":"Tabla13[[#This Row],[Importe de adjudicación (IVA INCLUIDO)]]","v":{"$error":"#VALUE!"}}]
[{"$nulls":18},{"$f":"Tabla13[[#This Row],[Título del contrato]]&Tabla13[[#This Row],[Nº Expediente de la plataforma de contratación]]","v":{"$error":"#VALUE!"}},{"$f":"Tabla13[[#This Row],[Nº Expediente de la plataforma de contratación]]","v":{"$error":"#VALUE!"}},{"$f":"Tabla13[[#This Row],[Importe IVA ]]","v":{"$error":"#VALUE!"}},{"$f":"Tabla13[[#This Row],[Importe de adjudicación (IVA INCLUIDO)]]","v":{"$error":"#VALUE!"}}]
[{"$nulls":18},{"$f":"Tabla13[[#This Row],[Título del contrato]]&Tabla13[[#This Row],[Nº Expediente de la plataforma de contratación]]","v":{"$error":"#VALUE!"}},{"$f":"Tabla13[[#This Row],[Nº Expediente de la plataforma de contratación]]","v":{"$error":"#VALUE!"}},{"$f":"Tabla13[[#This Row],[Importe IVA ]]","v":{"$error":"#VALUE!"}},{"$f":"Tabla13[[#This Row],[Importe de adjudicación (IVA INCLUIDO)]]","v":{"$error":"#VALUE!"}}]
[{"$nulls":18},{"$f":"Tabla13[[#This Row],[Título del contrato]]&Tabla13[[#This Row],[Nº Expediente de la plataforma de contratación]]","v":{"$error":"#VALUE!"}},{"$f":"Tabla13[[#This Row],[Nº Expediente de la plataforma de contratación]]","v":{"$error":"#VALUE!"}},{"$f":"Tabla13[[#This Row],[Importe IVA ]]","v":{"$error":"#VALUE!"}},{"$f":"Tabla13[[#This Row],[Importe de adjudicación (IVA INCLUIDO)]]","v":{"$error":"#VALUE!"}}]
[{"$nulls":18},{"$f":"Tabla13[[#This Row],[Título del contrato]]&Tabla13[[#This Row],[Nº Expediente de la plataforma de contratación]]","v":{"$error":"#VALUE!"}},{"$f":"Tabla13[[#This Row],[Nº Expediente de la plataforma de contratación]]","v":{"$error":"#VALUE!"}},{"$f":"Tabla13[[#This Row],[Importe IVA ]]","v":{"$error":"#VALUE!"}},{"$f":"Tabla13[[#This Row],[Importe de adjudicación (IVA INCLUIDO)]]","v":{"$error":"#VALUE!"}}]
[{"$nulls":18},{"$f":"Tabla13[[#This Row],[Título del contrato]]&Tabla13[[#This Row],[Nº Expediente de la plataforma de contratación]]","v":{"$error":"#VALUE!"}},{"$f":"Tabla13[[#This Row],[Nº Expediente de la plataforma de contratación]]","v":{"$error":"#VALUE!"}},{"$f":"Tabla13[[#This Row],[Importe IVA ]]","v":{"$error":"#VALUE!"}},{"$f":"Tabla13[[#This Row],[Importe de adjudicación (IVA INCLUIDO)]]","v":{"$error":"#VALUE!"}}]
[{"$nulls":18},{"$f":"Tabla13[[#This Row],[Título del contrato]]&Tabla13[[#This Row],[Nº Expediente de la plataforma de contratación]]","v":{"$error":"#VALUE!"}},{"$f":"Tabla13[[#This Row],[Nº Expediente de la plataforma de contratación]]","v":{"$error":"#VALUE!"}},{"$f":"Tabla13[[#This Row],[Importe IVA ]]","v":{"$error":"#VALUE!"}},{"$f":"Tabla13[[#This Row],[Importe de adjudicación (IVA INCLUIDO)]]","v":{"$error":"#VALUE!"}}]
[{"$nulls":18},{"$f":"Tabla13[[#This Row],[Título del contrato]]&Tabla13[[#This Row],[Nº Expediente de la plataforma de contratación]]","v":{"$error":"#VALUE!"}},{"$f":"Tabla13[[#This Row],[Nº Expediente de la plataforma de contratación]]","v":{"$error":"#VALUE!"}},{"$f":"Tabla13[[#This Row],[Importe IVA ]]","v":{"$error":"#VALUE!"}},{"$f":"Tabla13[[#This Row],[Importe de adjudicación (IVA INCLUIDO)]]","v":{"$error":"#VALUE!"}}]
[{"$nulls":18},{"$f":"Tabla13[[#This Row],[Título del contrato]]&Tabla13[[#This Row],[Nº Expediente de la plataforma de contratación]]","v":{"$error":"#VALUE!"}},{"$f":"Tabla13[[#This Row],[Nº Expediente de la plataforma de contratación]]","v":{"$error":"#VALUE!"}},{"$f":"Tabla13[[#This Row],[Importe IVA ]]","v":{"$error":"#VALUE!"}},{"$f":"Tabla13[[#This Row],[Importe de adjudicación (IVA INCLUIDO)]]","v":{"$error":"#VALUE!"}}]
[{"$nulls":18},{"$f":"Tabla13[[#This Row],[Título del contrato]]&Tabla13[[#This Row],[Nº Expediente de la plataforma de contratación]]","v":{"$error":"#VALUE!"}},{"$f":"Tabla13[[#This Row],[Nº Expediente de la plataforma de contratación]]","v":{"$error":"#VALUE!"}},{"$f":"Tabla13[[#This Row],[Importe IVA ]]","v":{"$error":"#VALUE!"}},{"$f":"Tabla13[[#This Row],[Importe de adjudicación (IVA INCLUIDO)]]","v":{"$error":"#VALUE!"}}]
[{"$nulls":18},{"$f":"Tabla13[[#This Row],[Título del contrato]]&Tabla13[[#This Row],[Nº Expediente de la plataforma de contratación]]","v":{"$error":"#VALUE!"}},{"$f":"Tabla13[[#This Row],[Nº Expediente de la plataforma de contratación]]","v":{"$error":"#VALUE!"}},{"$f":"Tabla13[[#This Row],[Importe IVA ]]","v":{"$error":"#VALUE!"}},{"$f":"Tabla13[[#This Row],[Importe de adjudicación (IVA INCLUIDO)]]","v":{"$error":"#VALUE!"}}]
[{"$nulls":18},{"$f":"Tabla13[[#This Row],[Título del contrato]]&Tabla13[[#This Row],[Nº Expediente de la plataforma de contratación]]","v":{"$error":"#VALUE!"}},{"$f":"Tabla13[[#This Row],[Nº Expediente de la plataforma de contratación]]","v":{"$error":"#VALUE!"}},{"$f":"Tabla13[[#This Row],[Importe IVA ]]","v":{"$error":"#VALUE!"}},{"$f":"Tabla13[[#This Row],[Importe de adjudicación (IVA INCLUIDO)]]","v":{"$error":"#VALUE!"}}]
[{"$nulls":18},{"$f":"Tabla13[[#This Row],[Título del contrato]]&Tabla13[[#This Row],[Nº Expediente de la plataforma de contratación]]","v":{"$error":"#VALUE!"}},{"$f":"Tabla13[[#This Row],[Nº Expediente de la plataforma de contratación]]","v":{"$error":"#VALUE!"}},{"$f":"Tabla13[[#This Row],[Importe IVA ]]","v":{"$error":"#VALUE!"}},{"$f":"Tabla13[[#This Row],[Importe de adjudicación (IVA INCLUIDO)]]","v":{"$error":"#VALUE!"}}]
[{"$nulls":18},{"$f":"Tabla13[[#This Row],[Título del contrato]]&Tabla13[[#This Row],[Nº Expediente de la plataforma de contratación]]","v":{"$error":"#VALUE!"}},{"$f":"Tabla13[[#This Row],[Nº Expediente de la plataforma de contratación]]","v":{"$error":"#VALUE!"}},{"$f":"Tabla13[[#This Row],[Importe IVA ]]","v":{"$error":"#VALUE!"}},{"$f":"Tabla13[[#This Row],[Importe de adjudicación (IVA INCLUIDO)]]","v":{"$error":"#VALUE!"}}]
[{"$nulls":18},{"$f":"Tabla13[[#This Row],[Título del contrato]]&Tabla13[[#This Row],[Nº Expediente de la plataforma de contratación]]","v":{"$error":"#VALUE!"}},{"$f":"Tabla13[[#This Row],[Nº Expediente de la plataforma de contratación]]","v":{"$error":"#VALUE!"}},{"$f":"Tabla13[[#This Row],[Importe IVA ]]","v":{"$error":"#VALUE!"}},{"$f":"Tabla13[[#This Row],[Importe de adjudicación (IVA INCLUIDO)]]","v":{"$error":"#VALUE!"}}]
[{"$nulls":18},{"$f":"Tabla13[[#This Row],[Título del contrato]]&Tabla13[[#This Row],[Nº Expediente de la plataforma de contratación]]","v":{"$error":"#VALUE!"}},{"$f":"Tabla13[[#This Row],[Nº Expediente de la plataforma de contratación]]","v":{"$error":"#VALUE!"}},{"$f":"Tabla13[[#This Row],[Importe IVA ]]","v":{"$error":"#VALUE!"}},{"$f":"Tabla13[[#This Row],[Importe de adjudicación (IVA INCLUIDO)]]","v":{"$error":"#VALUE!"}}]
[{"$nulls":18},{"$f":"Tabla13[[#This Row],[Título del contrato]]&Tabla13[[#This Row],[Nº Expediente de la plataforma de contratación]]","v":{"$error":"#VALUE!"}},{"$f":"Tabla13[[#This Row],[Nº Expediente de la plataforma de contratación]]","v":{"$error":"#VALUE!"}},{"$f":"Tabla13[[#This Row],[Importe IVA ]]","v":{"$error":"#VALUE!"}},{"$f":"Tabla13[[#This Row],[Importe de adjudicación (IVA INCLUIDO)]]","v":{"$error":"#VALUE!"}}]
[{"$nulls":18},{"$f":"Tabla13[[#This Row],[Título del contrato]]&Tabla13[[#This Row],[Nº Expediente de la plataforma de contratación]]","v":{"$error":"#VALUE!"}},{"$f":"Tabla13[[#This Row],[Nº Expediente de la plataforma de contratación]]","v":{"$error":"#VALUE!"}},{"$f":"Tabla13[[#This Row],[Importe IVA ]]","v":{"$error":"#VALUE!"}},{"$f":"Tabla13[[#This Row],[Importe de adjudicación (IVA INCLUIDO)]]","v":{"$error":"#VALUE!"}}]
[{"$nulls":18},{"$f":"Tabla13[[#This Row],[Título del contrato]]&Tabla13[[#This Row],[Nº Expediente de la plataforma de contratación]]","v":{"$error":"#VALUE!"}},{"$f":"Tabla13[[#This Row],[Nº Expediente de la plataforma de contratación]]","v":{"$error":"#VALUE!"}},{"$f":"Tabla13[[#This Row],[Importe IVA ]]","v":{"$error":"#VALUE!"}},{"$f":"Tabla13[[#This Row],[Importe de adjudicación (IVA INCLUIDO)]]","v":{"$error":"#VALUE!"}}]
[{"$nulls":18},{"$f":"Tabla13[[#This Row],[Título del contrato]]&Tabla13[[#This Row],[Nº Expediente de la plataforma de contratación]]","v":{"$error":"#VALUE!"}},{"$f":"Tabla13[[#This Row],[Nº Expediente de la plataforma de contratación]]","v":{"$error":"#VALUE!"}},{"$f":"Tabla13[[#This Row],[Importe IVA ]]","v":{"$error":"#VALUE!"}},{"$f":"Tabla13[[#This Row],[Importe de adjudicación (IVA INCLUIDO)]]","v":{"$error":"#VALUE!"}}]
[{"$nulls":18},{"$f":"Tabla13[[#This Row],[Título del contrato]]&Tabla13[[#This Row],[Nº Expediente de la plataforma de contratación]]","v":{"$error":"#VALUE!"}},{"$f":"Tabla13[[#This Row],[Nº Expediente de la plataforma de contratación]]","v":{"$error":"#VALUE!"}},{"$f":"Tabla13[[#This Row],[Importe IVA ]]","v":{"$error":"#VALUE!"}},{"$f":"Tabla13[[#This Row],[Importe de adjudicación (IVA INCLUIDO)]]","v":{"$error":"#VALUE!"}}]
[{"$nulls":18},{"$f":"Tabla13[[#This Row],[Título del contrato]]&Tabla13[[#This Row],[Nº Expediente de la plataforma de contratación]]","v":{"$error":"#VALUE!"}},{"$f":"Tabla13[[#This Row],[Nº Expediente de la plataforma de contratación]]","v":{"$error":"#VALUE!"}},{"$f":"Tabla13[[#This Row],[Importe IVA ]]","v":{"$error":"#VALUE!"}},{"$f":"Tabla13[[#This Row],[Importe de adjudicación (IVA INCLUIDO)]]","v":{"$error":"#VALUE!"}}]
[{"$nulls":18},{"$f":"Tabla13[[#This Row],[Título del contrato]]&Tabla13[[#This Row],[Nº Expediente de la plataforma de contratación]]","v":{"$error":"#VALUE!"}},{"$f":"Tabla13[[#This Row],[Nº Expediente de la plataforma de contratación]]","v":{"$error":"#VALUE!"}},{"$f":"Tabla13[[#This Row],[Importe IVA ]]","v":{"$error":"#VALUE!"}},{"$f":"Tabla13[[#This Row],[Importe de adjudicación (IVA INCLUIDO)]]","v":{"$error":"#VALUE!"}}]
[{"$nulls":18},{"$f":"Tabla13[[#This Row],[Título del contrato]]&Tabla13[[#This Row],[Nº Expediente de la plataforma de contratación]]","v":{"$error":"#VALUE!"}},{"$f":"Tabla13[[#This Row],[Nº Expediente de la plataforma de contratación]]","v":{"$error":"#VALUE!"}},{"$f":"Tabla13[[#This Row],[Importe IVA ]]","v":{"$error":"#VALUE!"}},{"$f":"Tabla13[[#This Row],[Importe de adjudicación (IVA INCLUIDO)]]","v":{"$error":"#VALUE!"}}]
[{"$nulls":18},{"$f":"Tabla13[[#This Row],[Título del contrato]]&Tabla13[[#This Row],[Nº Expediente de la plataforma de contratación]]","v":{"$error":"#VALUE!"}},{"$f":"Tabla13[[#This Row],[Nº Expediente de la plataforma de contratación]]","v":{"$error":"#VALUE!"}},{"$f":"Tabla13[[#This Row],[Importe IVA ]]","v":{"$error":"#VALUE!"}},{"$f":"Tabla13[[#This Row],[Importe de adjudicación (IVA INCLUIDO)]]","v":{"$error":"#VALUE!"}}]
[{"$nulls":18},{"$f":"Tabla13[[#This Row],[Título del contrato]]&Tabla13[[#This Row],[Nº Expediente de la plataforma de contratación]]","v":{"$error":"#VALUE!"}},{"$f":"Tabla13[[#This Row],[Nº Expediente de la plataforma de contratación]]","v":{"$error":"#VALUE!"}},{"$f":"Tabla13[[#This Row],[Importe IVA ]]","v":{"$error":"#VALUE!"}},{"$f":"Tabla13[[#This Row],[Importe de adjudicación (IVA INCLUIDO)]]","v":{"$error":"#VALUE!"}}]
[{"$nulls":18},{"$f":"Tabla13[[#This Row],[Título del contrato]]&Tabla13[[#This Row],[Nº Expediente de la plataforma de contratación]]","v":{"$error":"#VALUE!"}},{"$f":"Tabla13[[#This Row],[Nº Expediente de la plataforma de contratación]]","v":{"$error":"#VALUE!"}},{"$f":"Tabla13[[#This Row],[Importe IVA ]]","v":{"$error":"#VALUE!"}},{"$f":"Tabla13[[#This Row],[Importe de adjudicación (IVA INCLUIDO)]]","v":{"$error":"#VALUE!"}}]
[{"$nulls":18},{"$f":"Tabla13[[#This Row],[Título del contrato]]&Tabla13[[#This Row],[Nº Expediente de la plataforma de contratación]]","v":{"$error":"#VALUE!"}},{"$f":"Tabla13[[#This Row],[Nº Expediente de la plataforma de contratación]]","v":{"$error":"#VALUE!"}},{"$f":"Tabla13[[#This Row],[Importe IVA ]]","v":{"$error":"#VALUE!"}},{"$f":"Tabla13[[#This Row],[Importe de adjudicación (IVA INCLUIDO)]]","v":{"$error":"#VALUE!"}}]
[{"$nulls":18},{"$f":"Tabla13[[#This Row],[Título del contrato]]&Tabla13[[#This Row],[Nº Expediente de la plataforma de contratación]]","v":{"$error":"#VALUE!"}},{"$f":"Tabla13[[#This Row],[Nº Expediente de la plataforma de contratación]]","v":{"$error":"#VALUE!"}},{"$f":"Tabla13[[#This Row],[Importe IVA ]]","v":{"$error":"#VALUE!"}},{"$f":"Tabla13[[#This Row],[Importe de adjudicación (IVA INCLUIDO)]]","v":{"$error":"#VALUE!"}}]
[{"$nulls":18},{"$f":"Tabla13[[#This Row],[Título del contrato]]&Tabla13[[#This Row],[Nº Expediente de la plataforma de contratación]]","v":{"$error":"#VALUE!"}},{"$f":"Tabla13[[#This Row],[Nº Expediente de la plataforma de contratación]]","v":{"$error":"#VALUE!"}},{"$f":"Tabla13[[#This Row],[Importe IVA ]]","v":{"$error":"#VALUE!"}},{"$f":"Tabla13[[#This Row],[Importe de adjudicación (IVA INCLUIDO)]]","v":{"$error":"#VALUE!"}}]
[{"$nulls":18},{"$f":"Tabla13[[#This Row],[Título del contrato]]&Tabla13[[#This Row],[Nº Expediente de la plataforma de contratación]]","v":{"$error":"#VALUE!"}},{"$f":"Tabla13[[#This Row],[Nº Expediente de la plataforma de contratación]]","v":{"$error":"#VALUE!"}},{"$f":"Tabla13[[#This Row],[Importe IVA ]]","v":{"$error":"#VALUE!"}},{"$f":"Tabla13[[#This Row],[Importe de adjudicación (IVA INCLUIDO)]]","v":{"$error":"#VALUE!"}}]
[{"$nulls":18},{"$f":"Tabla13[[#This Row],[Título del contrato]]&Tabla13[[#This Row],[Nº Expediente de la plataforma de contratación]]","v":{"$error":"#VALUE!"}},{"$f":"Tabla13[[#This Row],[Nº Expediente de la plataforma de contratación]]","v":{"$error":"#VALUE!"}},{"$f":"Tabla13[[#This Row],[Importe IVA ]]","v":{"$error":"#VALUE!"}},{"$f":"Tabla13[[#This Row],[Importe de adjudicación (IVA INCLUIDO)]]","v":{"$error":"#VALUE!"}}]
[{"$nulls":18},{"$f":"Tabla13[[#This Row],[Título del contrato]]&Tabla13[[#This Row],[Nº Expediente de la plataforma de contratación]]","v":{"$error":"#VALUE!"}},{"$f":"Tabla13[[#This Row],[Nº Expediente de la plataforma de contratación]]","v":{"$error":"#VALUE!"}},{"$f":"Tabla13[[#This Row],[Importe IVA ]]","v":{"$error":"#VALUE!"}},{"$f":"Tabla13[[#This Row],[Importe de adjudicación (IVA INCLUIDO)]]","v":{"$error":"#VALUE!"}}]
[{"$nulls":18},{"$f":"Tabla13[[#This Row],[Título del contrato]]&Tabla13[[#This Row],[Nº Expediente de la plataforma de contratación]]","v":{"$error":"#VALUE!"}},{"$f":"Tabla13[[#This Row],[Nº Expediente de la plataforma de contratación]]","v":{"$error":"#VALUE!"}},{"$f":"Tabla13[[#This Row],[Importe IVA ]]","v":{"$error":"#VALUE!"}},{"$f":"Tabla13[[#This Row],[Importe de adjudicación (IVA INCLUIDO)]]","v":{"$error":"#VALUE!"}}]
[{"$nulls":18},{"$f":"Tabla13[[#This Row],[Título del contrato]]&Tabla13[[#This Row],[Nº Expediente de la plataforma de contratación]]","v":{"$error":"#VALUE!"}},{"$f":"Tabla13[[#This Row],[Nº Expediente de la plataforma de contratación]]","v":{"$error":"#VALUE!"}},{"$f":"Tabla13[[#This Row],[Importe IVA ]]","v":{"$error":"#VALUE!"}},{"$f":"Tabla13[[#This Row],[Importe de adjudicación (IVA INCLUIDO)]]","v":{"$error":"#VALUE!"}}]
[{"$nulls":18},{"$f":"Tabla13[[#This Row],[Título del contrato]]&Tabla13[[#This Row],[Nº Expediente de la plataforma de contratación]]","v":{"$error":"#VALUE!"}},{"$f":"Tabla13[[#This Row],[Nº Expediente de la plataforma de contratación]]","v":{"$error":"#VALUE!"}},{"$f":"Tabla13[[#This Row],[Importe IVA ]]","v":{"$error":"#VALUE!"}},{"$f":"Tabla13[[#This Row],[Importe de adjudicación (IVA INCLUIDO)]]","v":{"$error":"#VALUE!"}}]
[{"$nulls":18},{"$f":"Tabla13[[#This Row],[Título del contrato]]&Tabla13[[#This Row],[Nº Expediente de la plataforma de contratación]]","v":{"$error":"#VALUE!"}},{"$f":"Tabla13[[#This Row],[Nº Expediente de la plataforma de contratación]]","v":{"$error":"#VALUE!"}},{"$f":"Tabla13[[#This Row],[Importe IVA ]]","v":{"$error":"#VALUE!"}},{"$f":"Tabla13[[#This Row],[Importe de adjudicación (IVA INCLUIDO)]]","v":{"$error":"#VALUE!"}}]
[{"$nulls":18},{"$f":"Tabla13[[#This Row],[Título del contrato]]&Tabla13[[#This Row],[Nº Expediente de la plataforma de contratación]]","v":{"$error":"#VALUE!"}},{"$f":"Tabla13[[#This Row],[Nº Expediente de la plataforma de contratación]]","v":{"$error":"#VALUE!"}},{"$f":"Tabla13[[#This Row],[Importe IVA ]]","v":{"$error":"#VALUE!"}},{"$f":"Tabla13[[#This Row],[Importe de adjudicación (IVA INCLUIDO)]]","v":{"$error":"#VALUE!"}}]
[{"$nulls":18},{"$f":"Tabla13[[#This Row],[Título del contrato]]&Tabla13[[#This Row],[Nº Expediente de la plataforma de contratación]]","v":{"$error":"#VALUE!"}},{"$f":"Tabla13[[#This Row],[Nº Expediente de la plataforma de contratación]]","v":{"$error":"#VALUE!"}},{"$f":"Tabla13[[#This Row],[Importe IVA ]]","v":{"$error":"#VALUE!"}},{"$f":"Tabla13[[#This Row],[Importe de adjudicación (IVA INCLUIDO)]]","v":{"$error":"#VALUE!"}}]
[{"$nulls":18},{"$f":"Tabla13[[#This Row],[Título del contrato]]&Tabla13[[#This Row],[Nº Expediente de la plataforma de contratación]]","v":{"$error":"#VALUE!"}},{"$f":"Tabla13[[#This Row],[Nº Expediente de la plataforma de contratación]]","v":{"$error":"#VALUE!"}},{"$f":"Tabla13[[#This Row],[Importe IVA ]]","v":{"$error":"#VALUE!"}},{"$f":"Tabla13[[#This Row],[Importe de adjudicación (IVA INCLUIDO)]]","v":{"$error":"#VALUE!"}}]
[{"$nulls":18},{"$f":"Tabla13[[#This Row],[Título del contrato]]&Tabla13[[#This Row],[Nº Expediente de la plataforma de contratación]]","v":{"$error":"#VALUE!"}},{"$f":"Tabla13[[#This Row],[Nº Expediente de la plataforma de contratación]]","v":{"$error":"#VALUE!"}},{"$f":"Tabla13[[#This Row],[Importe IVA ]]","v":{"$error":"#VALUE!"}},{"$f":"Tabla13[[#This Row],[Importe de adjudicación (IVA INCLUIDO)]]","v":{"$error":"#VALUE!"}}]
[{"$nulls":18},{"$f":"Tabla13[[#This Row],[Título del contrato]]&Tabla13[[#This Row],[Nº Expediente de la plataforma de contratación]]","v":{"$error":"#VALUE!"}},{"$f":"Tabla13[[#This Row],[Nº Expediente de la plataforma de contratación]]","v":{"$error":"#VALUE!"}},{"$f":"Tabla13[[#This Row],[Importe IVA ]]","v":{"$error":"#VALUE!"}},{"$f":"Tabla13[[#This Row],[Importe de adjudicación (IVA INCLUIDO)]]","v":{"$error":"#VALUE!"}}]
[{"$nulls":18},{"$f":"Tabla13[[#This Row],[Título del contrato]]&Tabla13[[#This Row],[Nº Expediente de la plataforma de contratación]]","v":{"$error":"#VALUE!"}},{"$f":"Tabla13[[#This Row],[Nº Expediente de la plataforma de contratación]]","v":{"$error":"#VALUE!"}},{"$f":"Tabla13[[#This Row],[Importe IVA ]]","v":{"$error":"#VALUE!"}},{"$f":"Tabla13[[#This Row],[Importe de adjudicación (IVA INCLUIDO)]]","v":{"$error":"#VALUE!"}}]
[{"$nulls":18},{"$f":"Tabla13[[#This Row],[Título del contrato]]&Tabla13[[#This Row],[Nº Expediente de la plataforma de contratación]]","v":{"$error":"#VALUE!"}},{"$f":"Tabla13[[#This Row],[Nº Expediente de la plataforma de contratación]]","v":{"$error":"#VALUE!"}},{"$f":"Tabla13[[#This Row],[Importe IVA ]]","v":{"$error":"#VALUE!"}},{"$f":"Tabla13[[#This Row],[Importe de adjudicación (IVA INCLUIDO)]]","v":{"$error":"#VALUE!"}}]
[{"$nulls":18},{"$f":"Tabla13[[#This Row],[Título del contrato]]&Tabla13[[#This Row],[Nº Expediente de la plataforma de contratación]]","v":{"$error":"#VALUE!"}},{"$f":"Tabla13[[#This Row],[Nº Expediente de la plataforma de contratación]]","v":{"$error":"#VALUE!"}},{"$f":"Tabla13[[#This Row],[Importe IVA ]]","v":{"$error":"#VALUE!"}},{"$f":"Tabla13[[#This Row],[Importe de adjudicación (IVA INCLUIDO)]]","v":{"$error":"#VALUE!"}}]
[{"$nulls":18},{"$f":"Tabla13[[#This Row],[Título del contrato]]&Tabla13[[#This Row],[Nº Expediente de la plataforma de contratación]]","v":{"$error":"#VALUE!"}},{"$f":"Tabla13[[#This Row],[Nº Expediente de la plataforma de contratación]]","v":{"$error":"#VALUE!"}},{"$f":"Tabla13[[#This Row],[Importe IVA ]]","v":{"$error":"#VALUE!"}},{"$f":"Tabla13[[#This Row],[Importe de adjudicación (IVA INCLUIDO)]]","v":{"$error":"#VALUE!"}}]
[{"$nulls":18},{"$f":"Tabla13[[#This Row],[Título del contrato]]&Tabla13[[#This Row],[Nº Expediente de la plataforma de contratación]]","v":{"$error":"#VALUE!"}},{"$f":"Tabla13[[#This Row],[Nº Expediente de la plataforma de contratación]]","v":{"$error":"#VALUE!"}},{"$f":"Tabla13[[#This Row],[Importe IVA ]]","v":{"$error":"#VALUE!"}},{"$f":"Tabla13[[#This Row],[Importe de adjudicación (IVA INCLUIDO)]]","v":{"$error":"#VALUE!"}}]
[{"$nulls":18},{"$f":"Tabla13[[#This Row],[Título del contrato]]&Tabla13[[#This Row],[Nº Expediente de la plataforma de contratación]]","v":{"$error":"#VALUE!"}},{"$f":"Tabla13[[#This Row],[Nº Expediente de la plataforma de contratación]]","v":{"$error":"#VALUE!"}},{"$f":"Tabla13[[#This Row],[Importe IVA ]]","v":{"$error":"#VALUE!"}},{"$f":"Tabla13[[#This Row],[Importe de adjudicación (IVA INCLUIDO)]]","v":{"$error":"#VALUE!"}}]
[{"$nulls":18},{"$f":"Tabla13[[#This Row],[Título del contrato]]&Tabla13[[#This Row],[Nº Expediente de la plataforma de contratación]]","v":{"$error":"#VALUE!"}},{"$f":"Tabla13[[#This Row],[Nº Expediente de la plataforma de contratación]]","v":{"$error":"#VALUE!"}},{"$f":"Tabla13[[#This Row],[Importe IVA ]]","v":{"$error":"#VALUE!"}},{"$f":"Tabla13[[#This Row],[Importe de adjudicación (IVA INCLUIDO)]]","v":{"$error":"#VALUE!"}}]
[{"$nulls":18},{"$f":"Tabla13[[#This Row],[Título del contrato]]&Tabla13[[#This Row],[Nº Expediente de la plataforma de contratación]]","v":{"$error":"#VALUE!"}},{"$f":"Tabla13[[#This Row],[Nº Expediente de la plataforma de contratación]]","v":{"$error":"#VALUE!"}},{"$f":"Tabla13[[#This Row],[Importe IVA ]]","v":{"$error":"#VALUE!"}},{"$f":"Tabla13[[#This Row],[Importe de adjudicación (IVA INCLUIDO)]]","v":{"$error":"#VALUE!"}}]
[{"$nulls":18},{"$f":"Tabla13[[#This Row],[Título del contrato]]&Tabla13[[#This Row],[Nº Expediente de la plataforma de contratación]]","v":{"$error":"#VALUE!"}},{"$f":"Tabla13[[#This Row],[Nº Expediente de la plataforma de contratación]]","v":{"$error":"#VALUE!"}},{"$f":"Tabla13[[#This Row],[Importe IVA ]]","v":{"$error":"#VALUE!"}},{"$f":"Tabla13[[#This Row],[Importe de adjudicación (IVA INCLUIDO)]]","v":{"$error":"#VALUE!"}}]
[{"$nulls":18},{"$f":"Tabla13[[#This Row],[Título del contrato]]&Tabla13[[#This Row],[Nº Expediente de la plataforma de contratación]]","v":{"$error":"#VALUE!"}},{"$f":"Tabla13[[#This Row],[Nº Expediente de la plataforma de contratación]]","v":{"$error":"#VALUE!"}},{"$f":"Tabla13[[#This Row],[Importe IVA ]]","v":{"$error":"#VALUE!"}},{"$f":"Tabla13[[#This Row],[Importe de adjudicación (IVA INCLUIDO)]]","v":{"$error":"#VALUE!"}}]
[{"$nulls":18},{"$f":"Tabla13[[#This Row],[Título del contrato]]&Tabla13[[#This Row],[Nº Expediente de la plataforma de contratación]]","v":{"$error":"#VALUE!"}},{"$f":"Tabla13[[#This Row],[Nº Expediente de la plataforma de contratación]]","v":{"$error":"#VALUE!"}},{"$f":"Tabla13[[#This Row],[Importe IVA ]]","v":{"$error":"#VALUE!"}},{"$f":"Tabla13[[#This Row],[Importe de adjudicación (IVA INCLUIDO)]]","v":{"$error":"#VALUE!"}}]
[{"$nulls":18},{"$f":"Tabla13[[#This Row],[Título del contrato]]&Tabla13[[#This Row],[Nº Expediente de la plataforma de contratación]]","v":{"$error":"#VALUE!"}},{"$f":"Tabla13[[#This Row],[Nº Expediente de la plataforma de contratación]]","v":{"$error":"#VALUE!"}},{"$f":"Tabla13[[#This Row],[Importe IVA ]]","v":{"$error":"#VALUE!"}},{"$f":"Tabla13[[#This Row],[Importe de adjudicación (IVA INCLUIDO)]]","v":{"$error":"#VALUE!"}}]
[{"$nulls":18},{"$f":"Tabla13[[#This Row],[Título del contrato]]&Tabla13[[#This Row],[Nº Expediente de la plataforma de contratación]]","v":{"$error":"#VALUE!"}},{"$f":"Tabla13[[#This Row],[Nº Expediente de la plataforma de contratación]]","v":{"$error":"#VALUE!"}},{"$f":"Tabla13[[#This Row],[Importe IVA ]]","v":{"$error":"#VALUE!"}},{"$f":"Tabla13[[#This Row],[Importe de adjudicación (IVA INCLUIDO)]]","v":{"$error":"#VALUE!"}}]
[{"$nulls":18},{"$f":"Tabla13[[#This Row],[Título del contrato]]&Tabla13[[#This Row],[Nº Expediente de la plataforma de contratación]]","v":{"$error":"#VALUE!"}},{"$f":"Tabla13[[#This Row],[Nº Expediente de la plataforma de contratación]]","v":{"$error":"#VALUE!"}},{"$f":"Tabla13[[#This Row],[Importe IVA ]]","v":{"$error":"#VALUE!"}},{"$f":"Tabla13[[#This Row],[Importe de adjudicación (IVA INCLUIDO)]]","v":{"$error":"#VALUE!"}}]
[{"$nulls":18},{"$f":"Tabla13[[#This Row],[Título del contrato]]&Tabla13[[#This Row],[Nº Expediente de la plataforma de contratación]]","v":{"$error":"#VALUE!"}},{"$f":"Tabla13[[#This Row],[Nº Expediente de la plataforma de contratación]]","v":{"$error":"#VALUE!"}},{"$f":"Tabla13[[#This Row],[Importe IVA ]]","v":{"$error":"#VALUE!"}},{"$f":"Tabla13[[#This Row],[Importe de adjudicación (IVA INCLUIDO)]]","v":{"$error":"#VALUE!"}}]
[{"$nulls":18},{"$f":"Tabla13[[#This Row],[Título del contrato]]&Tabla13[[#This Row],[Nº Expediente de la plataforma de contratación]]","v":{"$error":"#VALUE!"}},{"$f":"Tabla13[[#This Row],[Nº Expediente de la plataforma de contratación]]","v":{"$error":"#VALUE!"}},{"$f":"Tabla13[[#This Row],[Importe IVA ]]","v":{"$error":"#VALUE!"}},{"$f":"Tabla13[[#This Row],[Importe de adjudicación (IVA INCLUIDO)]]","v":{"$error":"#VALUE!"}}]
[{"$nulls":18},{"$f":"Tabla13[[#This Row],[Título del contrato]]&Tabla13[[#This Row],[Nº Expediente de la plataforma de contratación]]","v":{"$error":"#VALUE!"}},{"$f":"Tabla13[[#This Row],[Nº Expediente de la plataforma de contratación]]","v":{"$error":"#VALUE!"}},{"$f":"Tabla13[[#This Row],[Importe IVA ]]","v":{"$error":"#VALUE!"}},{"$f":"Tabla13[[#This Row],[Importe de adjudicación (IVA INCLUIDO)]]","v":{"$error":"#VALUE!"}}]
[{"$nulls":18},{"$f":"Tabla13[[#This Row],[Título del contrato]]&Tabla13[[#This Row],[Nº Expediente de la plataforma de contratación]]","v":{"$error":"#VALUE!"}},{"$f":"Tabla13[[#This Row],[Nº Expediente de la plataforma de contratación]]","v":{"$error":"#VALUE!"}},{"$f":"Tabla13[[#This Row],[Importe IVA ]]","v":{"$error":"#VALUE!"}},{"$f":"Tabla13[[#This Row],[Importe de adjudicación (IVA INCLUIDO)]]","v":{"$error":"#VALUE!"}}]
[{"$nulls":18},{"$f":"Tabla13[[#This Row],[Título del contrato]]&Tabla13[[#This Row],[Nº Expediente de la plataforma de contratación]]","v":{"$error":"#VALUE!"}},{"$f":"Tabla13[[#This Row],[Nº Expediente de la plataforma de contratación]]","v":{"$error":"#VALUE!"}},{"$f":"Tabla13[[#This Row],[Importe IVA ]]","v":{"$error":"#VALUE!"}},{"$f":"Tabla13[[#This Row],[Importe de adjudicación (IVA INCLUIDO)]]","v":{"$error":"#VALUE!"}}]
[{"$nulls":18},{"$f":"Tabla13[[#This Row],[Título del contrato]]&Tabla13[[#This Row],[Nº Expediente de la plataforma de contratación]]","v":{"$error":"#VALUE!"}},{"$f":"Tabla13[[#This Row],[Nº Expediente de la plataforma de contratación]]","v":{"$error":"#VALUE!"}},{"$f":"Tabla13[[#This Row],[Importe IVA ]]","v":{"$error":"#VALUE!"}},{"$f":"Tabla13[[#This Row],[Importe de adjudicación (IVA INCLUIDO)]]","v":{"$error":"#VALUE!"}}]
[{"$nulls":18},{"$f":"Tabla13[[#This Row],[Título del contrato]]&Tabla13[[#This Row],[Nº Expediente de la plataforma de contratación]]","v":{"$error":"#VALUE!"}},{"$f":"Tabla13[[#This Row],[Nº Expediente de la plataforma de contratación]]","v":{"$error":"#VALUE!"}},{"$f":"Tabla13[[#This Row],[Importe IVA ]]","v":{"$error":"#VALUE!"}},{"$f":"Tabla13[[#This Row],[Importe de adjudicación (IVA INCLUIDO)]]","v":{"$error":"#VALUE!"}}]
[{"$nulls":18},{"$f":"Tabla13[[#This Row],[Título del contrato]]&Tabla13[[#This Row],[Nº Expediente de la plataforma de contratación]]","v":{"$error":"#VALUE!"}},{"$f":"Tabla13[[#This Row],[Nº Expediente de la plataforma de contratación]]","v":{"$error":"#VALUE!"}},{"$f":"Tabla13[[#This Row],[Importe IVA ]]","v":{"$error":"#VALUE!"}},{"$f":"Tabla13[[#This Row],[Importe de adjudicación (IVA INCLUIDO)]]","v":{"$error":"#VALUE!"}}]
[{"$nulls":18},{"$f":"Tabla13[[#This Row],[Título del contrato]]&Tabla13[[#This Row],[Nº Expediente de la plataforma de contratación]]","v":{"$error":"#VALUE!"}},{"$f":"Tabla13[[#This Row],[Nº Expediente de la plataforma de contratación]]","v":{"$error":"#VALUE!"}},{"$f":"Tabla13[[#This Row],[Importe IVA ]]","v":{"$error":"#VALUE!"}},{"$f":"Tabla13[[#This Row],[Importe de adjudicación (IVA INCLUIDO)]]","v":{"$error":"#VALUE!"}}]
[{"$nulls":18},{"$f":"Tabla13[[#This Row],[Título del contrato]]&Tabla13[[#This Row],[Nº Expediente de la plataforma de contratación]]","v":{"$error":"#VALUE!"}},{"$f":"Tabla13[[#This Row],[Nº Expediente de la plataforma de contratación]]","v":{"$error":"#VALUE!"}},{"$f":"Tabla13[[#This Row],[Importe IVA ]]","v":{"$error":"#VALUE!"}},{"$f":"Tabla13[[#This Row],[Importe de adjudicación (IVA INCLUIDO)]]","v":{"$error":"#VALUE!"}}]
[{"$nulls":18},{"$f":"Tabla13[[#This Row],[Título del contrato]]&Tabla13[[#This Row],[Nº Expediente de la plataforma de contratación]]","v":{"$error":"#VALUE!"}},{"$f":"Tabla13[[#This Row],[Nº Expediente de la plataforma de contratación]]","v":{"$error":"#VALUE!"}},{"$f":"Tabla13[[#This Row],[Importe IVA ]]","v":{"$error":"#VALUE!"}},{"$f":"Tabla13[[#This Row],[Importe de adjudicación (IVA INCLUIDO)]]","v":{"$error":"#VALUE!"}}]
[{"$nulls":18},{"$f":"Tabla13[[#This Row],[Título del contrato]]&Tabla13[[#This Row],[Nº Expediente de la plataforma de contratación]]","v":{"$error":"#VALUE!"}},{"$f":"Tabla13[[#This Row],[Nº Expediente de la plataforma de contratación]]","v":{"$error":"#VALUE!"}},{"$f":"Tabla13[[#This Row],[Importe IVA ]]","v":{"$error":"#VALUE!"}},{"$f":"Tabla13[[#This Row],[Importe de adjudicación (IVA INCLUIDO)]]","v":{"$error":"#VALUE!"}}]
[{"$nulls":18},{"$f":"Tabla13[[#This Row],[Título del contrato]]&Tabla13[[#This Row],[Nº Expediente de la plataforma de contratación]]","v":{"$error":"#VALUE!"}},{"$f":"Tabla13[[#This Row],[Nº Expediente de la plataforma de contratación]]","v":{"$error":"#VALUE!"}},{"$f":"Tabla13[[#This Row],[Importe IVA ]]","v":{"$error":"#VALUE!"}},{"$f":"Tabla13[[#This Row],[Importe de adjudicación (IVA INCLUIDO)]]","v":{"$error":"#VALUE!"}}]
[{"$nulls":18},{"$f":"Tabla13[[#This Row],[Título del contrato]]&Tabla13[[#This Row],[Nº Expediente de la plataforma de contratación]]","v":{"$error":"#VALUE!"}},{"$f":"Tabla13[[#This Row],[Nº Expediente de la plataforma de contratación]]","v":{"$error":"#VALUE!"}},{"$f":"Tabla13[[#This Row],[Importe IVA ]]","v":{"$error":"#VALUE!"}},{"$f":"Tabla13[[#This Row],[Importe de adjudicación (IVA INCLUIDO)]]","v":{"$error":"#VALUE!"}}]
[{"$nulls":18},{"$f":"Tabla13[[#This Row],[Título del contrato]]&Tabla13[[#This Row],[Nº Expediente de la plataforma de contratación]]","v":{"$error":"#VALUE!"}},{"$f":"Tabla13[[#This Row],[Nº Expediente de la plataforma de contratación]]","v":{"$error":"#VALUE!"}},{"$f":"Tabla13[[#This Row],[Importe IVA ]]","v":{"$error":"#VALUE!"}},{"$f":"Tabla13[[#This Row],[Importe de adjudicación (IVA INCLUIDO)]]","v":{"$error":"#VALUE!"}}]
[{"$nulls":18},{"$f":"Tabla13[[#This Row],[Título del contrato]]&Tabla13[[#This Row],[Nº Expediente de la plataforma de contratación]]","v":{"$error":"#VALUE!"}},{"$f":"Tabla13[[#This Row],[Nº Expediente de la plataforma de contratación]]","v":{"$error":"#VALUE!"}},{"$f":"Tabla13[[#This Row],[Importe IVA ]]","v":{"$error":"#VALUE!"}},{"$f":"Tabla13[[#This Row],[Importe de adjudicación (IVA INCLUIDO)]]","v":{"$error":"#VALUE!"}}]
[{"$nulls":18},{"$f":"Tabla13[[#This Row],[Título del contrato]]&Tabla13[[#This Row],[Nº Expediente de la plataforma de contratación]]","v":{"$error":"#VALUE!"}},{"$f":"Tabla13[[#This Row],[Nº Expediente de la plataforma de contratación]]","v":{"$error":"#VALUE!"}},{"$f":"Tabla13[[#This Row],[Importe IVA ]]","v":{"$error":"#VALUE!"}},{"$f":"Tabla13[[#This Row],[Importe de adjudicación (IVA INCLUIDO)]]","v":{"$error":"#VALUE!"}}]
[{"$nulls":18},{"$f":"Tabla13[[#This Row],[Título del contrato]]&Tabla13[[#This Row],[Nº Expediente de la plataforma de contratación]]","v":{"$error":"#VALUE!"}},{"$f":"Tabla13[[#This Row],[Nº Expediente de la plataforma de contratación]]","v":{"$error":"#VALUE!"}},{"$f":"Tabla13[[#This Row],[Importe IVA ]]","v":{"$error":"#VALUE!"}},{"$f":"Tabla13[[#This Row],[Importe de adjudicación (IVA INCLUIDO)]]","v":{"$error":"#VALUE!"}}]
[{"$nulls":18},{"$f":"Tabla13[[#This Row],[Título del contrato]]&Tabla13[[#This Row],[Nº Expediente de la plataforma de contratación]]","v":{"$error":"#VALUE!"}},{"$f":"Tabla13[[#This Row],[Nº Expediente de la plataforma de contratación]]","v":{"$error":"#VALUE!"}},{"$f":"Tabla13[[#This Row],[Importe IVA ]]","v":{"$error":"#VALUE!"}},{"$f":"Tabla13[[#This Row],[Importe de adjudicación (IVA INCLUIDO)]]","v":{"$error":"#VALUE!"}}]
[{"$nulls":18},{"$f":"Tabla13[[#This Row],[Título del contrato]]&Tabla13[[#This Row],[Nº Expediente de la plataforma de contratación]]","v":{"$error":"#VALUE!"}},{"$f":"Tabla13[[#This Row],[Nº Expediente de la plataforma de contratación]]","v":{"$error":"#VALUE!"}},{"$f":"Tabla13[[#This Row],[Importe IVA ]]","v":{"$error":"#VALUE!"}},{"$f":"Tabla13[[#This Row],[Importe de adjudicación (IVA INCLUIDO)]]","v":{"$error":"#VALUE!"}}]
[{"$nulls":18},{"$f":"Tabla13[[#This Row],[Título del contrato]]&Tabla13[[#This Row],[Nº Expediente de la plataforma de contratación]]","v":{"$error":"#VALUE!"}},{"$f":"Tabla13[[#This Row],[Nº Expediente de la plataforma de contratación]]","v":{"$error":"#VALUE!"}},{"$f":"Tabla13[[#This Row],[Importe IVA ]]","v":{"$error":"#VALUE!"}},{"$f":"Tabla13[[#This Row],[Importe de adjudicación (IVA INCLUIDO)]]","v":{"$error":"#VALUE!"}}]
[{"$nulls":18},{"$f":"Tabla13[[#This Row],[Título del contrato]]&Tabla13[[#This Row],[Nº Expediente de la plataforma de contratación]]","v":{"$error":"#VALUE!"}},{"$f":"Tabla13[[#This Row],[Nº Expediente de la plataforma de contratación]]","v":{"$error":"#VALUE!"}},{"$f":"Tabla13[[#This Row],[Importe IVA ]]","v":{"$error":"#VALUE!"}},{"$f":"Tabla13[[#This Row],[Importe de adjudicación (IVA INCLUIDO)]]","v":{"$error":"#VALUE!"}}]
[{"$nulls":18},{"$f":"Tabla13[[#This Row],[Título del contrato]]&Tabla13[[#This Row],[Nº Expediente de la plataforma de contratación]]","v":{"$error":"#VALUE!"}},{"$f":"Tabla13[[#This Row],[Nº Expediente de la plataforma de contratación]]","v":{"$error":"#VALUE!"}},{"$f":"Tabla13[[#This Row],[Importe IVA ]]","v":{"$error":"#VALUE!"}},{"$f":"Tabla13[[#This Row],[Importe de adjudicación (IVA INCLUIDO)]]","v":{"$error":"#VALUE!"}}]
[{"$nulls":18},{"$f":"Tabla13[[#This Row],[Título del contrato]]&Tabla13[[#This Row],[Nº Expediente de la plataforma de contratación]]","v":{"$error":"#VALUE!"}},{"$f":"Tabla13[[#This Row],[Nº Expediente de la plataforma de contratación]]","v":{"$error":"#VALUE!"}},{"$f":"Tabla13[[#This Row],[Importe IVA ]]","v":{"$error":"#VALUE!"}},{"$f":"Tabla13[[#This Row],[Importe de adjudicación (IVA INCLUIDO)]]","v":{"$error":"#VALUE!"}}]
[{"$nulls":18},{"$f":"Tabla13[[#This Row],[Título del contrato]]&Tabla13[[#This Row],[Nº Expediente de la plataforma de contratación]]","v":{"$error":"#VALUE!"}},{"$f":"Tabla13[[#This Row],[Nº Expediente de la plataforma de contratación]]","v":{"$error":"#VALUE!"}},{"$f":"Tabla13[[#This Row],[Importe IVA ]]","v":{"$error":"#VALUE!"}},{"$f":"Tabla13[[#This Row],[Importe de adjudicación (IVA INCLUIDO)]]","v":{"$error":"#VALUE!"}}]
[{"$nulls":18},{"$f":"Tabla13[[#This Row],[Título del contrato]]&Tabla13[[#This Row],[Nº Expediente de la plataforma de contratación]]","v":{"$error":"#VALUE!"}},{"$f":"Tabla13[[#This Row],[Nº Expediente de la plataforma de contratación]]","v":{"$error":"#VALUE!"}},{"$f":"Tabla13[[#This Row],[Importe IVA ]]","v":{"$error":"#VALUE!"}},{"$f":"Tabla13[[#This Row],[Importe de adjudicación (IVA INCLUIDO)]]","v":{"$error":"#VALUE!"}}]
[{"$nulls":18},{"$f":"Tabla13[[#This Row],[Título del contrato]]&Tabla13[[#This Row],[Nº Expediente de la plataforma de contratación]]","v":{"$error":"#VALUE!"}},{"$f":"Tabla13[[#This Row],[Nº Expediente de la plataforma de contratación]]","v":{"$error":"#VALUE!"}},{"$f":"Tabla13[[#This Row],[Importe IVA ]]","v":{"$error":"#VALUE!"}},{"$f":"Tabla13[[#This Row],[Importe de adjudicación (IVA INCLUIDO)]]","v":{"$error":"#VALUE!"}}]
[{"$nulls":18},{"$f":"Tabla13[[#This Row],[Título del contrato]]&Tabla13[[#This Row],[Nº Expediente de la plataforma de contratación]]","v":{"$error":"#VALUE!"}},{"$f":"Tabla13[[#This Row],[Nº Expediente de la plataforma de contratación]]","v":{"$error":"#VALUE!"}},{"$f":"Tabla13[[#This Row],[Importe IVA ]]","v":{"$error":"#VALUE!"}},{"$f":"Tabla13[[#This Row],[Importe de adjudicación (IVA INCLUIDO)]]","v":{"$error":"#VALUE!"}}]
[{"$nulls":18},{"$f":"Tabla13[[#This Row],[Título del contrato]]&Tabla13[[#This Row],[Nº Expediente de la plataforma de contratación]]","v":{"$error":"#VALUE!"}},{"$f":"Tabla13[[#This Row],[Nº Expediente de la plataforma de contratación]]","v":{"$error":"#VALUE!"}},{"$f":"Tabla13[[#This Row],[Importe IVA ]]","v":{"$error":"#VALUE!"}},{"$f":"Tabla13[[#This Row],[Importe de adjudicación (IVA INCLUIDO)]]","v":{"$error":"#VALUE!"}}]
[{"$nulls":18},{"$f":"Tabla13[[#This Row],[Título del contrato]]&Tabla13[[#This Row],[Nº Expediente de la plataforma de contratación]]","v":{"$error":"#VALUE!"}},{"$f":"Tabla13[[#This Row],[Nº Expediente de la plataforma de contratación]]","v":{"$error":"#VALUE!"}},{"$f":"Tabla13[[#This Row],[Importe IVA ]]","v":{"$error":"#VALUE!"}},{"$f":"Tabla13[[#This Row],[Importe de adjudicación (IVA INCLUIDO)]]","v":{"$error":"#VALUE!"}}]
[{"$nulls":18},{"$f":"Tabla13[[#This Row],[Título del contrato]]&Tabla13[[#This Row],[Nº Expediente de la plataforma de contratación]]","v":{"$error":"#VALUE!"}},{"$f":"Tabla13[[#This Row],[Nº Expediente de la plataforma de contratación]]","v":{"$error":"#VALUE!"}},{"$f":"Tabla13[[#This Row],[Importe IVA ]]","v":{"$error":"#VALUE!"}},{"$f":"Tabla13[[#This Row],[Importe de adjudicación (IVA INCLUIDO)]]","v":{"$error":"#VALUE!"}}]
[{"$nulls":18},{"$f":"Tabla13[[#This Row],[Título del contrato]]&Tabla13[[#This Row],[Nº Expediente de la plataforma de contratación]]","v":{"$error":"#VALUE!"}},{"$f":"Tabla13[[#This Row],[Nº Expediente de la plataforma de contratación]]","v":{"$error":"#VALUE!"}},{"$f":"Tabla13[[#This Row],[Importe IVA ]]","v":{"$error":"#VALUE!"}},{"$f":"Tabla13[[#This Row],[Importe de adjudicación (IVA INCLUIDO)]]","v":{"$error":"#VALUE!"}}]
[{"$nulls":18},{"$f":"Tabla13[[#This Row],[Título del contrato]]&Tabla13[[#This Row],[Nº Expediente de la plataforma de contratación]]","v":{"$error":"#VALUE!"}},{"$f":"Tabla13[[#This Row],[Nº Expediente de la plataforma de contratación]]","v":{"$error":"#VALUE!"}},{"$f":"Tabla13[[#This Row],[Importe IVA ]]","v":{"$error":"#VALUE!"}},{"$f":"Tabla13[[#This Row],[Importe de adjudicación (IVA INCLUIDO)]]","v":{"$error":"#VALUE!"}}]
[{"$nulls":18},{"$f":"Tabla13[[#This Row],[Título del contrato]]&Tabla13[[#This Row],[Nº Expediente de la plataforma de contratación]]","v":{"$error":"#VALUE!"}},{"$f":"Tabla13[[#This Row],[Nº Expediente de la plataforma de contratación]]","v":{"$error":"#VALUE!"}},{"$f":"Tabla13[[#This Row],[Importe IVA ]]","v":{"$error":"#VALUE!"}},{"$f":"Tabla13[[#This Row],[Importe de adjudicación (IVA INCLUIDO)]]","v":{"$error":"#VALUE!"}}]
[{"$nulls":18},{"$f":"Tabla13[[#This Row],[Título del contrato]]&Tabla13[[#This Row],[Nº Expediente de la plataforma de contratación]]","v":{"$error":"#VALUE!"}},{"$f":"Tabla13[[#This Row],[Nº Expediente de la plataforma de contratación]]","v":{"$error":"#VALUE!"}},{"$f":"Tabla13[[#This Row],[Importe IVA ]]","v":{"$error":"#VALUE!"}},{"$f":"Tabla13[[#This Row],[Importe de adjudicación (IVA INCLUIDO)]]","v":{"$error":"#VALUE!"}}]
[{"$nulls":18},{"$f":"Tabla13[[#This Row],[Título del contrato]]&Tabla13[[#This Row],[Nº Expediente de la plataforma de contratación]]","v":{"$error":"#VALUE!"}},{"$f":"Tabla13[[#This Row],[Nº Expediente de la plataforma de contratación]]","v":{"$error":"#VALUE!"}},{"$f":"Tabla13[[#This Row],[Importe IVA ]]","v":{"$error":"#VALUE!"}},{"$f":"Tabla13[[#This Row],[Importe de adjudicación (IVA INCLUIDO)]]","v":{"$error":"#VALUE!"}}]
[{"$nulls":18},{"$f":"Tabla13[[#This Row],[Título del contrato]]&Tabla13[[#This Row],[Nº Expediente de la plataforma de contratación]]","v":{"$error":"#VALUE!"}},{"$f":"Tabla13[[#This Row],[Nº Expediente de la plataforma de contratación]]","v":{"$error":"#VALUE!"}},{"$f":"Tabla13[[#This Row],[Importe IVA ]]","v":{"$error":"#VALUE!"}},{"$f":"Tabla13[[#This Row],[Importe de adjudicación (IVA INCLUIDO)]]","v":{"$error":"#VALUE!"}}]
[{"$nulls":18},{"$f":"Tabla13[[#This Row],[Título del contrato]]&Tabla13[[#This Row],[Nº Expediente de la plataforma de contratación]]","v":{"$error":"#VALUE!"}},{"$f":"Tabla13[[#This Row],[Nº Expediente de la plataforma de contratación]]","v":{"$error":"#VALUE!"}},{"$f":"Tabla13[[#This Row],[Importe IVA ]]","v":{"$error":"#VALUE!"}},{"$f":"Tabla13[[#This Row],[Importe de adjudicación (IVA INCLUIDO)]]","v":{"$error":"#VALUE!"}}]
[{"$nulls":18},{"$f":"Tabla13[[#This Row],[Título del contrato]]&Tabla13[[#This Row],[Nº Expediente de la plataforma de contratación]]","v":{"$error":"#VALUE!"}},{"$f":"Tabla13[[#This Row],[Nº Expediente de la plataforma de contratación]]","v":{"$error":"#VALUE!"}},{"$f":"Tabla13[[#This Row],[Importe IVA ]]","v":{"$error":"#VALUE!"}},{"$f":"Tabla13[[#This Row],[Importe de adjudicación (IVA INCLUIDO)]]","v":{"$error":"#VALUE!"}}]
[{"$nulls":18},{"$f":"Tabla13[[#This Row],[Título del contrato]]&Tabla13[[#This Row],[Nº Expediente de la plataforma de contratación]]","v":{"$error":"#VALUE!"}},{"$f":"Tabla13[[#This Row],[Nº Expediente de la plataforma de contratación]]","v":{"$error":"#VALUE!"}},{"$f":"Tabla13[[#This Row],[Importe IVA ]]","v":{"$error":"#VALUE!"}},{"$f":"Tabla13[[#This Row],[Importe de adjudicación (IVA INCLUIDO)]]","v":{"$error":"#VALUE!"}}]
[{"$nulls":18},{"$f":"Tabla13[[#This Row],[Título del contrato]]&Tabla13[[#This Row],[Nº Expediente de la plataforma de contratación]]","v":{"$error":"#VALUE!"}},{"$f":"Tabla13[[#This Row],[Nº Expediente de la plataforma de contratación]]","v":{"$error":"#VALUE!"}},{"$f":"Tabla13[[#This Row],[Importe IVA ]]","v":{"$error":"#VALUE!"}},{"$f":"Tabla13[[#This Row],[Importe de adjudicación (IVA INCLUIDO)]]","v":{"$error":"#VALUE!"}}]
[{"$nulls":18},{"$f":"Tabla13[[#This Row],[Título del contrato]]&Tabla13[[#This Row],[Nº Expediente de la plataforma de contratación]]","v":{"$error":"#VALUE!"}},{"$f":"Tabla13[[#This Row],[Nº Expediente de la plataforma de contratación]]","v":{"$error":"#VALUE!"}},{"$f":"Tabla13[[#This Row],[Importe IVA ]]","v":{"$error":"#VALUE!"}},{"$f":"Tabla13[[#This Row],[Importe de adjudicación (IVA INCLUIDO)]]","v":{"$error":"#VALUE!"}}]
[{"$nulls":18},{"$f":"Tabla13[[#This Row],[Título del contrato]]&Tabla13[[#This Row],[Nº Expediente de la plataforma de contratación]]","v":{"$error":"#VALUE!"}},{"$f":"Tabla13[[#This Row],[Nº Expediente de la plataforma de contratación]]","v":{"$error":"#VALUE!"}},{"$f":"Tabla13[[#This Row],[Importe IVA ]]","v":{"$error":"#VALUE!"}},{"$f":"Tabla13[[#This Row],[Importe de adjudicación (IVA INCLUIDO)]]","v":{"$error":"#VALUE!"}}]
[{"$nulls":18},{"$f":"Tabla13[[#This Row],[Título del contrato]]&Tabla13[[#This Row],[Nº Expediente de la plataforma de contratación]]","v":{"$error":"#VALUE!"}},{"$f":"Tabla13[[#This Row],[Nº Expediente de la plataforma de contratación]]","v":{"$error":"#VALUE!"}},{"$f":"Tabla13[[#This Row],[Importe IVA ]]","v":{"$error":"#VALUE!"}},{"$f":"Tabla13[[#This Row],[Importe de adjudicación (IVA INCLUIDO)]]","v":{"$error":"#VALUE!"}}]
[{"$nulls":18},{"$f":"Tabla13[[#This Row],[Título del contrato]]&Tabla13[[#This Row],[Nº Expediente de la plataforma de contratación]]","v":{"$error":"#VALUE!"}},{"$f":"Tabla13[[#This Row],[Nº Expediente de la plataforma de contratación]]","v":{"$error":"#VALUE!"}},{"$f":"Tabla13[[#This Row],[Importe IVA ]]","v":{"$error":"#VALUE!"}},{"$f":"Tabla13[[#This Row],[Importe de adjudicación (IVA INCLUIDO)]]","v":{"$error":"#VALUE!"}}]
[{"$nulls":18},{"$f":"Tabla13[[#This Row],[Título del contrato]]&Tabla13[[#This Row],[Nº Expediente de la plataforma de contratación]]","v":{"$error":"#VALUE!"}},{"$f":"Tabla13[[#This Row],[Nº Expediente de la plataforma de contratación]]","v":{"$error":"#VALUE!"}},{"$f":"Tabla13[[#This Row],[Importe IVA ]]","v":{"$error":"#VALUE!"}},{"$f":"Tabla13[[#This Row],[Importe de adjudicación (IVA INCLUIDO)]]","v":{"$error":"#VALUE!"}}]
[{"$nulls":18},{"$f":"Tabla13[[#This Row],[Título del contrato]]&Tabla13[[#This Row],[Nº Expediente de la plataforma de contratación]]","v":{"$error":"#VALUE!"}},{"$f":"Tabla13[[#This Row],[Nº Expediente de la plataforma de contratación]]","v":{"$error":"#VALUE!"}},{"$f":"Tabla13[[#This Row],[Importe IVA ]]","v":{"$error":"#VALUE!"}},{"$f":"Tabla13[[#This Row],[Importe de adjudicación (IVA INCLUIDO)]]","v":{"$error":"#VALUE!"}}]
[{"$nulls":18},{"$f":"Tabla13[[#This Row],[Título del contrato]]&Tabla13[[#This Row],[Nº Expediente de la plataforma de contratación]]","v":{"$error":"#VALUE!"}},{"$f":"Tabla13[[#This Row],[Nº Expediente de la plataforma de contratación]]","v":{"$error":"#VALUE!"}},{"$f":"Tabla13[[#This Row],[Importe IVA ]]","v":{"$error":"#VALUE!"}},{"$f":"Tabla13[[#This Row],[Importe de adjudicación (IVA INCLUIDO)]]","v":{"$error":"#VALUE!"}}]
[{"$nulls":18},{"$f":"Tabla13[[#This Row],[Título del contrato]]&Tabla13[[#This Row],[Nº Expediente de la plataforma de contratación]]","v":{"$error":"#VALUE!"}},{"$f":"Tabla13[[#This Row],[Nº Expediente de la plataforma de contratación]]","v":{"$error":"#VALUE!"}},{"$f":"Tabla13[[#This Row],[Importe IVA ]]","v":{"$error":"#VALUE!"}},{"$f":"Tabla13[[#This Row],[Importe de adjudicación (IVA INCLUIDO)]]","v":{"$error":"#VALUE!"}}]
[{"$nulls":18},{"$f":"Tabla13[[#This Row],[Título del contrato]]&Tabla13[[#This Row],[Nº Expediente de la plataforma de contratación]]","v":{"$error":"#VALUE!"}},{"$f":"Tabla13[[#This Row],[Nº Expediente de la plataforma de contratación]]","v":{"$error":"#VALUE!"}},{"$f":"Tabla13[[#This Row],[Importe IVA ]]","v":{"$error":"#VALUE!"}},{"$f":"Tabla13[[#This Row],[Importe de adjudicación (IVA INCLUIDO)]]","v":{"$error":"#VALUE!"}}]
[{"$nulls":18},{"$f":"Tabla13[[#This Row],[Título del contrato]]&Tabla13[[#This Row],[Nº Expediente de la plataforma de contratación]]","v":{"$error":"#VALUE!"}},{"$f":"Tabla13[[#This Row],[Nº Expediente de la plataforma de contratación]]","v":{"$error":"#VALUE!"}},{"$f":"Tabla13[[#This Row],[Importe IVA ]]","v":{"$error":"#VALUE!"}},{"$f":"Tabla13[[#This Row],[Importe de adjudicación (IVA INCLUIDO)]]","v":{"$error":"#VALUE!"}}]
[{"$nulls":18},{"$f":"Tabla13[[#This Row],[Título del contrato]]&Tabla13[[#This Row],[Nº Expediente de la plataforma de contratación]]","v":{"$error":"#VALUE!"}},{"$f":"Tabla13[[#This Row],[Nº Expediente de la plataforma de contratación]]","v":{"$error":"#VALUE!"}},{"$f":"Tabla13[[#This Row],[Importe IVA ]]","v":{"$error":"#VALUE!"}},{"$f":"Tabla13[[#This Row],[Importe de adjudicación (IVA INCLUIDO)]]","v":{"$error":"#VALUE!"}}]
[{"$nulls":18},{"$f":"Tabla13[[#This Row],[Título del contrato]]&Tabla13[[#This Row],[Nº Expediente de la plataforma de contratación]]","v":{"$error":"#VALUE!"}},{"$f":"Tabla13[[#This Row],[Nº Expediente de la plataforma de contratación]]","v":{"$error":"#VALUE!"}},{"$f":"Tabla13[[#This Row],[Importe IVA ]]","v":{"$error":"#VALUE!"}},{"$f":"Tabla13[[#This Row],[Importe de adjudicación (IVA INCLUIDO)]]","v":{"$error":"#VALUE!"}}]
[{"$nulls":18},{"$f":"Tabla13[[#This Row],[Título del contrato]]&Tabla13[[#This Row],[Nº Expediente de la plataforma de contratación]]","v":{"$error":"#VALUE!"}},{"$f":"Tabla13[[#This Row],[Nº Expediente de la plataforma de contratación]]","v":{"$error":"#VALUE!"}},{"$f":"Tabla13[[#This Row],[Importe IVA ]]","v":{"$error":"#VALUE!"}},{"$f":"Tabla13[[#This Row],[Importe de adjudicación (IVA INCLUIDO)]]","v":{"$error":"#VALUE!"}}]
[{"$nulls":18},{"$f":"Tabla13[[#This Row],[Título del contrato]]&Tabla13[[#This Row],[Nº Expediente de la plataforma de contratación]]","v":{"$error":"#VALUE!"}},{"$f":"Tabla13[[#This Row],[Nº Expediente de la plataforma de contratación]]","v":{"$error":"#VALUE!"}},{"$f":"Tabla13[[#This Row],[Importe IVA ]]","v":{"$error":"#VALUE!"}},{"$f":"Tabla13[[#This Row],[Importe de adjudicación (IVA INCLUIDO)]]","v":{"$error":"#VALUE!"}}]
[{"$nulls":18},{"$f":"Tabla13[[#This Row],[Título del contrato]]&Tabla13[[#This Row],[Nº Expediente de la plataforma de contratación]]","v":{"$error":"#VALUE!"}},{"$f":"Tabla13[[#This Row],[Nº Expediente de la plataforma de contratación]]","v":{"$error":"#VALUE!"}},{"$f":"Tabla13[[#This Row],[Importe IVA ]]","v":{"$error":"#VALUE!"}},{"$f":"Tabla13[[#This Row],[Importe de adjudicación (IVA INCLUIDO)]]","v":{"$error":"#VALUE!"}}]
[{"$nulls":18},{"$f":"Tabla13[[#This Row],[Título del contrato]]&Tabla13[[#This Row],[Nº Expediente de la plataforma de contratación]]","v":{"$error":"#VALUE!"}},{"$f":"Tabla13[[#This Row],[Nº Expediente de la plataforma de contratación]]","v":{"$error":"#VALUE!"}},{"$f":"Tabla13[[#This Row],[Importe IVA ]]","v":{"$error":"#VALUE!"}},{"$f":"Tabla13[[#This Row],[Importe de adjudicación (IVA INCLUIDO)]]","v":{"$error":"#VALUE!"}}]
[{"$nulls":18},{"$f":"Tabla13[[#This Row],[Título del contrato]]&Tabla13[[#This Row],[Nº Expediente de la plataforma de contratación]]","v":{"$error":"#VALUE!"}},{"$f":"Tabla13[[#This Row],[Nº Expediente de la plataforma de contratación]]","v":{"$error":"#VALUE!"}},{"$f":"Tabla13[[#This Row],[Importe IVA ]]","v":{"$error":"#VALUE!"}},{"$f":"Tabla13[[#This Row],[Importe de adjudicación (IVA INCLUIDO)]]","v":{"$error":"#VALUE!"}}]
[{"$nulls":18},{"$f":"Tabla13[[#This Row],[Título del contrato]]&Tabla13[[#This Row],[Nº Expediente de la plataforma de contratación]]","v":{"$error":"#VALUE!"}},{"$f":"Tabla13[[#This Row],[Nº Expediente de la plataforma de contratación]]","v":{"$error":"#VALUE!"}},{"$f":"Tabla13[[#This Row],[Importe IVA ]]","v":{"$error":"#VALUE!"}},{"$f":"Tabla13[[#This Row],[Importe de adjudicación (IVA INCLUIDO)]]","v":{"$error":"#VALUE!"}}]
[{"$nulls":18},{"$f":"Tabla13[[#This Row],[Título del contrato]]&Tabla13[[#This Row],[Nº Expediente de la plataforma de contratación]]","v":{"$error":"#VALUE!"}},{"$f":"Tabla13[[#This Row],[Nº Expediente de la plataforma de contratación]]","v":{"$error":"#VALUE!"}},{"$f":"Tabla13[[#This Row],[Importe IVA ]]","v":{"$error":"#VALUE!"}},{"$f":"Tabla13[[#This Row],[Importe de adjudicación (IVA INCLUIDO)]]","v":{"$error":"#VALUE!"}}]
[{"$nulls":18},{"$f":"Tabla13[[#This Row],[Título del contrato]]&Tabla13[[#This Row],[Nº Expediente de la plataforma de contratación]]","v":{"$error":"#VALUE!"}},{"$f":"Tabla13[[#This Row],[Nº Expediente de la plataforma de contratación]]","v":{"$error":"#VALUE!"}},{"$f":"Tabla13[[#This Row],[Importe IVA ]]","v":{"$error":"#VALUE!"}},{"$f":"Tabla13[[#This Row],[Importe de adjudicación (IVA INCLUIDO)]]","v":{"$error":"#VALUE!"}}]
[{"$nulls":18},{"$f":"Tabla13[[#This Row],[Título del contrato]]&Tabla13[[#This Row],[Nº Expediente de la plataforma de contratación]]","v":{"$error":"#VALUE!"}},{"$f":"Tabla13[[#This Row],[Nº Expediente de la plataforma de contratación]]","v":{"$error":"#VALUE!"}},{"$f":"Tabla13[[#This Row],[Importe IVA ]]","v":{"$error":"#VALUE!"}},{"$f":"Tabla13[[#This Row],[Importe de adjudicación (IVA INCLUIDO)]]","v":{"$error":"#VALUE!"}}]
[{"$nulls":18},{"$f":"Tabla13[[#This Row],[Título del contrato]]&Tabla13[[#This Row],[Nº Expediente de la plataforma de contratación]]","v":{"$error":"#VALUE!"}},{"$f":"Tabla13[[#This Row],[Nº Expediente de la plataforma de contratación]]","v":{"$error":"#VALUE!"}},{"$f":"Tabla13[[#This Row],[Importe IVA ]]","v":{"$error":"#VALUE!"}},{"$f":"Tabla13[[#This Row],[Importe de adjudicación (IVA INCLUIDO)]]","v":{"$error":"#VALUE!"}}]
[{"$nulls":18},{"$f":"Tabla13[[#This Row],[Título del contrato]]&Tabla13[[#This Row],[Nº Expediente de la plataforma de contratación]]","v":{"$error":"#VALUE!"}},{"$f":"Tabla13[[#This Row],[Nº Expediente de la plataforma de contratación]]","v":{"$error":"#VALUE!"}},{"$f":"Tabla13[[#This Row],[Importe IVA ]]","v":{"$error":"#VALUE!"}},{"$f":"Tabla13[[#This Row],[Importe de adjudicación (IVA INCLUIDO)]]","v":{"$error":"#VALUE!"}}]
[{"$nulls":18},{"$f":"Tabla13[[#This Row],[Título del contrato]]&Tabla13[[#This Row],[Nº Expediente de la plataforma de contratación]]","v":{"$error":"#VALUE!"}},{"$f":"Tabla13[[#This Row],[Nº Expediente de la plataforma de contratación]]","v":{"$error":"#VALUE!"}},{"$f":"Tabla13[[#This Row],[Importe IVA ]]","v":{"$error":"#VALUE!"}},{"$f":"Tabla13[[#This Row],[Importe de adjudicación (IVA INCLUIDO)]]","v":{"$error":"#VALUE!"}}]
[{"$nulls":18},{"$f":"Tabla13[[#This Row],[Título del contrato]]&Tabla13[[#This Row],[Nº Expediente de la plataforma de contratación]]","v":{"$error":"#VALUE!"}},{"$f":"Tabla13[[#This Row],[Nº Expediente de la plataforma de contratación]]","v":{"$error":"#VALUE!"}},{"$f":"Tabla13[[#This Row],[Importe IVA ]]","v":{"$error":"#VALUE!"}},{"$f":"Tabla13[[#This Row],[Importe de adjudicación (IVA INCLUIDO)]]","v":{"$error":"#VALUE!"}}]
[{"$nulls":18},{"$f":"Tabla13[[#This Row],[Título del contrato]]&Tabla13[[#This Row],[Nº Expediente de la plataforma de contratación]]","v":{"$error":"#VALUE!"}},{"$f":"Tabla13[[#This Row],[Nº Expediente de la plataforma de contratación]]","v":{"$error":"#VALUE!"}},{"$f":"Tabla13[[#This Row],[Importe IVA ]]","v":{"$error":"#VALUE!"}},{"$f":"Tabla13[[#This Row],[Importe de adjudicación (IVA INCLUIDO)]]","v":{"$error":"#VALUE!"}}]
[{"$nulls":18},{"$f":"Tabla13[[#This Row],[Título del contrato]]&Tabla13[[#This Row],[Nº Expediente de la plataforma de contratación]]","v":{"$error":"#VALUE!"}},{"$f":"Tabla13[[#This Row],[Nº Expediente de la plataforma de contratación]]","v":{"$error":"#VALUE!"}},{"$f":"Tabla13[[#This Row],[Importe IVA ]]","v":{"$error":"#VALUE!"}},{"$f":"Tabla13[[#This Row],[Importe de adjudicación (IVA INCLUIDO)]]","v":{"$error":"#VALUE!"}}]
[{"$nulls":18},{"$f":"Tabla13[[#This Row],[Título del contrato]]&Tabla13[[#This Row],[Nº Expediente de la plataforma de contratación]]","v":{"$error":"#VALUE!"}},{"$f":"Tabla13[[#This Row],[Nº Expediente de la plataforma de contratación]]","v":{"$error":"#VALUE!"}},{"$f":"Tabla13[[#This Row],[Importe IVA ]]","v":{"$error":"#VALUE!"}},{"$f":"Tabla13[[#This Row],[Importe de adjudicación (IVA INCLUIDO)]]","v":{"$error":"#VALUE!"}}]
[{"$nulls":18},{"$f":"Tabla13[[#This Row],[Título del contrato]]&Tabla13[[#This Row],[Nº Expediente de la plataforma de contratación]]","v":{"$error":"#VALUE!"}},{"$f":"Tabla13[[#This Row],[Nº Expediente de la plataforma de contratación]]","v":{"$error":"#VALUE!"}},{"$f":"Tabla13[[#This Row],[Importe IVA ]]","v":{"$error":"#VALUE!"}},{"$f":"Tabla13[[#This Row],[Importe de adjudicación (IVA INCLUIDO)]]","v":{"$error":"#VALUE!"}}]
[{"$nulls":18},{"$f":"Tabla13[[#This Row],[Título del contrato]]&Tabla13[[#This Row],[Nº Expediente de la plataforma de contratación]]","v":{"$error":"#VALUE!"}},{"$f":"Tabla13[[#This Row],[Nº Expediente de la plataforma de contratación]]","v":{"$error":"#VALUE!"}},{"$f":"Tabla13[[#This Row],[Importe IVA ]]","v":{"$error":"#VALUE!"}},{"$f":"Tabla13[[#This Row],[Importe de adjudicación (IVA INCLUIDO)]]","v":{"$error":"#VALUE!"}}]
[{"$nulls":18},{"$f":"Tabla13[[#This Row],[Título del contrato]]&Tabla13[[#This Row],[Nº Expediente de la plataforma de contratación]]","v":{"$error":"#VALUE!"}},{"$f":"Tabla13[[#This Row],[Nº Expediente de la plataforma de contratación]]","v":{"$error":"#VALUE!"}},{"$f":"Tabla13[[#This Row],[Importe IVA ]]","v":{"$error":"#VALUE!"}},{"$f":"Tabla13[[#This Row],[Importe de adjudicación (IVA INCLUIDO)]]","v":{"$error":"#VALUE!"}}]
[{"$nulls":18},{"$f":"Tabla13[[#This Row],[Título del contrato]]&Tabla13[[#This Row],[Nº Expediente de la plataforma de contratación]]","v":{"$error":"#VALUE!"}},{"$f":"Tabla13[[#This Row],[Nº Expediente de la plataforma de contratación]]","v":{"$error":"#VALUE!"}},{"$f":"Tabla13[[#This Row],[Importe IVA ]]","v":{"$error":"#VALUE!"}},{"$f":"Tabla13[[#This Row],[Importe de adjudicación (IVA INCLUIDO)]]","v":{"$error":"#VALUE!"}}]
[{"$nulls":18},{"$f":"Tabla13[[#This Row],[Título del contrato]]&Tabla13[[#This Row],[Nº Expediente de la plataforma de contratación]]","v":{"$error":"#VALUE!"}},{"$f":"Tabla13[[#This Row],[Nº Expediente de la plataforma de contratación]]","v":{"$error":"#VALUE!"}},{"$f":"Tabla13[[#This Row],[Importe IVA ]]","v":{"$error":"#VALUE!"}},{"$f":"Tabla13[[#This Row],[Importe de adjudicación (IVA INCLUIDO)]]","v":{"$error":"#VALUE!"}}]
[{"$nulls":18},{"$f":"Tabla13[[#This Row],[Título del contrato]]&Tabla13[[#This Row],[Nº Expediente de la plataforma de contratación]]","v":{"$error":"#VALUE!"}},{"$f":"Tabla13[[#This Row],[Nº Expediente de la plataforma de contratación]]","v":{"$error":"#VALUE!"}},{"$f":"Tabla13[[#This Row],[Importe IVA ]]","v":{"$error":"#VALUE!"}},{"$f":"Tabla13[[#This Row],[Importe de adjudicación (IVA INCLUIDO)]]","v":{"$error":"#VALUE!"}}]
[{"$nulls":18},{"$f":"Tabla13[[#This Row],[Título del contrato]]&Tabla13[[#This Row],[Nº Expediente de la plataforma de contratación]]","v":{"$error":"#VALUE!"}},{"$f":"Tabla13[[#This Row],[Nº Expediente de la plataforma de contratación]]","v":{"$error":"#VALUE!"}},{"$f":"Tabla13[[#This Row],[Importe IVA ]]","v":{"$error":"#VALUE!"}},{"$f":"Tabla13[[#This Row],[Importe de adjudicación (IVA INCLUIDO)]]","v":{"$error":"#VALUE!"}}]
[{"$nulls":18},{"$f":"Tabla13[[#This Row],[Título del contrato]]&Tabla13[[#This Row],[Nº Expediente de la plataforma de contratación]]","v":{"$error":"#VALUE!"}},{"$f":"Tabla13[[#This Row],[Nº Expediente de la plataforma de contratación]]","v":{"$error":"#VALUE!"}},{"$f":"Tabla13[[#This Row],[Importe IVA ]]","v":{"$error":"#VALUE!"}},{"$f":"Tabla13[[#This Row],[Importe de adjudicación (IVA INCLUIDO)]]","v":{"$error":"#VALUE!"}}]
[{"$nulls":18},{"$f":"Tabla13[[#This Row],[Título del contrato]]&Tabla13[[#This Row],[Nº Expediente de la plataforma de contratación]]","v":{"$error":"#VALUE!"}},{"$f":"Tabla13[[#This Row],[Nº Expediente de la plataforma de contratación]]","v":{"$error":"#VALUE!"}},{"$f":"Tabla13[[#This Row],[Importe IVA ]]","v":{"$error":"#VALUE!"}},{"$f":"Tabla13[[#This Row],[Importe de adjudicación (IVA INCLUIDO)]]","v":{"$error":"#VALUE!"}}]
[{"$nulls":18},{"$f":"Tabla13[[#This Row],[Título del contrato]]&Tabla13[[#This Row],[Nº Expediente de la plataforma de contratación]]","v":{"$error":"#VALUE!"}},{"$f":"Tabla13[[#This Row],[Nº Expediente de la plataforma de contratación]]","v":{"$error":"#VALUE!"}},{"$f":"Tabla13[[#This Row],[Importe IVA ]]","v":{"$error":"#VALUE!"}},{"$f":"Tabla13[[#This Row],[Importe de adjudicación (IVA INCLUIDO)]]","v":{"$error":"#VALUE!"}}]
[{"$nulls":18},{"$f":"Tabla13[[#This Row],[Título del contrato]]&Tabla13[[#This Row],[Nº Expediente de la plataforma de contratación]]","v":{"$error":"#VALUE!"}},{"$f":"Tabla13[[#This Row],[Nº Expediente de la plataforma de contratación]]","v":{"$error":"#VALUE!"}},{"$f":"Tabla13[[#This Row],[Importe IVA ]]","v":{"$error":"#VALUE!"}},{"$f":"Tabla13[[#This Row],[Importe de adjudicación (IVA INCLUIDO)]]","v":{"$error":"#VALUE!"}}]
[{"$nulls":18},{"$f":"Tabla13[[#This Row],[Título del contrato]]&Tabla13[[#This Row],[Nº Expediente de la plataforma de contratación]]","v":{"$error":"#VALUE!"}},{"$f":"Tabla13[[#This Row],[Nº Expediente de la plataforma de contratación]]","v":{"$error":"#VALUE!"}},{"$f":"Tabla13[[#This Row],[Importe IVA ]]","v":{"$error":"#VALUE!"}},{"$f":"Tabla13[[#This Row],[Importe de adjudicación (IVA INCLUIDO)]]","v":{"$error":"#VALUE!"}}]
[{"$nulls":18},{"$f":"Tabla13[[#This Row],[Título del contrato]]&Tabla13[[#This Row],[Nº Expediente de la plataforma de contratación]]","v":{"$error":"#VALUE!"}},{"$f":"Tabla13[[#This Row],[Nº Expediente de la plataforma de contratación]]","v":{"$error":"#VALUE!"}},{"$f":"Tabla13[[#This Row],[Importe IVA ]]","v":{"$error":"#VALUE!"}},{"$f":"Tabla13[[#This Row],[Importe de adjudicación (IVA INCLUIDO)]]","v":{"$error":"#VALUE!"}}]
[{"$nulls":18},{"$f":"Tabla13[[#This Row],[Título del contrato]]&Tabla13[[#This Row],[Nº Expediente de la plataforma de contratación]]","v":{"$error":"#VALUE!"}},{"$f":"Tabla13[[#This Row],[Nº Expediente de la plataforma de contratación]]","v":{"$error":"#VALUE!"}},{"$f":"Tabla13[[#This Row],[Importe IVA ]]","v":{"$error":"#VALUE!"}},{"$f":"Tabla13[[#This Row],[Importe de adjudicación (IVA INCLUIDO)]]","v":{"$error":"#VALUE!"}}]
[{"$nulls":18},{"$f":"Tabla13[[#This Row],[Título del contrato]]&Tabla13[[#This Row],[Nº Expediente de la plataforma de contratación]]","v":{"$error":"#VALUE!"}},{"$f":"Tabla13[[#This Row],[Nº Expediente de la plataforma de contratación]]","v":{"$error":"#VALUE!"}},{"$f":"Tabla13[[#This Row],[Importe IVA ]]","v":{"$error":"#VALUE!"}},{"$f":"Tabla13[[#This Row],[Importe de adjudicación (IVA INCLUIDO)]]","v":{"$error":"#VALUE!"}}]
[{"$nulls":18},{"$f":"Tabla13[[#This Row],[Título del contrato]]&Tabla13[[#This Row],[Nº Expediente de la plataforma de contratación]]","v":{"$error":"#VALUE!"}},{"$f":"Tabla13[[#This Row],[Nº Expediente de la plataforma de contratación]]","v":{"$error":"#VALUE!"}},{"$f":"Tabla13[[#This Row],[Importe IVA ]]","v":{"$error":"#VALUE!"}},{"$f":"Tabla13[[#This Row],[Importe de adjudicación (IVA INCLUIDO)]]","v":{"$error":"#VALUE!"}}]
[{"$nulls":18},{"$f":"Tabla13[[#This Row],[Título del contrato]]&Tabla13[[#This Row],[Nº Expediente de la plataforma de contratación]]","v":{"$error":"#VALUE!"}},{"$f":"Tabla13[[#This Row],[Nº Expediente de la plataforma de contratación]]","v":{"$error":"#VALUE!"}},{"$f":"Tabla13[[#This Row],[Importe IVA ]]","v":{"$error":"#VALUE!"}},{"$f":"Tabla13[[#This Row],[Importe de adjudicación (IVA INCLUIDO)]]","v":{"$error":"#VALUE!"}}]
[{"$nulls":18},{"$f":"Tabla13[[#This Row],[Título del contrato]]&Tabla13[[#This Row],[Nº Expediente de la plataforma de contratación]]","v":{"$error":"#VALUE!"}},{"$f":"Tabla13[[#This Row],[Nº Expediente de la plataforma de contratación]]","v":{"$error":"#VALUE!"}},{"$f":"Tabla13[[#This Row],[Importe IVA ]]","v":{"$error":"#VALUE!"}},{"$f":"Tabla13[[#This Row],[Importe de adjudicación (IVA INCLUIDO)]]","v":{"$error":"#VALUE!"}}]
[{"$nulls":18},{"$f":"Tabla13[[#This Row],[Título del contrato]]&Tabla13[[#This Row],[Nº Expediente de la plataforma de contratación]]","v":{"$error":"#VALUE!"}},{"$f":"Tabla13[[#This Row],[Nº Expediente de la plataforma de contratación]]","v":{"$error":"#VALUE!"}},{"$f":"Tabla13[[#This Row],[Importe IVA ]]","v":{"$error":"#VALUE!"}},{"$f":"Tabla13[[#This Row],[Importe de adjudicación (IVA INCLUIDO)]]","v":{"$error":"#VALUE!"}}]
[{"$nulls":18},{"$f":"Tabla13[[#This Row],[Título del contrato]]&Tabla13[[#This Row],[Nº Expediente de la plataforma de contratación]]","v":{"$error":"#VALUE!"}},{"$f":"Tabla13[[#This Row],[Nº Expediente de la plataforma de contratación]]","v":{"$error":"#VALUE!"}},{"$f":"Tabla13[[#This Row],[Importe IVA ]]","v":{"$error":"#VALUE!"}},{"$f":"Tabla13[[#This Row],[Importe de adjudicación (IVA INCLUIDO)]]","v":{"$error":"#VALUE!"}}]
[{"$nulls":18},{"$f":"Tabla13[[#This Row],[Título del contrato]]&Tabla13[[#This Row],[Nº Expediente de la plataforma de contratación]]","v":{"$error":"#VALUE!"}},{"$f":"Tabla13[[#This Row],[Nº Expediente de la plataforma de contratación]]","v":{"$error":"#VALUE!"}},{"$f":"Tabla13[[#This Row],[Importe IVA ]]","v":{"$error":"#VALUE!"}},{"$f":"Tabla13[[#This Row],[Importe de adjudicación (IVA INCLUIDO)]]","v":{"$error":"#VALUE!"}}]
[{"$nulls":18},{"$f":"Tabla13[[#This Row],[Título del contrato]]&Tabla13[[#This Row],[Nº Expediente de la plataforma de contratación]]","v":{"$error":"#VALUE!"}},{"$f":"Tabla13[[#This Row],[Nº Expediente de la plataforma de contratación]]","v":{"$error":"#VALUE!"}},{"$f":"Tabla13[[#This Row],[Importe IVA ]]","v":{"$error":"#VALUE!"}},{"$f":"Tabla13[[#This Row],[Importe de adjudicación (IVA INCLUIDO)]]","v":{"$error":"#VALUE!"}}]
[{"$nulls":18},{"$f":"Tabla13[[#This Row],[Título del contrato]]&Tabla13[[#This Row],[Nº Expediente de la plataforma de contratación]]","v":{"$error":"#VALUE!"}},{"$f":"Tabla13[[#This Row],[Nº Expediente de la plataforma de contratación]]","v":{"$error":"#VALUE!"}},{"$f":"Tabla13[[#This Row],[Importe IVA ]]","v":{"$error":"#VALUE!"}},{"$f":"Tabla13[[#This Row],[Importe de adjudicación (IVA INCLUIDO)]]","v":{"$error":"#VALUE!"}}]
[{"$nulls":18},{"$f":"Tabla13[[#This Row],[Título del contrato]]&Tabla13[[#This Row],[Nº Expediente de la plataforma de contratación]]","v":{"$error":"#VALUE!"}},{"$f":"Tabla13[[#This Row],[Nº Expediente de la plataforma de contratación]]","v":{"$error":"#VALUE!"}},{"$f":"Tabla13[[#This Row],[Importe IVA ]]","v":{"$error":"#VALUE!"}},{"$f":"Tabla13[[#This Row],[Importe de adjudicación (IVA INCLUIDO)]]","v":{"$error":"#VALUE!"}}]
[{"$nulls":18},{"$f":"Tabla13[[#This Row],[Título del contrato]]&Tabla13[[#This Row],[Nº Expediente de la plataforma de contratación]]","v":{"$error":"#VALUE!"}},{"$f":"Tabla13[[#This Row],[Nº Expediente de la plataforma de contratación]]","v":{"$error":"#VALUE!"}},{"$f":"Tabla13[[#This Row],[Importe IVA ]]","v":{"$error":"#VALUE!"}},{"$f":"Tabla13[[#This Row],[Importe de adjudicación (IVA INCLUIDO)]]","v":{"$error":"#VALUE!"}}]
[{"$nulls":18},{"$f":"Tabla13[[#This Row],[Título del contrato]]&Tabla13[[#This Row],[Nº Expediente de la plataforma de contratación]]","v":{"$error":"#VALUE!"}},{"$f":"Tabla13[[#This Row],[Nº Expediente de la plataforma de contratación]]","v":{"$error":"#VALUE!"}},{"$f":"Tabla13[[#This Row],[Importe IVA ]]","v":{"$error":"#VALUE!"}},{"$f":"Tabla13[[#This Row],[Importe de adjudicación (IVA INCLUIDO)]]","v":{"$error":"#VALUE!"}}]
[{"$nulls":18},{"$f":"Tabla13[[#This Row],[Título del contrato]]&Tabla13[[#This Row],[Nº Expediente de la plataforma de contratación]]","v":{"$error":"#VALUE!"}},{"$f":"Tabla13[[#This Row],[Nº Expediente de la plataforma de contratación]]","v":{"$error":"#VALUE!"}},{"$f":"Tabla13[[#This Row],[Importe IVA ]]","v":{"$error":"#VALUE!"}},{"$f":"Tabla13[[#This Row],[Importe de adjudicación (IVA INCLUIDO)]]","v":{"$error":"#VALUE!"}}]
[{"$nulls":18},{"$f":"Tabla13[[#This Row],[Título del contrato]]&Tabla13[[#This Row],[Nº Expediente de la plataforma de contratación]]","v":{"$error":"#VALUE!"}},{"$f":"Tabla13[[#This Row],[Nº Expediente de la plataforma de contratación]]","v":{"$error":"#VALUE!"}},{"$f":"Tabla13[[#This Row],[Importe IVA ]]","v":{"$error":"#VALUE!"}},{"$f":"Tabla13[[#This Row],[Importe de adjudicación (IVA INCLUIDO)]]","v":{"$error":"#VALUE!"}}]
[{"$nulls":18},{"$f":"Tabla13[[#This Row],[Título del contrato]]&Tabla13[[#This Row],[Nº Expediente de la plataforma de contratación]]","v":{"$error":"#VALUE!"}},{"$f":"Tabla13[[#This Row],[Nº Expediente de la plataforma de contratación]]","v":{"$error":"#VALUE!"}},{"$f":"Tabla13[[#This Row],[Importe IVA ]]","v":{"$error":"#VALUE!"}},{"$f":"Tabla13[[#This Row],[Importe de adjudicación (IVA INCLUIDO)]]","v":{"$error":"#VALUE!"}}]
[{"$nulls":18},{"$f":"Tabla13[[#This Row],[Título del contrato]]&Tabla13[[#This Row],[Nº Expediente de la plataforma de contratación]]","v":{"$error":"#VALUE!"}},{"$f":"Tabla13[[#This Row],[Nº Expediente de la plataforma de contratación]]","v":{"$error":"#VALUE!"}},{"$f":"Tabla13[[#This Row],[Importe IVA ]]","v":{"$error":"#VALUE!"}},{"$f":"Tabla13[[#This Row],[Importe de adjudicación (IVA INCLUIDO)]]","v":{"$error":"#VALUE!"}}]
[{"$nulls":18},{"$f":"Tabla13[[#This Row],[Título del contrato]]&Tabla13[[#This Row],[Nº Expediente de la plataforma de contratación]]","v":{"$error":"#VALUE!"}},{"$f":"Tabla13[[#This Row],[Nº Expediente de la plataforma de contratación]]","v":{"$error":"#VALUE!"}},{"$f":"Tabla13[[#This Row],[Importe IVA ]]","v":{"$error":"#VALUE!"}},{"$f":"Tabla13[[#This Row],[Importe de adjudicación (IVA INCLUIDO)]]","v":{"$error":"#VALUE!"}}]
[{"$nulls":18},{"$f":"Tabla13[[#This Row],[Título del contrato]]&Tabla13[[#This Row],[Nº Expediente de la plataforma de contratación]]","v":{"$error":"#VALUE!"}},{"$f":"Tabla13[[#This Row],[Nº Expediente de la plataforma de contratación]]","v":{"$error":"#VALUE!"}},{"$f":"Tabla13[[#This Row],[Importe IVA ]]","v":{"$error":"#VALUE!"}},{"$f":"Tabla13[[#This Row],[Importe de adjudicación (IVA INCLUIDO)]]","v":{"$error":"#VALUE!"}}]
[{"$nulls":18},{"$f":"Tabla13[[#This Row],[Título del contrato]]&Tabla13[[#This Row],[Nº Expediente de la plataforma de contratación]]","v":{"$error":"#VALUE!"}},{"$f":"Tabla13[[#This Row],[Nº Expediente de la plataforma de contratación]]","v":{"$error":"#VALUE!"}},{"$f":"Tabla13[[#This Row],[Importe IVA ]]","v":{"$error":"#VALUE!"}},{"$f":"Tabla13[[#This Row],[Importe de adjudicación (IVA INCLUIDO)]]","v":{"$error":"#VALUE!"}}]
[{"$nulls":18},{"$f":"Tabla13[[#This Row],[Título del contrato]]&Tabla13[[#This Row],[Nº Expediente de la plataforma de contratación]]","v":{"$error":"#VALUE!"}},{"$f":"Tabla13[[#This Row],[Nº Expediente de la plataforma de contratación]]","v":{"$error":"#VALUE!"}},{"$f":"Tabla13[[#This Row],[Importe IVA ]]","v":{"$error":"#VALUE!"}},{"$f":"Tabla13[[#This Row],[Importe de adjudicación (IVA INCLUIDO)]]","v":{"$error":"#VALUE!"}}]
[{"$nulls":18},{"$f":"Tabla13[[#This Row],[Título del contrato]]&Tabla13[[#This Row],[Nº Expediente de la plataforma de contratación]]","v":{"$error":"#VALUE!"}},{"$f":"Tabla13[[#This Row],[Nº Expediente de la plataforma de contratación]]","v":{"$error":"#VALUE!"}},{"$f":"Tabla13[[#This Row],[Importe IVA ]]","v":{"$error":"#VALUE!"}},{"$f":"Tabla13[[#This Row],[Importe de adjudicación (IVA INCLUIDO)]]","v":{"$error":"#VALUE!"}}]
[{"$nulls":18},{"$f":"Tabla13[[#This Row],[Título del contrato]]&Tabla13[[#This Row],[Nº Expediente de la plataforma de contratación]]","v":{"$error":"#VALUE!"}},{"$f":"Tabla13[[#This Row],[Nº Expediente de la plataforma de contratación]]","v":{"$error":"#VALUE!"}},{"$f":"Tabla13[[#This Row],[Importe IVA ]]","v":{"$error":"#VALUE!"}},{"$f":"Tabla13[[#This Row],[Importe de adjudicación (IVA INCLUIDO)]]","v":{"$error":"#VALUE!"}}]
[{"$nulls":18},{"$f":"Tabla13[[#This Row],[Título del contrato]]&Tabla13[[#This Row],[Nº Expediente de la plataforma de contratación]]","v":{"$error":"#VALUE!"}},{"$f":"Tabla13[[#This Row],[Nº Expediente de la plataforma de contratación]]","v":{"$error":"#VALUE!"}},{"$f":"Tabla13[[#This Row],[Importe IVA ]]","v":{"$error":"#VALUE!"}},{"$f":"Tabla13[[#This Row],[Importe de adjudicación (IVA INCLUIDO)]]","v":{"$error":"#VALUE!"}}]
[{"$nulls":18},{"$f":"Tabla13[[#This Row],[Título del contrato]]&Tabla13[[#This Row],[Nº Expediente de la plataforma de contratación]]","v":{"$error":"#VALUE!"}},{"$f":"Tabla13[[#This Row],[Nº Expediente de la plataforma de contratación]]","v":{"$error":"#VALUE!"}},{"$f":"Tabla13[[#This Row],[Importe IVA ]]","v":{"$error":"#VALUE!"}},{"$f":"Tabla13[[#This Row],[Importe de adjudicación (IVA INCLUIDO)]]","v":{"$error":"#VALUE!"}}]
[{"$nulls":18},{"$f":"Tabla13[[#This Row],[Título del contrato]]&Tabla13[[#This Row],[Nº Expediente de la plataforma de contratación]]","v":{"$error":"#VALUE!"}},{"$f":"Tabla13[[#This Row],[Nº Expediente de la plataforma de contratación]]","v":{"$error":"#VALUE!"}},{"$f":"Tabla13[[#This Row],[Importe IVA ]]","v":{"$error":"#VALUE!"}},{"$f":"Tabla13[[#This Row],[Importe de adjudicación (IVA INCLUIDO)]]","v":{"$error":"#VALUE!"}}]
[{"$nulls":18},{"$f":"Tabla13[[#This Row],[Título del contrato]]&Tabla13[[#This Row],[Nº Expediente de la plataforma de contratación]]","v":{"$error":"#VALUE!"}},{"$f":"Tabla13[[#This Row],[Nº Expediente de la plataforma de contratación]]","v":{"$error":"#VALUE!"}},{"$f":"Tabla13[[#This Row],[Importe IVA ]]","v":{"$error":"#VALUE!"}},{"$f":"Tabla13[[#This Row],[Importe de adjudicación (IVA INCLUIDO)]]","v":{"$error":"#VALUE!"}}]
[{"$nulls":18},{"$f":"Tabla13[[#This Row],[Título del contrato]]&Tabla13[[#This Row],[Nº Expediente de la plataforma de contratación]]","v":{"$error":"#VALUE!"}},{"$f":"Tabla13[[#This Row],[Nº Expediente de la plataforma de contratación]]","v":{"$error":"#VALUE!"}},{"$f":"Tabla13[[#This Row],[Importe IVA ]]","v":{"$error":"#VALUE!"}},{"$f":"Tabla13[[#This Row],[Importe de adjudicación (IVA INCLUIDO)]]","v":{"$error":"#VALUE!"}}]
[{"$nulls":18},{"$f":"Tabla13[[#This Row],[Título del contrato]]&Tabla13[[#This Row],[Nº Expediente de la plataforma de contratación]]","v":{"$error":"#VALUE!"}},{"$f":"Tabla13[[#This Row],[Nº Expediente de la plataforma de contratación]]","v":{"$error":"#VALUE!"}},{"$f":"Tabla13[[#This Row],[Importe IVA ]]","v":{"$error":"#VALUE!"}},{"$f":"Tabla13[[#This Row],[Importe de adjudicación (IVA INCLUIDO)]]","v":{"$error":"#VALUE!"}}]
[{"$nulls":18},{"$f":"Tabla13[[#This Row],[Título del contrato]]&Tabla13[[#This Row],[Nº Expediente de la plataforma de contratación]]","v":{"$error":"#VALUE!"}},{"$f":"Tabla13[[#This Row],[Nº Expediente de la plataforma de contratación]]","v":{"$error":"#VALUE!"}},{"$f":"Tabla13[[#This Row],[Importe IVA ]]","v":{"$error":"#VALUE!"}},{"$f":"Tabla13[[#This Row],[Importe de adjudicación (IVA INCLUIDO)]]","v":{"$error":"#VALUE!"}}]
[{"$nulls":18},{"$f":"Tabla13[[#This Row],[Título del contrato]]&Tabla13[[#This Row],[Nº Expediente de la plataforma de contratación]]","v":{"$error":"#VALUE!"}},{"$f":"Tabla13[[#This Row],[Nº Expediente de la plataforma de contratación]]","v":{"$error":"#VALUE!"}},{"$f":"Tabla13[[#This Row],[Importe IVA ]]","v":{"$error":"#VALUE!"}},{"$f":"Tabla13[[#This Row],[Importe de adjudicación (IVA INCLUIDO)]]","v":{"$error":"#VALUE!"}}]
[{"$nulls":18},{"$f":"Tabla13[[#This Row],[Título del contrato]]&Tabla13[[#This Row],[Nº Expediente de la plataforma de contratación]]","v":{"$error":"#VALUE!"}},{"$f":"Tabla13[[#This Row],[Nº Expediente de la plataforma de contratación]]","v":{"$error":"#VALUE!"}},{"$f":"Tabla13[[#This Row],[Importe IVA ]]","v":{"$error":"#VALUE!"}},{"$f":"Tabla13[[#This Row],[Importe de adjudicación (IVA INCLUIDO)]]","v":{"$error":"#VALUE!"}}]
[{"$nulls":18},{"$f":"Tabla13[[#This Row],[Título del contrato]]&Tabla13[[#This Row],[Nº Expediente de la plataforma de contratación]]","v":{"$error":"#VALUE!"}},{"$f":"Tabla13[[#This Row],[Nº Expediente de la plataforma de contratación]]","v":{"$error":"#VALUE!"}},{"$f":"Tabla13[[#This Row],[Importe IVA ]]","v":{"$error":"#VALUE!"}},{"$f":"Tabla13[[#This Row],[Importe de adjudicación (IVA INCLUIDO)]]","v":{"$error":"#VALUE!"}}]
[{"$nulls":18},{"$f":"Tabla13[[#This Row],[Título del contrato]]&Tabla13[[#This Row],[Nº Expediente de la plataforma de contratación]]","v":{"$error":"#VALUE!"}},{"$f":"Tabla13[[#This Row],[Nº Expediente de la plataforma de contratación]]","v":{"$error":"#VALUE!"}},{"$f":"Tabla13[[#This Row],[Importe IVA ]]","v":{"$error":"#VALUE!"}},{"$f":"Tabla13[[#This Row],[Importe de adjudicación (IVA INCLUIDO)]]","v":{"$error":"#VALUE!"}}]
[{"$nulls":18},{"$f":"Tabla13[[#This Row],[Título del contrato]]&Tabla13[[#This Row],[Nº Expediente de la plataforma de contratación]]","v":{"$error":"#VALUE!"}},{"$f":"Tabla13[[#This Row],[Nº Expediente de la plataforma de contratación]]","v":{"$error":"#VALUE!"}},{"$f":"Tabla13[[#This Row],[Importe IVA ]]","v":{"$error":"#VALUE!"}},{"$f":"Tabla13[[#This Row],[Importe de adjudicación (IVA INCLUIDO)]]","v":{"$error":"#VALUE!"}}]
[{"$nulls":18},{"$f":"Tabla13[[#This Row],[Título del contrato]]&Tabla13[[#This Row],[Nº Expediente de la plataforma de contratación]]","v":{"$error":"#VALUE!"}},{"$f":"Tabla13[[#This Row],[Nº Expediente de la plataforma de contratación]]","v":{"$error":"#VALUE!"}},{"$f":"Tabla13[[#This Row],[Importe IVA ]]","v":{"$error":"#VALUE!"}},{"$f":"Tabla13[[#This Row],[Importe de adjudicación (IVA INCLUIDO)]]","v":{"$error":"#VALUE!"}}]
[{"$nulls":18},{"$f":"Tabla13[[#This Row],[Título del contrato]]&Tabla13[[#This Row],[Nº Expediente de la plataforma de contratación]]","v":{"$error":"#VALUE!"}},{"$f":"Tabla13[[#This Row],[Nº Expediente de la plataforma de contratación]]","v":{"$error":"#VALUE!"}},{"$f":"Tabla13[[#This Row],[Importe IVA ]]","v":{"$error":"#VALUE!"}},{"$f":"Tabla13[[#This Row],[Importe de adjudicación (IVA INCLUIDO)]]","v":{"$error":"#VALUE!"}}]
[{"$nulls":18},{"$f":"Tabla13[[#This Row],[Título del contrato]]&Tabla13[[#This Row],[Nº Expediente de la plataforma de contratación]]","v":{"$error":"#VALUE!"}},{"$f":"Tabla13[[#This Row],[Nº Expediente de la plataforma de contratación]]","v":{"$error":"#VALUE!"}},{"$f":"Tabla13[[#This Row],[Importe IVA ]]","v":{"$error":"#VALUE!"}},{"$f":"Tabla13[[#This Row],[Importe de adjudicación (IVA INCLUIDO)]]","v":{"$error":"#VALUE!"}}]
[{"$nulls":18},{"$f":"Tabla13[[#This Row],[Título del contrato]]&Tabla13[[#This Row],[Nº Expediente de la plataforma de contratación]]","v":{"$error":"#VALUE!"}},{"$f":"Tabla13[[#This Row],[Nº Expediente de la plataforma de contratación]]","v":{"$error":"#VALUE!"}},{"$f":"Tabla13[[#This Row],[Importe IVA ]]","v":{"$error":"#VALUE!"}},{"$f":"Tabla13[[#This Row],[Importe de adjudicación (IVA INCLUIDO)]]","v":{"$error":"#VALUE!"}}]
[{"$nulls":18},{"$f":"Tabla13[[#This Row],[Título del contrato]]&Tabla13[[#This Row],[Nº Expediente de la plataforma de contratación]]","v":{"$error":"#VALUE!"}},{"$f":"Tabla13[[#This Row],[Nº Expediente de la plataforma de contratación]]","v":{"$error":"#VALUE!"}},{"$f":"Tabla13[[#This Row],[Importe IVA ]]","v":{"$error":"#VALUE!"}},{"$f":"Tabla13[[#This Row],[Importe de adjudicación (IVA INCLUIDO)]]","v":{"$error":"#VALUE!"}}]
[{"$nulls":18},{"$f":"Tabla13[[#This Row],[Título del contrato]]&Tabla13[[#This Row],[Nº Expediente de la plataforma de contratación]]","v":{"$error":"#VALUE!"}},{"$f":"Tabla13[[#This Row],[Nº Expediente de la plataforma de contratación]]","v":{"$error":"#VALUE!"}},{"$f":"Tabla13[[#This Row],[Importe IVA ]]","v":{"$error":"#VALUE!"}},{"$f":"Tabla13[[#This Row],[Importe de adjudicación (IVA INCLUIDO)]]","v":{"$error":"#VALUE!"}}]
[{"$nulls":18},{"$f":"Tabla13[[#This Row],[Título del contrato]]&Tabla13[[#This Row],[Nº Expediente de la plataforma de contratación]]","v":{"$error":"#VALUE!"}},{"$f":"Tabla13[[#This Row],[Nº Expediente de la plataforma de contratación]]","v":{"$error":"#VALUE!"}},{"$f":"Tabla13[[#This Row],[Importe IVA ]]","v":{"$error":"#VALUE!"}},{"$f":"Tabla13[[#This Row],[Importe de adjudicación (IVA INCLUIDO)]]","v":{"$error":"#VALUE!"}}]
[{"$nulls":18},{"$f":"Tabla13[[#This Row],[Título del contrato]]&Tabla13[[#This Row],[Nº Expediente de la plataforma de contratación]]","v":{"$error":"#VALUE!"}},{"$f":"Tabla13[[#This Row],[Nº Expediente de la plataforma de contratación]]","v":{"$error":"#VALUE!"}},{"$f":"Tabla13[[#This Row],[Importe IVA ]]","v":{"$error":"#VALUE!"}},{"$f":"Tabla13[[#This Row],[Importe de adjudicación (IVA INCLUIDO)]]","v":{"$error":"#VALUE!"}}]
[{"$nulls":18},{"$f":"Tabla13[[#This Row],[Título del contrato]]&Tabla13[[#This Row],[Nº Expediente de la plataforma de contratación]]","v":{"$error":"#VALUE!"}},{"$f":"Tabla13[[#This Row],[Nº Expediente de la plataforma de contratación]]","v":{"$error":"#VALUE!"}},{"$f":"Tabla13[[#This Row],[Importe IVA ]]","v":{"$error":"#VALUE!"}},{"$f":"Tabla13[[#This Row],[Importe de adjudicación (IVA INCLUIDO)]]","v":{"$error":"#VALUE!"}}]
[{"$nulls":18},{"$f":"Tabla13[[#This Row],[Título del contrato]]&Tabla13[[#This Row],[Nº Expediente de la plataforma de contratación]]","v":{"$error":"#VALUE!"}},{"$f":"Tabla13[[#This Row],[Nº Expediente de la plataforma de contratación]]","v":{"$error":"#VALUE!"}},{"$f":"Tabla13[[#This Row],[Importe IVA ]]","v":{"$error":"#VALUE!"}},{"$f":"Tabla13[[#This Row],[Importe de adjudicación (IVA INCLUIDO)]]","v":{"$error":"#VALUE!"}}]
[{"$nulls":18},{"$f":"Tabla13[[#This Row],[Título del contrato]]&Tabla13[[#This Row],[Nº Expediente de la plataforma de contratación]]","v":{"$error":"#VALUE!"}},{"$f":"Tabla13[[#This Row],[Nº Expediente de la plataforma de contratación]]","v":{"$error":"#VALUE!"}},{"$f":"Tabla13[[#This Row],[Importe IVA ]]","v":{"$error":"#VALUE!"}},{"$f":"Tabla13[[#This Row],[Importe de adjudicación (IVA INCLUIDO)]]","v":{"$error":"#VALUE!"}}]
[{"$nulls":18},{"$f":"Tabla13[[#This Row],[Título del contrato]]&Tabla13[[#This Row],[Nº Expediente de la plataforma de contratación]]","v":{"$error":"#VALUE!"}},{"$f":"Tabla13[[#This Row],[Nº Expediente de la plataforma de contratación]]","v":{"$error":"#VALUE!"}},{"$f":"Tabla13[[#This Row],[Importe IVA ]]","v":{"$error":"#VALUE!"}},{"$f":"Tabla13[[#This Row],[Importe de adjudicación (IVA INCLUIDO)]]","v":{"$error":"#VALUE!"}}]
[{"$nulls":18},{"$f":"Tabla13[[#This Row],[Título del contrato]]&Tabla13[[#This Row],[Nº Expediente de la plataforma de contratación]]","v":{"$error":"#VALUE!"}},{"$f":"Tabla13[[#This Row],[Nº Expediente de la plataforma de contratación]]","v":{"$error":"#VALUE!"}},{"$f":"Tabla13[[#This Row],[Importe IVA ]]","v":{"$error":"#VALUE!"}},{"$f":"Tabla13[[#This Row],[Importe de adjudicación (IVA INCLUIDO)]]","v":{"$error":"#VALUE!"}}]
[{"$nulls":18},{"$f":"Tabla13[[#This Row],[Título del contrato]]&Tabla13[[#This Row],[Nº Expediente de la plataforma de contratación]]","v":{"$error":"#VALUE!"}},{"$f":"Tabla13[[#This Row],[Nº Expediente de la plataforma de contratación]]","v":{"$error":"#VALUE!"}},{"$f":"Tabla13[[#This Row],[Importe IVA ]]","v":{"$error":"#VALUE!"}},{"$f":"Tabla13[[#This Row],[Importe de adjudicación (IVA INCLUIDO)]]","v":{"$error":"#VALUE!"}}]
[{"$nulls":18},{"$f":"Tabla13[[#This Row],[Título del contrato]]&Tabla13[[#This Row],[Nº Expediente de la plataforma de contratación]]","v":{"$error":"#VALUE!"}},{"$f":"Tabla13[[#This Row],[Nº Expediente de la plataforma de contratación]]","v":{"$error":"#VALUE!"}},{"$f":"Tabla13[[#This Row],[Importe IVA ]]","v":{"$error":"#VALUE!"}},{"$f":"Tabla13[[#This Row],[Importe de adjudicación (IVA INCLUIDO)]]","v":{"$error":"#VALUE!"}}]
[{"$nulls":18},{"$f":"Tabla13[[#This Row],[Título del contrato]]&Tabla13[[#This Row],[Nº Expediente de la plataforma de contratación]]","v":{"$error":"#VALUE!"}},{"$f":"Tabla13[[#This Row],[Nº Expediente de la plataforma de contratación]]","v":{"$error":"#VALUE!"}},{"$f":"Tabla13[[#This Row],[Importe IVA ]]","v":{"$error":"#VALUE!"}},{"$f":"Tabla13[[#This Row],[Importe de adjudicación (IVA INCLUIDO)]]","v":{"$error":"#VALUE!"}}]
[{"$nulls":18},{"$f":"Tabla13[[#This Row],[Título del contrato]]&Tabla13[[#This Row],[Nº Expediente de la plataforma de contratación]]","v":{"$error":"#VALUE!"}},{"$f":"Tabla13[[#This Row],[Nº Expediente de la plataforma de contratación]]","v":{"$error":"#VALUE!"}},{"$f":"Tabla13[[#This Row],[Importe IVA ]]","v":{"$error":"#VALUE!"}},{"$f":"Tabla13[[#This Row],[Importe de adjudicación (IVA INCLUIDO)]]","v":{"$error":"#VALUE!"}}]
[{"$nulls":18},{"$f":"Tabla13[[#This Row],[Título del contrato]]&Tabla13[[#This Row],[Nº Expediente de la plataforma de contratación]]","v":{"$error":"#VALUE!"}},{"$f":"Tabla13[[#This Row],[Nº Expediente de la plataforma de contratación]]","v":{"$error":"#VALUE!"}},{"$f":"Tabla13[[#This Row],[Importe IVA ]]","v":{"$error":"#VALUE!"}},{"$f":"Tabla13[[#This Row],[Importe de adjudicación (IVA INCLUIDO)]]","v":{"$error":"#VALUE!"}}]
[{"$nulls":18},{"$f":"Tabla13[[#This Row],[Título del contrato]]&Tabla13[[#This Row],[Nº Expediente de la plataforma de contratación]]","v":{"$error":"#VALUE!"}},{"$f":"Tabla13[[#This Row],[Nº Expediente de la plataforma de contratación]]","v":{"$error":"#VALUE!"}},{"$f":"Tabla13[[#This Row],[Importe IVA ]]","v":{"$error":"#VALUE!"}},{"$f":"Tabla13[[#This Row],[Importe de adjudicación (IVA INCLUIDO)]]","v":{"$error":"#VALUE!"}}]
[{"$nulls":18},{"$f":"Tabla13[[#This Row],[Título del contrato]]&Tabla13[[#This Row],[Nº Expediente de la plataforma de contratación]]","v":{"$error":"#VALUE!"}},{"$f":"Tabla13[[#This Row],[Nº Expediente de la plataforma de contratación]]","v":{"$error":"#VALUE!"}},{"$f":"Tabla13[[#This Row],[Importe IVA ]]","v":{"$error":"#VALUE!"}},{"$f":"Tabla13[[#This Row],[Importe de adjudicación (IVA INCLUIDO)]]","v":{"$error":"#VALUE!"}}]
[{"$nulls":18},{"$f":"Tabla13[[#This Row],[Título del contrato]]&Tabla13[[#This Row],[Nº Expediente de la plataforma de contratación]]","v":{"$error":"#VALUE!"}},{"$f":"Tabla13[[#This Row],[Nº Expediente de la plataforma de contratación]]","v":{"$error":"#VALUE!"}},{"$f":"Tabla13[[#This Row],[Importe IVA ]]","v":{"$error":"#VALUE!"}},{"$f":"Tabla13[[#This Row],[Importe de adjudicación (IVA INCLUIDO)]]","v":{"$error":"#VALUE!"}}]
[{"$nulls":18},{"$f":"Tabla13[[#This Row],[Título del contrato]]&Tabla13[[#This Row],[Nº Expediente de la plataforma de contratación]]","v":{"$error":"#VALUE!"}},{"$f":"Tabla13[[#This Row],[Nº Expediente de la plataforma de contratación]]","v":{"$error":"#VALUE!"}},{"$f":"Tabla13[[#This Row],[Importe IVA ]]","v":{"$error":"#VALUE!"}},{"$f":"Tabla13[[#This Row],[Importe de adjudicación (IVA INCLUIDO)]]","v":{"$error":"#VALUE!"}}]
[{"$nulls":18},{"$f":"Tabla13[[#This Row],[Título del contrato]]&Tabla13[[#This Row],[Nº Expediente de la plataforma de contratación]]","v":{"$error":"#VALUE!"}},{"$f":"Tabla13[[#This Row],[Nº Expediente de la plataforma de contratación]]","v":{"$error":"#VALUE!"}},{"$f":"Tabla13[[#This Row],[Importe IVA ]]","v":{"$error":"#VALUE!"}},{"$f":"Tabla13[[#This Row],[Importe de adjudicación (IVA INCLUIDO)]]","v":{"$error":"#VALUE!"}}]
[{"$nulls":18},{"$f":"Tabla13[[#This Row],[Título del contrato]]&Tabla13[[#This Row],[Nº Expediente de la plataforma de contratación]]","v":{"$error":"#VALUE!"}},{"$f":"Tabla13[[#This Row],[Nº Expediente de la plataforma de contratación]]","v":{"$error":"#VALUE!"}},{"$f":"Tabla13[[#This Row],[Importe IVA ]]","v":{"$error":"#VALUE!"}},{"$f":"Tabla13[[#This Row],[Importe de adjudicación (IVA INCLUIDO)]]","v":{"$error":"#VALUE!"}}]
[{"$nulls":18},{"$f":"Tabla13[[#This Row],[Título del contrato]]&Tabla13[[#This Row],[Nº Expediente de la plataforma de contratación]]","v":{"$error":"#VALUE!"}},{"$f":"Tabla13[[#This Row],[Nº Expediente de la plataforma de contratación]]","v":{"$error":"#VALUE!"}},{"$f":"Tabla13[[#This Row],[Importe IVA ]]","v":{"$error":"#VALUE!"}},{"$f":"Tabla13[[#This Row],[Importe de adjudicación (IVA INCLUIDO)]]","v":{"$error":"#VALUE!"}}]
[{"$nulls":18},{"$f":"Tabla13[[#This Row],[Título del contrato]]&Tabla13[[#This Row],[Nº Expediente de la plataforma de contratación]]","v":{"$error":"#VALUE!"}},{"$f":"Tabla13[[#This Row],[Nº Expediente de la plataforma de contratación]]","v":{"$error":"#VALUE!"}},{"$f":"Tabla13[[#This Row],[Importe IVA ]]","v":{"$error":"#VALUE!"}},{"$f":"Tabla13[[#This Row],[Importe de adjudicación (IVA INCLUIDO)]]","v":{"$error":"#VALUE!"}}]
[{"$nulls":18},{"$f":"Tabla13[[#This Row],[Título del contrato]]&Tabla13[[#This Row],[Nº Expediente de la plataforma de contratación]]","v":{"$error":"#VALUE!"}},{"$f":"Tabla13[[#This Row],[Nº Expediente de la plataforma de contratación]]","v":{"$error":"#VALUE!"}},{"$f":"Tabla13[[#This Row],[Importe IVA ]]","v":{"$error":"#VALUE!"}},{"$f":"Tabla13[[#This Row],[Importe de adjudicación (IVA INCLUIDO)]]","v":{"$error":"#VALUE!"}}]
[{"$nulls":18},{"$f":"Tabla13[[#This Row],[Título del contrato]]&Tabla13[[#This Row],[Nº Expediente de la plataforma de contratación]]","v":{"$error":"#VALUE!"}},{"$f":"Tabla13[[#This Row],[Nº Expediente de la plataforma de contratación]]","v":{"$error":"#VALUE!"}},{"$f":"Tabla13[[#This Row],[Importe IVA ]]","v":{"$error":"#VALUE!"}},{"$f":"Tabla13[[#This Row],[Importe de adjudicación (IVA INCLUIDO)]]","v":{"$error":"#VALUE!"}}]
[{"$nulls":18},{"$f":"Tabla13[[#This Row],[Título del contrato]]&Tabla13[[#This Row],[Nº Expediente de la plataforma de contratación]]","v":{"$error":"#VALUE!"}},{"$f":"Tabla13[[#This Row],[Nº Expediente de la plataforma de contratación]]","v":{"$error":"#VALUE!"}},{"$f":"Tabla13[[#This Row],[Importe IVA ]]","v":{"$error":"#VALUE!"}},{"$f":"Tabla13[[#This Row],[Importe de adjudicación (IVA INCLUIDO)]]","v":{"$error":"#VALUE!"}}]
[{"$nulls":18},{"$f":"Tabla13[[#This Row],[Título del contrato]]&Tabla13[[#This Row],[Nº Expediente de la plataforma de contratación]]","v":{"$error":"#VALUE!"}},{"$f":"Tabla13[[#This Row],[Nº Expediente de la plataforma de contratación]]","v":{"$error":"#VALUE!"}},{"$f":"Tabla13[[#This Row],[Importe IVA ]]","v":{"$error":"#VALUE!"}},{"$f":"Tabla13[[#This Row],[Importe de adjudicación (IVA INCLUIDO)]]","v":{"$error":"#VALUE!"}}]
[{"$nulls":18},{"$f":"Tabla13[[#This Row],[Título del contrato]]&Tabla13[[#This Row],[Nº Expediente de la plataforma de contratación]]","v":{"$error":"#VALUE!"}},{"$f":"Tabla13[[#This Row],[Nº Expediente de la plataforma de contratación]]","v":{"$error":"#VALUE!"}},{"$f":"Tabla13[[#This Row],[Importe IVA ]]","v":{"$error":"#VALUE!"}},{"$f":"Tabla13[[#This Row],[Importe de adjudicación (IVA INCLUIDO)]]","v":{"$error":"#VALUE!"}}]
[{"$nulls":18},{"$f":"Tabla13[[#This Row],[Título del contrato]]&Tabla13[[#This Row],[Nº Expediente de la plataforma de contratación]]","v":{"$error":"#VALUE!"}},{"$f":"Tabla13[[#This Row],[Nº Expediente de la plataforma de contratación]]","v":{"$error":"#VALUE!"}},{"$f":"Tabla13[[#This Row],[Importe IVA ]]","v":{"$error":"#VALUE!"}},{"$f":"Tabla13[[#This Row],[Importe de adjudicación (IVA INCLUIDO)]]","v":{"$error":"#VALUE!"}}]
[{"$nulls":18},{"$f":"Tabla13[[#This Row],[Título del contrato]]&Tabla13[[#This Row],[Nº Expediente de la plataforma de contratación]]","v":{"$error":"#VALUE!"}},{"$f":"Tabla13[[#This Row],[Nº Expediente de la plataforma de contratación]]","v":{"$error":"#VALUE!"}},{"$f":"Tabla13[[#This Row],[Importe IVA ]]","v":{"$error":"#VALUE!"}},{"$f":"Tabla13[[#This Row],[Importe de adjudicación (IVA INCLUIDO)]]","v":{"$error":"#VALUE!"}}]
[{"$nulls":18},{"$f":"Tabla13[[#This Row],[Título del contrato]]&Tabla13[[#This Row],[Nº Expediente de la plataforma de contratación]]","v":{"$error":"#VALUE!"}},{"$f":"Tabla13[[#This Row],[Nº Expediente de la plataforma de contratación]]","v":{"$error":"#VALUE!"}},{"$f":"Tabla13[[#This Row],[Importe IVA ]]","v":{"$error":"#VALUE!"}},{"$f":"Tabla13[[#This Row],[Importe de adjudicación (IVA INCLUIDO)]]","v":{"$error":"#VALUE!"}}]
[{"$nulls":18},{"$f":"Tabla13[[#This Row],[Título del contrato]]&Tabla13[[#This Row],[Nº Expediente de la plataforma de contratación]]","v":{"$error":"#VALUE!"}},{"$f":"Tabla13[[#This Row],[Nº Expediente de la plataforma de contratación]]","v":{"$error":"#VALUE!"}},{"$f":"Tabla13[[#This Row],[Importe IVA ]]","v":{"$error":"#VALUE!"}},{"$f":"Tabla13[[#This Row],[Importe de adjudicación (IVA INCLUIDO)]]","v":{"$error":"#VALUE!"}}]
[{"$nulls":18},{"$f":"Tabla13[[#This Row],[Título del contrato]]&Tabla13[[#This Row],[Nº Expediente de la plataforma de contratación]]","v":{"$error":"#VALUE!"}},{"$f":"Tabla13[[#This Row],[Nº Expediente de la plataforma de contratación]]","v":{"$error":"#VALUE!"}},{"$f":"Tabla13[[#This Row],[Importe IVA ]]","v":{"$error":"#VALUE!"}},{"$f":"Tabla13[[#This Row],[Importe de adjudicación (IVA INCLUIDO)]]","v":{"$error":"#VALUE!"}}]
[{"$nulls":18},{"$f":"Tabla13[[#This Row],[Título del contrato]]&Tabla13[[#This Row],[Nº Expediente de la plataforma de contratación]]","v":{"$error":"#VALUE!"}},{"$f":"Tabla13[[#This Row],[Nº Expediente de la plataforma de contratación]]","v":{"$error":"#VALUE!"}},{"$f":"Tabla13[[#This Row],[Importe IVA ]]","v":{"$error":"#VALUE!"}},{"$f":"Tabla13[[#This Row],[Importe de adjudicación (IVA INCLUIDO)]]","v":{"$error":"#VALUE!"}}]
[{"$nulls":18},{"$f":"Tabla13[[#This Row],[Título del contrato]]&Tabla13[[#This Row],[Nº Expediente de la plataforma de contratación]]","v":{"$error":"#VALUE!"}},{"$f":"Tabla13[[#This Row],[Nº Expediente de la plataforma de contratación]]","v":{"$error":"#VALUE!"}},{"$f":"Tabla13[[#This Row],[Importe IVA ]]","v":{"$error":"#VALUE!"}},{"$f":"Tabla13[[#This Row],[Importe de adjudicación (IVA INCLUIDO)]]","v":{"$error":"#VALUE!"}}]
[{"$nulls":18},{"$f":"Tabla13[[#This Row],[Título del contrato]]&Tabla13[[#This Row],[Nº Expediente de la plataforma de contratación]]","v":{"$error":"#VALUE!"}},{"$f":"Tabla13[[#This Row],[Nº Expediente de la plataforma de contratación]]","v":{"$error":"#VALUE!"}},{"$f":"Tabla13[[#This Row],[Importe IVA ]]","v":{"$error":"#VALUE!"}},{"$f":"Tabla13[[#This Row],[Importe de adjudicación (IVA INCLUIDO)]]","v":{"$error":"#VALUE!"}}]
[{"$nulls":18},{"$f":"Tabla13[[#This Row],[Título del contrato]]&Tabla13[[#This Row],[Nº Expediente de la plataforma de contratación]]","v":{"$error":"#VALUE!"}},{"$f":"Tabla13[[#This Row],[Nº Expediente de la plataforma de contratación]]","v":{"$error":"#VALUE!"}},{"$f":"Tabla13[[#This Row],[Importe IVA ]]","v":{"$error":"#VALUE!"}},{"$f":"Tabla13[[#This Row],[Importe de adjudicación (IVA INCLUIDO)]]","v":{"$error":"#VALUE!"}}]
[{"$nulls":18},{"$f":"Tabla13[[#This Row],[Título del contrato]]&Tabla13[[#This Row],[Nº Expediente de la plataforma de contratación]]","v":{"$error":"#VALUE!"}},{"$f":"Tabla13[[#This Row],[Nº Expediente de la plataforma de contratación]]","v":{"$error":"#VALUE!"}},{"$f":"Tabla13[[#This Row],[Importe IVA ]]","v":{"$error":"#VALUE!"}},{"$f":"Tabla13[[#This Row],[Importe de adjudicación (IVA INCLUIDO)]]","v":{"$error":"#VALUE!"}}]
[{"$nulls":18},{"$f":"Tabla13[[#This Row],[Título del contrato]]&Tabla13[[#This Row],[Nº Expediente de la plataforma de contratación]]","v":{"$error":"#VALUE!"}},{"$f":"Tabla13[[#This Row],[Nº Expediente de la plataforma de contratación]]","v":{"$error":"#VALUE!"}},{"$f":"Tabla13[[#This Row],[Importe IVA ]]","v":{"$error":"#VALUE!"}},{"$f":"Tabla13[[#This Row],[Importe de adjudicación (IVA INCLUIDO)]]","v":{"$error":"#VALUE!"}}]
[{"$nulls":18},{"$f":"Tabla13[[#This Row],[Título del contrato]]&Tabla13[[#This Row],[Nº Expediente de la plataforma de contratación]]","v":{"$error":"#VALUE!"}},{"$f":"Tabla13[[#This Row],[Nº Expediente de la plataforma de contratación]]","v":{"$error":"#VALUE!"}},{"$f":"Tabla13[[#This Row],[Importe IVA ]]","v":{"$error":"#VALUE!"}},{"$f":"Tabla13[[#This Row],[Importe de adjudicación (IVA INCLUIDO)]]","v":{"$error":"#VALUE!"}}]
[{"$nulls":18},{"$f":"Tabla13[[#This Row],[Título del contrato]]&Tabla13[[#This Row],[Nº Expediente de la plataforma de contratación]]","v":{"$error":"#VALUE!"}},{"$f":"Tabla13[[#This Row],[Nº Expediente de la plataforma de contratación]]","v":{"$error":"#VALUE!"}},{"$f":"Tabla13[[#This Row],[Importe IVA ]]","v":{"$error":"#VALUE!"}},{"$f":"Tabla13[[#This Row],[Importe de adjudicación (IVA INCLUIDO)]]","v":{"$error":"#VALUE!"}}]
[{"$nulls":18},{"$f":"Tabla13[[#This Row],[Título del contrato]]&Tabla13[[#This Row],[Nº Expediente de la plataforma de contratación]]","v":{"$error":"#VALUE!"}},{"$f":"Tabla13[[#This Row],[Nº Expediente de la plataforma de contratación]]","v":{"$error":"#VALUE!"}},{"$f":"Tabla13[[#This Row],[Importe IVA ]]","v":{"$error":"#VALUE!"}},{"$f":"Tabla13[[#This Row],[Importe de adjudicación (IVA INCLUIDO)]]","v":{"$error":"#VALUE!"}}]
[{"$nulls":18},{"$f":"Tabla13[[#This Row],[Título del contrato]]&Tabla13[[#This Row],[Nº Expediente de la plataforma de contratación]]","v":{"$error":"#VALUE!"}},{"$f":"Tabla13[[#This Row],[Nº Expediente de la plataforma de contratación]]","v":{"$error":"#VALUE!"}},{"$f":"Tabla13[[#This Row],[Importe IVA ]]","v":{"$error":"#VALUE!"}},{"$f":"Tabla13[[#This Row],[Importe de adjudicación (IVA INCLUIDO)]]","v":{"$error":"#VALUE!"}}]
[{"$nulls":18},{"$f":"Tabla13[[#This Row],[Título del contrato]]&Tabla13[[#This Row],[Nº Expediente de la plataforma de contratación]]","v":{"$error":"#VALUE!"}},{"$f":"Tabla13[[#This Row],[Nº Expediente de la plataforma de contratación]]","v":{"$error":"#VALUE!"}},{"$f":"Tabla13[[#This Row],[Importe IVA ]]","v":{"$error":"#VALUE!"}},{"$f":"Tabla13[[#This Row],[Importe de adjudicación (IVA INCLUIDO)]]","v":{"$error":"#VALUE!"}}]
[{"$nulls":18},{"$f":"Tabla13[[#This Row],[Título del contrato]]&Tabla13[[#This Row],[Nº Expediente de la plataforma de contratación]]","v":{"$error":"#VALUE!"}},{"$f":"Tabla13[[#This Row],[Nº Expediente de la plataforma de contratación]]","v":{"$error":"#VALUE!"}},{"$f":"Tabla13[[#This Row],[Importe IVA ]]","v":{"$error":"#VALUE!"}},{"$f":"Tabla13[[#This Row],[Importe de adjudicación (IVA INCLUIDO)]]","v":{"$error":"#VALUE!"}}]
[{"$nulls":18},{"$f":"Tabla13[[#This Row],[Título del contrato]]&Tabla13[[#This Row],[Nº Expediente de la plataforma de contratación]]","v":{"$error":"#VALUE!"}},{"$f":"Tabla13[[#This Row],[Nº Expediente de la plataforma de contratación]]","v":{"$error":"#VALUE!"}},{"$f":"Tabla13[[#This Row],[Importe IVA ]]","v":{"$error":"#VALUE!"}},{"$f":"Tabla13[[#This Row],[Importe de adjudicación (IVA INCLUIDO)]]","v":{"$error":"#VALUE!"}}]
[{"$nulls":18},{"$f":"Tabla13[[#This Row],[Título del contrato]]&Tabla13[[#This Row],[Nº Expediente de la plataforma de contratación]]","v":{"$error":"#VALUE!"}},{"$f":"Tabla13[[#This Row],[Nº Expediente de la plataforma de contratación]]","v":{"$error":"#VALUE!"}},{"$f":"Tabla13[[#This Row],[Importe IVA ]]","v":{"$error":"#VALUE!"}},{"$f":"Tabla13[[#This Row],[Importe de adjudicación (IVA INCLUIDO)]]","v":{"$error":"#VALUE!"}}]
[{"$nulls":18},{"$f":"Tabla13[[#This Row],[Título del contrato]]&Tabla13[[#This Row],[Nº Expediente de la plataforma de contratación]]","v":{"$error":"#VALUE!"}},{"$f":"Tabla13[[#This Row],[Nº Expediente de la plataforma de contratación]]","v":{"$error":"#VALUE!"}},{"$f":"Tabla13[[#This Row],[Importe IVA ]]","v":{"$error":"#VALUE!"}},{"$f":"Tabla13[[#This Row],[Importe de adjudicación (IVA INCLUIDO)]]","v":{"$error":"#VALUE!"}}]
[{"$nulls":18},{"$f":"Tabla13[[#This Row],[Título del contrato]]&Tabla13[[#This Row],[Nº Expediente de la plataforma de contratación]]","v":{"$error":"#VALUE!"}},{"$f":"Tabla13[[#This Row],[Nº Expediente de la plataforma de contratación]]","v":{"$error":"#VALUE!"}},{"$f":"Tabla13[[#This Row],[Importe IVA ]]","v":{"$error":"#VALUE!"}},{"$f":"Tabla13[[#This Row],[Importe de adjudicación (IVA INCLUIDO)]]","v":{"$error":"#VALUE!"}}]
[{"$nulls":18},{"$f":"Tabla13[[#This Row],[Título del contrato]]&Tabla13[[#This Row],[Nº Expediente de la plataforma de contratación]]","v":{"$error":"#VALUE!"}},{"$f":"Tabla13[[#This Row],[Nº Expediente de la plataforma de contratación]]","v":{"$error":"#VALUE!"}},{"$f":"Tabla13[[#This Row],[Importe IVA ]]","v":{"$error":"#VALUE!"}},{"$f":"Tabla13[[#This Row],[Importe de adjudicación (IVA INCLUIDO)]]","v":{"$error":"#VALUE!"}}]
[{"$nulls":18},{"$f":"Tabla13[[#This Row],[Título del contrato]]&Tabla13[[#This Row],[Nº Expediente de la plataforma de contratación]]","v":{"$error":"#VALUE!"}},{"$f":"Tabla13[[#This Row],[Nº Expediente de la plataforma de contratación]]","v":{"$error":"#VALUE!"}},{"$f":"Tabla13[[#This Row],[Importe IVA ]]","v":{"$error":"#VALUE!"}},{"$f":"Tabla13[[#This Row],[Importe de adjudicación (IVA INCLUIDO)]]","v":{"$error":"#VALUE!"}}]
[{"$nulls":18},{"$f":"Tabla13[[#This Row],[Título del contrato]]&Tabla13[[#This Row],[Nº Expediente de la plataforma de contratación]]","v":{"$error":"#VALUE!"}},{"$f":"Tabla13[[#This Row],[Nº Expediente de la plataforma de contratación]]","v":{"$error":"#VALUE!"}},{"$f":"Tabla13[[#This Row],[Importe IVA ]]","v":{"$error":"#VALUE!"}},{"$f":"Tabla13[[#This Row],[Importe de adjudicación (IVA INCLUIDO)]]","v":{"$error":"#VALUE!"}}]
[{"$nulls":18},{"$f":"Tabla13[[#This Row],[Título del contrato]]&Tabla13[[#This Row],[Nº Expediente de la plataforma de contratación]]","v":{"$error":"#VALUE!"}},{"$f":"Tabla13[[#This Row],[Nº Expediente de la plataforma de contratación]]","v":{"$error":"#VALUE!"}},{"$f":"Tabla13[[#This Row],[Importe IVA ]]","v":{"$error":"#VALUE!"}},{"$f":"Tabla13[[#This Row],[Importe de adjudicación (IVA INCLUIDO)]]","v":{"$error":"#VALUE!"}}]
[{"$nulls":18},{"$f":"Tabla13[[#This Row],[Título del contrato]]&Tabla13[[#This Row],[Nº Expediente de la plataforma de contratación]]","v":{"$error":"#VALUE!"}},{"$f":"Tabla13[[#This Row],[Nº Expediente de la plataforma de contratación]]","v":{"$error":"#VALUE!"}},{"$f":"Tabla13[[#This Row],[Importe IVA ]]","v":{"$error":"#VALUE!"}},{"$f":"Tabla13[[#This Row],[Importe de adjudicación (IVA INCLUIDO)]]","v":{"$error":"#VALUE!"}}]
[{"$nulls":18},{"$f":"Tabla13[[#This Row],[Título del contrato]]&Tabla13[[#This Row],[Nº Expediente de la plataforma de contratación]]","v":{"$error":"#VALUE!"}},{"$f":"Tabla13[[#This Row],[Nº Expediente de la plataforma de contratación]]","v":{"$error":"#VALUE!"}},{"$f":"Tabla13[[#This Row],[Importe IVA ]]","v":{"$error":"#VALUE!"}},{"$f":"Tabla13[[#This Row],[Importe de adjudicación (IVA INCLUIDO)]]","v":{"$error":"#VALUE!"}}]
[{"$nulls":18},{"$f":"Tabla13[[#This Row],[Título del contrato]]&Tabla13[[#This Row],[Nº Expediente de la plataforma de contratación]]","v":{"$error":"#VALUE!"}},{"$f":"Tabla13[[#This Row],[Nº Expediente de la plataforma de contratación]]","v":{"$error":"#VALUE!"}},{"$f":"Tabla13[[#This Row],[Importe IVA ]]","v":{"$error":"#VALUE!"}},{"$f":"Tabla13[[#This Row],[Importe de adjudicación (IVA INCLUIDO)]]","v":{"$error":"#VALUE!"}}]
[{"$nulls":18},{"$f":"Tabla13[[#This Row],[Título del contrato]]&Tabla13[[#This Row],[Nº Expediente de la plataforma de contratación]]","v":{"$error":"#VALUE!"}},{"$f":"Tabla13[[#This Row],[Nº Expediente de la plataforma de contratación]]","v":{"$error":"#VALUE!"}},{"$f":"Tabla13[[#This Row],[Importe IVA ]]","v":{"$error":"#VALUE!"}},{"$f":"Tabla13[[#This Row],[Importe de adjudicación (IVA INCLUIDO)]]","v":{"$error":"#VALUE!"}}]
[{"$nulls":18},{"$f":"Tabla13[[#This Row],[Título del contrato]]&Tabla13[[#This Row],[Nº Expediente de la plataforma de contratación]]","v":{"$error":"#VALUE!"}},{"$f":"Tabla13[[#This Row],[Nº Expediente de la plataforma de contratación]]","v":{"$error":"#VALUE!"}},{"$f":"Tabla13[[#This Row],[Importe IVA ]]","v":{"$error":"#VALUE!"}},{"$f":"Tabla13[[#This Row],[Importe de adjudicación (IVA INCLUIDO)]]","v":{"$error":"#VALUE!"}}]
[{"$nulls":18},{"$f":"Tabla13[[#This Row],[Título del contrato]]&Tabla13[[#This Row],[Nº Expediente de la plataforma de contratación]]","v":{"$error":"#VALUE!"}},{"$f":"Tabla13[[#This Row],[Nº Expediente de la plataforma de contratación]]","v":{"$error":"#VALUE!"}},{"$f":"Tabla13[[#This Row],[Importe IVA ]]","v":{"$error":"#VALUE!"}},{"$f":"Tabla13[[#This Row],[Importe de adjudicación (IVA INCLUIDO)]]","v":{"$error":"#VALUE!"}}]
[{"$nulls":18},{"$f":"Tabla13[[#This Row],[Título del contrato]]&Tabla13[[#This Row],[Nº Expediente de la plataforma de contratación]]","v":{"$error":"#VALUE!"}},{"$f":"Tabla13[[#This Row],[Nº Expediente de la plataforma de contratación]]","v":{"$error":"#VALUE!"}},{"$f":"Tabla13[[#This Row],[Importe IVA ]]","v":{"$error":"#VALUE!"}},{"$f":"Tabla13[[#This Row],[Importe de adjudicación (IVA INCLUIDO)]]","v":{"$error":"#VALUE!"}}]
[{"$nulls":18},{"$f":"Tabla13[[#This Row],[Título del contrato]]&Tabla13[[#This Row],[Nº Expediente de la plataforma de contratación]]","v":{"$error":"#VALUE!"}},{"$f":"Tabla13[[#This Row],[Nº Expediente de la plataforma de contratación]]","v":{"$error":"#VALUE!"}},{"$f":"Tabla13[[#This Row],[Importe IVA ]]","v":{"$error":"#VALUE!"}},{"$f":"Tabla13[[#This Row],[Importe de adjudicación (IVA INCLUIDO)]]","v":{"$error":"#VALUE!"}}]
[{"$nulls":18},{"$f":"Tabla13[[#This Row],[Título del contrato]]&Tabla13[[#This Row],[Nº Expediente de la plataforma de contratación]]","v":{"$error":"#VALUE!"}},{"$f":"Tabla13[[#This Row],[Nº Expediente de la plataforma de contratación]]","v":{"$error":"#VALUE!"}},{"$f":"Tabla13[[#This Row],[Importe IVA ]]","v":{"$error":"#VALUE!"}},{"$f":"Tabla13[[#This Row],[Importe de adjudicación (IVA INCLUIDO)]]","v":{"$error":"#VALUE!"}}]
[{"$nulls":18},{"$f":"Tabla13[[#This Row],[Título del contrato]]&Tabla13[[#This Row],[Nº Expediente de la plataforma de contratación]]","v":{"$error":"#VALUE!"}},{"$f":"Tabla13[[#This Row],[Nº Expediente de la plataforma de contratación]]","v":{"$error":"#VALUE!"}},{"$f":"Tabla13[[#This Row],[Importe IVA ]]","v":{"$error":"#VALUE!"}},{"$f":"Tabla13[[#This Row],[Importe de adjudicación (IVA INCLUIDO)]]","v":{"$error":"#VALUE!"}}]
[{"$nulls":18},{"$f":"Tabla13[[#This Row],[Título del contrato]]&Tabla13[[#This Row],[Nº Expediente de la plataforma de contratación]]","v":{"$error":"#VALUE!"}},{"$f":"Tabla13[[#This Row],[Nº Expediente de la plataforma de contratación]]","v":{"$error":"#VALUE!"}},{"$f":"Tabla13[[#This Row],[Importe IVA ]]","v":{"$error":"#VALUE!"}},{"$f":"Tabla13[[#This Row],[Importe de adjudicación (IVA INCLUIDO)]]","v":{"$error":"#VALUE!"}}]
[{"$nulls":18},{"$f":"Tabla13[[#This Row],[Título del contrato]]&Tabla13[[#This Row],[Nº Expediente de la plataforma de contratación]]","v":{"$error":"#VALUE!"}},{"$f":"Tabla13[[#This Row],[Nº Expediente de la plataforma de contratación]]","v":{"$error":"#VALUE!"}},{"$f":"Tabla13[[#This Row],[Importe IVA ]]","v":{"$error":"#VALUE!"}},{"$f":"Tabla13[[#This Row],[Importe de adjudicación (IVA INCLUIDO)]]","v":{"$error":"#VALUE!"}}]
[{"$nulls":18},{"$f":"Tabla13[[#This Row],[Título del contrato]]&Tabla13[[#This Row],[Nº Expediente de la plataforma de contratación]]","v":{"$error":"#VALUE!"}},{"$f":"Tabla13[[#This Row],[Nº Expediente de la plataforma de contratación]]","v":{"$error":"#VALUE!"}},{"$f":"Tabla13[[#This Row],[Importe IVA ]]","v":{"$error":"#VALUE!"}},{"$f":"Tabla13[[#This Row],[Importe de adjudicación (IVA INCLUIDO)]]","v":{"$error":"#VALUE!"}}]
[{"$nulls":18},{"$f":"Tabla13[[#This Row],[Título del contrato]]&Tabla13[[#This Row],[Nº Expediente de la plataforma de contratación]]","v":{"$error":"#VALUE!"}},{"$f":"Tabla13[[#This Row],[Nº Expediente de la plataforma de contratación]]","v":{"$error":"#VALUE!"}},{"$f":"Tabla13[[#This Row],[Importe IVA ]]","v":{"$error":"#VALUE!"}},{"$f":"Tabla13[[#This Row],[Importe de adjudicación (IVA INCLUIDO)]]","v":{"$error":"#VALUE!"}}]
[{"$nulls":18},{"$f":"Tabla13[[#This Row],[Título del contrato]]&Tabla13[[#This Row],[Nº Expediente de la plataforma de contratación]]","v":{"$error":"#VALUE!"}},{"$f":"Tabla13[[#This Row],[Nº Expediente de la plataforma de contratación]]","v":{"$error":"#VALUE!"}},{"$f":"Tabla13[[#This Row],[Importe IVA ]]","v":{"$error":"#VALUE!"}},{"$f":"Tabla13[[#This Row],[Importe de adjudicación (IVA INCLUIDO)]]","v":{"$error":"#VALUE!"}}]
[{"$nulls":18},{"$f":"Tabla13[[#This Row],[Título del contrato]]&Tabla13[[#This Row],[Nº Expediente de la plataforma de contratación]]","v":{"$error":"#VALUE!"}},{"$f":"Tabla13[[#This Row],[Nº Expediente de la plataforma de contratación]]","v":{"$error":"#VALUE!"}},{"$f":"Tabla13[[#This Row],[Importe IVA ]]","v":{"$error":"#VALUE!"}},{"$f":"Tabla13[[#This Row],[Importe de adjudicación (IVA INCLUIDO)]]","v":{"$error":"#VALUE!"}}]
[{"$nulls":18},{"$f":"Tabla13[[#This Row],[Título del contrato]]&Tabla13[[#This Row],[Nº Expediente de la plataforma de contratación]]","v":{"$error":"#VALUE!"}},{"$f":"Tabla13[[#This Row],[Nº Expediente de la plataforma de contratación]]","v":{"$error":"#VALUE!"}},{"$f":"Tabla13[[#This Row],[Importe IVA ]]","v":{"$error":"#VALUE!"}},{"$f":"Tabla13[[#This Row],[Importe de adjudicación (IVA INCLUIDO)]]","v":{"$error":"#VALUE!"}}]
[{"$nulls":18},{"$f":"Tabla13[[#This Row],[Título del contrato]]&Tabla13[[#This Row],[Nº Expediente de la plataforma de contratación]]","v":{"$error":"#VALUE!"}},{"$f":"Tabla13[[#This Row],[Nº Expediente de la plataforma de contratación]]","v":{"$error":"#VALUE!"}},{"$f":"Tabla13[[#This Row],[Importe IVA ]]","v":{"$error":"#VALUE!"}},{"$f":"Tabla13[[#This Row],[Importe de adjudicación (IVA INCLUIDO)]]","v":{"$error":"#VALUE!"}}]
[{"$nulls":18},{"$f":"Tabla13[[#This Row],[Título del contrato]]&Tabla13[[#This Row],[Nº Expediente de la plataforma de contratación]]","v":{"$error":"#VALUE!"}},{"$f":"Tabla13[[#This Row],[Nº Expediente de la plataforma de contratación]]","v":{"$error":"#VALUE!"}},{"$f":"Tabla13[[#This Row],[Importe IVA ]]","v":{"$error":"#VALUE!"}},{"$f":"Tabla13[[#This Row],[Importe de adjudicación (IVA INCLUIDO)]]","v":{"$error":"#VALUE!"}}]
[{"$nulls":18},{"$f":"Tabla13[[#This Row],[Título del contrato]]&Tabla13[[#This Row],[Nº Expediente de la plataforma de contratación]]","v":{"$error":"#VALUE!"}},{"$f":"Tabla13[[#This Row],[Nº Expediente de la plataforma de contratación]]","v":{"$error":"#VALUE!"}},{"$f":"Tabla13[[#This Row],[Importe IVA ]]","v":{"$error":"#VALUE!"}},{"$f":"Tabla13[[#This Row],[Importe de adjudicación (IVA INCLUIDO)]]","v":{"$error":"#VALUE!"}}]
[{"$nulls":18},{"$f":"Tabla13[[#This Row],[Título del contrato]]&Tabla13[[#This Row],[Nº Expediente de la plataforma de contratación]]","v":{"$error":"#VALUE!"}},{"$f":"Tabla13[[#This Row],[Nº Expediente de la plataforma de contratación]]","v":{"$error":"#VALUE!"}},{"$f":"Tabla13[[#This Row],[Importe IVA ]]","v":{"$error":"#VALUE!"}},{"$f":"Tabla13[[#This Row],[Importe de adjudicación (IVA INCLUIDO)]]","v":{"$error":"#VALUE!"}}]
[{"$nulls":18},{"$f":"Tabla13[[#This Row],[Título del contrato]]&Tabla13[[#This Row],[Nº Expediente de la plataforma de contratación]]","v":{"$error":"#VALUE!"}},{"$f":"Tabla13[[#This Row],[Nº Expediente de la plataforma de contratación]]","v":{"$error":"#VALUE!"}},{"$f":"Tabla13[[#This Row],[Importe IVA ]]","v":{"$error":"#VALUE!"}},{"$f":"Tabla13[[#This Row],[Importe de adjudicación (IVA INCLUIDO)]]","v":{"$error":"#VALUE!"}}]
[{"$nulls":18},{"$f":"Tabla13[[#This Row],[Título del contrato]]&Tabla13[[#This Row],[Nº Expediente de la plataforma de contratación]]","v":{"$error":"#VALUE!"}},{"$f":"Tabla13[[#This Row],[Nº Expediente de la plataforma de contratación]]","v":{"$error":"#VALUE!"}},{"$f":"Tabla13[[#This Row],[Importe IVA ]]","v":{"$error":"#VALUE!"}},{"$f":"Tabla13[[#This Row],[Importe de adjudicación (IVA INCLUIDO)]]","v":{"$error":"#VALUE!"}}]
[{"$nulls":18},{"$f":"Tabla13[[#This Row],[Título del contrato]]&Tabla13[[#This Row],[Nº Expediente de la plataforma de contratación]]","v":{"$error":"#VALUE!"}},{"$f":"Tabla13[[#This Row],[Nº Expediente de la plataforma de contratación]]","v":{"$error":"#VALUE!"}},{"$f":"Tabla13[[#This Row],[Importe IVA ]]","v":{"$error":"#VALUE!"}},{"$f":"Tabla13[[#This Row],[Importe de adjudicación (IVA INCLUIDO)]]","v":{"$error":"#VALUE!"}}]
[{"$nulls":18},{"$f":"Tabla13[[#This Row],[Título del contrato]]&Tabla13[[#This Row],[Nº Expediente de la plataforma de contratación]]","v":{"$error":"#VALUE!"}},{"$f":"Tabla13[[#This Row],[Nº Expediente de la plataforma de contratación]]","v":{"$error":"#VALUE!"}},{"$f":"Tabla13[[#This Row],[Importe IVA ]]","v":{"$error":"#VALUE!"}},{"$f":"Tabla13[[#This Row],[Importe de adjudicación (IVA INCLUIDO)]]","v":{"$error":"#VALUE!"}}]
[{"$nulls":18},{"$f":"Tabla13[[#This Row],[Título del contrato]]&Tabla13[[#This Row],[Nº Expediente de la plataforma de contratación]]","v":{"$error":"#VALUE!"}},{"$f":"Tabla13[[#This Row],[Nº Expediente de la plataforma de contratación]]","v":{"$error":"#VALUE!"}},{"$f":"Tabla13[[#This Row],[Importe IVA ]]","v":{"$error":"#VALUE!"}},{"$f":"Tabla13[[#This Row],[Importe de adjudicación (IVA INCLUIDO)]]","v":{"$error":"#VALUE!"}}]
[{"$nulls":18},{"$f":"Tabla13[[#This Row],[Título del contrato]]&Tabla13[[#This Row],[Nº Expediente de la plataforma de contratación]]","v":{"$error":"#VALUE!"}},{"$f":"Tabla13[[#This Row],[Nº Expediente de la plataforma de contratación]]","v":{"$error":"#VALUE!"}},{"$f":"Tabla13[[#This Row],[Importe IVA ]]","v":{"$error":"#VALUE!"}},{"$f":"Tabla13[[#This Row],[Importe de adjudicación (IVA INCLUIDO)]]","v":{"$error":"#VALUE!"}}]
[{"$nulls":18},{"$f":"Tabla13[[#This Row],[Título del contrato]]&Tabla13[[#This Row],[Nº Expediente de la plataforma de contratación]]","v":{"$error":"#VALUE!"}},{"$f":"Tabla13[[#This Row],[Nº Expediente de la plataforma de contratación]]","v":{"$error":"#VALUE!"}},{"$f":"Tabla13[[#This Row],[Importe IVA ]]","v":{"$error":"#VALUE!"}},{"$f":"Tabla13[[#This Row],[Importe de adjudicación (IVA INCLUIDO)]]","v":{"$error":"#VALUE!"}}]
[{"$nulls":18},{"$f":"Tabla13[[#This Row],[Título del contrato]]&Tabla13[[#This Row],[Nº Expediente de la plataforma de contratación]]","v":{"$error":"#VALUE!"}},{"$f":"Tabla13[[#This Row],[Nº Expediente de la plataforma de contratación]]","v":{"$error":"#VALUE!"}},{"$f":"Tabla13[[#This Row],[Importe IVA ]]","v":{"$error":"#VALUE!"}},{"$f":"Tabla13[[#This Row],[Importe de adjudicación (IVA INCLUIDO)]]","v":{"$error":"#VALUE!"}}]
[{"$nulls":18},{"$f":"Tabla13[[#This Row],[Título del contrato]]&Tabla13[[#This Row],[Nº Expediente de la plataforma de contratación]]","v":{"$error":"#VALUE!"}},{"$f":"Tabla13[[#This Row],[Nº Expediente de la plataforma de contratación]]","v":{"$error":"#VALUE!"}},{"$f":"Tabla13[[#This Row],[Importe IVA ]]","v":{"$error":"#VALUE!"}},{"$f":"Tabla13[[#This Row],[Importe de adjudicación (IVA INCLUIDO)]]","v":{"$error":"#VALUE!"}}]
[{"$nulls":18},{"$f":"Tabla13[[#This Row],[Título del contrato]]&Tabla13[[#This Row],[Nº Expediente de la plataforma de contratación]]","v":{"$error":"#VALUE!"}},{"$f":"Tabla13[[#This Row],[Nº Expediente de la plataforma de contratación]]","v":{"$error":"#VALUE!"}},{"$f":"Tabla13[[#This Row],[Importe IVA ]]","v":{"$error":"#VALUE!"}},{"$f":"Tabla13[[#This Row],[Importe de adjudicación (IVA INCLUIDO)]]","v":{"$error":"#VALUE!"}}]
[{"$nulls":18},{"$f":"Tabla13[[#This Row],[Título del contrato]]&Tabla13[[#This Row],[Nº Expediente de la plataforma de contratación]]","v":{"$error":"#VALUE!"}},{"$f":"Tabla13[[#This Row],[Nº Expediente de la plataforma de contratación]]","v":{"$error":"#VALUE!"}},{"$f":"Tabla13[[#This Row],[Importe IVA ]]","v":{"$error":"#VALUE!"}},{"$f":"Tabla13[[#This Row],[Importe de adjudicación (IVA INCLUIDO)]]","v":{"$error":"#VALUE!"}}]
[{"$nulls":18},{"$f":"Tabla13[[#This Row],[Título del contrato]]&Tabla13[[#This Row],[Nº Expediente de la plataforma de contratación]]","v":{"$error":"#VALUE!"}},{"$f":"Tabla13[[#This Row],[Nº Expediente de la plataforma de contratación]]","v":{"$error":"#VALUE!"}},{"$f":"Tabla13[[#This Row],[Importe IVA ]]","v":{"$error":"#VALUE!"}},{"$f":"Tabla13[[#This Row],[Importe de adjudicación (IVA INCLUIDO)]]","v":{"$error":"#VALUE!"}}]
[{"$nulls":18},{"$f":"Tabla13[[#This Row],[Título del contrato]]&Tabla13[[#This Row],[Nº Expediente de la plataforma de contratación]]","v":{"$error":"#VALUE!"}},{"$f":"Tabla13[[#This Row],[Nº Expediente de la plataforma de contratación]]","v":{"$error":"#VALUE!"}},{"$f":"Tabla13[[#This Row],[Importe IVA ]]","v":{"$error":"#VALUE!"}},{"$f":"Tabla13[[#This Row],[Importe de adjudicación (IVA INCLUIDO)]]","v":{"$error":"#VALUE!"}}]
[{"$nulls":18},{"$f":"Tabla13[[#This Row],[Título del contrato]]&Tabla13[[#This Row],[Nº Expediente de la plataforma de contratación]]","v":{"$error":"#VALUE!"}},{"$f":"Tabla13[[#This Row],[Nº Expediente de la plataforma de contratación]]","v":{"$error":"#VALUE!"}},{"$f":"Tabla13[[#This Row],[Importe IVA ]]","v":{"$error":"#VALUE!"}},{"$f":"Tabla13[[#This Row],[Importe de adjudicación (IVA INCLUIDO)]]","v":{"$error":"#VALUE!"}}]
[{"$nulls":18},{"$f":"Tabla13[[#This Row],[Título del contrato]]&Tabla13[[#This Row],[Nº Expediente de la plataforma de contratación]]","v":{"$error":"#VALUE!"}},{"$f":"Tabla13[[#This Row],[Nº Expediente de la plataforma de contratación]]","v":{"$error":"#VALUE!"}},{"$f":"Tabla13[[#This Row],[Importe IVA ]]","v":{"$error":"#VALUE!"}},{"$f":"Tabla13[[#This Row],[Importe de adjudicación (IVA INCLUIDO)]]","v":{"$error":"#VALUE!"}}]
[{"$nulls":18},{"$f":"Tabla13[[#This Row],[Título del contrato]]&Tabla13[[#This Row],[Nº Expediente de la plataforma de contratación]]","v":{"$error":"#VALUE!"}},{"$f":"Tabla13[[#This Row],[Nº Expediente de la plataforma de contratación]]","v":{"$error":"#VALUE!"}},{"$f":"Tabla13[[#This Row],[Importe IVA ]]","v":{"$error":"#VALUE!"}},{"$f":"Tabla13[[#This Row],[Importe de adjudicación (IVA INCLUIDO)]]","v":{"$error":"#VALUE!"}}]
[{"$nulls":18},{"$f":"Tabla13[[#This Row],[Título del contrato]]&Tabla13[[#This Row],[Nº Expediente de la plataforma de contratación]]","v":{"$error":"#VALUE!"}},{"$f":"Tabla13[[#This Row],[Nº Expediente de la plataforma de contratación]]","v":{"$error":"#VALUE!"}},{"$f":"Tabla13[[#This Row],[Importe IVA ]]","v":{"$error":"#VALUE!"}},{"$f":"Tabla13[[#This Row],[Importe de adjudicación (IVA INCLUIDO)]]","v":{"$error":"#VALUE!"}}]
[{"$nulls":18},{"$f":"Tabla13[[#This Row],[Título del contrato]]&Tabla13[[#This Row],[Nº Expediente de la plataforma de contratación]]","v":{"$error":"#VALUE!"}},{"$f":"Tabla13[[#This Row],[Nº Expediente de la plataforma de contratación]]","v":{"$error":"#VALUE!"}},{"$f":"Tabla13[[#This Row],[Importe IVA ]]","v":{"$error":"#VALUE!"}},{"$f":"Tabla13[[#This Row],[Importe de adjudicación (IVA INCLUIDO)]]","v":{"$error":"#VALUE!"}}]
[{"$nulls":18},{"$f":"Tabla13[[#This Row],[Título del contrato]]&Tabla13[[#This Row],[Nº Expediente de la plataforma de contratación]]","v":{"$error":"#VALUE!"}},{"$f":"Tabla13[[#This Row],[Nº Expediente de la plataforma de contratación]]","v":{"$error":"#VALUE!"}},{"$f":"Tabla13[[#This Row],[Importe IVA ]]","v":{"$error":"#VALUE!"}},{"$f":"Tabla13[[#This Row],[Importe de adjudicación (IVA INCLUIDO)]]","v":{"$error":"#VALUE!"}}]
[{"$nulls":18},{"$f":"Tabla13[[#This Row],[Título del contrato]]&Tabla13[[#This Row],[Nº Expediente de la plataforma de contratación]]","v":{"$error":"#VALUE!"}},{"$f":"Tabla13[[#This Row],[Nº Expediente de la plataforma de contratación]]","v":{"$error":"#VALUE!"}},{"$f":"Tabla13[[#This Row],[Importe IVA ]]","v":{"$error":"#VALUE!"}},{"$f":"Tabla13[[#This Row],[Importe de adjudicación (IVA INCLUIDO)]]","v":{"$error":"#VALUE!"}}]
[{"$nulls":18},{"$f":"Tabla13[[#This Row],[Título del contrato]]&Tabla13[[#This Row],[Nº Expediente de la plataforma de contratación]]","v":{"$error":"#VALUE!"}},{"$f":"Tabla13[[#This Row],[Nº Expediente de la plataforma de contratación]]","v":{"$error":"#VALUE!"}},{"$f":"Tabla13[[#This Row],[Importe IVA ]]","v":{"$error":"#VALUE!"}},{"$f":"Tabla13[[#This Row],[Importe de adjudicación (IVA INCLUIDO)]]","v":{"$error":"#VALUE!"}}]
[{"$nulls":18},{"$f":"Tabla13[[#This Row],[Título del contrato]]&Tabla13[[#This Row],[Nº Expediente de la plataforma de contratación]]","v":{"$error":"#VALUE!"}},{"$f":"Tabla13[[#This Row],[Nº Expediente de la plataforma de contratación]]","v":{"$error":"#VALUE!"}},{"$f":"Tabla13[[#This Row],[Importe IVA ]]","v":{"$error":"#VALUE!"}},{"$f":"Tabla13[[#This Row],[Importe de adjudicación (IVA INCLUIDO)]]","v":{"$error":"#VALUE!"}}]
[{"$nulls":18},{"$f":"Tabla13[[#This Row],[Título del contrato]]&Tabla13[[#This Row],[Nº Expediente de la plataforma de contratación]]","v":{"$error":"#VALUE!"}},{"$f":"Tabla13[[#This Row],[Nº Expediente de la plataforma de contratación]]","v":{"$error":"#VALUE!"}},{"$f":"Tabla13[[#This Row],[Importe IVA ]]","v":{"$error":"#VALUE!"}},{"$f":"Tabla13[[#This Row],[Importe de adjudicación (IVA INCLUIDO)]]","v":{"$error":"#VALUE!"}}]
[{"$nulls":18},{"$f":"Tabla13[[#This Row],[Título del contrato]]&Tabla13[[#This Row],[Nº Expediente de la plataforma de contratación]]","v":{"$error":"#VALUE!"}},{"$f":"Tabla13[[#This Row],[Nº Expediente de la plataforma de contratación]]","v":{"$error":"#VALUE!"}},{"$f":"Tabla13[[#This Row],[Importe IVA ]]","v":{"$error":"#VALUE!"}},{"$f":"Tabla13[[#This Row],[Importe de adjudicación (IVA INCLUIDO)]]","v":{"$error":"#VALUE!"}}]
[{"$nulls":18},{"$f":"Tabla13[[#This Row],[Título del contrato]]&Tabla13[[#This Row],[Nº Expediente de la plataforma de contratación]]","v":{"$error":"#VALUE!"}},{"$f":"Tabla13[[#This Row],[Nº Expediente de la plataforma de contratación]]","v":{"$error":"#VALUE!"}},{"$f":"Tabla13[[#This Row],[Importe IVA ]]","v":{"$error":"#VALUE!"}},{"$f":"Tabla13[[#This Row],[Importe de adjudicación (IVA INCLUIDO)]]","v":{"$error":"#VALUE!"}}]
[{"$nulls":18},{"$f":"Tabla13[[#This Row],[Título del contrato]]&Tabla13[[#This Row],[Nº Expediente de la plataforma de contratación]]","v":{"$error":"#VALUE!"}},{"$f":"Tabla13[[#This Row],[Nº Expediente de la plataforma de contratación]]","v":{"$error":"#VALUE!"}},{"$f":"Tabla13[[#This Row],[Importe IVA ]]","v":{"$error":"#VALUE!"}},{"$f":"Tabla13[[#This Row],[Importe de adjudicación (IVA INCLUIDO)]]","v":{"$error":"#VALUE!"}}]
[{"$nulls":18},{"$f":"Tabla13[[#This Row],[Título del contrato]]&Tabla13[[#This Row],[Nº Expediente de la plataforma de contratación]]","v":{"$error":"#VALUE!"}},{"$f":"Tabla13[[#This Row],[Nº Expediente de la plataforma de contratación]]","v":{"$error":"#VALUE!"}},{"$f":"Tabla13[[#This Row],[Importe IVA ]]","v":{"$error":"#VALUE!"}},{"$f":"Tabla13[[#This Row],[Importe de adjudicación (IVA INCLUIDO)]]","v":{"$error":"#VALUE!"}}]
[{"$nulls":18},{"$f":"Tabla13[[#This Row],[Título del contrato]]&Tabla13[[#This Row],[Nº Expediente de la plataforma de contratación]]","v":{"$error":"#VALUE!"}},{"$f":"Tabla13[[#This Row],[Nº Expediente de la plataforma de contratación]]","v":{"$error":"#VALUE!"}},{"$f":"Tabla13[[#This Row],[Importe IVA ]]","v":{"$error":"#VALUE!"}},{"$f":"Tabla13[[#This Row],[Importe de adjudicación (IVA INCLUIDO)]]","v":{"$error":"#VALUE!"}}]
[{"$nulls":18},{"$f":"Tabla13[[#This Row],[Título del contrato]]&Tabla13[[#This Row],[Nº Expediente de la plataforma de contratación]]","v":{"$error":"#VALUE!"}},{"$f":"Tabla13[[#This Row],[Nº Expediente de la plataforma de contratación]]","v":{"$error":"#VALUE!"}},{"$f":"Tabla13[[#This Row],[Importe IVA ]]","v":{"$error":"#VALUE!"}},{"$f":"Tabla13[[#This Row],[Importe de adjudicación (IVA INCLUIDO)]]","v":{"$error":"#VALUE!"}}]
[{"$nulls":18},{"$f":"Tabla13[[#This Row],[Título del contrato]]&Tabla13[[#This Row],[Nº Expediente de la plataforma de contratación]]","v":{"$error":"#VALUE!"}},{"$f":"Tabla13[[#This Row],[Nº Expediente de la plataforma de contratación]]","v":{"$error":"#VALUE!"}},{"$f":"Tabla13[[#This Row],[Importe IVA ]]","v":{"$error":"#VALUE!"}},{"$f":"Tabla13[[#This Row],[Importe de adjudicación (IVA INCLUIDO)]]","v":{"$error":"#VALUE!"}}]
[{"$nulls":18},{"$f":"Tabla13[[#This Row],[Título del contrato]]&Tabla13[[#This Row],[Nº Expediente de la plataforma de contratación]]","v":{"$error":"#VALUE!"}},{"$f":"Tabla13[[#This Row],[Nº Expediente de la plataforma de contratación]]","v":{"$error":"#VALUE!"}},{"$f":"Tabla13[[#This Row],[Importe IVA ]]","v":{"$error":"#VALUE!"}},{"$f":"Tabla13[[#This Row],[Importe de adjudicación (IVA INCLUIDO)]]","v":{"$error":"#VALUE!"}}]
[{"$nulls":18},{"$f":"Tabla13[[#This Row],[Título del contrato]]&Tabla13[[#This Row],[Nº Expediente de la plataforma de contratación]]","v":{"$error":"#VALUE!"}},{"$f":"Tabla13[[#This Row],[Nº Expediente de la plataforma de contratación]]","v":{"$error":"#VALUE!"}},{"$f":"Tabla13[[#This Row],[Importe IVA ]]","v":{"$error":"#VALUE!"}},{"$f":"Tabla13[[#This Row],[Importe de adjudicación (IVA INCLUIDO)]]","v":{"$error":"#VALUE!"}}]
[{"$nulls":18},{"$f":"Tabla13[[#This Row],[Título del contrato]]&Tabla13[[#This Row],[Nº Expediente de la plataforma de contratación]]","v":{"$error":"#VALUE!"}},{"$f":"Tabla13[[#This Row],[Nº Expediente de la plataforma de contratación]]","v":{"$error":"#VALUE!"}},{"$f":"Tabla13[[#This Row],[Importe IVA ]]","v":{"$error":"#VALUE!"}},{"$f":"Tabla13[[#This Row],[Importe de adjudicación (IVA INCLUIDO)]]","v":{"$error":"#VALUE!"}}]
[{"$nulls":18},{"$f":"Tabla13[[#This Row],[Título del contrato]]&Tabla13[[#This Row],[Nº Expediente de la plataforma de contratación]]","v":{"$error":"#VALUE!"}},{"$f":"Tabla13[[#This Row],[Nº Expediente de la plataforma de contratación]]","v":{"$error":"#VALUE!"}},{"$f":"Tabla13[[#This Row],[Importe IVA ]]","v":{"$error":"#VALUE!"}},{"$f":"Tabla13[[#This Row],[Importe de adjudicación (IVA INCLUIDO)]]","v":{"$error":"#VALUE!"}}]
[{"$nulls":18},{"$f":"Tabla13[[#This Row],[Título del contrato]]&Tabla13[[#This Row],[Nº Expediente de la plataforma de contratación]]","v":{"$error":"#VALUE!"}},{"$f":"Tabla13[[#This Row],[Nº Expediente de la plataforma de contratación]]","v":{"$error":"#VALUE!"}},{"$f":"Tabla13[[#This Row],[Importe IVA ]]","v":{"$error":"#VALUE!"}},{"$f":"Tabla13[[#This Row],[Importe de adjudicación (IVA INCLUIDO)]]","v":{"$error":"#VALUE!"}}]
[{"$nulls":18},{"$f":"Tabla13[[#This Row],[Título del contrato]]&Tabla13[[#This Row],[Nº Expediente de la plataforma de contratación]]","v":{"$error":"#VALUE!"}},{"$f":"Tabla13[[#This Row],[Nº Expediente de la plataforma de contratación]]","v":{"$error":"#VALUE!"}},{"$f":"Tabla13[[#This Row],[Importe IVA ]]","v":{"$error":"#VALUE!"}},{"$f":"Tabla13[[#This Row],[Importe de adjudicación (IVA INCLUIDO)]]","v":{"$error":"#VALUE!"}}]
[{"$nulls":18},{"$f":"Tabla13[[#This Row],[Título del contrato]]&Tabla13[[#This Row],[Nº Expediente de la plataforma de contratación]]","v":{"$error":"#VALUE!"}},{"$f":"Tabla13[[#This Row],[Nº Expediente de la plataforma de contratación]]","v":{"$error":"#VALUE!"}},{"$f":"Tabla13[[#This Row],[Importe IVA ]]","v":{"$error":"#VALUE!"}},{"$f":"Tabla13[[#This Row],[Importe de adjudicación (IVA INCLUIDO)]]","v":{"$error":"#VALUE!"}}]
[{"$nulls":18},{"$f":"Tabla13[[#This Row],[Título del contrato]]&Tabla13[[#This Row],[Nº Expediente de la plataforma de contratación]]","v":{"$error":"#VALUE!"}},{"$f":"Tabla13[[#This Row],[Nº Expediente de la plataforma de contratación]]","v":{"$error":"#VALUE!"}},{"$f":"Tabla13[[#This Row],[Importe IVA ]]","v":{"$error":"#VALUE!"}},{"$f":"Tabla13[[#This Row],[Importe de adjudicación (IVA INCLUIDO)]]","v":{"$error":"#VALUE!"}}]
[{"$nulls":18},{"$f":"Tabla13[[#This Row],[Título del contrato]]&Tabla13[[#This Row],[Nº Expediente de la plataforma de contratación]]","v":{"$error":"#VALUE!"}},{"$f":"Tabla13[[#This Row],[Nº Expediente de la plataforma de contratación]]","v":{"$error":"#VALUE!"}},{"$f":"Tabla13[[#This Row],[Importe IVA ]]","v":{"$error":"#VALUE!"}},{"$f":"Tabla13[[#This Row],[Importe de adjudicación (IVA INCLUIDO)]]","v":{"$error":"#VALUE!"}}]
[{"$nulls":18},{"$f":"Tabla13[[#This Row],[Título del contrato]]&Tabla13[[#This Row],[Nº Expediente de la plataforma de contratación]]","v":{"$error":"#VALUE!"}},{"$f":"Tabla13[[#This Row],[Nº Expediente de la plataforma de contratación]]","v":{"$error":"#VALUE!"}},{"$f":"Tabla13[[#This Row],[Importe IVA ]]","v":{"$error":"#VALUE!"}},{"$f":"Tabla13[[#This Row],[Importe de adjudicación (IVA INCLUIDO)]]","v":{"$error":"#VALUE!"}}]
[{"$nulls":18},{"$f":"Tabla13[[#This Row],[Título del contrato]]&Tabla13[[#This Row],[Nº Expediente de la plataforma de contratación]]","v":{"$error":"#VALUE!"}},{"$f":"Tabla13[[#This Row],[Nº Expediente de la plataforma de contratación]]","v":{"$error":"#VALUE!"}},{"$f":"Tabla13[[#This Row],[Importe IVA ]]","v":{"$error":"#VALUE!"}},{"$f":"Tabla13[[#This Row],[Importe de adjudicación (IVA INCLUIDO)]]","v":{"$error":"#VALUE!"}}]
[{"$nulls":18},{"$f":"Tabla13[[#This Row],[Título del contrato]]&Tabla13[[#This Row],[Nº Expediente de la plataforma de contratación]]","v":{"$error":"#VALUE!"}},{"$f":"Tabla13[[#This Row],[Nº Expediente de la plataforma de contratación]]","v":{"$error":"#VALUE!"}},{"$f":"Tabla13[[#This Row],[Importe IVA ]]","v":{"$error":"#VALUE!"}},{"$f":"Tabla13[[#This Row],[Importe de adjudicación (IVA INCLUIDO)]]","v":{"$error":"#VALUE!"}}]
[{"$nulls":18},{"$f":"Tabla13[[#This Row],[Título del contrato]]&Tabla13[[#This Row],[Nº Expediente de la plataforma de contratación]]","v":{"$error":"#VALUE!"}},{"$f":"Tabla13[[#This Row],[Nº Expediente de la plataforma de contratación]]","v":{"$error":"#VALUE!"}},{"$f":"Tabla13[[#This Row],[Importe IVA ]]","v":{"$error":"#VALUE!"}},{"$f":"Tabla13[[#This Row],[Importe de adjudicación (IVA INCLUIDO)]]","v":{"$error":"#VALUE!"}}]
[{"$nulls":18},{"$f":"Tabla13[[#This Row],[Título del contrato]]&Tabla13[[#This Row],[Nº Expediente de la plataforma de contratación]]","v":{"$error":"#VALUE!"}},{"$f":"Tabla13[[#This Row],[Nº Expediente de la plataforma de contratación]]","v":{"$error":"#VALUE!"}},{"$f":"Tabla13[[#This Row],[Importe IVA ]]","v":{"$error":"#VALUE!"}},{"$f":"Tabla13[[#This Row],[Importe de adjudicación (IVA INCLUIDO)]]","v":{"$error":"#VALUE!"}}]
[{"$nulls":18},{"$f":"Tabla13[[#This Row],[Título del contrato]]&Tabla13[[#This Row],[Nº Expediente de la plataforma de contratación]]","v":{"$error":"#VALUE!"}},{"$f":"Tabla13[[#This Row],[Nº Expediente de la plataforma de contratación]]","v":{"$error":"#VALUE!"}},{"$f":"Tabla13[[#This Row],[Importe IVA ]]","v":{"$error":"#VALUE!"}},{"$f":"Tabla13[[#This Row],[Importe de adjudicación (IVA INCLUIDO)]]","v":{"$error":"#VALUE!"}}]
[{"$nulls":18},{"$f":"Tabla13[[#This Row],[Título del contrato]]&Tabla13[[#This Row],[Nº Expediente de la plataforma de contratación]]","v":{"$error":"#VALUE!"}},{"$f":"Tabla13[[#This Row],[Nº Expediente de la plataforma de contratación]]","v":{"$error":"#VALUE!"}},{"$f":"Tabla13[[#This Row],[Importe IVA ]]","v":{"$error":"#VALUE!"}},{"$f":"Tabla13[[#This Row],[Importe de adjudicación (IVA INCLUIDO)]]","v":{"$error":"#VALUE!"}}]
[{"$nulls":18},{"$f":"Tabla13[[#This Row],[Título del contrato]]&Tabla13[[#This Row],[Nº Expediente de la plataforma de contratación]]","v":{"$error":"#VALUE!"}},{"$f":"Tabla13[[#This Row],[Nº Expediente de la plataforma de contratación]]","v":{"$error":"#VALUE!"}},{"$f":"Tabla13[[#This Row],[Importe IVA ]]","v":{"$error":"#VALUE!"}},{"$f":"Tabla13[[#This Row],[Importe de adjudicación (IVA INCLUIDO)]]","v":{"$error":"#VALUE!"}}]
[{"$nulls":18},{"$f":"Tabla13[[#This Row],[Título del contrato]]&Tabla13[[#This Row],[Nº Expediente de la plataforma de contratación]]","v":{"$error":"#VALUE!"}},{"$f":"Tabla13[[#This Row],[Nº Expediente de la plataforma de contratación]]","v":{"$error":"#VALUE!"}},{"$f":"Tabla13[[#This Row],[Importe IVA ]]","v":{"$error":"#VALUE!"}},{"$f":"Tabla13[[#This Row],[Importe de adjudicación (IVA INCLUIDO)]]","v":{"$error":"#VALUE!"}}]
[{"$nulls":18},{"$f":"Tabla13[[#This Row],[Título del contrato]]&Tabla13[[#This Row],[Nº Expediente de la plataforma de contratación]]","v":{"$error":"#VALUE!"}},{"$f":"Tabla13[[#This Row],[Nº Expediente de la plataforma de contratación]]","v":{"$error":"#VALUE!"}},{"$f":"Tabla13[[#This Row],[Importe IVA ]]","v":{"$error":"#VALUE!"}},{"$f":"Tabla13[[#This Row],[Importe de adjudicación (IVA INCLUIDO)]]","v":{"$error":"#VALUE!"}}]
[{"$nulls":18},{"$f":"Tabla13[[#This Row],[Título del contrato]]&Tabla13[[#This Row],[Nº Expediente de la plataforma de contratación]]","v":{"$error":"#VALUE!"}},{"$f":"Tabla13[[#This Row],[Nº Expediente de la plataforma de contratación]]","v":{"$error":"#VALUE!"}},{"$f":"Tabla13[[#This Row],[Importe IVA ]]","v":{"$error":"#VALUE!"}},{"$f":"Tabla13[[#This Row],[Importe de adjudicación (IVA INCLUIDO)]]","v":{"$error":"#VALUE!"}}]
[{"$nulls":18},{"$f":"Tabla13[[#This Row],[Título del contrato]]&Tabla13[[#This Row],[Nº Expediente de la plataforma de contratación]]","v":{"$error":"#VALUE!"}},{"$f":"Tabla13[[#This Row],[Nº Expediente de la plataforma de contratación]]","v":{"$error":"#VALUE!"}},{"$f":"Tabla13[[#This Row],[Importe IVA ]]","v":{"$error":"#VALUE!"}},{"$f":"Tabla13[[#This Row],[Importe de adjudicación (IVA INCLUIDO)]]","v":{"$error":"#VALUE!"}}]
[{"$nulls":18},{"$f":"Tabla13[[#This Row],[Título del contrato]]&Tabla13[[#This Row],[Nº Expediente de la plataforma de contratación]]","v":{"$error":"#VALUE!"}},{"$f":"Tabla13[[#This Row],[Nº Expediente de la plataforma de contratación]]","v":{"$error":"#VALUE!"}},{"$f":"Tabla13[[#This Row],[Importe IVA ]]","v":{"$error":"#VALUE!"}},{"$f":"Tabla13[[#This Row],[Importe de adjudicación (IVA INCLUIDO)]]","v":{"$error":"#VALUE!"}}]
[{"$nulls":18},{"$f":"Tabla13[[#This Row],[Título del contrato]]&Tabla13[[#This Row],[Nº Expediente de la plataforma de contratación]]","v":{"$error":"#VALUE!"}},{"$f":"Tabla13[[#This Row],[Nº Expediente de la plataforma de contratación]]","v":{"$error":"#VALUE!"}},{"$f":"Tabla13[[#This Row],[Importe IVA ]]","v":{"$error":"#VALUE!"}},{"$f":"Tabla13[[#This Row],[Importe de adjudicación (IVA INCLUIDO)]]","v":{"$error":"#VALUE!"}}]
[{"$nulls":18},{"$f":"Tabla13[[#This Row],[Título del contrato]]&Tabla13[[#This Row],[Nº Expediente de la plataforma de contratación]]","v":{"$error":"#VALUE!"}},{"$f":"Tabla13[[#This Row],[Nº Expediente de la plataforma de contratación]]","v":{"$error":"#VALUE!"}},{"$f":"Tabla13[[#This Row],[Importe IVA ]]","v":{"$error":"#VALUE!"}},{"$f":"Tabla13[[#This Row],[Importe de adjudicación (IVA INCLUIDO)]]","v":{"$error":"#VALUE!"}}]
[{"$nulls":18},{"$f":"Tabla13[[#This Row],[Título del contrato]]&Tabla13[[#This Row],[Nº Expediente de la plataforma de contratación]]","v":{"$error":"#VALUE!"}},{"$f":"Tabla13[[#This Row],[Nº Expediente de la plataforma de contratación]]","v":{"$error":"#VALUE!"}},{"$f":"Tabla13[[#This Row],[Importe IVA ]]","v":{"$error":"#VALUE!"}},{"$f":"Tabla13[[#This Row],[Importe de adjudicación (IVA INCLUIDO)]]","v":{"$error":"#VALUE!"}}]
[{"$nulls":18},{"$f":"Tabla13[[#This Row],[Título del contrato]]&Tabla13[[#This Row],[Nº Expediente de la plataforma de contratación]]","v":{"$error":"#VALUE!"}},{"$f":"Tabla13[[#This Row],[Nº Expediente de la plataforma de contratación]]","v":{"$error":"#VALUE!"}},{"$f":"Tabla13[[#This Row],[Importe IVA ]]","v":{"$error":"#VALUE!"}},{"$f":"Tabla13[[#This Row],[Importe de adjudicación (IVA INCLUIDO)]]","v":{"$error":"#VALUE!"}}]
[{"$nulls":18},{"$f":"Tabla13[[#This Row],[Título del contrato]]&Tabla13[[#This Row],[Nº Expediente de la plataforma de contratación]]","v":{"$error":"#VALUE!"}},{"$f":"Tabla13[[#This Row],[Nº Expediente de la plataforma de contratación]]","v":{"$error":"#VALUE!"}},{"$f":"Tabla13[[#This Row],[Importe IVA ]]","v":{"$error":"#VALUE!"}},{"$f":"Tabla13[[#This Row],[Importe de adjudicación (IVA INCLUIDO)]]","v":{"$error":"#VALUE!"}}]
[{"$nulls":18},{"$f":"Tabla13[[#This Row],[Título del contrato]]&Tabla13[[#This Row],[Nº Expediente de la plataforma de contratación]]","v":{"$error":"#VALUE!"}},{"$f":"Tabla13[[#This Row],[Nº Expediente de la plataforma de contratación]]","v":{"$error":"#VALUE!"}},{"$f":"Tabla13[[#This Row],[Importe IVA ]]","v":{"$error":"#VALUE!"}},{"$f":"Tabla13[[#This Row],[Importe de adjudicación (IVA INCLUIDO)]]","v":{"$error":"#VALUE!"}}]
[{"$nulls":18},{"$f":"Tabla13[[#This Row],[Título del contrato]]&Tabla13[[#This Row],[Nº Expediente de la plataforma de contratación]]","v":{"$error":"#VALUE!"}},{"$f":"Tabla13[[#This Row],[Nº Expediente de la plataforma de contratación]]","v":{"$error":"#VALUE!"}},{"$f":"Tabla13[[#This Row],[Importe IVA ]]","v":{"$error":"#VALUE!"}},{"$f":"Tabla13[[#This Row],[Importe de adjudicación (IVA INCLUIDO)]]","v":{"$error":"#VALUE!"}}]
[{"$nulls":18},{"$f":"Tabla13[[#This Row],[Título del contrato]]&Tabla13[[#This Row],[Nº Expediente de la plataforma de contratación]]","v":{"$error":"#VALUE!"}},{"$f":"Tabla13[[#This Row],[Nº Expediente de la plataforma de contratación]]","v":{"$error":"#VALUE!"}},{"$f":"Tabla13[[#This Row],[Importe IVA ]]","v":{"$error":"#VALUE!"}},{"$f":"Tabla13[[#This Row],[Importe de adjudicación (IVA INCLUIDO)]]","v":{"$error":"#VALUE!"}}]
[{"$nulls":18},{"$f":"Tabla13[[#This Row],[Título del contrato]]&Tabla13[[#This Row],[Nº Expediente de la plataforma de contratación]]","v":{"$error":"#VALUE!"}},{"$f":"Tabla13[[#This Row],[Nº Expediente de la plataforma de contratación]]","v":{"$error":"#VALUE!"}},{"$f":"Tabla13[[#This Row],[Importe IVA ]]","v":{"$error":"#VALUE!"}},{"$f":"Tabla13[[#This Row],[Importe de adjudicación (IVA INCLUIDO)]]","v":{"$error":"#VALUE!"}}]
[{"$nulls":18},{"$f":"Tabla13[[#This Row],[Título del contrato]]&Tabla13[[#This Row],[Nº Expediente de la plataforma de contratación]]","v":{"$error":"#VALUE!"}},{"$f":"Tabla13[[#This Row],[Nº Expediente de la plataforma de contratación]]","v":{"$error":"#VALUE!"}},{"$f":"Tabla13[[#This Row],[Importe IVA ]]","v":{"$error":"#VALUE!"}},{"$f":"Tabla13[[#This Row],[Importe de adjudicación (IVA INCLUIDO)]]","v":{"$error":"#VALUE!"}}]
[{"$nulls":18},{"$f":"Tabla13[[#This Row],[Título del contrato]]&Tabla13[[#This Row],[Nº Expediente de la plataforma de contratación]]","v":{"$error":"#VALUE!"}},{"$f":"Tabla13[[#This Row],[Nº Expediente de la plataforma de contratación]]","v":{"$error":"#VALUE!"}},{"$f":"Tabla13[[#This Row],[Importe IVA ]]","v":{"$error":"#VALUE!"}},{"$f":"Tabla13[[#This Row],[Importe de adjudicación (IVA INCLUIDO)]]","v":{"$error":"#VALUE!"}}]
[{"$nulls":18},{"$f":"Tabla13[[#This Row],[Título del contrato]]&Tabla13[[#This Row],[Nº Expediente de la plataforma de contratación]]","v":{"$error":"#VALUE!"}},{"$f":"Tabla13[[#This Row],[Nº Expediente de la plataforma de contratación]]","v":{"$error":"#VALUE!"}},{"$f":"Tabla13[[#This Row],[Importe IVA ]]","v":{"$error":"#VALUE!"}},{"$f":"Tabla13[[#This Row],[Importe de adjudicación (IVA INCLUIDO)]]","v":{"$error":"#VALUE!"}}]
[{"$nulls":18},{"$f":"Tabla13[[#This Row],[Título del contrato]]&Tabla13[[#This Row],[Nº Expediente de la plataforma de contratación]]","v":{"$error":"#VALUE!"}},{"$f":"Tabla13[[#This Row],[Nº Expediente de la plataforma de contratación]]","v":{"$error":"#VALUE!"}},{"$f":"Tabla13[[#This Row],[Importe IVA ]]","v":{"$error":"#VALUE!"}},{"$f":"Tabla13[[#This Row],[Importe de adjudicación (IVA INCLUIDO)]]","v":{"$error":"#VALUE!"}}]
[{"$nulls":18},{"$f":"Tabla13[[#This Row],[Título del contrato]]&Tabla13[[#This Row],[Nº Expediente de la plataforma de contratación]]","v":{"$error":"#VALUE!"}},{"$f":"Tabla13[[#This Row],[Nº Expediente de la plataforma de contratación]]","v":{"$error":"#VALUE!"}},{"$f":"Tabla13[[#This Row],[Importe IVA ]]","v":{"$error":"#VALUE!"}},{"$f":"Tabla13[[#This Row],[Importe de adjudicación (IVA INCLUIDO)]]","v":{"$error":"#VALUE!"}}]
[{"$nulls":18},{"$f":"Tabla13[[#This Row],[Título del contrato]]&Tabla13[[#This Row],[Nº Expediente de la plataforma de contratación]]","v":{"$error":"#VALUE!"}},{"$f":"Tabla13[[#This Row],[Nº Expediente de la plataforma de contratación]]","v":{"$error":"#VALUE!"}},{"$f":"Tabla13[[#This Row],[Importe IVA ]]","v":{"$error":"#VALUE!"}},{"$f":"Tabla13[[#This Row],[Importe de adjudicación (IVA INCLUIDO)]]","v":{"$error":"#VALUE!"}}]
[{"$nulls":18},{"$f":"Tabla13[[#This Row],[Título del contrato]]&Tabla13[[#This Row],[Nº Expediente de la plataforma de contratación]]","v":{"$error":"#VALUE!"}},{"$f":"Tabla13[[#This Row],[Nº Expediente de la plataforma de contratación]]","v":{"$error":"#VALUE!"}},{"$f":"Tabla13[[#This Row],[Importe IVA ]]","v":{"$error":"#VALUE!"}},{"$f":"Tabla13[[#This Row],[Importe de adjudicación (IVA INCLUIDO)]]","v":{"$error":"#VALUE!"}}]
[{"$nulls":18},{"$f":"Tabla13[[#This Row],[Título del contrato]]&Tabla13[[#This Row],[Nº Expediente de la plataforma de contratación]]","v":{"$error":"#VALUE!"}},{"$f":"Tabla13[[#This Row],[Nº Expediente de la plataforma de contratación]]","v":{"$error":"#VALUE!"}},{"$f":"Tabla13[[#This Row],[Importe IVA ]]","v":{"$error":"#VALUE!"}},{"$f":"Tabla13[[#This Row],[Importe de adjudicación (IVA INCLUIDO)]]","v":{"$error":"#VALUE!"}}]
[{"$nulls":18},{"$f":"Tabla13[[#This Row],[Título del contrato]]&Tabla13[[#This Row],[Nº Expediente de la plataforma de contratación]]","v":{"$error":"#VALUE!"}},{"$f":"Tabla13[[#This Row],[Nº Expediente de la plataforma de contratación]]","v":{"$error":"#VALUE!"}},{"$f":"Tabla13[[#This Row],[Importe IVA ]]","v":{"$error":"#VALUE!"}},{"$f":"Tabla13[[#This Row],[Importe de adjudicación (IVA INCLUIDO)]]","v":{"$error":"#VALUE!"}}]
[{"$nulls":18},{"$f":"Tabla13[[#This Row],[Título del contrato]]&Tabla13[[#This Row],[Nº Expediente de la plataforma de contratación]]","v":{"$error":"#VALUE!"}},{"$f":"Tabla13[[#This Row],[Nº Expediente de la plataforma de contratación]]","v":{"$error":"#VALUE!"}},{"$f":"Tabla13[[#This Row],[Importe IVA ]]","v":{"$error":"#VALUE!"}},{"$f":"Tabla13[[#This Row],[Importe de adjudicación (IVA INCLUIDO)]]","v":{"$error":"#VALUE!"}}]
[{"$nulls":18},{"$f":"Tabla13[[#This Row],[Título del contrato]]&Tabla13[[#This Row],[Nº Expediente de la plataforma de contratación]]","v":{"$error":"#VALUE!"}},{"$f":"Tabla13[[#This Row],[Nº Expediente de la plataforma de contratación]]","v":{"$error":"#VALUE!"}},{"$f":"Tabla13[[#This Row],[Importe IVA ]]","v":{"$error":"#VALUE!"}},{"$f":"Tabla13[[#This Row],[Importe de adjudicación (IVA INCLUIDO)]]","v":{"$error":"#VALUE!"}}]
[{"$nulls":18},{"$f":"Tabla13[[#This Row],[Título del contrato]]&Tabla13[[#This Row],[Nº Expediente de la plataforma de contratación]]","v":{"$error":"#VALUE!"}},{"$f":"Tabla13[[#This Row],[Nº Expediente de la plataforma de contratación]]","v":{"$error":"#VALUE!"}},{"$f":"Tabla13[[#This Row],[Importe IVA ]]","v":{"$error":"#VALUE!"}},{"$f":"Tabla13[[#This Row],[Importe de adjudicación (IVA INCLUIDO)]]","v":{"$error":"#VALUE!"}}]
[{"$nulls":18},{"$f":"Tabla13[[#This Row],[Título del contrato]]&Tabla13[[#This Row],[Nº Expediente de la plataforma de contratación]]","v":{"$error":"#VALUE!"}},{"$f":"Tabla13[[#This Row],[Nº Expediente de la plataforma de contratación]]","v":{"$error":"#VALUE!"}},{"$f":"Tabla13[[#This Row],[Importe IVA ]]","v":{"$error":"#VALUE!"}},{"$f":"Tabla13[[#This Row],[Importe de adjudicación (IVA INCLUIDO)]]","v":{"$error":"#VALUE!"}}]
[{"$nulls":18},{"$f":"Tabla13[[#This Row],[Título del contrato]]&Tabla13[[#This Row],[Nº Expediente de la plataforma de contratación]]","v":{"$error":"#VALUE!"}},{"$f":"Tabla13[[#This Row],[Nº Expediente de la plataforma de contratación]]","v":{"$error":"#VALUE!"}},{"$f":"Tabla13[[#This Row],[Importe IVA ]]","v":{"$error":"#VALUE!"}},{"$f":"Tabla13[[#This Row],[Importe de adjudicación (IVA INCLUIDO)]]","v":{"$error":"#VALUE!"}}]
[{"$nulls":18},{"$f":"Tabla13[[#This Row],[Título del contrato]]&Tabla13[[#This Row],[Nº Expediente de la plataforma de contratación]]","v":{"$error":"#VALUE!"}},{"$f":"Tabla13[[#This Row],[Nº Expediente de la plataforma de contratación]]","v":{"$error":"#VALUE!"}},{"$f":"Tabla13[[#This Row],[Importe IVA ]]","v":{"$error":"#VALUE!"}},{"$f":"Tabla13[[#This Row],[Importe de adjudicación (IVA INCLUIDO)]]","v":{"$error":"#VALUE!"}}]
[{"$nulls":18},{"$f":"Tabla13[[#This Row],[Título del contrato]]&Tabla13[[#This Row],[Nº Expediente de la plataforma de contratación]]","v":{"$error":"#VALUE!"}},{"$f":"Tabla13[[#This Row],[Nº Expediente de la plataforma de contratación]]","v":{"$error":"#VALUE!"}},{"$f":"Tabla13[[#This Row],[Importe IVA ]]","v":{"$error":"#VALUE!"}},{"$f":"Tabla13[[#This Row],[Importe de adjudicación (IVA INCLUIDO)]]","v":{"$error":"#VALUE!"}}]
[{"$nulls":18},{"$f":"Tabla13[[#This Row],[Título del contrato]]&Tabla13[[#This Row],[Nº Expediente de la plataforma de contratación]]","v":{"$error":"#VALUE!"}},{"$f":"Tabla13[[#This Row],[Nº Expediente de la plataforma de contratación]]","v":{"$error":"#VALUE!"}},{"$f":"Tabla13[[#This Row],[Importe IVA ]]","v":{"$error":"#VALUE!"}},{"$f":"Tabla13[[#This Row],[Importe de adjudicación (IVA INCLUIDO)]]","v":{"$error":"#VALUE!"}}]
[{"$nulls":18},{"$f":"Tabla13[[#This Row],[Título del contrato]]&Tabla13[[#This Row],[Nº Expediente de la plataforma de contratación]]","v":{"$error":"#VALUE!"}},{"$f":"Tabla13[[#This Row],[Nº Expediente de la plataforma de contratación]]","v":{"$error":"#VALUE!"}},{"$f":"Tabla13[[#This Row],[Importe IVA ]]","v":{"$error":"#VALUE!"}},{"$f":"Tabla13[[#This Row],[Importe de adjudicación (IVA INCLUIDO)]]","v":{"$error":"#VALUE!"}}]
[{"$nulls":18},{"$f":"Tabla13[[#This Row],[Título del contrato]]&Tabla13[[#This Row],[Nº Expediente de la plataforma de contratación]]","v":{"$error":"#VALUE!"}},{"$f":"Tabla13[[#This Row],[Nº Expediente de la plataforma de contratación]]","v":{"$error":"#VALUE!"}},{"$f":"Tabla13[[#This Row],[Importe IVA ]]","v":{"$error":"#VALUE!"}},{"$f":"Tabla13[[#This Row],[Importe de adjudicación (IVA INCLUIDO)]]","v":{"$error":"#VALUE!"}}]
[{"$nulls":18},{"$f":"Tabla13[[#This Row],[Título del contrato]]&Tabla13[[#This Row],[Nº Expediente de la plataforma de contratación]]","v":{"$error":"#VALUE!"}},{"$f":"Tabla13[[#This Row],[Nº Expediente de la plataforma de contratación]]","v":{"$error":"#VALUE!"}},{"$f":"Tabla13[[#This Row],[Importe IVA ]]","v":{"$error":"#VALUE!"}},{"$f":"Tabla13[[#This Row],[Importe de adjudicación (IVA INCLUIDO)]]","v":{"$error":"#VALUE!"}}]
[{"$nulls":18},{"$f":"Tabla13[[#This Row],[Título del contrato]]&Tabla13[[#This Row],[Nº Expediente de la plataforma de contratación]]","v":{"$error":"#VALUE!"}},{"$f":"Tabla13[[#This Row],[Nº Expediente de la plataforma de contratación]]","v":{"$error":"#VALUE!"}},{"$f":"Tabla13[[#This Row],[Importe IVA ]]","v":{"$error":"#VALUE!"}},{"$f":"Tabla13[[#This Row],[Importe de adjudicación (IVA INCLUIDO)]]","v":{"$error":"#VALUE!"}}]
[{"$nulls":18},{"$f":"Tabla13[[#This Row],[Título del contrato]]&Tabla13[[#This Row],[Nº Expediente de la plataforma de contratación]]","v":{"$error":"#VALUE!"}},{"$f":"Tabla13[[#This Row],[Nº Expediente de la plataforma de contratación]]","v":{"$error":"#VALUE!"}},{"$f":"Tabla13[[#This Row],[Importe IVA ]]","v":{"$error":"#VALUE!"}},{"$f":"Tabla13[[#This Row],[Importe de adjudicación (IVA INCLUIDO)]]","v":{"$error":"#VALUE!"}}]
[{"$nulls":18},{"$f":"Tabla13[[#This Row],[Título del contrato]]&Tabla13[[#This Row],[Nº Expediente de la plataforma de contratación]]","v":{"$error":"#VALUE!"}},{"$f":"Tabla13[[#This Row],[Nº Expediente de la plataforma de contratación]]","v":{"$error":"#VALUE!"}},{"$f":"Tabla13[[#This Row],[Importe IVA ]]","v":{"$error":"#VALUE!"}},{"$f":"Tabla13[[#This Row],[Importe de adjudicación (IVA INCLUIDO)]]","v":{"$error":"#VALUE!"}}]
[{"$nulls":18},{"$f":"Tabla13[[#This Row],[Título del contrato]]&Tabla13[[#This Row],[Nº Expediente de la plataforma de contratación]]","v":{"$error":"#VALUE!"}},{"$f":"Tabla13[[#This Row],[Nº Expediente de la plataforma de contratación]]","v":{"$error":"#VALUE!"}},{"$f":"Tabla13[[#This Row],[Importe IVA ]]","v":{"$error":"#VALUE!"}},{"$f":"Tabla13[[#This Row],[Importe de adjudicación (IVA INCLUIDO)]]","v":{"$error":"#VALUE!"}}]
[{"$nulls":18},{"$f":"Tabla13[[#This Row],[Título del contrato]]&Tabla13[[#This Row],[Nº Expediente de la plataforma de contratación]]","v":{"$error":"#VALUE!"}},{"$f":"Tabla13[[#This Row],[Nº Expediente de la plataforma de contratación]]","v":{"$error":"#VALUE!"}},{"$f":"Tabla13[[#This Row],[Importe IVA ]]","v":{"$error":"#VALUE!"}},{"$f":"Tabla13[[#This Row],[Importe de adjudicación (IVA INCLUIDO)]]","v":{"$error":"#VALUE!"}}]
[{"$nulls":18},{"$f":"Tabla13[[#This Row],[Título del contrato]]&Tabla13[[#This Row],[Nº Expediente de la plataforma de contratación]]","v":{"$error":"#VALUE!"}},{"$f":"Tabla13[[#This Row],[Nº Expediente de la plataforma de contratación]]","v":{"$error":"#VALUE!"}},{"$f":"Tabla13[[#This Row],[Importe IVA ]]","v":{"$error":"#VALUE!"}},{"$f":"Tabla13[[#This Row],[Importe de adjudicación (IVA INCLUIDO)]]","v":{"$error":"#VALUE!"}}]
[{"$nulls":18},{"$f":"Tabla13[[#This Row],[Título del contrato]]&Tabla13[[#This Row],[Nº Expediente de la plataforma de contratación]]","v":{"$error":"#VALUE!"}},{"$f":"Tabla13[[#This Row],[Nº Expediente de la plataforma de contratación]]","v":{"$error":"#VALUE!"}},{"$f":"Tabla13[[#This Row],[Importe IVA ]]","v":{"$error":"#VALUE!"}},{"$f":"Tabla13[[#This Row],[Importe de adjudicación (IVA INCLUIDO)]]","v":{"$error":"#VALUE!"}}]
[{"$nulls":18},{"$f":"Tabla13[[#This Row],[Título del contrato]]&Tabla13[[#This Row],[Nº Expediente de la plataforma de contratación]]","v":{"$error":"#VALUE!"}},{"$f":"Tabla13[[#This Row],[Nº Expediente de la plataforma de contratación]]","v":{"$error":"#VALUE!"}},{"$f":"Tabla13[[#This Row],[Importe IVA ]]","v":{"$error":"#VALUE!"}},{"$f":"Tabla13[[#This Row],[Importe de adjudicación (IVA INCLUIDO)]]","v":{"$error":"#VALUE!"}}]
[{"$nulls":18},{"$f":"Tabla13[[#This Row],[Título del contrato]]&Tabla13[[#This Row],[Nº Expediente de la plataforma de contratación]]","v":{"$error":"#VALUE!"}},{"$f":"Tabla13[[#This Row],[Nº Expediente de la plataforma de contratación]]","v":{"$error":"#VALUE!"}},{"$f":"Tabla13[[#This Row],[Importe IVA ]]","v":{"$error":"#VALUE!"}},{"$f":"Tabla13[[#This Row],[Importe de adjudicación (IVA INCLUIDO)]]","v":{"$error":"#VALUE!"}}]
[{"$nulls":18},{"$f":"Tabla13[[#This Row],[Título del contrato]]&Tabla13[[#This Row],[Nº Expediente de la plataforma de contratación]]","v":{"$error":"#VALUE!"}},{"$f":"Tabla13[[#This Row],[Nº Expediente de la plataforma de contratación]]","v":{"$error":"#VALUE!"}},{"$f":"Tabla13[[#This Row],[Importe IVA ]]","v":{"$error":"#VALUE!"}},{"$f":"Tabla13[[#This Row],[Importe de adjudicación (IVA INCLUIDO)]]","v":{"$error":"#VALUE!"}}]
[{"$nulls":18},{"$f":"Tabla13[[#This Row],[Título del contrato]]&Tabla13[[#This Row],[Nº Expediente de la plataforma de contratación]]","v":{"$error":"#VALUE!"}},{"$f":"Tabla13[[#This Row],[Nº Expediente de la plataforma de contratación]]","v":{"$error":"#VALUE!"}},{"$f":"Tabla13[[#This Row],[Importe IVA ]]","v":{"$error":"#VALUE!"}},{"$f":"Tabla13[[#This Row],[Importe de adjudicación (IVA INCLUIDO)]]","v":{"$error":"#VALUE!"}}]
[{"$nulls":18},{"$f":"Tabla13[[#This Row],[Título del contrato]]&Tabla13[[#This Row],[Nº Expediente de la plataforma de contratación]]","v":{"$error":"#VALUE!"}},{"$f":"Tabla13[[#This Row],[Nº Expediente de la plataforma de contratación]]","v":{"$error":"#VALUE!"}},{"$f":"Tabla13[[#This Row],[Importe IVA ]]","v":{"$error":"#VALUE!"}},{"$f":"Tabla13[[#This Row],[Importe de adjudicación (IVA INCLUIDO)]]","v":{"$error":"#VALUE!"}}]
[{"$nulls":18},{"$f":"Tabla13[[#This Row],[Título del contrato]]&Tabla13[[#This Row],[Nº Expediente de la plataforma de contratación]]","v":{"$error":"#VALUE!"}},{"$f":"Tabla13[[#This Row],[Nº Expediente de la plataforma de contratación]]","v":{"$error":"#VALUE!"}},{"$f":"Tabla13[[#This Row],[Importe IVA ]]","v":{"$error":"#VALUE!"}},{"$f":"Tabla13[[#This Row],[Importe de adjudicación (IVA INCLUIDO)]]","v":{"$error":"#VALUE!"}}]
[{"$nulls":18},{"$f":"Tabla13[[#This Row],[Título del contrato]]&Tabla13[[#This Row],[Nº Expediente de la plataforma de contratación]]","v":{"$error":"#VALUE!"}},{"$f":"Tabla13[[#This Row],[Nº Expediente de la plataforma de contratación]]","v":{"$error":"#VALUE!"}},{"$f":"Tabla13[[#This Row],[Importe IVA ]]","v":{"$error":"#VALUE!"}},{"$f":"Tabla13[[#This Row],[Importe de adjudicación (IVA INCLUIDO)]]","v":{"$error":"#VALUE!"}}]
[{"$nulls":18},{"$f":"Tabla13[[#This Row],[Título del contrato]]&Tabla13[[#This Row],[Nº Expediente de la plataforma de contratación]]","v":{"$error":"#VALUE!"}},{"$f":"Tabla13[[#This Row],[Nº Expediente de la plataforma de contratación]]","v":{"$error":"#VALUE!"}},{"$f":"Tabla13[[#This Row],[Importe IVA ]]","v":{"$error":"#VALUE!"}},{"$f":"Tabla13[[#This Row],[Importe de adjudicación (IVA INCLUIDO)]]","v":{"$error":"#VALUE!"}}]
[{"$nulls":18},{"$f":"Tabla13[[#This Row],[Título del contrato]]&Tabla13[[#This Row],[Nº Expediente de la plataforma de contratación]]","v":{"$error":"#VALUE!"}},{"$f":"Tabla13[[#This Row],[Nº Expediente de la plataforma de contratación]]","v":{"$error":"#VALUE!"}},{"$f":"Tabla13[[#This Row],[Importe IVA ]]","v":{"$error":"#VALUE!"}},{"$f":"Tabla13[[#This Row],[Importe de adjudicación (IVA INCLUIDO)]]","v":{"$error":"#VALUE!"}}]
[{"$nulls":18},{"$f":"Tabla13[[#This Row],[Título del contrato]]&Tabla13[[#This Row],[Nº Expediente de la plataforma de contratación]]","v":{"$error":"#VALUE!"}},{"$f":"Tabla13[[#This Row],[Nº Expediente de la plataforma de contratación]]","v":{"$error":"#VALUE!"}},{"$f":"Tabla13[[#This Row],[Importe IVA ]]","v":{"$error":"#VALUE!"}},{"$f":"Tabla13[[#This Row],[Importe de adjudicación (IVA INCLUIDO)]]","v":{"$error":"#VALUE!"}}]
[{"$nulls":18},{"$f":"Tabla13[[#This Row],[Título del contrato]]&Tabla13[[#This Row],[Nº Expediente de la plataforma de contratación]]","v":{"$error":"#VALUE!"}},{"$f":"Tabla13[[#This Row],[Nº Expediente de la plataforma de contratación]]","v":{"$error":"#VALUE!"}},{"$f":"Tabla13[[#This Row],[Importe IVA ]]","v":{"$error":"#VALUE!"}},{"$f":"Tabla13[[#This Row],[Importe de adjudicación (IVA INCLUIDO)]]","v":{"$error":"#VALUE!"}}]
[{"$nulls":18},{"$f":"Tabla13[[#This Row],[Título del contrato]]&Tabla13[[#This Row],[Nº Expediente de la plataforma de contratación]]","v":{"$error":"#VALUE!"}},{"$f":"Tabla13[[#This Row],[Nº Expediente de la plataforma de contratación]]","v":{"$error":"#VALUE!"}},{"$f":"Tabla13[[#This Row],[Importe IVA ]]","v":{"$error":"#VALUE!"}},{"$f":"Tabla13[[#This Row],[Importe de adjudicación (IVA INCLUIDO)]]","v":{"$error":"#VALUE!"}}]
[{"$nulls":18},{"$f":"Tabla13[[#This Row],[Título del contrato]]&Tabla13[[#This Row],[Nº Expediente de la plataforma de contratación]]","v":{"$error":"#VALUE!"}},{"$f":"Tabla13[[#This Row],[Nº Expediente de la plataforma de contratación]]","v":{"$error":"#VALUE!"}},{"$f":"Tabla13[[#This Row],[Importe IVA ]]","v":{"$error":"#VALUE!"}},{"$f":"Tabla13[[#This Row],[Importe de adjudicación (IVA INCLUIDO)]]","v":{"$error":"#VALUE!"}}]
[{"$nulls":18},{"$f":"Tabla13[[#This Row],[Título del contrato]]&Tabla13[[#This Row],[Nº Expediente de la plataforma de contratación]]","v":{"$error":"#VALUE!"}},{"$f":"Tabla13[[#This Row],[Nº Expediente de la plataforma de contratación]]","v":{"$error":"#VALUE!"}},{"$f":"Tabla13[[#This Row],[Importe IVA ]]","v":{"$error":"#VALUE!"}},{"$f":"Tabla13[[#This Row],[Importe de adjudicación (IVA INCLUIDO)]]","v":{"$error":"#VALUE!"}}]
[{"$nulls":18},{"$f":"Tabla13[[#This Row],[Título del contrato]]&Tabla13[[#This Row],[Nº Expediente de la plataforma de contratación]]","v":{"$error":"#VALUE!"}},{"$f":"Tabla13[[#This Row],[Nº Expediente de la plataforma de contratación]]","v":{"$error":"#VALUE!"}},{"$f":"Tabla13[[#This Row],[Importe IVA ]]","v":{"$error":"#VALUE!"}},{"$f":"Tabla13[[#This Row],[Importe de adjudicación (IVA INCLUIDO)]]","v":{"$error":"#VALUE!"}}]
[{"$nulls":18},{"$f":"Tabla13[[#This Row],[Título del contrato]]&Tabla13[[#This Row],[Nº Expediente de la plataforma de contratación]]","v":{"$error":"#VALUE!"}},{"$f":"Tabla13[[#This Row],[Nº Expediente de la plataforma de contratación]]","v":{"$error":"#VALUE!"}},{"$f":"Tabla13[[#This Row],[Importe IVA ]]","v":{"$error":"#VALUE!"}},{"$f":"Tabla13[[#This Row],[Importe de adjudicación (IVA INCLUIDO)]]","v":{"$error":"#VALUE!"}}]
[{"$nulls":18},{"$f":"Tabla13[[#This Row],[Título del contrato]]&Tabla13[[#This Row],[Nº Expediente de la plataforma de contratación]]","v":{"$error":"#VALUE!"}},{"$f":"Tabla13[[#This Row],[Nº Expediente de la plataforma de contratación]]","v":{"$error":"#VALUE!"}},{"$f":"Tabla13[[#This Row],[Importe IVA ]]","v":{"$error":"#VALUE!"}},{"$f":"Tabla13[[#This Row],[Importe de adjudicación (IVA INCLUIDO)]]","v":{"$error":"#VALUE!"}}]
[{"$nulls":18},{"$f":"Tabla13[[#This Row],[Título del contrato]]&Tabla13[[#This Row],[Nº Expediente de la plataforma de contratación]]","v":{"$error":"#VALUE!"}},{"$f":"Tabla13[[#This Row],[Nº Expediente de la plataforma de contratación]]","v":{"$error":"#VALUE!"}},{"$f":"Tabla13[[#This Row],[Importe IVA ]]","v":{"$error":"#VALUE!"}},{"$f":"Tabla13[[#This Row],[Importe de adjudicación (IVA INCLUIDO)]]","v":{"$error":"#VALUE!"}}]
[{"$nulls":18},{"$f":"Tabla13[[#This Row],[Título del contrato]]&Tabla13[[#This Row],[Nº Expediente de la plataforma de contratación]]","v":{"$error":"#VALUE!"}},{"$f":"Tabla13[[#This Row],[Nº Expediente de la plataforma de contratación]]","v":{"$error":"#VALUE!"}},{"$f":"Tabla13[[#This Row],[Importe IVA ]]","v":{"$error":"#VALUE!"}},{"$f":"Tabla13[[#This Row],[Importe de adjudicación (IVA INCLUIDO)]]","v":{"$error":"#VALUE!"}}]
[{"$nulls":18},{"$f":"Tabla13[[#This Row],[Título del contrato]]&Tabla13[[#This Row],[Nº Expediente de la plataforma de contratación]]","v":{"$error":"#VALUE!"}},{"$f":"Tabla13[[#This Row],[Nº Expediente de la plataforma de contratación]]","v":{"$error":"#VALUE!"}},{"$f":"Tabla13[[#This Row],[Importe IVA ]]","v":{"$error":"#VALUE!"}},{"$f":"Tabla13[[#This Row],[Importe de adjudicación (IVA INCLUIDO)]]","v":{"$error":"#VALUE!"}}]
[{"$nulls":18},{"$f":"Tabla13[[#This Row],[Título del contrato]]&Tabla13[[#This Row],[Nº Expediente de la plataforma de contratación]]","v":{"$error":"#VALUE!"}},{"$f":"Tabla13[[#This Row],[Nº Expediente de la plataforma de contratación]]","v":{"$error":"#VALUE!"}},{"$f":"Tabla13[[#This Row],[Importe IVA ]]","v":{"$error":"#VALUE!"}},{"$f":"Tabla13[[#This Row],[Importe de adjudicación (IVA INCLUIDO)]]","v":{"$error":"#VALUE!"}}]
[{"$nulls":18},{"$f":"Tabla13[[#This Row],[Título del contrato]]&Tabla13[[#This Row],[Nº Expediente de la plataforma de contratación]]","v":{"$error":"#VALUE!"}},{"$f":"Tabla13[[#This Row],[Nº Expediente de la plataforma de contratación]]","v":{"$error":"#VALUE!"}},{"$f":"Tabla13[[#This Row],[Importe IVA ]]","v":{"$error":"#VALUE!"}},{"$f":"Tabla13[[#This Row],[Importe de adjudicación (IVA INCLUIDO)]]","v":{"$error":"#VALUE!"}}]
[{"$nulls":18},{"$f":"Tabla13[[#This Row],[Título del contrato]]&Tabla13[[#This Row],[Nº Expediente de la plataforma de contratación]]","v":{"$error":"#VALUE!"}},{"$f":"Tabla13[[#This Row],[Nº Expediente de la plataforma de contratación]]","v":{"$error":"#VALUE!"}},{"$f":"Tabla13[[#This Row],[Importe IVA ]]","v":{"$error":"#VALUE!"}},{"$f":"Tabla13[[#This Row],[Importe de adjudicación (IVA INCLUIDO)]]","v":{"$error":"#VALUE!"}}]
[{"$nulls":18},{"$f":"Tabla13[[#This Row],[Título del contrato]]&Tabla13[[#This Row],[Nº Expediente de la plataforma de contratación]]","v":{"$error":"#VALUE!"}},{"$f":"Tabla13[[#This Row],[Nº Expediente de la plataforma de contratación]]","v":{"$error":"#VALUE!"}},{"$f":"Tabla13[[#This Row],[Importe IVA ]]","v":{"$error":"#VALUE!"}},{"$f":"Tabla13[[#This Row],[Importe de adjudicación (IVA INCLUIDO)]]","v":{"$error":"#VALUE!"}}]
[{"$nulls":18},{"$f":"Tabla13[[#This Row],[Título del contrato]]&Tabla13[[#This Row],[Nº Expediente de la plataforma de contratación]]","v":{"$error":"#VALUE!"}},{"$f":"Tabla13[[#This Row],[Nº Expediente de la plataforma de contratación]]","v":{"$error":"#VALUE!"}},{"$f":"Tabla13[[#This Row],[Importe IVA ]]","v":{"$error":"#VALUE!"}},{"$f":"Tabla13[[#This Row],[Importe de adjudicación (IVA INCLUIDO)]]","v":{"$error":"#VALUE!"}}]
[{"$nulls":18},{"$f":"Tabla13[[#This Row],[Título del contrato]]&Tabla13[[#This Row],[Nº Expediente de la plataforma de contratación]]","v":{"$error":"#VALUE!"}},{"$f":"Tabla13[[#This Row],[Nº Expediente de la plataforma de contratación]]","v":{"$error":"#VALUE!"}},{"$f":"Tabla13[[#This Row],[Importe IVA ]]","v":{"$error":"#VALUE!"}},{"$f":"Tabla13[[#This Row],[Importe de adjudicación (IVA INCLUIDO)]]","v":{"$error":"#VALUE!"}}]
[{"$nulls":18},{"$f":"Tabla13[[#This Row],[Título del contrato]]&Tabla13[[#This Row],[Nº Expediente de la plataforma de contratación]]","v":{"$error":"#VALUE!"}},{"$f":"Tabla13[[#This Row],[Nº Expediente de la plataforma de contratación]]","v":{"$error":"#VALUE!"}},{"$f":"Tabla13[[#This Row],[Importe IVA ]]","v":{"$error":"#VALUE!"}},{"$f":"Tabla13[[#This Row],[Importe de adjudicación (IVA INCLUIDO)]]","v":{"$error":"#VALUE!"}}]
[{"$nulls":18},{"$f":"Tabla13[[#This Row],[Título del contrato]]&Tabla13[[#This Row],[Nº Expediente de la plataforma de contratación]]","v":{"$error":"#VALUE!"}},{"$f":"Tabla13[[#This Row],[Nº Expediente de la plataforma de contratación]]","v":{"$error":"#VALUE!"}},{"$f":"Tabla13[[#This Row],[Importe IVA ]]","v":{"$error":"#VALUE!"}},{"$f":"Tabla13[[#This Row],[Importe de adjudicación (IVA INCLUIDO)]]","v":{"$error":"#VALUE!"}}]
[{"$nulls":18},{"$f":"Tabla13[[#This Row],[Título del contrato]]&Tabla13[[#This Row],[Nº Expediente de la plataforma de contratación]]","v":{"$error":"#VALUE!"}},{"$f":"Tabla13[[#This Row],[Nº Expediente de la plataforma de contratación]]","v":{"$error":"#VALUE!"}},{"$f":"Tabla13[[#This Row],[Importe IVA ]]","v":{"$error":"#VALUE!"}},{"$f":"Tabla13[[#This Row],[Importe de adjudicación (IVA INCLUIDO)]]","v":{"$error":"#VALUE!"}}]
[{"$nulls":18},{"$f":"Tabla13[[#This Row],[Título del contrato]]&Tabla13[[#This Row],[Nº Expediente de la plataforma de contratación]]","v":{"$error":"#VALUE!"}},{"$f":"Tabla13[[#This Row],[Nº Expediente de la plataforma de contratación]]","v":{"$error":"#VALUE!"}},{"$f":"Tabla13[[#This Row],[Importe IVA ]]","v":{"$error":"#VALUE!"}},{"$f":"Tabla13[[#This Row],[Importe de adjudicación (IVA INCLUIDO)]]","v":{"$error":"#VALUE!"}}]
[{"$nulls":18},{"$f":"Tabla13[[#This Row],[Título del contrato]]&Tabla13[[#This Row],[Nº Expediente de la plataforma de contratación]]","v":{"$error":"#VALUE!"}},{"$f":"Tabla13[[#This Row],[Nº Expediente de la plataforma de contratación]]","v":{"$error":"#VALUE!"}},{"$f":"Tabla13[[#This Row],[Importe IVA ]]","v":{"$error":"#VALUE!"}},{"$f":"Tabla13[[#This Row],[Importe de adjudicación (IVA INCLUIDO)]]","v":{"$error":"#VALUE!"}}]
[{"$nulls":18},{"$f":"Tabla13[[#This Row],[Título del contrato]]&Tabla13[[#This Row],[Nº Expediente de la plataforma de contratación]]","v":{"$error":"#VALUE!"}},{"$f":"Tabla13[[#This Row],[Nº Expediente de la plataforma de contratación]]","v":{"$error":"#VALUE!"}},{"$f":"Tabla13[[#This Row],[Importe IVA ]]","v":{"$error":"#VALUE!"}},{"$f":"Tabla13[[#This Row],[Importe de adjudicación (IVA INCLUIDO)]]","v":{"$error":"#VALUE!"}}]
[{"$nulls":18},{"$f":"Tabla13[[#This Row],[Título del contrato]]&Tabla13[[#This Row],[Nº Expediente de la plataforma de contratación]]","v":{"$error":"#VALUE!"}},{"$f":"Tabla13[[#This Row],[Nº Expediente de la plataforma de contratación]]","v":{"$error":"#VALUE!"}},{"$f":"Tabla13[[#This Row],[Importe IVA ]]","v":{"$error":"#VALUE!"}},{"$f":"Tabla13[[#This Row],[Importe de adjudicación (IVA INCLUIDO)]]","v":{"$error":"#VALUE!"}}]
[{"$nulls":18},{"$f":"Tabla13[[#This Row],[Título del contrato]]&Tabla13[[#This Row],[Nº Expediente de la plataforma de contratación]]","v":{"$error":"#VALUE!"}},{"$f":"Tabla13[[#This Row],[Nº Expediente de la plataforma de contratación]]","v":{"$error":"#VALUE!"}},{"$f":"Tabla13[[#This Row],[Importe IVA ]]","v":{"$error":"#VALUE!"}},{"$f":"Tabla13[[#This Row],[Importe de adjudicación (IVA INCLUIDO)]]","v":{"$error":"#VALUE!"}}]
[{"$nulls":18},{"$f":"Tabla13[[#This Row],[Título del contrato]]&Tabla13[[#This Row],[Nº Expediente de la plataforma de contratación]]","v":{"$error":"#VALUE!"}},{"$f":"Tabla13[[#This Row],[Nº Expediente de la plataforma de contratación]]","v":{"$error":"#VALUE!"}},{"$f":"Tabla13[[#This Row],[Importe IVA ]]","v":{"$error":"#VALUE!"}},{"$f":"Tabla13[[#This Row],[Importe de adjudicación (IVA INCLUIDO)]]","v":{"$error":"#VALUE!"}}]
[{"$nulls":18},{"$f":"Tabla13[[#This Row],[Título del contrato]]&Tabla13[[#This Row],[Nº Expediente de la plataforma de contratación]]","v":{"$error":"#VALUE!"}},{"$f":"Tabla13[[#This Row],[Nº Expediente de la plataforma de contratación]]","v":{"$error":"#VALUE!"}},{"$f":"Tabla13[[#This Row],[Importe IVA ]]","v":{"$error":"#VALUE!"}},{"$f":"Tabla13[[#This Row],[Importe de adjudicación (IVA INCLUIDO)]]","v":{"$error":"#VALUE!"}}]
[{"$nulls":18},{"$f":"Tabla13[[#This Row],[Título del contrato]]&Tabla13[[#This Row],[Nº Expediente de la plataforma de contratación]]","v":{"$error":"#VALUE!"}},{"$f":"Tabla13[[#This Row],[Nº Expediente de la plataforma de contratación]]","v":{"$error":"#VALUE!"}},{"$f":"Tabla13[[#This Row],[Importe IVA ]]","v":{"$error":"#VALUE!"}},{"$f":"Tabla13[[#This Row],[Importe de adjudicación (IVA INCLUIDO)]]","v":{"$error":"#VALUE!"}}]
[{"$nulls":18},{"$f":"Tabla13[[#This Row],[Título del contrato]]&Tabla13[[#This Row],[Nº Expediente de la plataforma de contratación]]","v":{"$error":"#VALUE!"}},{"$f":"Tabla13[[#This Row],[Nº Expediente de la plataforma de contratación]]","v":{"$error":"#VALUE!"}},{"$f":"Tabla13[[#This Row],[Importe IVA ]]","v":{"$error":"#VALUE!"}},{"$f":"Tabla13[[#This Row],[Importe de adjudicación (IVA INCLUIDO)]]","v":{"$error":"#VALUE!"}}]
[{"$nulls":18},{"$f":"Tabla13[[#This Row],[Título del contrato]]&Tabla13[[#This Row],[Nº Expediente de la plataforma de contratación]]","v":{"$error":"#VALUE!"}},{"$f":"Tabla13[[#This Row],[Nº Expediente de la plataforma de contratación]]","v":{"$error":"#VALUE!"}},{"$f":"Tabla13[[#This Row],[Importe IVA ]]","v":{"$error":"#VALUE!"}},{"$f":"Tabla13[[#This Row],[Importe de adjudicación (IVA INCLUIDO)]]","v":{"$error":"#VALUE!"}}]
[{"$nulls":18},{"$f":"Tabla13[[#This Row],[Título del contrato]]&Tabla13[[#This Row],[Nº Expediente de la plataforma de contratación]]","v":{"$error":"#VALUE!"}},{"$f":"Tabla13[[#This Row],[Nº Expediente de la plataforma de contratación]]","v":{"$error":"#VALUE!"}},{"$f":"Tabla13[[#This Row],[Importe IVA ]]","v":{"$error":"#VALUE!"}},{"$f":"Tabla13[[#This Row],[Importe de adjudicación (IVA INCLUIDO)]]","v":{"$error":"#VALUE!"}}]
[{"$nulls":18},{"$f":"Tabla13[[#This Row],[Título del contrato]]&Tabla13[[#This Row],[Nº Expediente de la plataforma de contratación]]","v":{"$error":"#VALUE!"}},{"$f":"Tabla13[[#This Row],[Nº Expediente de la plataforma de contratación]]","v":{"$error":"#VALUE!"}},{"$f":"Tabla13[[#This Row],[Importe IVA ]]","v":{"$error":"#VALUE!"}},{"$f":"Tabla13[[#This Row],[Importe de adjudicación (IVA INCLUIDO)]]","v":{"$error":"#VALUE!"}}]
[{"$nulls":18},{"$f":"Tabla13[[#This Row],[Título del contrato]]&Tabla13[[#This Row],[Nº Expediente de la plataforma de contratación]]","v":{"$error":"#VALUE!"}},{"$f":"Tabla13[[#This Row],[Nº Expediente de la plataforma de contratación]]","v":{"$error":"#VALUE!"}},{"$f":"Tabla13[[#This Row],[Importe IVA ]]","v":{"$error":"#VALUE!"}},{"$f":"Tabla13[[#This Row],[Importe de adjudicación (IVA INCLUIDO)]]","v":{"$error":"#VALUE!"}}]
[{"$nulls":18},{"$f":"Tabla13[[#This Row],[Título del contrato]]&Tabla13[[#This Row],[Nº Expediente de la plataforma de contratación]]","v":{"$error":"#VALUE!"}},{"$f":"Tabla13[[#This Row],[Nº Expediente de la plataforma de contratación]]","v":{"$error":"#VALUE!"}},{"$f":"Tabla13[[#This Row],[Importe IVA ]]","v":{"$error":"#VALUE!"}},{"$f":"Tabla13[[#This Row],[Importe de adjudicación (IVA INCLUIDO)]]","v":{"$error":"#VALUE!"}}]
[{"$nulls":18},{"$f":"Tabla13[[#This Row],[Título del contrato]]&Tabla13[[#This Row],[Nº Expediente de la plataforma de contratación]]","v":{"$error":"#VALUE!"}},{"$f":"Tabla13[[#This Row],[Nº Expediente de la plataforma de contratación]]","v":{"$error":"#VALUE!"}},{"$f":"Tabla13[[#This Row],[Importe IVA ]]","v":{"$error":"#VALUE!"}},{"$f":"Tabla13[[#This Row],[Importe de adjudicación (IVA INCLUIDO)]]","v":{"$error":"#VALUE!"}}]
[{"$nulls":18},{"$f":"Tabla13[[#This Row],[Título del contrato]]&Tabla13[[#This Row],[Nº Expediente de la plataforma de contratación]]","v":{"$error":"#VALUE!"}},{"$f":"Tabla13[[#This Row],[Nº Expediente de la plataforma de contratación]]","v":{"$error":"#VALUE!"}},{"$f":"Tabla13[[#This Row],[Importe IVA ]]","v":{"$error":"#VALUE!"}},{"$f":"Tabla13[[#This Row],[Importe de adjudicación (IVA INCLUIDO)]]","v":{"$error":"#VALUE!"}}]
[{"$nulls":18},{"$f":"Tabla13[[#This Row],[Título del contrato]]&Tabla13[[#This Row],[Nº Expediente de la plataforma de contratación]]","v":{"$error":"#VALUE!"}},{"$f":"Tabla13[[#This Row],[Nº Expediente de la plataforma de contratación]]","v":{"$error":"#VALUE!"}},{"$f":"Tabla13[[#This Row],[Importe IVA ]]","v":{"$error":"#VALUE!"}},{"$f":"Tabla13[[#This Row],[Importe de adjudicación (IVA INCLUIDO)]]","v":{"$error":"#VALUE!"}}]
[{"$nulls":18},{"$f":"Tabla13[[#This Row],[Título del contrato]]&Tabla13[[#This Row],[Nº Expediente de la plataforma de contratación]]","v":{"$error":"#VALUE!"}},{"$f":"Tabla13[[#This Row],[Nº Expediente de la plataforma de contratación]]","v":{"$error":"#VALUE!"}},{"$f":"Tabla13[[#This Row],[Importe IVA ]]","v":{"$error":"#VALUE!"}},{"$f":"Tabla13[[#This Row],[Importe de adjudicación (IVA INCLUIDO)]]","v":{"$error":"#VALUE!"}}]
[{"$nulls":18},{"$f":"Tabla13[[#This Row],[Título del contrato]]&Tabla13[[#This Row],[Nº Expediente de la plataforma de contratación]]","v":{"$error":"#VALUE!"}},{"$f":"Tabla13[[#This Row],[Nº Expediente de la plataforma de contratación]]","v":{"$error":"#VALUE!"}},{"$f":"Tabla13[[#This Row],[Importe IVA ]]","v":{"$error":"#VALUE!"}},{"$f":"Tabla13[[#This Row],[Importe de adjudicación (IVA INCLUIDO)]]","v":{"$error":"#VALUE!"}}]
[{"$nulls":18},{"$f":"Tabla13[[#This Row],[Título del contrato]]&Tabla13[[#This Row],[Nº Expediente de la plataforma de contratación]]","v":{"$error":"#VALUE!"}},{"$f":"Tabla13[[#This Row],[Nº Expediente de la plataforma de contratación]]","v":{"$error":"#VALUE!"}},{"$f":"Tabla13[[#This Row],[Importe IVA ]]","v":{"$error":"#VALUE!"}},{"$f":"Tabla13[[#This Row],[Importe de adjudicación (IVA INCLUIDO)]]","v":{"$error":"#VALUE!"}}]
[{"$nulls":18},{"$f":"Tabla13[[#This Row],[Título del contrato]]&Tabla13[[#This Row],[Nº Expediente de la plataforma de contratación]]","v":{"$error":"#VALUE!"}},{"$f":"Tabla13[[#This Row],[Nº Expediente de la plataforma de contratación]]","v":{"$error":"#VALUE!"}},{"$f":"Tabla13[[#This Row],[Importe IVA ]]","v":{"$error":"#VALUE!"}},{"$f":"Tabla13[[#This Row],[Importe de adjudicación (IVA INCLUIDO)]]","v":{"$error":"#VALUE!"}}]
[{"$nulls":18},{"$f":"Tabla13[[#This Row],[Título del contrato]]&Tabla13[[#This Row],[Nº Expediente de la plataforma de contratación]]","v":{"$error":"#VALUE!"}},{"$f":"Tabla13[[#This Row],[Nº Expediente de la plataforma de contratación]]","v":{"$error":"#VALUE!"}},{"$f":"Tabla13[[#This Row],[Importe IVA ]]","v":{"$error":"#VALUE!"}},{"$f":"Tabla13[[#This Row],[Importe de adjudicación (IVA INCLUIDO)]]","v":{"$error":"#VALUE!"}}]
[{"$nulls":18},{"$f":"Tabla13[[#This Row],[Título del contrato]]&Tabla13[[#This Row],[Nº Expediente de la plataforma de contratación]]","v":{"$error":"#VALUE!"}},{"$f":"Tabla13[[#This Row],[Nº Expediente de la plataforma de contratación]]","v":{"$error":"#VALUE!"}},{"$f":"Tabla13[[#This Row],[Importe IVA ]]","v":{"$error":"#VALUE!"}},{"$f":"Tabla13[[#This Row],[Importe de adjudicación (IVA INCLUIDO)]]","v":{"$error":"#VALUE!"}}]
[{"$nulls":18},{"$f":"Tabla13[[#This Row],[Título del contrato]]&Tabla13[[#This Row],[Nº Expediente de la plataforma de contratación]]","v":{"$error":"#VALUE!"}},{"$f":"Tabla13[[#This Row],[Nº Expediente de la plataforma de contratación]]","v":{"$error":"#VALUE!"}},{"$f":"Tabla13[[#This Row],[Importe IVA ]]","v":{"$error":"#VALUE!"}},{"$f":"Tabla13[[#This Row],[Importe de adjudicación (IVA INCLUIDO)]]","v":{"$error":"#VALUE!"}}]
[{"$nulls":18},{"$f":"Tabla13[[#This Row],[Título del contrato]]&Tabla13[[#This Row],[Nº Expediente de la plataforma de contratación]]","v":{"$error":"#VALUE!"}},{"$f":"Tabla13[[#This Row],[Nº Expediente de la plataforma de contratación]]","v":{"$error":"#VALUE!"}},{"$f":"Tabla13[[#This Row],[Importe IVA ]]","v":{"$error":"#VALUE!"}},{"$f":"Tabla13[[#This Row],[Importe de adjudicación (IVA INCLUIDO)]]","v":{"$error":"#VALUE!"}}]
[{"$nulls":18},{"$f":"Tabla13[[#This Row],[Título del contrato]]&Tabla13[[#This Row],[Nº Expediente de la plataforma de contratación]]","v":{"$error":"#VALUE!"}},{"$f":"Tabla13[[#This Row],[Nº Expediente de la plataforma de contratación]]","v":{"$error":"#VALUE!"}},{"$f":"Tabla13[[#This Row],[Importe IVA ]]","v":{"$error":"#VALUE!"}},{"$f":"Tabla13[[#This Row],[Importe de adjudicación (IVA INCLUIDO)]]","v":{"$error":"#VALUE!"}}]
[{"$nulls":18},{"$f":"Tabla13[[#This Row],[Título del contrato]]&Tabla13[[#This Row],[Nº Expediente de la plataforma de contratación]]","v":{"$error":"#VALUE!"}},{"$f":"Tabla13[[#This Row],[Nº Expediente de la plataforma de contratación]]","v":{"$error":"#VALUE!"}},{"$f":"Tabla13[[#This Row],[Importe IVA ]]","v":{"$error":"#VALUE!"}},{"$f":"Tabla13[[#This Row],[Importe de adjudicación (IVA INCLUIDO)]]","v":{"$error":"#VALUE!"}}]
[{"$nulls":18},{"$f":"Tabla13[[#This Row],[Título del contrato]]&Tabla13[[#This Row],[Nº Expediente de la plataforma de contratación]]","v":{"$error":"#VALUE!"}},{"$f":"Tabla13[[#This Row],[Nº Expediente de la plataforma de contratación]]","v":{"$error":"#VALUE!"}},{"$f":"Tabla13[[#This Row],[Importe IVA ]]","v":{"$error":"#VALUE!"}},{"$f":"Tabla13[[#This Row],[Importe de adjudicación (IVA INCLUIDO)]]","v":{"$error":"#VALUE!"}}]
[{"$nulls":18},{"$f":"Tabla13[[#This Row],[Título del contrato]]&Tabla13[[#This Row],[Nº Expediente de la plataforma de contratación]]","v":{"$error":"#VALUE!"}},{"$f":"Tabla13[[#This Row],[Nº Expediente de la plataforma de contratación]]","v":{"$error":"#VALUE!"}},{"$f":"Tabla13[[#This Row],[Importe IVA ]]","v":{"$error":"#VALUE!"}},{"$f":"Tabla13[[#This Row],[Importe de adjudicación (IVA INCLUIDO)]]","v":{"$error":"#VALUE!"}}]
[{"$nulls":18},{"$f":"Tabla13[[#This Row],[Título del contrato]]&Tabla13[[#This Row],[Nº Expediente de la plataforma de contratación]]","v":{"$error":"#VALUE!"}},{"$f":"Tabla13[[#This Row],[Nº Expediente de la plataforma de contratación]]","v":{"$error":"#VALUE!"}},{"$f":"Tabla13[[#This Row],[Importe IVA ]]","v":{"$error":"#VALUE!"}},{"$f":"Tabla13[[#This Row],[Importe de adjudicación (IVA INCLUIDO)]]","v":{"$error":"#VALUE!"}}]
[{"$nulls":18},{"$f":"Tabla13[[#This Row],[Título del contrato]]&Tabla13[[#This Row],[Nº Expediente de la plataforma de contratación]]","v":{"$error":"#VALUE!"}},{"$f":"Tabla13[[#This Row],[Nº Expediente de la plataforma de contratación]]","v":{"$error":"#VALUE!"}},{"$f":"Tabla13[[#This Row],[Importe IVA ]]","v":{"$error":"#VALUE!"}},{"$f":"Tabla13[[#This Row],[Importe de adjudicación (IVA INCLUIDO)]]","v":{"$error":"#VALUE!"}}]
[{"$nulls":18},{"$f":"Tabla13[[#This Row],[Título del contrato]]&Tabla13[[#This Row],[Nº Expediente de la plataforma de contratación]]","v":{"$error":"#VALUE!"}},{"$f":"Tabla13[[#This Row],[Nº Expediente de la plataforma de contratación]]","v":{"$error":"#VALUE!"}},{"$f":"Tabla13[[#This Row],[Importe IVA ]]","v":{"$error":"#VALUE!"}},{"$f":"Tabla13[[#This Row],[Importe de adjudicación (IVA INCLUIDO)]]","v":{"$error":"#VALUE!"}}]
[{"$nulls":18},{"$f":"Tabla13[[#This Row],[Título del contrato]]&Tabla13[[#This Row],[Nº Expediente de la plataforma de contratación]]","v":{"$error":"#VALUE!"}},{"$f":"Tabla13[[#This Row],[Nº Expediente de la plataforma de contratación]]","v":{"$error":"#VALUE!"}},{"$f":"Tabla13[[#This Row],[Importe IVA ]]","v":{"$error":"#VALUE!"}},{"$f":"Tabla13[[#This Row],[Importe de adjudicación (IVA INCLUIDO)]]","v":{"$error":"#VALUE!"}}]
[{"$nulls":18},{"$f":"Tabla13[[#This Row],[Título del contrato]]&Tabla13[[#This Row],[Nº Expediente de la plataforma de contratación]]","v":{"$error":"#VALUE!"}},{"$f":"Tabla13[[#This Row],[Nº Expediente de la plataforma de contratación]]","v":{"$error":"#VALUE!"}},{"$f":"Tabla13[[#This Row],[Importe IVA ]]","v":{"$error":"#VALUE!"}},{"$f":"Tabla13[[#This Row],[Importe de adjudicación (IVA INCLUIDO)]]","v":{"$error":"#VALUE!"}}]
[{"$nulls":18},{"$f":"Tabla13[[#This Row],[Título del contrato]]&Tabla13[[#This Row],[Nº Expediente de la plataforma de contratación]]","v":{"$error":"#VALUE!"}},{"$f":"Tabla13[[#This Row],[Nº Expediente de la plataforma de contratación]]","v":{"$error":"#VALUE!"}},{"$f":"Tabla13[[#This Row],[Importe IVA ]]","v":{"$error":"#VALUE!"}},{"$f":"Tabla13[[#This Row],[Importe de adjudicación (IVA INCLUIDO)]]","v":{"$error":"#VALUE!"}}]
[{"$nulls":18},{"$f":"Tabla13[[#This Row],[Título del contrato]]&Tabla13[[#This Row],[Nº Expediente de la plataforma de contratación]]","v":{"$error":"#VALUE!"}},{"$f":"Tabla13[[#This Row],[Nº Expediente de la plataforma de contratación]]","v":{"$error":"#VALUE!"}},{"$f":"Tabla13[[#This Row],[Importe IVA ]]","v":{"$error":"#VALUE!"}},{"$f":"Tabla13[[#This Row],[Importe de adjudicación (IVA INCLUIDO)]]","v":{"$error":"#VALUE!"}}]
[{"$nulls":18},{"$f":"Tabla13[[#This Row],[Título del contrato]]&Tabla13[[#This Row],[Nº Expediente de la plataforma de contratación]]","v":{"$error":"#VALUE!"}},{"$f":"Tabla13[[#This Row],[Nº Expediente de la plataforma de contratación]]","v":{"$error":"#VALUE!"}},{"$f":"Tabla13[[#This Row],[Importe IVA ]]","v":{"$error":"#VALUE!"}},{"$f":"Tabla13[[#This Row],[Importe de adjudicación (IVA INCLUIDO)]]","v":{"$error":"#VALUE!"}}]
[{"$nulls":18},{"$f":"Tabla13[[#This Row],[Título del contrato]]&Tabla13[[#This Row],[Nº Expediente de la plataforma de contratación]]","v":{"$error":"#VALUE!"}},{"$f":"Tabla13[[#This Row],[Nº Expediente de la plataforma de contratación]]","v":{"$error":"#VALUE!"}},{"$f":"Tabla13[[#This Row],[Importe IVA ]]","v":{"$error":"#VALUE!"}},{"$f":"Tabla13[[#This Row],[Importe de adjudicación (IVA INCLUIDO)]]","v":{"$error":"#VALUE!"}}]
[{"$nulls":18},{"$f":"Tabla13[[#This Row],[Título del contrato]]&Tabla13[[#This Row],[Nº Expediente de la plataforma de contratación]]","v":{"$error":"#VALUE!"}},{"$f":"Tabla13[[#This Row],[Nº Expediente de la plataforma de contratación]]","v":{"$error":"#VALUE!"}},{"$f":"Tabla13[[#This Row],[Importe IVA ]]","v":{"$error":"#VALUE!"}},{"$f":"Tabla13[[#This Row],[Importe de adjudicación (IVA INCLUIDO)]]","v":{"$error":"#VALUE!"}}]
[{"$nulls":18},{"$f":"Tabla13[[#This Row],[Título del contrato]]&Tabla13[[#This Row],[Nº Expediente de la plataforma de contratación]]","v":{"$error":"#VALUE!"}},{"$f":"Tabla13[[#This Row],[Nº Expediente de la plataforma de contratación]]","v":{"$error":"#VALUE!"}},{"$f":"Tabla13[[#This Row],[Importe IVA ]]","v":{"$error":"#VALUE!"}},{"$f":"Tabla13[[#This Row],[Importe de adjudicación (IVA INCLUIDO)]]","v":{"$error":"#VALUE!"}}]
[{"$nulls":18},{"$f":"Tabla13[[#This Row],[Título del contrato]]&Tabla13[[#This Row],[Nº Expediente de la plataforma de contratación]]","v":{"$error":"#VALUE!"}},{"$f":"Tabla13[[#This Row],[Nº Expediente de la plataforma de contratación]]","v":{"$error":"#VALUE!"}},{"$f":"Tabla13[[#This Row],[Importe IVA ]]","v":{"$error":"#VALUE!"}},{"$f":"Tabla13[[#This Row],[Importe de adjudicación (IVA INCLUIDO)]]","v":{"$error":"#VALUE!"}}]
[{"$nulls":18},{"$f":"Tabla13[[#This Row],[Título del contrato]]&Tabla13[[#This Row],[Nº Expediente de la plataforma de contratación]]","v":{"$error":"#VALUE!"}},{"$f":"Tabla13[[#This Row],[Nº Expediente de la plataforma de contratación]]","v":{"$error":"#VALUE!"}},{"$f":"Tabla13[[#This Row],[Importe IVA ]]","v":{"$error":"#VALUE!"}},{"$f":"Tabla13[[#This Row],[Importe de adjudicación (IVA INCLUIDO)]]","v":{"$error":"#VALUE!"}}]
[{"$nulls":18},{"$f":"Tabla13[[#This Row],[Título del contrato]]&Tabla13[[#This Row],[Nº Expediente de la plataforma de contratación]]","v":{"$error":"#VALUE!"}},{"$f":"Tabla13[[#This Row],[Nº Expediente de la plataforma de contratación]]","v":{"$error":"#VALUE!"}},{"$f":"Tabla13[[#This Row],[Importe IVA ]]","v":{"$error":"#VALUE!"}},{"$f":"Tabla13[[#This Row],[Importe de adjudicación (IVA INCLUIDO)]]","v":{"$error":"#VALUE!"}}]
[{"$nulls":18},{"$f":"Tabla13[[#This Row],[Título del contrato]]&Tabla13[[#This Row],[Nº Expediente de la plataforma de contratación]]","v":{"$error":"#VALUE!"}},{"$f":"Tabla13[[#This Row],[Nº Expediente de la plataforma de contratación]]","v":{"$error":"#VALUE!"}},{"$f":"Tabla13[[#This Row],[Importe IVA ]]","v":{"$error":"#VALUE!"}},{"$f":"Tabla13[[#This Row],[Importe de adjudicación (IVA INCLUIDO)]]","v":{"$error":"#VALUE!"}}]
[{"$nulls":18},{"$f":"Tabla13[[#This Row],[Título del contrato]]&Tabla13[[#This Row],[Nº Expediente de la plataforma de contratación]]","v":{"$error":"#VALUE!"}},{"$f":"Tabla13[[#This Row],[Nº Expediente de la plataforma de contratación]]","v":{"$error":"#VALUE!"}},{"$f":"Tabla13[[#This Row],[Importe IVA ]]","v":{"$error":"#VALUE!"}},{"$f":"Tabla13[[#This Row],[Importe de adjudicación (IVA INCLUIDO)]]","v":{"$error":"#VALUE!"}}]
[{"$nulls":18},{"$f":"Tabla13[[#This Row],[Título del contrato]]&Tabla13[[#This Row],[Nº Expediente de la plataforma de contratación]]","v":{"$error":"#VALUE!"}},{"$f":"Tabla13[[#This Row],[Nº Expediente de la plataforma de contratación]]","v":{"$error":"#VALUE!"}},{"$f":"Tabla13[[#This Row],[Importe IVA ]]","v":{"$error":"#VALUE!"}},{"$f":"Tabla13[[#This Row],[Importe de adjudicación (IVA INCLUIDO)]]","v":{"$error":"#VALUE!"}}]
[{"$nulls":18},{"$f":"Tabla13[[#This Row],[Título del contrato]]&Tabla13[[#This Row],[Nº Expediente de la plataforma de contratación]]","v":{"$error":"#VALUE!"}},{"$f":"Tabla13[[#This Row],[Nº Expediente de la plataforma de contratación]]","v":{"$error":"#VALUE!"}},{"$f":"Tabla13[[#This Row],[Importe IVA ]]","v":{"$error":"#VALUE!"}},{"$f":"Tabla13[[#This Row],[Importe de adjudicación (IVA INCLUIDO)]]","v":{"$error":"#VALUE!"}}]
[{"$nulls":18},{"$f":"Tabla13[[#This Row],[Título del contrato]]&Tabla13[[#This Row],[Nº Expediente de la plataforma de contratación]]","v":{"$error":"#VALUE!"}},{"$f":"Tabla13[[#This Row],[Nº Expediente de la plataforma de contratación]]","v":{"$error":"#VALUE!"}},{"$f":"Tabla13[[#This Row],[Importe IVA ]]","v":{"$error":"#VALUE!"}},{"$f":"Tabla13[[#This Row],[Importe de adjudicación (IVA INCLUIDO)]]","v":{"$error":"#VALUE!"}}]
[{"$nulls":18},{"$f":"Tabla13[[#This Row],[Título del contrato]]&Tabla13[[#This Row],[Nº Expediente de la plataforma de contratación]]","v":{"$error":"#VALUE!"}},{"$f":"Tabla13[[#This Row],[Nº Expediente de la plataforma de contratación]]","v":{"$error":"#VALUE!"}},{"$f":"Tabla13[[#This Row],[Importe IVA ]]","v":{"$error":"#VALUE!"}},{"$f":"Tabla13[[#This Row],[Importe de adjudicación (IVA INCLUIDO)]]","v":{"$error":"#VALUE!"}}]
[{"$nulls":18},{"$f":"Tabla13[[#This Row],[Título del contrato]]&Tabla13[[#This Row],[Nº Expediente de la plataforma de contratación]]","v":{"$error":"#VALUE!"}},{"$f":"Tabla13[[#This Row],[Nº Expediente de la plataforma de contratación]]","v":{"$error":"#VALUE!"}},{"$f":"Tabla13[[#This Row],[Importe IVA ]]","v":{"$error":"#VALUE!"}},{"$f":"Tabla13[[#This Row],[Importe de adjudicación (IVA INCLUIDO)]]","v":{"$error":"#VALUE!"}}]
[{"$nulls":18},{"$f":"Tabla13[[#This Row],[Título del contrato]]&Tabla13[[#This Row],[Nº Expediente de la plataforma de contratación]]","v":{"$error":"#VALUE!"}},{"$f":"Tabla13[[#This Row],[Nº Expediente de la plataforma de contratación]]","v":{"$error":"#VALUE!"}},{"$f":"Tabla13[[#This Row],[Importe IVA ]]","v":{"$error":"#VALUE!"}},{"$f":"Tabla13[[#This Row],[Importe de adjudicación (IVA INCLUIDO)]]","v":{"$error":"#VALUE!"}}]
[{"$nulls":18},{"$f":"Tabla13[[#This Row],[Título del contrato]]&Tabla13[[#This Row],[Nº Expediente de la plataforma de contratación]]","v":{"$error":"#VALUE!"}},{"$f":"Tabla13[[#This Row],[Nº Expediente de la plataforma de contratación]]","v":{"$error":"#VALUE!"}},{"$f":"Tabla13[[#This Row],[Importe IVA ]]","v":{"$error":"#VALUE!"}},{"$f":"Tabla13[[#This Row],[Importe de adjudicación (IVA INCLUIDO)]]","v":{"$error":"#VALUE!"}}]
[{"$nulls":18},{"$f":"Tabla13[[#This Row],[Título del contrato]]&Tabla13[[#This Row],[Nº Expediente de la plataforma de contratación]]","v":{"$error":"#VALUE!"}},{"$f":"Tabla13[[#This Row],[Nº Expediente de la plataforma de contratación]]","v":{"$error":"#VALUE!"}},{"$f":"Tabla13[[#This Row],[Importe IVA ]]","v":{"$error":"#VALUE!"}},{"$f":"Tabla13[[#This Row],[Importe de adjudicación (IVA INCLUIDO)]]","v":{"$error":"#VALUE!"}}]
[{"$nulls":18},{"$f":"Tabla13[[#This Row],[Título del contrato]]&Tabla13[[#This Row],[Nº Expediente de la plataforma de contratación]]","v":{"$error":"#VALUE!"}},{"$f":"Tabla13[[#This Row],[Nº Expediente de la plataforma de contratación]]","v":{"$error":"#VALUE!"}},{"$f":"Tabla13[[#This Row],[Importe IVA ]]","v":{"$error":"#VALUE!"}},{"$f":"Tabla13[[#This Row],[Importe de adjudicación (IVA INCLUIDO)]]","v":{"$error":"#VALUE!"}}]
[{"$nulls":18},{"$f":"Tabla13[[#This Row],[Título del contrato]]&Tabla13[[#This Row],[Nº Expediente de la plataforma de contratación]]","v":{"$error":"#VALUE!"}},{"$f":"Tabla13[[#This Row],[Nº Expediente de la plataforma de contratación]]","v":{"$error":"#VALUE!"}},{"$f":"Tabla13[[#This Row],[Importe IVA ]]","v":{"$error":"#VALUE!"}},{"$f":"Tabla13[[#This Row],[Importe de adjudicación (IVA INCLUIDO)]]","v":{"$error":"#VALUE!"}}]
[{"$nulls":18},{"$f":"Tabla13[[#This Row],[Título del contrato]]&Tabla13[[#This Row],[Nº Expediente de la plataforma de contratación]]","v":{"$error":"#VALUE!"}},{"$f":"Tabla13[[#This Row],[Nº Expediente de la plataforma de contratación]]","v":{"$error":"#VALUE!"}},{"$f":"Tabla13[[#This Row],[Importe IVA ]]","v":{"$error":"#VALUE!"}},{"$f":"Tabla13[[#This Row],[Importe de adjudicación (IVA INCLUIDO)]]","v":{"$error":"#VALUE!"}}]
[{"$nulls":18},{"$f":"Tabla13[[#This Row],[Título del contrato]]&Tabla13[[#This Row],[Nº Expediente de la plataforma de contratación]]","v":{"$error":"#VALUE!"}},{"$f":"Tabla13[[#This Row],[Nº Expediente de la plataforma de contratación]]","v":{"$error":"#VALUE!"}},{"$f":"Tabla13[[#This Row],[Importe IVA ]]","v":{"$error":"#VALUE!"}},{"$f":"Tabla13[[#This Row],[Importe de adjudicación (IVA INCLUIDO)]]","v":{"$error":"#VALUE!"}}]
[{"$nulls":18},{"$f":"Tabla13[[#This Row],[Título del contrato]]&Tabla13[[#This Row],[Nº Expediente de la plataforma de contratación]]","v":{"$error":"#VALUE!"}},{"$f":"Tabla13[[#This Row],[Nº Expediente de la plataforma de contratación]]","v":{"$error":"#VALUE!"}},{"$f":"Tabla13[[#This Row],[Importe IVA ]]","v":{"$error":"#VALUE!"}},{"$f":"Tabla13[[#This Row],[Importe de adjudicación (IVA INCLUIDO)]]","v":{"$error":"#VALUE!"}}]
[{"$nulls":18},{"$f":"Tabla13[[#This Row],[Título del contrato]]&Tabla13[[#This Row],[Nº Expediente de la plataforma de contratación]]","v":{"$error":"#VALUE!"}},{"$f":"Tabla13[[#This Row],[Nº Expediente de la plataforma de contratación]]","v":{"$error":"#VALUE!"}},{"$f":"Tabla13[[#This Row],[Importe IVA ]]","v":{"$error":"#VALUE!"}},{"$f":"Tabla13[[#This Row],[Importe de adjudicación (IVA INCLUIDO)]]","v":{"$error":"#VALUE!"}}]
[{"$nulls":18},{"$f":"Tabla13[[#This Row],[Título del contrato]]&Tabla13[[#This Row],[Nº Expediente de la plataforma de contratación]]","v":{"$error":"#VALUE!"}},{"$f":"Tabla13[[#This Row],[Nº Expediente de la plataforma de contratación]]","v":{"$error":"#VALUE!"}},{"$f":"Tabla13[[#This Row],[Importe IVA ]]","v":{"$error":"#VALUE!"}},{"$f":"Tabla13[[#This Row],[Importe de adjudicación (IVA INCLUIDO)]]","v":{"$error":"#VALUE!"}}]
[{"$nulls":18},{"$f":"Tabla13[[#This Row],[Título del contrato]]&Tabla13[[#This Row],[Nº Expediente de la plataforma de contratación]]","v":{"$error":"#VALUE!"}},{"$f":"Tabla13[[#This Row],[Nº Expediente de la plataforma de contratación]]","v":{"$error":"#VALUE!"}},{"$f":"Tabla13[[#This Row],[Importe IVA ]]","v":{"$error":"#VALUE!"}},{"$f":"Tabla13[[#This Row],[Importe de adjudicación (IVA INCLUIDO)]]","v":{"$error":"#VALUE!"}}]
[{"$nulls":18},{"$f":"Tabla13[[#This Row],[Título del contrato]]&Tabla13[[#This Row],[Nº Expediente de la plataforma de contratación]]","v":{"$error":"#VALUE!"}},{"$f":"Tabla13[[#This Row],[Nº Expediente de la plataforma de contratación]]","v":{"$error":"#VALUE!"}},{"$f":"Tabla13[[#This Row],[Importe IVA ]]","v":{"$error":"#VALUE!"}},{"$f":"Tabla13[[#This Row],[Importe de adjudicación (IVA INCLUIDO)]]","v":{"$error":"#VALUE!"}}]
[{"$nulls":18},{"$f":"Tabla13[[#This Row],[Título del contrato]]&Tabla13[[#This Row],[Nº Expediente de la plataforma de contratación]]","v":{"$error":"#VALUE!"}},{"$f":"Tabla13[[#This Row],[Nº Expediente de la plataforma de contratación]]","v":{"$error":"#VALUE!"}},{"$f":"Tabla13[[#This Row],[Importe IVA ]]","v":{"$error":"#VALUE!"}},{"$f":"Tabla13[[#This Row],[Importe de adjudicación (IVA INCLUIDO)]]","v":{"$error":"#VALUE!"}}]
[{"$nulls":18},{"$f":"Tabla13[[#This Row],[Título del contrato]]&Tabla13[[#This Row],[Nº Expediente de la plataforma de contratación]]","v":{"$error":"#VALUE!"}},{"$f":"Tabla13[[#This Row],[Nº Expediente de la plataforma de contratación]]","v":{"$error":"#VALUE!"}},{"$f":"Tabla13[[#This Row],[Importe IVA ]]","v":{"$error":"#VALUE!"}},{"$f":"Tabla13[[#This Row],[Importe de adjudicación (IVA INCLUIDO)]]","v":{"$error":"#VALUE!"}}]
[{"$nulls":18},{"$f":"Tabla13[[#This Row],[Título del contrato]]&Tabla13[[#This Row],[Nº Expediente de la plataforma de contratación]]","v":{"$error":"#VALUE!"}},{"$f":"Tabla13[[#This Row],[Nº Expediente de la plataforma de contratación]]","v":{"$error":"#VALUE!"}},{"$f":"Tabla13[[#This Row],[Importe IVA ]]","v":{"$error":"#VALUE!"}},{"$f":"Tabla13[[#This Row],[Importe de adjudicación (IVA INCLUIDO)]]","v":{"$error":"#VALUE!"}}]
[{"$nulls":18},{"$f":"Tabla13[[#This Row],[Título del contrato]]&Tabla13[[#This Row],[Nº Expediente de la plataforma de contratación]]","v":{"$error":"#VALUE!"}},{"$f":"Tabla13[[#This Row],[Nº Expediente de la plataforma de contratación]]","v":{"$error":"#VALUE!"}},{"$f":"Tabla13[[#This Row],[Importe IVA ]]","v":{"$error":"#VALUE!"}},{"$f":"Tabla13[[#This Row],[Importe de adjudicación (IVA INCLUIDO)]]","v":{"$error":"#VALUE!"}}]
[{"$nulls":18},{"$f":"Tabla13[[#This Row],[Título del contrato]]&Tabla13[[#This Row],[Nº Expediente de la plataforma de contratación]]","v":{"$error":"#VALUE!"}},{"$f":"Tabla13[[#This Row],[Nº Expediente de la plataforma de contratación]]","v":{"$error":"#VALUE!"}},{"$f":"Tabla13[[#This Row],[Importe IVA ]]","v":{"$error":"#VALUE!"}},{"$f":"Tabla13[[#This Row],[Importe de adjudicación (IVA INCLUIDO)]]","v":{"$error":"#VALUE!"}}]
[{"$nulls":18},{"$f":"Tabla13[[#This Row],[Título del contrato]]&Tabla13[[#This Row],[Nº Expediente de la plataforma de contratación]]","v":{"$error":"#VALUE!"}},{"$f":"Tabla13[[#This Row],[Nº Expediente de la plataforma de contratación]]","v":{"$error":"#VALUE!"}},{"$f":"Tabla13[[#This Row],[Importe IVA ]]","v":{"$error":"#VALUE!"}},{"$f":"Tabla13[[#This Row],[Importe de adjudicación (IVA INCLUIDO)]]","v":{"$error":"#VALUE!"}}]
[{"$nulls":18},{"$f":"Tabla13[[#This Row],[Título del contrato]]&Tabla13[[#This Row],[Nº Expediente de la plataforma de contratación]]","v":{"$error":"#VALUE!"}},{"$f":"Tabla13[[#This Row],[Nº Expediente de la plataforma de contratación]]","v":{"$error":"#VALUE!"}},{"$f":"Tabla13[[#This Row],[Importe IVA ]]","v":{"$error":"#VALUE!"}},{"$f":"Tabla13[[#This Row],[Importe de adjudicación (IVA INCLUIDO)]]","v":{"$error":"#VALUE!"}}]
[{"$nulls":18},{"$f":"Tabla13[[#This Row],[Título del contrato]]&Tabla13[[#This Row],[Nº Expediente de la plataforma de contratación]]","v":{"$error":"#VALUE!"}},{"$f":"Tabla13[[#This Row],[Nº Expediente de la plataforma de contratación]]","v":{"$error":"#VALUE!"}},{"$f":"Tabla13[[#This Row],[Importe IVA ]]","v":{"$error":"#VALUE!"}},{"$f":"Tabla13[[#This Row],[Importe de adjudicación (IVA INCLUIDO)]]","v":{"$error":"#VALUE!"}}]
[{"$nulls":18},{"$f":"Tabla13[[#This Row],[Título del contrato]]&Tabla13[[#This Row],[Nº Expediente de la plataforma de contratación]]","v":{"$error":"#VALUE!"}},{"$f":"Tabla13[[#This Row],[Nº Expediente de la plataforma de contratación]]","v":{"$error":"#VALUE!"}},{"$f":"Tabla13[[#This Row],[Importe IVA ]]","v":{"$error":"#VALUE!"}},{"$f":"Tabla13[[#This Row],[Importe de adjudicación (IVA INCLUIDO)]]","v":{"$error":"#VALUE!"}}]
[{"$nulls":18},{"$f":"Tabla13[[#This Row],[Título del contrato]]&Tabla13[[#This Row],[Nº Expediente de la plataforma de contratación]]","v":{"$error":"#VALUE!"}},{"$f":"Tabla13[[#This Row],[Nº Expediente de la plataforma de contratación]]","v":{"$error":"#VALUE!"}},{"$f":"Tabla13[[#This Row],[Importe IVA ]]","v":{"$error":"#VALUE!"}},{"$f":"Tabla13[[#This Row],[Importe de adjudicación (IVA INCLUIDO)]]","v":{"$error":"#VALUE!"}}]
[{"$nulls":18},{"$f":"Tabla13[[#This Row],[Título del contrato]]&Tabla13[[#This Row],[Nº Expediente de la plataforma de contratación]]","v":{"$error":"#VALUE!"}},{"$f":"Tabla13[[#This Row],[Nº Expediente de la plataforma de contratación]]","v":{"$error":"#VALUE!"}},{"$f":"Tabla13[[#This Row],[Importe IVA ]]","v":{"$error":"#VALUE!"}},{"$f":"Tabla13[[#This Row],[Importe de adjudicación (IVA INCLUIDO)]]","v":{"$error":"#VALUE!"}}]
[{"$nulls":18},{"$f":"Tabla13[[#This Row],[Título del contrato]]&Tabla13[[#This Row],[Nº Expediente de la plataforma de contratación]]","v":{"$error":"#VALUE!"}},{"$f":"Tabla13[[#This Row],[Nº Expediente de la plataforma de contratación]]","v":{"$error":"#VALUE!"}},{"$f":"Tabla13[[#This Row],[Importe IVA ]]","v":{"$error":"#VALUE!"}},{"$f":"Tabla13[[#This Row],[Importe de adjudicación (IVA INCLUIDO)]]","v":{"$error":"#VALUE!"}}]
[{"$nulls":18},{"$f":"Tabla13[[#This Row],[Título del contrato]]&Tabla13[[#This Row],[Nº Expediente de la plataforma de contratación]]","v":{"$error":"#VALUE!"}},{"$f":"Tabla13[[#This Row],[Nº Expediente de la plataforma de contratación]]","v":{"$error":"#VALUE!"}},{"$f":"Tabla13[[#This Row],[Importe IVA ]]","v":{"$error":"#VALUE!"}},{"$f":"Tabla13[[#This Row],[Importe de adjudicación (IVA INCLUIDO)]]","v":{"$error":"#VALUE!"}}]
[{"$nulls":18},{"$f":"Tabla13[[#This Row],[Título del contrato]]&Tabla13[[#This Row],[Nº Expediente de la plataforma de contratación]]","v":{"$error":"#VALUE!"}},{"$f":"Tabla13[[#This Row],[Nº Expediente de la plataforma de contratación]]","v":{"$error":"#VALUE!"}},{"$f":"Tabla13[[#This Row],[Importe IVA ]]","v":{"$error":"#VALUE!"}},{"$f":"Tabla13[[#This Row],[Importe de adjudicación (IVA INCLUIDO)]]","v":{"$error":"#VALUE!"}}]
[{"$nulls":18},{"$f":"Tabla13[[#This Row],[Título del contrato]]&Tabla13[[#This Row],[Nº Expediente de la plataforma de contratación]]","v":{"$error":"#VALUE!"}},{"$f":"Tabla13[[#This Row],[Nº Expediente de la plataforma de contratación]]","v":{"$error":"#VALUE!"}},{"$f":"Tabla13[[#This Row],[Importe IVA ]]","v":{"$error":"#VALUE!"}},{"$f":"Tabla13[[#This Row],[Importe de adjudicación (IVA INCLUIDO)]]","v":{"$error":"#VALUE!"}}]
[{"$nulls":18},{"$f":"Tabla13[[#This Row],[Título del contrato]]&Tabla13[[#This Row],[Nº Expediente de la plataforma de contratación]]","v":{"$error":"#VALUE!"}},{"$f":"Tabla13[[#This Row],[Nº Expediente de la plataforma de contratación]]","v":{"$error":"#VALUE!"}},{"$f":"Tabla13[[#This Row],[Importe IVA ]]","v":{"$error":"#VALUE!"}},{"$f":"Tabla13[[#This Row],[Importe de adjudicación (IVA INCLUIDO)]]","v":{"$error":"#VALUE!"}}]
[{"$nulls":18},{"$f":"Tabla13[[#This Row],[Título del contrato]]&Tabla13[[#This Row],[Nº Expediente de la plataforma de contratación]]","v":{"$error":"#VALUE!"}},{"$f":"Tabla13[[#This Row],[Nº Expediente de la plataforma de contratación]]","v":{"$error":"#VALUE!"}},{"$f":"Tabla13[[#This Row],[Importe IVA ]]","v":{"$error":"#VALUE!"}},{"$f":"Tabla13[[#This Row],[Importe de adjudicación (IVA INCLUIDO)]]","v":{"$error":"#VALUE!"}}]
[{"$nulls":18},{"$f":"Tabla13[[#This Row],[Título del contrato]]&Tabla13[[#This Row],[Nº Expediente de la plataforma de contratación]]","v":{"$error":"#VALUE!"}},{"$f":"Tabla13[[#This Row],[Nº Expediente de la plataforma de contratación]]","v":{"$error":"#VALUE!"}},{"$f":"Tabla13[[#This Row],[Importe IVA ]]","v":{"$error":"#VALUE!"}},{"$f":"Tabla13[[#This Row],[Importe de adjudicación (IVA INCLUIDO)]]","v":{"$error":"#VALUE!"}}]
[{"$nulls":18},{"$f":"Tabla13[[#This Row],[Título del contrato]]&Tabla13[[#This Row],[Nº Expediente de la plataforma de contratación]]","v":{"$error":"#VALUE!"}},{"$f":"Tabla13[[#This Row],[Nº Expediente de la plataforma de contratación]]","v":{"$error":"#VALUE!"}},{"$f":"Tabla13[[#This Row],[Importe IVA ]]","v":{"$error":"#VALUE!"}},{"$f":"Tabla13[[#This Row],[Importe de adjudicación (IVA INCLUIDO)]]","v":{"$error":"#VALUE!"}}]
[{"$nulls":18},{"$f":"Tabla13[[#This Row],[Título del contrato]]&Tabla13[[#This Row],[Nº Expediente de la plataforma de contratación]]","v":{"$error":"#VALUE!"}},{"$f":"Tabla13[[#This Row],[Nº Expediente de la plataforma de contratación]]","v":{"$error":"#VALUE!"}},{"$f":"Tabla13[[#This Row],[Importe IVA ]]","v":{"$error":"#VALUE!"}},{"$f":"Tabla13[[#This Row],[Importe de adjudicación (IVA INCLUIDO)]]","v":{"$error":"#VALUE!"}}]
[{"$nulls":18},{"$f":"Tabla13[[#This Row],[Título del contrato]]&Tabla13[[#This Row],[Nº Expediente de la plataforma de contratación]]","v":{"$error":"#VALUE!"}},{"$f":"Tabla13[[#This Row],[Nº Expediente de la plataforma de contratación]]","v":{"$error":"#VALUE!"}},{"$f":"Tabla13[[#This Row],[Importe IVA ]]","v":{"$error":"#VALUE!"}},{"$f":"Tabla13[[#This Row],[Importe de adjudicación (IVA INCLUIDO)]]","v":{"$error":"#VALUE!"}}]
[{"$nulls":18},{"$f":"Tabla13[[#This Row],[Título del contrato]]&Tabla13[[#This Row],[Nº Expediente de la plataforma de contratación]]","v":{"$error":"#VALUE!"}},{"$f":"Tabla13[[#This Row],[Nº Expediente de la plataforma de contratación]]","v":{"$error":"#VALUE!"}},{"$f":"Tabla13[[#This Row],[Importe IVA ]]","v":{"$error":"#VALUE!"}},{"$f":"Tabla13[[#This Row],[Importe de adjudicación (IVA INCLUIDO)]]","v":{"$error":"#VALUE!"}}]
[{"$nulls":18},{"$f":"Tabla13[[#This Row],[Título del contrato]]&Tabla13[[#This Row],[Nº Expediente de la plataforma de contratación]]","v":{"$error":"#VALUE!"}},{"$f":"Tabla13[[#This Row],[Nº Expediente de la plataforma de contratación]]","v":{"$error":"#VALUE!"}},{"$f":"Tabla13[[#This Row],[Importe IVA ]]","v":{"$error":"#VALUE!"}},{"$f":"Tabla13[[#This Row],[Importe de adjudicación (IVA INCLUIDO)]]","v":{"$error":"#VALUE!"}}]
[{"$nulls":18},{"$f":"Tabla13[[#This Row],[Título del contrato]]&Tabla13[[#This Row],[Nº Expediente de la plataforma de contratación]]","v":{"$error":"#VALUE!"}},{"$f":"Tabla13[[#This Row],[Nº Expediente de la plataforma de contratación]]","v":{"$error":"#VALUE!"}},{"$f":"Tabla13[[#This Row],[Importe IVA ]]","v":{"$error":"#VALUE!"}},{"$f":"Tabla13[[#This Row],[Importe de adjudicación (IVA INCLUIDO)]]","v":{"$error":"#VALUE!"}}]
[{"$nulls":18},{"$f":"Tabla13[[#This Row],[Título del contrato]]&Tabla13[[#This Row],[Nº Expediente de la plataforma de contratación]]","v":{"$error":"#VALUE!"}},{"$f":"Tabla13[[#This Row],[Nº Expediente de la plataforma de contratación]]","v":{"$error":"#VALUE!"}},{"$f":"Tabla13[[#This Row],[Importe IVA ]]","v":{"$error":"#VALUE!"}},{"$f":"Tabla13[[#This Row],[Importe de adjudicación (IVA INCLUIDO)]]","v":{"$error":"#VALUE!"}}]
[{"$nulls":18},{"$f":"Tabla13[[#This Row],[Título del contrato]]&Tabla13[[#This Row],[Nº Expediente de la plataforma de contratación]]","v":{"$error":"#VALUE!"}},{"$f":"Tabla13[[#This Row],[Nº Expediente de la plataforma de contratación]]","v":{"$error":"#VALUE!"}},{"$f":"Tabla13[[#This Row],[Importe IVA ]]","v":{"$error":"#VALUE!"}},{"$f":"Tabla13[[#This Row],[Importe de adjudicación (IVA INCLUIDO)]]","v":{"$error":"#VALUE!"}}]
[{"$nulls":18},{"$f":"Tabla13[[#This Row],[Título del contrato]]&Tabla13[[#This Row],[Nº Expediente de la plataforma de contratación]]","v":{"$error":"#VALUE!"}},{"$f":"Tabla13[[#This Row],[Nº Expediente de la plataforma de contratación]]","v":{"$error":"#VALUE!"}},{"$f":"Tabla13[[#This Row],[Importe IVA ]]","v":{"$error":"#VALUE!"}},{"$f":"Tabla13[[#This Row],[Importe de adjudicación (IVA INCLUIDO)]]","v":{"$error":"#VALUE!"}}]
[{"$nulls":18},{"$f":"Tabla13[[#This Row],[Título del contrato]]&Tabla13[[#This Row],[Nº Expediente de la plataforma de contratación]]","v":{"$error":"#VALUE!"}},{"$f":"Tabla13[[#This Row],[Nº Expediente de la plataforma de contratación]]","v":{"$error":"#VALUE!"}},{"$f":"Tabla13[[#This Row],[Importe IVA ]]","v":{"$error":"#VALUE!"}},{"$f":"Tabla13[[#This Row],[Importe de adjudicación (IVA INCLUIDO)]]","v":{"$error":"#VALUE!"}}]
[{"$nulls":18},{"$f":"Tabla13[[#This Row],[Título del contrato]]&Tabla13[[#This Row],[Nº Expediente de la plataforma de contratación]]","v":{"$error":"#VALUE!"}},{"$f":"Tabla13[[#This Row],[Nº Expediente de la plataforma de contratación]]","v":{"$error":"#VALUE!"}},{"$f":"Tabla13[[#This Row],[Importe IVA ]]","v":{"$error":"#VALUE!"}},{"$f":"Tabla13[[#This Row],[Importe de adjudicación (IVA INCLUIDO)]]","v":{"$error":"#VALUE!"}}]
[{"$nulls":18},{"$f":"Tabla13[[#This Row],[Título del contrato]]&Tabla13[[#This Row],[Nº Expediente de la plataforma de contratación]]","v":{"$error":"#VALUE!"}},{"$f":"Tabla13[[#This Row],[Nº Expediente de la plataforma de contratación]]","v":{"$error":"#VALUE!"}},{"$f":"Tabla13[[#This Row],[Importe IVA ]]","v":{"$error":"#VALUE!"}},{"$f":"Tabla13[[#This Row],[Importe de adjudicación (IVA INCLUIDO)]]","v":{"$error":"#VALUE!"}}]
[{"$nulls":18},{"$f":"Tabla13[[#This Row],[Título del contrato]]&Tabla13[[#This Row],[Nº Expediente de la plataforma de contratación]]","v":{"$error":"#VALUE!"}},{"$f":"Tabla13[[#This Row],[Nº Expediente de la plataforma de contratación]]","v":{"$error":"#VALUE!"}},{"$f":"Tabla13[[#This Row],[Importe IVA ]]","v":{"$error":"#VALUE!"}},{"$f":"Tabla13[[#This Row],[Importe de adjudicación (IVA INCLUIDO)]]","v":{"$error":"#VALUE!"}}]
[{"$nulls":18},{"$f":"Tabla13[[#This Row],[Título del contrato]]&Tabla13[[#This Row],[Nº Expediente de la plataforma de contratación]]","v":{"$error":"#VALUE!"}},{"$f":"Tabla13[[#This Row],[Nº Expediente de la plataforma de contratación]]","v":{"$error":"#VALUE!"}},{"$f":"Tabla13[[#This Row],[Importe IVA ]]","v":{"$error":"#VALUE!"}},{"$f":"Tabla13[[#This Row],[Importe de adjudicación (IVA INCLUIDO)]]","v":{"$error":"#VALUE!"}}]
[{"$nulls":18},{"$f":"Tabla13[[#This Row],[Título del contrato]]&Tabla13[[#This Row],[Nº Expediente de la plataforma de contratación]]","v":{"$error":"#VALUE!"}},{"$f":"Tabla13[[#This Row],[Nº Expediente de la plataforma de contratación]]","v":{"$error":"#VALUE!"}},{"$f":"Tabla13[[#This Row],[Importe IVA ]]","v":{"$error":"#VALUE!"}},{"$f":"Tabla13[[#This Row],[Importe de adjudicación (IVA INCLUIDO)]]","v":{"$error":"#VALUE!"}}]
[{"$nulls":18},{"$f":"Tabla13[[#This Row],[Título del contrato]]&Tabla13[[#This Row],[Nº Expediente de la plataforma de contratación]]","v":{"$error":"#VALUE!"}},{"$f":"Tabla13[[#This Row],[Nº Expediente de la plataforma de contratación]]","v":{"$error":"#VALUE!"}},{"$f":"Tabla13[[#This Row],[Importe IVA ]]","v":{"$error":"#VALUE!"}},{"$f":"Tabla13[[#This Row],[Importe de adjudicación (IVA INCLUIDO)]]","v":{"$error":"#VALUE!"}}]
[{"$nulls":18},{"$f":"Tabla13[[#This Row],[Título del contrato]]&Tabla13[[#This Row],[Nº Expediente de la plataforma de contratación]]","v":{"$error":"#VALUE!"}},{"$f":"Tabla13[[#This Row],[Nº Expediente de la plataforma de contratación]]","v":{"$error":"#VALUE!"}},{"$f":"Tabla13[[#This Row],[Importe IVA ]]","v":{"$error":"#VALUE!"}},{"$f":"Tabla13[[#This Row],[Importe de adjudicación (IVA INCLUIDO)]]","v":{"$error":"#VALUE!"}}]
[{"$nulls":18},{"$f":"Tabla13[[#This Row],[Título del contrato]]&Tabla13[[#This Row],[Nº Expediente de la plataforma de contratación]]","v":{"$error":"#VALUE!"}},{"$f":"Tabla13[[#This Row],[Nº Expediente de la plataforma de contratación]]","v":{"$error":"#VALUE!"}},{"$f":"Tabla13[[#This Row],[Importe IVA ]]","v":{"$error":"#VALUE!"}},{"$f":"Tabla13[[#This Row],[Importe de adjudicación (IVA INCLUIDO)]]","v":{"$error":"#VALUE!"}}]
[{"$nulls":18},{"$f":"Tabla13[[#This Row],[Título del contrato]]&Tabla13[[#This Row],[Nº Expediente de la plataforma de contratación]]","v":{"$error":"#VALUE!"}},{"$f":"Tabla13[[#This Row],[Nº Expediente de la plataforma de contratación]]","v":{"$error":"#VALUE!"}},{"$f":"Tabla13[[#This Row],[Importe IVA ]]","v":{"$error":"#VALUE!"}},{"$f":"Tabla13[[#This Row],[Importe de adjudicación (IVA INCLUIDO)]]","v":{"$error":"#VALUE!"}}]
[{"$nulls":18},{"$f":"Tabla13[[#This Row],[Título del contrato]]&Tabla13[[#This Row],[Nº Expediente de la plataforma de contratación]]","v":{"$error":"#VALUE!"}},{"$f":"Tabla13[[#This Row],[Nº Expediente de la plataforma de contratación]]","v":{"$error":"#VALUE!"}},{"$f":"Tabla13[[#This Row],[Importe IVA ]]","v":{"$error":"#VALUE!"}},{"$f":"Tabla13[[#This Row],[Importe de adjudicación (IVA INCLUIDO)]]","v":{"$error":"#VALUE!"}}]
[{"$nulls":18},{"$f":"Tabla13[[#This Row],[Título del contrato]]&Tabla13[[#This Row],[Nº Expediente de la plataforma de contratación]]","v":{"$error":"#VALUE!"}},{"$f":"Tabla13[[#This Row],[Nº Expediente de la plataforma de contratación]]","v":{"$error":"#VALUE!"}},{"$f":"Tabla13[[#This Row],[Importe IVA ]]","v":{"$error":"#VALUE!"}},{"$f":"Tabla13[[#This Row],[Importe de adjudicación (IVA INCLUIDO)]]","v":{"$error":"#VALUE!"}}]
[{"$nulls":18},{"$f":"Tabla13[[#This Row],[Título del contrato]]&Tabla13[[#This Row],[Nº Expediente de la plataforma de contratación]]","v":{"$error":"#VALUE!"}},{"$f":"Tabla13[[#This Row],[Nº Expediente de la plataforma de contratación]]","v":{"$error":"#VALUE!"}},{"$f":"Tabla13[[#This Row],[Importe IVA ]]","v":{"$error":"#VALUE!"}},{"$f":"Tabla13[[#This Row],[Importe de adjudicación (IVA INCLUIDO)]]","v":{"$error":"#VALUE!"}}]
[{"$nulls":18},{"$f":"Tabla13[[#This Row],[Título del contrato]]&Tabla13[[#This Row],[Nº Expediente de la plataforma de contratación]]","v":{"$error":"#VALUE!"}},{"$f":"Tabla13[[#This Row],[Nº Expediente de la plataforma de contratación]]","v":{"$error":"#VALUE!"}},{"$f":"Tabla13[[#This Row],[Importe IVA ]]","v":{"$error":"#VALUE!"}},{"$f":"Tabla13[[#This Row],[Importe de adjudicación (IVA INCLUIDO)]]","v":{"$error":"#VALUE!"}}]
[{"$nulls":18},{"$f":"Tabla13[[#This Row],[Título del contrato]]&Tabla13[[#This Row],[Nº Expediente de la plataforma de contratación]]","v":{"$error":"#VALUE!"}},{"$f":"Tabla13[[#This Row],[Nº Expediente de la plataforma de contratación]]","v":{"$error":"#VALUE!"}},{"$f":"Tabla13[[#This Row],[Importe IVA ]]","v":{"$error":"#VALUE!"}},{"$f":"Tabla13[[#This Row],[Importe de adjudicación (IVA INCLUIDO)]]","v":{"$error":"#VALUE!"}}]
[{"$nulls":18},{"$f":"Tabla13[[#This Row],[Título del contrato]]&Tabla13[[#This Row],[Nº Expediente de la plataforma de contratación]]","v":{"$error":"#VALUE!"}},{"$f":"Tabla13[[#This Row],[Nº Expediente de la plataforma de contratación]]","v":{"$error":"#VALUE!"}},{"$f":"Tabla13[[#This Row],[Importe IVA ]]","v":{"$error":"#VALUE!"}},{"$f":"Tabla13[[#This Row],[Importe de adjudicación (IVA INCLUIDO)]]","v":{"$error":"#VALUE!"}}]
[{"$nulls":18},{"$f":"Tabla13[[#This Row],[Título del contrato]]&Tabla13[[#This Row],[Nº Expediente de la plataforma de contratación]]","v":{"$error":"#VALUE!"}},{"$f":"Tabla13[[#This Row],[Nº Expediente de la plataforma de contratación]]","v":{"$error":"#VALUE!"}},{"$f":"Tabla13[[#This Row],[Importe IVA ]]","v":{"$error":"#VALUE!"}},{"$f":"Tabla13[[#This Row],[Importe de adjudicación (IVA INCLUIDO)]]","v":{"$error":"#VALUE!"}}]
[{"$nulls":18},{"$f":"Tabla13[[#This Row],[Título del contrato]]&Tabla13[[#This Row],[Nº Expediente de la plataforma de contratación]]","v":{"$error":"#VALUE!"}},{"$f":"Tabla13[[#This Row],[Nº Expediente de la plataforma de contratación]]","v":{"$error":"#VALUE!"}},{"$f":"Tabla13[[#This Row],[Importe IVA ]]","v":{"$error":"#VALUE!"}},{"$f":"Tabla13[[#This Row],[Importe de adjudicación (IVA INCLUIDO)]]","v":{"$error":"#VALUE!"}}]
[{"$nulls":18},{"$f":"Tabla13[[#This Row],[Título del contrato]]&Tabla13[[#This Row],[Nº Expediente de la plataforma de contratación]]","v":{"$error":"#VALUE!"}},{"$f":"Tabla13[[#This Row],[Nº Expediente de la plataforma de contratación]]","v":{"$error":"#VALUE!"}},{"$f":"Tabla13[[#This Row],[Importe IVA ]]","v":{"$error":"#VALUE!"}},{"$f":"Tabla13[[#This Row],[Importe de adjudicación (IVA INCLUIDO)]]","v":{"$error":"#VALUE!"}}]
[{"$nulls":18},{"$f":"Tabla13[[#This Row],[Título del contrato]]&Tabla13[[#This Row],[Nº Expediente de la plataforma de contratación]]","v":{"$error":"#VALUE!"}},{"$f":"Tabla13[[#This Row],[Nº Expediente de la plataforma de contratación]]","v":{"$error":"#VALUE!"}},{"$f":"Tabla13[[#This Row],[Importe IVA ]]","v":{"$error":"#VALUE!"}},{"$f":"Tabla13[[#This Row],[Importe de adjudicación (IVA INCLUIDO)]]","v":{"$error":"#VALUE!"}}]
[{"$nulls":18},{"$f":"Tabla13[[#This Row],[Título del contrato]]&Tabla13[[#This Row],[Nº Expediente de la plataforma de contratación]]","v":{"$error":"#VALUE!"}},{"$f":"Tabla13[[#This Row],[Nº Expediente de la plataforma de contratación]]","v":{"$error":"#VALUE!"}},{"$f":"Tabla13[[#This Row],[Importe IVA ]]","v":{"$error":"#VALUE!"}},{"$f":"Tabla13[[#This Row],[Importe de adjudicación (IVA INCLUIDO)]]","v":{"$error":"#VALUE!"}}]
[{"$nulls":18},{"$f":"Tabla13[[#This Row],[Título del contrato]]&Tabla13[[#This Row],[Nº Expediente de la plataforma de contratación]]","v":{"$error":"#VALUE!"}},{"$f":"Tabla13[[#This Row],[Nº Expediente de la plataforma de contratación]]","v":{"$error":"#VALUE!"}},{"$f":"Tabla13[[#This Row],[Importe IVA ]]","v":{"$error":"#VALUE!"}},{"$f":"Tabla13[[#This Row],[Importe de adjudicación (IVA INCLUIDO)]]","v":{"$error":"#VALUE!"}}]
[{"$nulls":18},{"$f":"Tabla13[[#This Row],[Título del contrato]]&Tabla13[[#This Row],[Nº Expediente de la plataforma de contratación]]","v":{"$error":"#VALUE!"}},{"$f":"Tabla13[[#This Row],[Nº Expediente de la plataforma de contratación]]","v":{"$error":"#VALUE!"}},{"$f":"Tabla13[[#This Row],[Importe IVA ]]","v":{"$error":"#VALUE!"}},{"$f":"Tabla13[[#This Row],[Importe de adjudicación (IVA INCLUIDO)]]","v":{"$error":"#VALUE!"}}]
[{"$nulls":18},{"$f":"Tabla13[[#This Row],[Título del contrato]]&Tabla13[[#This Row],[Nº Expediente de la plataforma de contratación]]","v":{"$error":"#VALUE!"}},{"$f":"Tabla13[[#This Row],[Nº Expediente de la plataforma de contratación]]","v":{"$error":"#VALUE!"}},{"$f":"Tabla13[[#This Row],[Importe IVA ]]","v":{"$error":"#VALUE!"}},{"$f":"Tabla13[[#This Row],[Importe de adjudicación (IVA INCLUIDO)]]","v":{"$error":"#VALUE!"}}]
[{"$nulls":18},{"$f":"Tabla13[[#This Row],[Título del contrato]]&Tabla13[[#This Row],[Nº Expediente de la plataforma de contratación]]","v":{"$error":"#VALUE!"}},{"$f":"Tabla13[[#This Row],[Nº Expediente de la plataforma de contratación]]","v":{"$error":"#VALUE!"}},{"$f":"Tabla13[[#This Row],[Importe IVA ]]","v":{"$error":"#VALUE!"}},{"$f":"Tabla13[[#This Row],[Importe de adjudicación (IVA INCLUIDO)]]","v":{"$error":"#VALUE!"}}]
[{"$nulls":18},{"$f":"Tabla13[[#This Row],[Título del contrato]]&Tabla13[[#This Row],[Nº Expediente de la plataforma de contratación]]","v":{"$error":"#VALUE!"}},{"$f":"Tabla13[[#This Row],[Nº Expediente de la plataforma de contratación]]","v":{"$error":"#VALUE!"}},{"$f":"Tabla13[[#This Row],[Importe IVA ]]","v":{"$error":"#VALUE!"}},{"$f":"Tabla13[[#This Row],[Importe de adjudicación (IVA INCLUIDO)]]","v":{"$error":"#VALUE!"}}]
[{"$nulls":18},{"$f":"Tabla13[[#This Row],[Título del contrato]]&Tabla13[[#This Row],[Nº Expediente de la plataforma de contratación]]","v":{"$error":"#VALUE!"}},{"$f":"Tabla13[[#This Row],[Nº Expediente de la plataforma de contratación]]","v":{"$error":"#VALUE!"}},{"$f":"Tabla13[[#This Row],[Importe IVA ]]","v":{"$error":"#VALUE!"}},{"$f":"Tabla13[[#This Row],[Importe de adjudicación (IVA INCLUIDO)]]","v":{"$error":"#VALUE!"}}]
[{"$nulls":18},{"$f":"Tabla13[[#This Row],[Título del contrato]]&Tabla13[[#This Row],[Nº Expediente de la plataforma de contratación]]","v":{"$error":"#VALUE!"}},{"$f":"Tabla13[[#This Row],[Nº Expediente de la plataforma de contratación]]","v":{"$error":"#VALUE!"}},{"$f":"Tabla13[[#This Row],[Importe IVA ]]","v":{"$error":"#VALUE!"}},{"$f":"Tabla13[[#This Row],[Importe de adjudicación (IVA INCLUIDO)]]","v":{"$error":"#VALUE!"}}]
[{"$nulls":18},{"$f":"Tabla13[[#This Row],[Título del contrato]]&Tabla13[[#This Row],[Nº Expediente de la plataforma de contratación]]","v":{"$error":"#VALUE!"}},{"$f":"Tabla13[[#This Row],[Nº Expediente de la plataforma de contratación]]","v":{"$error":"#VALUE!"}},{"$f":"Tabla13[[#This Row],[Importe IVA ]]","v":{"$error":"#VALUE!"}},{"$f":"Tabla13[[#This Row],[Importe de adjudicación (IVA INCLUIDO)]]","v":{"$error":"#VALUE!"}}]
[{"$nulls":18},{"$f":"Tabla13[[#This Row],[Título del contrato]]&Tabla13[[#This Row],[Nº Expediente de la plataforma de contratación]]","v":{"$error":"#VALUE!"}},{"$f":"Tabla13[[#This Row],[Nº Expediente de la plataforma de contratación]]","v":{"$error":"#VALUE!"}},{"$f":"Tabla13[[#This Row],[Importe IVA ]]","v":{"$error":"#VALUE!"}},{"$f":"Tabla13[[#This Row],[Importe de adjudicación (IVA INCLUIDO)]]","v":{"$error":"#VALUE!"}}]
[{"$nulls":18},{"$f":"Tabla13[[#This Row],[Título del contrato]]&Tabla13[[#This Row],[Nº Expediente de la plataforma de contratación]]","v":{"$error":"#VALUE!"}},{"$f":"Tabla13[[#This Row],[Nº Expediente de la plataforma de contratación]]","v":{"$error":"#VALUE!"}},{"$f":"Tabla13[[#This Row],[Importe IVA ]]","v":{"$error":"#VALUE!"}},{"$f":"Tabla13[[#This Row],[Importe de adjudicación (IVA INCLUIDO)]]","v":{"$error":"#VALUE!"}}]
[{"$nulls":18},{"$f":"Tabla13[[#This Row],[Título del contrato]]&Tabla13[[#This Row],[Nº Expediente de la plataforma de contratación]]","v":{"$error":"#VALUE!"}},{"$f":"Tabla13[[#This Row],[Nº Expediente de la plataforma de contratación]]","v":{"$error":"#VALUE!"}},{"$f":"Tabla13[[#This Row],[Importe IVA ]]","v":{"$error":"#VALUE!"}},{"$f":"Tabla13[[#This Row],[Importe de adjudicación (IVA INCLUIDO)]]","v":{"$error":"#VALUE!"}}]
[{"$nulls":18},{"$f":"Tabla13[[#This Row],[Título del contrato]]&Tabla13[[#This Row],[Nº Expediente de la plataforma de contratación]]","v":{"$error":"#VALUE!"}},{"$f":"Tabla13[[#This Row],[Nº Expediente de la plataforma de contratación]]","v":{"$error":"#VALUE!"}},{"$f":"Tabla13[[#This Row],[Importe IVA ]]","v":{"$error":"#VALUE!"}},{"$f":"Tabla13[[#This Row],[Importe de adjudicación (IVA INCLUIDO)]]","v":{"$error":"#VALUE!"}}]
[{"$nulls":18},{"$f":"Tabla13[[#This Row],[Título del contrato]]&Tabla13[[#This Row],[Nº Expediente de la plataforma de contratación]]","v":{"$error":"#VALUE!"}},{"$f":"Tabla13[[#This Row],[Nº Expediente de la plataforma de contratación]]","v":{"$error":"#VALUE!"}},{"$f":"Tabla13[[#This Row],[Importe IVA ]]","v":{"$error":"#VALUE!"}},{"$f":"Tabla13[[#This Row],[Importe de adjudicación (IVA INCLUIDO)]]","v":{"$error":"#VALUE!"}}]
[{"$nulls":18},{"$f":"Tabla13[[#This Row],[Título del contrato]]&Tabla13[[#This Row],[Nº Expediente de la plataforma de contratación]]","v":{"$error":"#VALUE!"}},{"$f":"Tabla13[[#This Row],[Nº Expediente de la plataforma de contratación]]","v":{"$error":"#VALUE!"}},{"$f":"Tabla13[[#This Row],[Importe IVA ]]","v":{"$error":"#VALUE!"}},{"$f":"Tabla13[[#This Row],[Importe de adjudicación (IVA INCLUIDO)]]","v":{"$error":"#VALUE!"}}]
[{"$nulls":18},{"$f":"Tabla13[[#This Row],[Título del contrato]]&Tabla13[[#This Row],[Nº Expediente de la plataforma de contratación]]","v":{"$error":"#VALUE!"}},{"$f":"Tabla13[[#This Row],[Nº Expediente de la plataforma de contratación]]","v":{"$error":"#VALUE!"}},{"$f":"Tabla13[[#This Row],[Importe IVA ]]","v":{"$error":"#VALUE!"}},{"$f":"Tabla13[[#This Row],[Importe de adjudicación (IVA INCLUIDO)]]","v":{"$error":"#VALUE!"}}]
[{"$nulls":18},{"$f":"Tabla13[[#This Row],[Título del contrato]]&Tabla13[[#This Row],[Nº Expediente de la plataforma de contratación]]","v":{"$error":"#VALUE!"}},{"$f":"Tabla13[[#This Row],[Nº Expediente de la plataforma de contratación]]","v":{"$error":"#VALUE!"}},{"$f":"Tabla13[[#This Row],[Importe IVA ]]","v":{"$error":"#VALUE!"}},{"$f":"Tabla13[[#This Row],[Importe de adjudicación (IVA INCLUIDO)]]","v":{"$error":"#VALUE!"}}]
[{"$nulls":18},{"$f":"Tabla13[[#This Row],[Título del contrato]]&Tabla13[[#This Row],[Nº Expediente de la plataforma de contratación]]","v":{"$error":"#VALUE!"}},{"$f":"Tabla13[[#This Row],[Nº Expediente de la plataforma de contratación]]","v":{"$error":"#VALUE!"}},{"$f":"Tabla13[[#This Row],[Importe IVA ]]","v":{"$error":"#VALUE!"}},{"$f":"Tabla13[[#This Row],[Importe de adjudicación (IVA INCLUIDO)]]","v":{"$error":"#VALUE!"}}]
[{"$nulls":18},{"$f":"Tabla13[[#This Row],[Título del contrato]]&Tabla13[[#This Row],[Nº Expediente de la plataforma de contratación]]","v":{"$error":"#VALUE!"}},{"$f":"Tabla13[[#This Row],[Nº Expediente de la plataforma de contratación]]","v":{"$error":"#VALUE!"}},{"$f":"Tabla13[[#This Row],[Importe IVA ]]","v":{"$error":"#VALUE!"}},{"$f":"Tabla13[[#This Row],[Importe de adjudicación (IVA INCLUIDO)]]","v":{"$error":"#VALUE!"}}]
[{"$nulls":18},{"$f":"Tabla13[[#This Row],[Título del contrato]]&Tabla13[[#This Row],[Nº Expediente de la plataforma de contratación]]","v":{"$error":"#VALUE!"}},{"$f":"Tabla13[[#This Row],[Nº Expediente de la plataforma de contratación]]","v":{"$error":"#VALUE!"}},{"$f":"Tabla13[[#This Row],[Importe IVA ]]","v":{"$error":"#VALUE!"}},{"$f":"Tabla13[[#This Row],[Importe de adjudicación (IVA INCLUIDO)]]","v":{"$error":"#VALUE!"}}]
[{"$nulls":18},{"$f":"Tabla13[[#This Row],[Título del contrato]]&Tabla13[[#This Row],[Nº Expediente de la plataforma de contratación]]","v":{"$error":"#VALUE!"}},{"$f":"Tabla13[[#This Row],[Nº Expediente de la plataforma de contratación]]","v":{"$error":"#VALUE!"}},{"$f":"Tabla13[[#This Row],[Importe IVA ]]","v":{"$error":"#VALUE!"}},{"$f":"Tabla13[[#This Row],[Importe de adjudicación (IVA INCLUIDO)]]","v":{"$error":"#VALUE!"}}]
[{"$nulls":18},{"$f":"Tabla13[[#This Row],[Título del contrato]]&Tabla13[[#This Row],[Nº Expediente de la plataforma de contratación]]","v":{"$error":"#VALUE!"}},{"$f":"Tabla13[[#This Row],[Nº Expediente de la plataforma de contratación]]","v":{"$error":"#VALUE!"}},{"$f":"Tabla13[[#This Row],[Importe IVA ]]","v":{"$error":"#VALUE!"}},{"$f":"Tabla13[[#This Row],[Importe de adjudicación (IVA INCLUIDO)]]","v":{"$error":"#VALUE!"}}]
[{"$nulls":18},{"$f":"Tabla13[[#This Row],[Título del contrato]]&Tabla13[[#This Row],[Nº Expediente de la plataforma de contratación]]","v":{"$error":"#VALUE!"}},{"$f":"Tabla13[[#This Row],[Nº Expediente de la plataforma de contratación]]","v":{"$error":"#VALUE!"}},{"$f":"Tabla13[[#This Row],[Importe IVA ]]","v":{"$error":"#VALUE!"}},{"$f":"Tabla13[[#This Row],[Importe de adjudicación (IVA INCLUIDO)]]","v":{"$error":"#VALUE!"}}]
[{"$nulls":18},{"$f":"Tabla13[[#This Row],[Título del contrato]]&Tabla13[[#This Row],[Nº Expediente de la plataforma de contratación]]","v":{"$error":"#VALUE!"}},{"$f":"Tabla13[[#This Row],[Nº Expediente de la plataforma de contratación]]","v":{"$error":"#VALUE!"}},{"$f":"Tabla13[[#This Row],[Importe IVA ]]","v":{"$error":"#VALUE!"}},{"$f":"Tabla13[[#This Row],[Importe de adjudicación (IVA INCLUIDO)]]","v":{"$error":"#VALUE!"}}]
[{"$nulls":18},{"$f":"Tabla13[[#This Row],[Título del contrato]]&Tabla13[[#This Row],[Nº Expediente de la plataforma de contratación]]","v":{"$error":"#VALUE!"}},{"$f":"Tabla13[[#This Row],[Nº Expediente de la plataforma de contratación]]","v":{"$error":"#VALUE!"}},{"$f":"Tabla13[[#This Row],[Importe IVA ]]","v":{"$error":"#VALUE!"}},{"$f":"Tabla13[[#This Row],[Importe de adjudicación (IVA INCLUIDO)]]","v":{"$error":"#VALUE!"}}]
[{"$nulls":18},{"$f":"Tabla13[[#This Row],[Título del contrato]]&Tabla13[[#This Row],[Nº Expediente de la plataforma de contratación]]","v":{"$error":"#VALUE!"}},{"$f":"Tabla13[[#This Row],[Nº Expediente de la plataforma de contratación]]","v":{"$error":"#VALUE!"}},{"$f":"Tabla13[[#This Row],[Importe IVA ]]","v":{"$error":"#VALUE!"}},{"$f":"Tabla13[[#This Row],[Importe de adjudicación (IVA INCLUIDO)]]","v":{"$error":"#VALUE!"}}]
[{"$nulls":18},{"$f":"Tabla13[[#This Row],[Título del contrato]]&Tabla13[[#This Row],[Nº Expediente de la plataforma de contratación]]","v":{"$error":"#VALUE!"}},{"$f":"Tabla13[[#This Row],[Nº Expediente de la plataforma de contratación]]","v":{"$error":"#VALUE!"}},{"$f":"Tabla13[[#This Row],[Importe IVA ]]","v":{"$error":"#VALUE!"}},{"$f":"Tabla13[[#This Row],[Importe de adjudicación (IVA INCLUIDO)]]","v":{"$error":"#VALUE!"}}]
[{"$nulls":18},{"$f":"Tabla13[[#This Row],[Título del contrato]]&Tabla13[[#This Row],[Nº Expediente de la plataforma de contratación]]","v":{"$error":"#VALUE!"}},{"$f":"Tabla13[[#This Row],[Nº Expediente de la plataforma de contratación]]","v":{"$error":"#VALUE!"}},{"$f":"Tabla13[[#This Row],[Importe IVA ]]","v":{"$error":"#VALUE!"}},{"$f":"Tabla13[[#This Row],[Importe de adjudicación (IVA INCLUIDO)]]","v":{"$error":"#VALUE!"}}]
[{"$nulls":18},{"$f":"Tabla13[[#This Row],[Título del contrato]]&Tabla13[[#This Row],[Nº Expediente de la plataforma de contratación]]","v":{"$error":"#VALUE!"}},{"$f":"Tabla13[[#This Row],[Nº Expediente de la plataforma de contratación]]","v":{"$error":"#VALUE!"}},{"$f":"Tabla13[[#This Row],[Importe IVA ]]","v":{"$error":"#VALUE!"}},{"$f":"Tabla13[[#This Row],[Importe de adjudicación (IVA INCLUIDO)]]","v":{"$error":"#VALUE!"}}]
[{"$nulls":18},{"$f":"Tabla13[[#This Row],[Título del contrato]]&Tabla13[[#This Row],[Nº Expediente de la plataforma de contratación]]","v":{"$error":"#VALUE!"}},{"$f":"Tabla13[[#This Row],[Nº Expediente de la plataforma de contratación]]","v":{"$error":"#VALUE!"}},{"$f":"Tabla13[[#This Row],[Importe IVA ]]","v":{"$error":"#VALUE!"}},{"$f":"Tabla13[[#This Row],[Importe de adjudicación (IVA INCLUIDO)]]","v":{"$error":"#VALUE!"}}]
[{"$nulls":18},{"$f":"Tabla13[[#This Row],[Título del contrato]]&Tabla13[[#This Row],[Nº Expediente de la plataforma de contratación]]","v":{"$error":"#VALUE!"}},{"$f":"Tabla13[[#This Row],[Nº Expediente de la plataforma de contratación]]","v":{"$error":"#VALUE!"}},{"$f":"Tabla13[[#This Row],[Importe IVA ]]","v":{"$error":"#VALUE!"}},{"$f":"Tabla13[[#This Row],[Importe de adjudicación (IVA INCLUIDO)]]","v":{"$error":"#VALUE!"}}]
[{"$nulls":18},{"$f":"Tabla13[[#This Row],[Título del contrato]]&Tabla13[[#This Row],[Nº Expediente de la plataforma de contratación]]","v":{"$error":"#VALUE!"}},{"$f":"Tabla13[[#This Row],[Nº Expediente de la plataforma de contratación]]","v":{"$error":"#VALUE!"}},{"$f":"Tabla13[[#This Row],[Importe IVA ]]","v":{"$error":"#VALUE!"}},{"$f":"Tabla13[[#This Row],[Importe de adjudicación (IVA INCLUIDO)]]","v":{"$error":"#VALUE!"}}]
[{"$nulls":18},{"$f":"Tabla13[[#This Row],[Título del contrato]]&Tabla13[[#This Row],[Nº Expediente de la plataforma de contratación]]","v":{"$error":"#VALUE!"}},{"$f":"Tabla13[[#This Row],[Nº Expediente de la plataforma de contratación]]","v":{"$error":"#VALUE!"}},{"$f":"Tabla13[[#This Row],[Importe IVA ]]","v":{"$error":"#VALUE!"}},{"$f":"Tabla13[[#This Row],[Importe de adjudicación (IVA INCLUIDO)]]","v":{"$error":"#VALUE!"}}]
[{"$nulls":18},{"$f":"Tabla13[[#This Row],[Título del contrato]]&Tabla13[[#This Row],[Nº Expediente de la plataforma de contratación]]","v":{"$error":"#VALUE!"}},{"$f":"Tabla13[[#This Row],[Nº Expediente de la plataforma de contratación]]","v":{"$error":"#VALUE!"}},{"$f":"Tabla13[[#This Row],[Importe IVA ]]","v":{"$error":"#VALUE!"}},{"$f":"Tabla13[[#This Row],[Importe de adjudicación (IVA INCLUIDO)]]","v":{"$error":"#VALUE!"}}]
[{"$nulls":18},{"$f":"Tabla13[[#This Row],[Título del contrato]]&Tabla13[[#This Row],[Nº Expediente de la plataforma de contratación]]","v":{"$error":"#VALUE!"}},{"$f":"Tabla13[[#This Row],[Nº Expediente de la plataforma de contratación]]","v":{"$error":"#VALUE!"}},{"$f":"Tabla13[[#This Row],[Importe IVA ]]","v":{"$error":"#VALUE!"}},{"$f":"Tabla13[[#This Row],[Importe de adjudicación (IVA INCLUIDO)]]","v":{"$error":"#VALUE!"}}]
[{"$nulls":18},{"$f":"Tabla13[[#This Row],[Título del contrato]]&Tabla13[[#This Row],[Nº Expediente de la plataforma de contratación]]","v":{"$error":"#VALUE!"}},{"$f":"Tabla13[[#This Row],[Nº Expediente de la plataforma de contratación]]","v":{"$error":"#VALUE!"}},{"$f":"Tabla13[[#This Row],[Importe IVA ]]","v":{"$error":"#VALUE!"}},{"$f":"Tabla13[[#This Row],[Importe de adjudicación (IVA INCLUIDO)]]","v":{"$error":"#VALUE!"}}]
[{"$nulls":18},{"$f":"Tabla13[[#This Row],[Título del contrato]]&Tabla13[[#This Row],[Nº Expediente de la plataforma de contratación]]","v":{"$error":"#VALUE!"}},{"$f":"Tabla13[[#This Row],[Nº Expediente de la plataforma de contratación]]","v":{"$error":"#VALUE!"}},{"$f":"Tabla13[[#This Row],[Importe IVA ]]","v":{"$error":"#VALUE!"}},{"$f":"Tabla13[[#This Row],[Importe de adjudicación (IVA INCLUIDO)]]","v":{"$error":"#VALUE!"}}]
[{"$nulls":18},{"$f":"Tabla13[[#This Row],[Título del contrato]]&Tabla13[[#This Row],[Nº Expediente de la plataforma de contratación]]","v":{"$error":"#VALUE!"}},{"$f":"Tabla13[[#This Row],[Nº Expediente de la plataforma de contratación]]","v":{"$error":"#VALUE!"}},{"$f":"Tabla13[[#This Row],[Importe IVA ]]","v":{"$error":"#VALUE!"}},{"$f":"Tabla13[[#This Row],[Importe de adjudicación (IVA INCLUIDO)]]","v":{"$error":"#VALUE!"}}]
[{"$nulls":18},{"$f":"Tabla13[[#This Row],[Título del contrato]]&Tabla13[[#This Row],[Nº Expediente de la plataforma de contratación]]","v":{"$error":"#VALUE!"}},{"$f":"Tabla13[[#This Row],[Nº Expediente de la plataforma de contratación]]","v":{"$error":"#VALUE!"}},{"$f":"Tabla13[[#This Row],[Importe IVA ]]","v":{"$error":"#VALUE!"}},{"$f":"Tabla13[[#This Row],[Importe de adjudicación (IVA INCLUIDO)]]","v":{"$error":"#VALUE!"}}]
[{"$nulls":18},{"$f":"Tabla13[[#This Row],[Título del contrato]]&Tabla13[[#This Row],[Nº Expediente de la plataforma de contratación]]","v":{"$error":"#VALUE!"}},{"$f":"Tabla13[[#This Row],[Nº Expediente de la plataforma de contratación]]","v":{"$error":"#VALUE!"}},{"$f":"Tabla13[[#This Row],[Importe IVA ]]","v":{"$error":"#VALUE!"}},{"$f":"Tabla13[[#This Row],[Importe de adjudicación (IVA INCLUIDO)]]","v":{"$error":"#VALUE!"}}]
[{"$nulls":18},{"$f":"Tabla13[[#This Row],[Título del contrato]]&Tabla13[[#This Row],[Nº Expediente de la plataforma de contratación]]","v":{"$error":"#VALUE!"}},{"$f":"Tabla13[[#This Row],[Nº Expediente de la plataforma de contratación]]","v":{"$error":"#VALUE!"}},{"$f":"Tabla13[[#This Row],[Importe IVA ]]","v":{"$error":"#VALUE!"}},{"$f":"Tabla13[[#This Row],[Importe de adjudicación (IVA INCLUIDO)]]","v":{"$error":"#VALUE!"}}]
[{"$nulls":18},{"$f":"Tabla13[[#This Row],[Título del contrato]]&Tabla13[[#This Row],[Nº Expediente de la plataforma de contratación]]","v":{"$error":"#VALUE!"}},{"$f":"Tabla13[[#This Row],[Nº Expediente de la plataforma de contratación]]","v":{"$error":"#VALUE!"}},{"$f":"Tabla13[[#This Row],[Importe IVA ]]","v":{"$error":"#VALUE!"}},{"$f":"Tabla13[[#This Row],[Importe de adjudicación (IVA INCLUIDO)]]","v":{"$error":"#VALUE!"}}]
[{"$nulls":18},{"$f":"Tabla13[[#This Row],[Título del contrato]]&Tabla13[[#This Row],[Nº Expediente de la plataforma de contratación]]","v":{"$error":"#VALUE!"}},{"$f":"Tabla13[[#This Row],[Nº Expediente de la plataforma de contratación]]","v":{"$error":"#VALUE!"}},{"$f":"Tabla13[[#This Row],[Importe IVA ]]","v":{"$error":"#VALUE!"}},{"$f":"Tabla13[[#This Row],[Importe de adjudicación (IVA INCLUIDO)]]","v":{"$error":"#VALUE!"}}]
[{"$nulls":18},{"$f":"Tabla13[[#This Row],[Título del contrato]]&Tabla13[[#This Row],[Nº Expediente de la plataforma de contratación]]","v":{"$error":"#VALUE!"}},{"$f":"Tabla13[[#This Row],[Nº Expediente de la plataforma de contratación]]","v":{"$error":"#VALUE!"}},{"$f":"Tabla13[[#This Row],[Importe IVA ]]","v":{"$error":"#VALUE!"}},{"$f":"Tabla13[[#This Row],[Importe de adjudicación (IVA INCLUIDO)]]","v":{"$error":"#VALUE!"}}]
[{"$nulls":18},{"$f":"Tabla13[[#This Row],[Título del contrato]]&Tabla13[[#This Row],[Nº Expediente de la plataforma de contratación]]","v":{"$error":"#VALUE!"}},{"$f":"Tabla13[[#This Row],[Nº Expediente de la plataforma de contratación]]","v":{"$error":"#VALUE!"}},{"$f":"Tabla13[[#This Row],[Importe IVA ]]","v":{"$error":"#VALUE!"}},{"$f":"Tabla13[[#This Row],[Importe de adjudicación (IVA INCLUIDO)]]","v":{"$error":"#VALUE!"}}]
[{"$nulls":18},{"$f":"Tabla13[[#This Row],[Título del contrato]]&Tabla13[[#This Row],[Nº Expediente de la plataforma de contratación]]","v":{"$error":"#VALUE!"}},{"$f":"Tabla13[[#This Row],[Nº Expediente de la plataforma de contratación]]","v":{"$error":"#VALUE!"}},{"$f":"Tabla13[[#This Row],[Importe IVA ]]","v":{"$error":"#VALUE!"}},{"$f":"Tabla13[[#This Row],[Importe de adjudicación (IVA INCLUIDO)]]","v":{"$error":"#VALUE!"}}]
[{"$nulls":18},{"$f":"Tabla13[[#This Row],[Título del contrato]]&Tabla13[[#This Row],[Nº Expediente de la plataforma de contratación]]","v":{"$error":"#VALUE!"}},{"$f":"Tabla13[[#This Row],[Nº Expediente de la plataforma de contratación]]","v":{"$error":"#VALUE!"}},{"$f":"Tabla13[[#This Row],[Importe IVA ]]","v":{"$error":"#VALUE!"}},{"$f":"Tabla13[[#This Row],[Importe de adjudicación (IVA INCLUIDO)]]","v":{"$error":"#VALUE!"}}]
[{"$nulls":18},{"$f":"Tabla13[[#This Row],[Título del contrato]]&Tabla13[[#This Row],[Nº Expediente de la plataforma de contratación]]","v":{"$error":"#VALUE!"}},{"$f":"Tabla13[[#This Row],[Nº Expediente de la plataforma de contratación]]","v":{"$error":"#VALUE!"}},{"$f":"Tabla13[[#This Row],[Importe IVA ]]","v":{"$error":"#VALUE!"}},{"$f":"Tabla13[[#This Row],[Importe de adjudicación (IVA INCLUIDO)]]","v":{"$error":"#VALUE!"}}]
[{"$nulls":18},{"$f":"Tabla13[[#This Row],[Título del contrato]]&Tabla13[[#This Row],[Nº Expediente de la plataforma de contratación]]","v":{"$error":"#VALUE!"}},{"$f":"Tabla13[[#This Row],[Nº Expediente de la plataforma de contratación]]","v":{"$error":"#VALUE!"}},{"$f":"Tabla13[[#This Row],[Importe IVA ]]","v":{"$error":"#VALUE!"}},{"$f":"Tabla13[[#This Row],[Importe de adjudicación (IVA INCLUIDO)]]","v":{"$error":"#VALUE!"}}]
[{"$nulls":18},{"$f":"Tabla13[[#This Row],[Título del contrato]]&Tabla13[[#This Row],[Nº Expediente de la plataforma de contratación]]","v":{"$error":"#VALUE!"}},{"$f":"Tabla13[[#This Row],[Nº Expediente de la plataforma de contratación]]","v":{"$error":"#VALUE!"}},{"$f":"Tabla13[[#This Row],[Importe IVA ]]","v":{"$error":"#VALUE!"}},{"$f":"Tabla13[[#This Row],[Importe de adjudicación (IVA INCLUIDO)]]","v":{"$error":"#VALUE!"}}]
[{"$nulls":18},{"$f":"Tabla13[[#This Row],[Título del contrato]]&Tabla13[[#This Row],[Nº Expediente de la plataforma de contratación]]","v":{"$error":"#VALUE!"}},{"$f":"Tabla13[[#This Row],[Nº Expediente de la plataforma de contratación]]","v":{"$error":"#VALUE!"}},{"$f":"Tabla13[[#This Row],[Importe IVA ]]","v":{"$error":"#VALUE!"}},{"$f":"Tabla13[[#This Row],[Importe de adjudicación (IVA INCLUIDO)]]","v":{"$error":"#VALUE!"}}]
[{"$nulls":18},{"$f":"Tabla13[[#This Row],[Título del contrato]]&Tabla13[[#This Row],[Nº Expediente de la plataforma de contratación]]","v":{"$error":"#VALUE!"}},{"$f":"Tabla13[[#This Row],[Nº Expediente de la plataforma de contratación]]","v":{"$error":"#VALUE!"}},{"$f":"Tabla13[[#This Row],[Importe IVA ]]","v":{"$error":"#VALUE!"}},{"$f":"Tabla13[[#This Row],[Importe de adjudicación (IVA INCLUIDO)]]","v":{"$error":"#VALUE!"}}]
[{"$nulls":18},{"$f":"Tabla13[[#This Row],[Título del contrato]]&Tabla13[[#This Row],[Nº Expediente de la plataforma de contratación]]","v":{"$error":"#VALUE!"}},{"$f":"Tabla13[[#This Row],[Nº Expediente de la plataforma de contratación]]","v":{"$error":"#VALUE!"}},{"$f":"Tabla13[[#This Row],[Importe IVA ]]","v":{"$error":"#VALUE!"}},{"$f":"Tabla13[[#This Row],[Importe de adjudicación (IVA INCLUIDO)]]","v":{"$error":"#VALUE!"}}]
[{"$nulls":18},{"$f":"Tabla13[[#This Row],[Título del contrato]]&Tabla13[[#This Row],[Nº Expediente de la plataforma de contratación]]","v":{"$error":"#VALUE!"}},{"$f":"Tabla13[[#This Row],[Nº Expediente de la plataforma de contratación]]","v":{"$error":"#VALUE!"}},{"$f":"Tabla13[[#This Row],[Importe IVA ]]","v":{"$error":"#VALUE!"}},{"$f":"Tabla13[[#This Row],[Importe de adjudicación (IVA INCLUIDO)]]","v":{"$error":"#VALUE!"}}]
[{"$nulls":18},{"$f":"Tabla13[[#This Row],[Título del contrato]]&Tabla13[[#This Row],[Nº Expediente de la plataforma de contratación]]","v":{"$error":"#VALUE!"}},{"$f":"Tabla13[[#This Row],[Nº Expediente de la plataforma de contratación]]","v":{"$error":"#VALUE!"}},{"$f":"Tabla13[[#This Row],[Importe IVA ]]","v":{"$error":"#VALUE!"}},{"$f":"Tabla13[[#This Row],[Importe de adjudicación (IVA INCLUIDO)]]","v":{"$error":"#VALUE!"}}]
[{"$nulls":18},{"$f":"Tabla13[[#This Row],[Título del contrato]]&Tabla13[[#This Row],[Nº Expediente de la plataforma de contratación]]","v":{"$error":"#VALUE!"}},{"$f":"Tabla13[[#This Row],[Nº Expediente de la plataforma de contratación]]","v":{"$error":"#VALUE!"}},{"$f":"Tabla13[[#This Row],[Importe IVA ]]","v":{"$error":"#VALUE!"}},{"$f":"Tabla13[[#This Row],[Importe de adjudicación (IVA INCLUIDO)]]","v":{"$error":"#VALUE!"}}]
[{"$nulls":18},{"$f":"Tabla13[[#This Row],[Título del contrato]]&Tabla13[[#This Row],[Nº Expediente de la plataforma de contratación]]","v":{"$error":"#VALUE!"}},{"$f":"Tabla13[[#This Row],[Nº Expediente de la plataforma de contratación]]","v":{"$error":"#VALUE!"}},{"$f":"Tabla13[[#This Row],[Importe IVA ]]","v":{"$error":"#VALUE!"}},{"$f":"Tabla13[[#This Row],[Importe de adjudicación (IVA INCLUIDO)]]","v":{"$error":"#VALUE!"}}]
[{"$nulls":18},{"$f":"Tabla13[[#This Row],[Título del contrato]]&Tabla13[[#This Row],[Nº Expediente de la plataforma de contratación]]","v":{"$error":"#VALUE!"}},{"$f":"Tabla13[[#This Row],[Nº Expediente de la plataforma de contratación]]","v":{"$error":"#VALUE!"}},{"$f":"Tabla13[[#This Row],[Importe IVA ]]","v":{"$error":"#VALUE!"}},{"$f":"Tabla13[[#This Row],[Importe de adjudicación (IVA INCLUIDO)]]","v":{"$error":"#VALUE!"}}]
[{"$nulls":18},{"$f":"Tabla13[[#This Row],[Título del contrato]]&Tabla13[[#This Row],[Nº Expediente de la plataforma de contratación]]","v":{"$error":"#VALUE!"}},{"$f":"Tabla13[[#This Row],[Nº Expediente de la plataforma de contratación]]","v":{"$error":"#VALUE!"}},{"$f":"Tabla13[[#This Row],[Importe IVA ]]","v":{"$error":"#VALUE!"}},{"$f":"Tabla13[[#This Row],[Importe de adjudicación (IVA INCLUIDO)]]","v":{"$error":"#VALUE!"}}]
[{"$nulls":18},{"$f":"Tabla13[[#This Row],[Título del contrato]]&Tabla13[[#This Row],[Nº Expediente de la plataforma de contratación]]","v":{"$error":"#VALUE!"}},{"$f":"Tabla13[[#This Row],[Nº Expediente de la plataforma de contratación]]","v":{"$error":"#VALUE!"}},{"$f":"Tabla13[[#This Row],[Importe IVA ]]","v":{"$error":"#VALUE!"}},{"$f":"Tabla13[[#This Row],[Importe de adjudicación (IVA INCLUIDO)]]","v":{"$error":"#VALUE!"}}]
[{"$nulls":18},{"$f":"Tabla13[[#This Row],[Título del contrato]]&Tabla13[[#This Row],[Nº Expediente de la plataforma de contratación]]","v":{"$error":"#VALUE!"}},{"$f":"Tabla13[[#This Row],[Nº Expediente de la plataforma de contratación]]","v":{"$error":"#VALUE!"}},{"$f":"Tabla13[[#This Row],[Importe IVA ]]","v":{"$error":"#VALUE!"}},{"$f":"Tabla13[[#This Row],[Importe de adjudicación (IVA INCLUIDO)]]","v":{"$error":"#VALUE!"}}]
[{"$nulls":18},{"$f":"Tabla13[[#This Row],[Título del contrato]]&Tabla13[[#This Row],[Nº Expediente de la plataforma de contratación]]","v":{"$error":"#VALUE!"}},{"$f":"Tabla13[[#This Row],[Nº Expediente de la plataforma de contratación]]","v":{"$error":"#VALUE!"}},{"$f":"Tabla13[[#This Row],[Importe IVA ]]","v":{"$error":"#VALUE!"}},{"$f":"Tabla13[[#This Row],[Importe de adjudicación (IVA INCLUIDO)]]","v":{"$error":"#VALUE!"}}]
[{"$nulls":18},{"$f":"Tabla13[[#This Row],[Título del contrato]]&Tabla13[[#This Row],[Nº Expediente de la plataforma de contratación]]","v":{"$error":"#VALUE!"}},{"$f":"Tabla13[[#This Row],[Nº Expediente de la plataforma de contratación]]","v":{"$error":"#VALUE!"}},{"$f":"Tabla13[[#This Row],[Importe IVA ]]","v":{"$error":"#VALUE!"}},{"$f":"Tabla13[[#This Row],[Importe de adjudicación (IVA INCLUIDO)]]","v":{"$error":"#VALUE!"}}]
[{"$nulls":18},{"$f":"Tabla13[[#This Row],[Título del contrato]]&Tabla13[[#This Row],[Nº Expediente de la plataforma de contratación]]","v":{"$error":"#VALUE!"}},{"$f":"Tabla13[[#This Row],[Nº Expediente de la plataforma de contratación]]","v":{"$error":"#VALUE!"}},{"$f":"Tabla13[[#This Row],[Importe IVA ]]","v":{"$error":"#VALUE!"}},{"$f":"Tabla13[[#This Row],[Importe de adjudicación (IVA INCLUIDO)]]","v":{"$error":"#VALUE!"}}]
[{"$nulls":18},{"$f":"Tabla13[[#This Row],[Título del contrato]]&Tabla13[[#This Row],[Nº Expediente de la plataforma de contratación]]","v":{"$error":"#VALUE!"}},{"$f":"Tabla13[[#This Row],[Nº Expediente de la plataforma de contratación]]","v":{"$error":"#VALUE!"}},{"$f":"Tabla13[[#This Row],[Importe IVA ]]","v":{"$error":"#VALUE!"}},{"$f":"Tabla13[[#This Row],[Importe de adjudicación (IVA INCLUIDO)]]","v":{"$error":"#VALUE!"}}]
[{"$nulls":18},{"$f":"Tabla13[[#This Row],[Título del contrato]]&Tabla13[[#This Row],[Nº Expediente de la plataforma de contratación]]","v":{"$error":"#VALUE!"}},{"$f":"Tabla13[[#This Row],[Nº Expediente de la plataforma de contratación]]","v":{"$error":"#VALUE!"}},{"$f":"Tabla13[[#This Row],[Importe IVA ]]","v":{"$error":"#VALUE!"}},{"$f":"Tabla13[[#This Row],[Importe de adjudicación (IVA INCLUIDO)]]","v":{"$error":"#VALUE!"}}]
[{"$nulls":18},{"$f":"Tabla13[[#This Row],[Título del contrato]]&Tabla13[[#This Row],[Nº Expediente de la plataforma de contratación]]","v":{"$error":"#VALUE!"}},{"$f":"Tabla13[[#This Row],[Nº Expediente de la plataforma de contratación]]","v":{"$error":"#VALUE!"}},{"$f":"Tabla13[[#This Row],[Importe IVA ]]","v":{"$error":"#VALUE!"}},{"$f":"Tabla13[[#This Row],[Importe de adjudicación (IVA INCLUIDO)]]","v":{"$error":"#VALUE!"}}]
[{"$nulls":18},{"$f":"Tabla13[[#This Row],[Título del contrato]]&Tabla13[[#This Row],[Nº Expediente de la plataforma de contratación]]","v":{"$error":"#VALUE!"}},{"$f":"Tabla13[[#This Row],[Nº Expediente de la plataforma de contratación]]","v":{"$error":"#VALUE!"}},{"$f":"Tabla13[[#This Row],[Importe IVA ]]","v":{"$error":"#VALUE!"}},{"$f":"Tabla13[[#This Row],[Importe de adjudicación (IVA INCLUIDO)]]","v":{"$error":"#VALUE!"}}]
[{"$nulls":18},{"$f":"Tabla13[[#This Row],[Título del contrato]]&Tabla13[[#This Row],[Nº Expediente de la plataforma de contratación]]","v":{"$error":"#VALUE!"}},{"$f":"Tabla13[[#This Row],[Nº Expediente de la plataforma de contratación]]","v":{"$error":"#VALUE!"}},{"$f":"Tabla13[[#This Row],[Importe IVA ]]","v":{"$error":"#VALUE!"}},{"$f":"Tabla13[[#This Row],[Importe de adjudicación (IVA INCLUIDO)]]","v":{"$error":"#VALUE!"}}]
[{"$nulls":18},{"$f":"Tabla13[[#This Row],[Título del contrato]]&Tabla13[[#This Row],[Nº Expediente de la plataforma de contratación]]","v":{"$error":"#VALUE!"}},{"$f":"Tabla13[[#This Row],[Nº Expediente de la plataforma de contratación]]","v":{"$error":"#VALUE!"}},{"$f":"Tabla13[[#This Row],[Importe IVA ]]","v":{"$error":"#VALUE!"}},{"$f":"Tabla13[[#This Row],[Importe de adjudicación (IVA INCLUIDO)]]","v":{"$error":"#VALUE!"}}]
[{"$nulls":18},{"$f":"Tabla13[[#This Row],[Título del contrato]]&Tabla13[[#This Row],[Nº Expediente de la plataforma de contratación]]","v":{"$error":"#VALUE!"}},{"$f":"Tabla13[[#This Row],[Nº Expediente de la plataforma de contratación]]","v":{"$error":"#VALUE!"}},{"$f":"Tabla13[[#This Row],[Importe IVA ]]","v":{"$error":"#VALUE!"}},{"$f":"Tabla13[[#This Row],[Importe de adjudicación (IVA INCLUIDO)]]","v":{"$error":"#VALUE!"}}]
[{"$nulls":18},{"$f":"Tabla13[[#This Row],[Título del contrato]]&Tabla13[[#This Row],[Nº Expediente de la plataforma de contratación]]","v":{"$error":"#VALUE!"}},{"$f":"Tabla13[[#This Row],[Nº Expediente de la plataforma de contratación]]","v":{"$error":"#VALUE!"}},{"$f":"Tabla13[[#This Row],[Importe IVA ]]","v":{"$error":"#VALUE!"}},{"$f":"Tabla13[[#This Row],[Importe de adjudicación (IVA INCLUIDO)]]","v":{"$error":"#VALUE!"}}]
[{"$nulls":18},{"$f":"Tabla13[[#This Row],[Título del contrato]]&Tabla13[[#This Row],[Nº Expediente de la plataforma de contratación]]","v":{"$error":"#VALUE!"}},{"$f":"Tabla13[[#This Row],[Nº Expediente de la plataforma de contratación]]","v":{"$error":"#VALUE!"}},{"$f":"Tabla13[[#This Row],[Importe IVA ]]","v":{"$error":"#VALUE!"}},{"$f":"Tabla13[[#This Row],[Importe de adjudicación (IVA INCLUIDO)]]","v":{"$error":"#VALUE!"}}]
[{"$nulls":18},{"$f":"Tabla13[[#This Row],[Título del contrato]]&Tabla13[[#This Row],[Nº Expediente de la plataforma de contratación]]","v":{"$error":"#VALUE!"}},{"$f":"Tabla13[[#This Row],[Nº Expediente de la plataforma de contratación]]","v":{"$error":"#VALUE!"}},{"$f":"Tabla13[[#This Row],[Importe IVA ]]","v":{"$error":"#VALUE!"}},{"$f":"Tabla13[[#This Row],[Importe de adjudicación (IVA INCLUIDO)]]","v":{"$error":"#VALUE!"}}]
[{"$nulls":18},{"$f":"Tabla13[[#This Row],[Título del contrato]]&Tabla13[[#This Row],[Nº Expediente de la plataforma de contratación]]","v":{"$error":"#VALUE!"}},{"$f":"Tabla13[[#This Row],[Nº Expediente de la plataforma de contratación]]","v":{"$error":"#VALUE!"}},{"$f":"Tabla13[[#This Row],[Importe IVA ]]","v":{"$error":"#VALUE!"}},{"$f":"Tabla13[[#This Row],[Importe de adjudicación (IVA INCLUIDO)]]","v":{"$error":"#VALUE!"}}]
[{"$nulls":18},{"$f":"Tabla13[[#This Row],[Título del contrato]]&Tabla13[[#This Row],[Nº Expediente de la plataforma de contratación]]","v":{"$error":"#VALUE!"}},{"$f":"Tabla13[[#This Row],[Nº Expediente de la plataforma de contratación]]","v":{"$error":"#VALUE!"}},{"$f":"Tabla13[[#This Row],[Importe IVA ]]","v":{"$error":"#VALUE!"}},{"$f":"Tabla13[[#This Row],[Importe de adjudicación (IVA INCLUIDO)]]","v":{"$error":"#VALUE!"}}]
[{"$nulls":18},{"$f":"Tabla13[[#This Row],[Título del contrato]]&Tabla13[[#This Row],[Nº Expediente de la plataforma de contratación]]","v":{"$error":"#VALUE!"}},{"$f":"Tabla13[[#This Row],[Nº Expediente de la plataforma de contratación]]","v":{"$error":"#VALUE!"}},{"$f":"Tabla13[[#This Row],[Importe IVA ]]","v":{"$error":"#VALUE!"}},{"$f":"Tabla13[[#This Row],[Importe de adjudicación (IVA INCLUIDO)]]","v":{"$error":"#VALUE!"}}]
[{"$nulls":18},{"$f":"Tabla13[[#This Row],[Título del contrato]]&Tabla13[[#This Row],[Nº Expediente de la plataforma de contratación]]","v":{"$error":"#VALUE!"}},{"$f":"Tabla13[[#This Row],[Nº Expediente de la plataforma de contratación]]","v":{"$error":"#VALUE!"}},{"$f":"Tabla13[[#This Row],[Importe IVA ]]","v":{"$error":"#VALUE!"}},{"$f":"Tabla13[[#This Row],[Importe de adjudicación (IVA INCLUIDO)]]","v":{"$error":"#VALUE!"}}]
[{"$nulls":18},{"$f":"Tabla13[[#This Row],[Título del contrato]]&Tabla13[[#This Row],[Nº Expediente de la plataforma de contratación]]","v":{"$error":"#VALUE!"}},{"$f":"Tabla13[[#This Row],[Nº Expediente de la plataforma de contratación]]","v":{"$error":"#VALUE!"}},{"$f":"Tabla13[[#This Row],[Importe IVA ]]","v":{"$error":"#VALUE!"}},{"$f":"Tabla13[[#This Row],[Importe de adjudicación (IVA INCLUIDO)]]","v":{"$error":"#VALUE!"}}]
[{"$nulls":18},{"$f":"Tabla13[[#This Row],[Título del contrato]]&Tabla13[[#This Row],[Nº Expediente de la plataforma de contratación]]","v":{"$error":"#VALUE!"}},{"$f":"Tabla13[[#This Row],[Nº Expediente de la plataforma de contratación]]","v":{"$error":"#VALUE!"}},{"$f":"Tabla13[[#This Row],[Importe IVA ]]","v":{"$error":"#VALUE!"}},{"$f":"Tabla13[[#This Row],[Importe de adjudicación (IVA INCLUIDO)]]","v":{"$error":"#VALUE!"}}]
[{"$nulls":18},{"$f":"Tabla13[[#This Row],[Título del contrato]]&Tabla13[[#This Row],[Nº Expediente de la plataforma de contratación]]","v":{"$error":"#VALUE!"}},{"$f":"Tabla13[[#This Row],[Nº Expediente de la plataforma de contratación]]","v":{"$error":"#VALUE!"}},{"$f":"Tabla13[[#This Row],[Importe IVA ]]","v":{"$error":"#VALUE!"}},{"$f":"Tabla13[[#This Row],[Importe de adjudicación (IVA INCLUIDO)]]","v":{"$error":"#VALUE!"}}]
[{"$nulls":18},{"$f":"Tabla13[[#This Row],[Título del contrato]]&Tabla13[[#This Row],[Nº Expediente de la plataforma de contratación]]","v":{"$error":"#VALUE!"}},{"$f":"Tabla13[[#This Row],[Nº Expediente de la plataforma de contratación]]","v":{"$error":"#VALUE!"}},{"$f":"Tabla13[[#This Row],[Importe IVA ]]","v":{"$error":"#VALUE!"}},{"$f":"Tabla13[[#This Row],[Importe de adjudicación (IVA INCLUIDO)]]","v":{"$error":"#VALUE!"}}]
[{"$nulls":18},{"$f":"Tabla13[[#This Row],[Título del contrato]]&Tabla13[[#This Row],[Nº Expediente de la plataforma de contratación]]","v":{"$error":"#VALUE!"}},{"$f":"Tabla13[[#This Row],[Nº Expediente de la plataforma de contratación]]","v":{"$error":"#VALUE!"}},{"$f":"Tabla13[[#This Row],[Importe IVA ]]","v":{"$error":"#VALUE!"}},{"$f":"Tabla13[[#This Row],[Importe de adjudicación (IVA INCLUIDO)]]","v":{"$error":"#VALUE!"}}]
[{"$nulls":18},{"$f":"Tabla13[[#This Row],[Título del contrato]]&Tabla13[[#This Row],[Nº Expediente de la plataforma de contratación]]","v":{"$error":"#VALUE!"}},{"$f":"Tabla13[[#This Row],[Nº Expediente de la plataforma de contratación]]","v":{"$error":"#VALUE!"}},{"$f":"Tabla13[[#This Row],[Importe IVA ]]","v":{"$error":"#VALUE!"}},{"$f":"Tabla13[[#This Row],[Importe de adjudicación (IVA INCLUIDO)]]","v":{"$error":"#VALUE!"}}]
[{"$nulls":18},{"$f":"Tabla13[[#This Row],[Título del contrato]]&Tabla13[[#This Row],[Nº Expediente de la plataforma de contratación]]","v":{"$error":"#VALUE!"}},{"$f":"Tabla13[[#This Row],[Nº Expediente de la plataforma de contratación]]","v":{"$error":"#VALUE!"}},{"$f":"Tabla13[[#This Row],[Importe IVA ]]","v":{"$error":"#VALUE!"}},{"$f":"Tabla13[[#This Row],[Importe de adjudicación (IVA INCLUIDO)]]","v":{"$error":"#VALUE!"}}]
[{"$nulls":18},{"$f":"Tabla13[[#This Row],[Título del contrato]]&Tabla13[[#This Row],[Nº Expediente de la plataforma de contratación]]","v":{"$error":"#VALUE!"}},{"$f":"Tabla13[[#This Row],[Nº Expediente de la plataforma de contratación]]","v":{"$error":"#VALUE!"}},{"$f":"Tabla13[[#This Row],[Importe IVA ]]","v":{"$error":"#VALUE!"}},{"$f":"Tabla13[[#This Row],[Importe de adjudicación (IVA INCLUIDO)]]","v":{"$error":"#VALUE!"}}]
[{"$nulls":18},{"$f":"Tabla13[[#This Row],[Título del contrato]]&Tabla13[[#This Row],[Nº Expediente de la plataforma de contratación]]","v":{"$error":"#VALUE!"}},{"$f":"Tabla13[[#This Row],[Nº Expediente de la plataforma de contratación]]","v":{"$error":"#VALUE!"}},{"$f":"Tabla13[[#This Row],[Importe IVA ]]","v":{"$error":"#VALUE!"}},{"$f":"Tabla13[[#This Row],[Importe de adjudicación (IVA INCLUIDO)]]","v":{"$error":"#VALUE!"}}]
[{"$nulls":18},{"$f":"Tabla13[[#This Row],[Título del contrato]]&Tabla13[[#This Row],[Nº Expediente de la plataforma de contratación]]","v":{"$error":"#VALUE!"}},{"$f":"Tabla13[[#This Row],[Nº Expediente de la plataforma de contratación]]","v":{"$error":"#VALUE!"}},{"$f":"Tabla13[[#This Row],[Importe IVA ]]","v":{"$error":"#VALUE!"}},{"$f":"Tabla13[[#This Row],[Importe de adjudicación (IVA INCLUIDO)]]","v":{"$error":"#VALUE!"}}]
[{"$nulls":18},{"$f":"Tabla13[[#This Row],[Título del contrato]]&Tabla13[[#This Row],[Nº Expediente de la plataforma de contratación]]","v":{"$error":"#VALUE!"}},{"$f":"Tabla13[[#This Row],[Nº Expediente de la plataforma de contratación]]","v":{"$error":"#VALUE!"}},{"$f":"Tabla13[[#This Row],[Importe IVA ]]","v":{"$error":"#VALUE!"}},{"$f":"Tabla13[[#This Row],[Importe de adjudicación (IVA INCLUIDO)]]","v":{"$error":"#VALUE!"}}]
[{"$nulls":18},{"$f":"Tabla13[[#This Row],[Título del contrato]]&Tabla13[[#This Row],[Nº Expediente de la plataforma de contratación]]","v":{"$error":"#VALUE!"}},{"$f":"Tabla13[[#This Row],[Nº Expediente de la plataforma de contratación]]","v":{"$error":"#VALUE!"}},{"$f":"Tabla13[[#This Row],[Importe IVA ]]","v":{"$error":"#VALUE!"}},{"$f":"Tabla13[[#This Row],[Importe de adjudicación (IVA INCLUIDO)]]","v":{"$error":"#VALUE!"}}]
[{"$nulls":18},{"$f":"Tabla13[[#This Row],[Título del contrato]]&Tabla13[[#This Row],[Nº Expediente de la plataforma de contratación]]","v":{"$error":"#VALUE!"}},{"$f":"Tabla13[[#This Row],[Nº Expediente de la plataforma de contratación]]","v":{"$error":"#VALUE!"}},{"$f":"Tabla13[[#This Row],[Importe IVA ]]","v":{"$error":"#VALUE!"}},{"$f":"Tabla13[[#This Row],[Importe de adjudicación (IVA INCLUIDO)]]","v":{"$error":"#VALUE!"}}]
[{"$nulls":18},{"$f":"Tabla13[[#This Row],[Título del contrato]]&Tabla13[[#This Row],[Nº Expediente de la plataforma de contratación]]","v":{"$error":"#VALUE!"}},{"$f":"Tabla13[[#This Row],[Nº Expediente de la plataforma de contratación]]","v":{"$error":"#VALUE!"}},{"$f":"Tabla13[[#This Row],[Importe IVA ]]","v":{"$error":"#VALUE!"}},{"$f":"Tabla13[[#This Row],[Importe de adjudicación (IVA INCLUIDO)]]","v":{"$error":"#VALUE!"}}]
[{"$nulls":18},{"$f":"Tabla13[[#This Row],[Título del contrato]]&Tabla13[[#This Row],[Nº Expediente de la plataforma de contratación]]","v":{"$error":"#VALUE!"}},{"$f":"Tabla13[[#This Row],[Nº Expediente de la plataforma de contratación]]","v":{"$error":"#VALUE!"}},{"$f":"Tabla13[[#This Row],[Importe IVA ]]","v":{"$error":"#VALUE!"}},{"$f":"Tabla13[[#This Row],[Importe de adjudicación (IVA INCLUIDO)]]","v":{"$error":"#VALUE!"}}]
[{"$nulls":18},{"$f":"Tabla13[[#This Row],[Título del contrato]]&Tabla13[[#This Row],[Nº Expediente de la plataforma de contratación]]","v":{"$error":"#VALUE!"}},{"$f":"Tabla13[[#This Row],[Nº Expediente de la plataforma de contratación]]","v":{"$error":"#VALUE!"}},{"$f":"Tabla13[[#This Row],[Importe IVA ]]","v":{"$error":"#VALUE!"}},{"$f":"Tabla13[[#This Row],[Importe de adjudicación (IVA INCLUIDO)]]","v":{"$error":"#VALUE!"}}]
[{"$nulls":18},{"$f":"Tabla13[[#This Row],[Título del contrato]]&Tabla13[[#This Row],[Nº Expediente de la plataforma de contratación]]","v":{"$error":"#VALUE!"}},{"$f":"Tabla13[[#This Row],[Nº Expediente de la plataforma de contratación]]","v":{"$error":"#VALUE!"}},{"$f":"Tabla13[[#This Row],[Importe IVA ]]","v":{"$error":"#VALUE!"}},{"$f":"Tabla13[[#This Row],[Importe de adjudicación (IVA INCLUIDO)]]","v":{"$error":"#VALUE!"}}]
[{"$nulls":18},{"$f":"Tabla13[[#This Row],[Título del contrato]]&Tabla13[[#This Row],[Nº Expediente de la plataforma de contratación]]","v":{"$error":"#VALUE!"}},{"$f":"Tabla13[[#This Row],[Nº Expediente de la plataforma de contratación]]","v":{"$error":"#VALUE!"}},{"$f":"Tabla13[[#This Row],[Importe IVA ]]","v":{"$error":"#VALUE!"}},{"$f":"Tabla13[[#This Row],[Importe de adjudicación (IVA INCLUIDO)]]","v":{"$error":"#VALUE!"}}]
[{"$nulls":18},{"$f":"Tabla13[[#This Row],[Título del contrato]]&Tabla13[[#This Row],[Nº Expediente de la plataforma de contratación]]","v":{"$error":"#VALUE!"}},{"$f":"Tabla13[[#This Row],[Nº Expediente de la plataforma de contratación]]","v":{"$error":"#VALUE!"}},{"$f":"Tabla13[[#This Row],[Importe IVA ]]","v":{"$error":"#VALUE!"}},{"$f":"Tabla13[[#This Row],[Importe de adjudicación (IVA INCLUIDO)]]","v":{"$error":"#VALUE!"}}]
[{"$nulls":18},{"$f":"Tabla13[[#This Row],[Título del contrato]]&Tabla13[[#This Row],[Nº Expediente de la plataforma de contratación]]","v":{"$error":"#VALUE!"}},{"$f":"Tabla13[[#This Row],[Nº Expediente de la plataforma de contratación]]","v":{"$error":"#VALUE!"}},{"$f":"Tabla13[[#This Row],[Importe IVA ]]","v":{"$error":"#VALUE!"}},{"$f":"Tabla13[[#This Row],[Importe de adjudicación (IVA INCLUIDO)]]","v":{"$error":"#VALUE!"}}]
[{"$nulls":18},{"$f":"Tabla13[[#This Row],[Título del contrato]]&Tabla13[[#This Row],[Nº Expediente de la plataforma de contratación]]","v":{"$error":"#VALUE!"}},{"$f":"Tabla13[[#This Row],[Nº Expediente de la plataforma de contratación]]","v":{"$error":"#VALUE!"}},{"$f":"Tabla13[[#This Row],[Importe IVA ]]","v":{"$error":"#VALUE!"}},{"$f":"Tabla13[[#This Row],[Importe de adjudicación (IVA INCLUIDO)]]","v":{"$error":"#VALUE!"}}]
[{"$nulls":18},{"$f":"Tabla13[[#This Row],[Título del contrato]]&Tabla13[[#This Row],[Nº Expediente de la plataforma de contratación]]","v":{"$error":"#VALUE!"}},{"$f":"Tabla13[[#This Row],[Nº Expediente de la plataforma de contratación]]","v":{"$error":"#VALUE!"}},{"$f":"Tabla13[[#This Row],[Importe IVA ]]","v":{"$error":"#VALUE!"}},{"$f":"Tabla13[[#This Row],[Importe de adjudicación (IVA INCLUIDO)]]","v":{"$error":"#VALUE!"}}]
[{"$nulls":18},{"$f":"Tabla13[[#This Row],[Título del contrato]]&Tabla13[[#This Row],[Nº Expediente de la plataforma de contratación]]","v":{"$error":"#VALUE!"}},{"$f":"Tabla13[[#This Row],[Nº Expediente de la plataforma de contratación]]","v":{"$error":"#VALUE!"}},{"$f":"Tabla13[[#This Row],[Importe IVA ]]","v":{"$error":"#VALUE!"}},{"$f":"Tabla13[[#This Row],[Importe de adjudicación (IVA INCLUIDO)]]","v":{"$error":"#VALUE!"}}]
[{"$nulls":18},{"$f":"Tabla13[[#This Row],[Título del contrato]]&Tabla13[[#This Row],[Nº Expediente de la plataforma de contratación]]","v":{"$error":"#VALUE!"}},{"$f":"Tabla13[[#This Row],[Nº Expediente de la plataforma de contratación]]","v":{"$error":"#VALUE!"}},{"$f":"Tabla13[[#This Row],[Importe IVA ]]","v":{"$error":"#VALUE!"}},{"$f":"Tabla13[[#This Row],[Importe de adjudicación (IVA INCLUIDO)]]","v":{"$error":"#VALUE!"}}]
[{"$nulls":18},{"$f":"Tabla13[[#This Row],[Título del contrato]]&Tabla13[[#This Row],[Nº Expediente de la plataforma de contratación]]","v":{"$error":"#VALUE!"}},{"$f":"Tabla13[[#This Row],[Nº Expediente de la plataforma de contratación]]","v":{"$error":"#VALUE!"}},{"$f":"Tabla13[[#This Row],[Importe IVA ]]","v":{"$error":"#VALUE!"}},{"$f":"Tabla13[[#This Row],[Importe de adjudicación (IVA INCLUIDO)]]","v":{"$error":"#VALUE!"}}]
[{"$nulls":18},{"$f":"Tabla13[[#This Row],[Título del contrato]]&Tabla13[[#This Row],[Nº Expediente de la plataforma de contratación]]","v":{"$error":"#VALUE!"}},{"$f":"Tabla13[[#This Row],[Nº Expediente de la plataforma de contratación]]","v":{"$error":"#VALUE!"}},{"$f":"Tabla13[[#This Row],[Importe IVA ]]","v":{"$error":"#VALUE!"}},{"$f":"Tabla13[[#This Row],[Importe de adjudicación (IVA INCLUIDO)]]","v":{"$error":"#VALUE!"}}]
[{"$nulls":18},{"$f":"Tabla13[[#This Row],[Título del contrato]]&Tabla13[[#This Row],[Nº Expediente de la plataforma de contratación]]","v":{"$error":"#VALUE!"}},{"$f":"Tabla13[[#This Row],[Nº Expediente de la plataforma de contratación]]","v":{"$error":"#VALUE!"}},{"$f":"Tabla13[[#This Row],[Importe IVA ]]","v":{"$error":"#VALUE!"}},{"$f":"Tabla13[[#This Row],[Importe de adjudicación (IVA INCLUIDO)]]","v":{"$error":"#VALUE!"}}]
[{"$nulls":18},{"$f":"Tabla13[[#This Row],[Título del contrato]]&Tabla13[[#This Row],[Nº Expediente de la plataforma de contratación]]","v":{"$error":"#VALUE!"}},{"$f":"Tabla13[[#This Row],[Nº Expediente de la plataforma de contratación]]","v":{"$error":"#VALUE!"}},{"$f":"Tabla13[[#This Row],[Importe IVA ]]","v":{"$error":"#VALUE!"}},{"$f":"Tabla13[[#This Row],[Importe de adjudicación (IVA INCLUIDO)]]","v":{"$error":"#VALUE!"}}]
[{"$nulls":18},{"$f":"Tabla13[[#This Row],[Título del contrato]]&Tabla13[[#This Row],[Nº Expediente de la plataforma de contratación]]","v":{"$error":"#VALUE!"}},{"$f":"Tabla13[[#This Row],[Nº Expediente de la plataforma de contratación]]","v":{"$error":"#VALUE!"}},{"$f":"Tabla13[[#This Row],[Importe IVA ]]","v":{"$error":"#VALUE!"}},{"$f":"Tabla13[[#This Row],[Importe de adjudicación (IVA INCLUIDO)]]","v":{"$error":"#VALUE!"}}]
[{"$nulls":18},{"$f":"Tabla13[[#This Row],[Título del contrato]]&Tabla13[[#This Row],[Nº Expediente de la plataforma de contratación]]","v":{"$error":"#VALUE!"}},{"$f":"Tabla13[[#This Row],[Nº Expediente de la plataforma de contratación]]","v":{"$error":"#VALUE!"}},{"$f":"Tabla13[[#This Row],[Importe IVA ]]","v":{"$error":"#VALUE!"}},{"$f":"Tabla13[[#This Row],[Importe de adjudicación (IVA INCLUIDO)]]","v":{"$error":"#VALUE!"}}]
[{"$nulls":18},{"$f":"Tabla13[[#This Row],[Título del contrato]]&Tabla13[[#This Row],[Nº Expediente de la plataforma de contratación]]","v":{"$error":"#VALUE!"}},{"$f":"Tabla13[[#This Row],[Nº Expediente de la plataforma de contratación]]","v":{"$error":"#VALUE!"}},{"$f":"Tabla13[[#This Row],[Importe IVA ]]","v":{"$error":"#VALUE!"}},{"$f":"Tabla13[[#This Row],[Importe de adjudicación (IVA INCLUIDO)]]","v":{"$error":"#VALUE!"}}]
[{"$nulls":18},{"$f":"Tabla13[[#This Row],[Título del contrato]]&Tabla13[[#This Row],[Nº Expediente de la plataforma de contratación]]","v":{"$error":"#VALUE!"}},{"$f":"Tabla13[[#This Row],[Nº Expediente de la plataforma de contratación]]","v":{"$error":"#VALUE!"}},{"$f":"Tabla13[[#This Row],[Importe IVA ]]","v":{"$error":"#VALUE!"}},{"$f":"Tabla13[[#This Row],[Importe de adjudicación (IVA INCLUIDO)]]","v":{"$error":"#VALUE!"}}]
[{"$nulls":18},{"$f":"Tabla13[[#This Row],[Título del contrato]]&Tabla13[[#This Row],[Nº Expediente de la plataforma de contratación]]","v":{"$error":"#VALUE!"}},{"$f":"Tabla13[[#This Row],[Nº Expediente de la plataforma de contratación]]","v":{"$error":"#VALUE!"}},{"$f":"Tabla13[[#This Row],[Importe IVA ]]","v":{"$error":"#VALUE!"}},{"$f":"Tabla13[[#This Row],[Importe de adjudicación (IVA INCLUIDO)]]","v":{"$error":"#VALUE!"}}]
[{"$nulls":18},{"$f":"Tabla13[[#This Row],[Título del contrato]]&Tabla13[[#This Row],[Nº Expediente de la plataforma de contratación]]","v":{"$error":"#VALUE!"}},{"$f":"Tabla13[[#This Row],[Nº Expediente de la plataforma de contratación]]","v":{"$error":"#VALUE!"}},{"$f":"Tabla13[[#This Row],[Importe IVA ]]","v":{"$error":"#VALUE!"}},{"$f":"Tabla13[[#This Row],[Importe de adjudicación (IVA INCLUIDO)]]","v":{"$error":"#VALUE!"}}]
[{"$nulls":18},{"$f":"Tabla13[[#This Row],[Título del contrato]]&Tabla13[[#This Row],[Nº Expediente de la plataforma de contratación]]","v":{"$error":"#VALUE!"}},{"$f":"Tabla13[[#This Row],[Nº Expediente de la plataforma de contratación]]","v":{"$error":"#VALUE!"}},{"$f":"Tabla13[[#This Row],[Importe IVA ]]","v":{"$error":"#VALUE!"}},{"$f":"Tabla13[[#This Row],[Importe de adjudicación (IVA INCLUIDO)]]","v":{"$error":"#VALUE!"}}]
[{"$nulls":18},{"$f":"Tabla13[[#This Row],[Título del contrato]]&Tabla13[[#This Row],[Nº Expediente de la plataforma de contratación]]","v":{"$error":"#VALUE!"}},{"$f":"Tabla13[[#This Row],[Nº Expediente de la plataforma de contratación]]","v":{"$error":"#VALUE!"}},{"$f":"Tabla13[[#This Row],[Importe IVA ]]","v":{"$error":"#VALUE!"}},{"$f":"Tabla13[[#This Row],[Importe de adjudicación (IVA INCLUIDO)]]","v":{"$error":"#VALUE!"}}]
[{"$nulls":18},{"$f":"Tabla13[[#This Row],[Título del contrato]]&Tabla13[[#This Row],[Nº Expediente de la plataforma de contratación]]","v":{"$error":"#VALUE!"}},{"$f":"Tabla13[[#This Row],[Nº Expediente de la plataforma de contratación]]","v":{"$error":"#VALUE!"}},{"$f":"Tabla13[[#This Row],[Importe IVA ]]","v":{"$error":"#VALUE!"}},{"$f":"Tabla13[[#This Row],[Importe de adjudicación (IVA INCLUIDO)]]","v":{"$error":"#VALUE!"}}]
[{"$nulls":18},{"$f":"Tabla13[[#This Row],[Título del contrato]]&Tabla13[[#This Row],[Nº Expediente de la plataforma de contratación]]","v":{"$error":"#VALUE!"}},{"$f":"Tabla13[[#This Row],[Nº Expediente de la plataforma de contratación]]","v":{"$error":"#VALUE!"}},{"$f":"Tabla13[[#This Row],[Importe IVA ]]","v":{"$error":"#VALUE!"}},{"$f":"Tabla13[[#This Row],[Importe de adjudicación (IVA INCLUIDO)]]","v":{"$error":"#VALUE!"}}]
[{"$nulls":18},{"$f":"Tabla13[[#This Row],[Título del contrato]]&Tabla13[[#This Row],[Nº Expediente de la plataforma de contratación]]","v":{"$error":"#VALUE!"}},{"$f":"Tabla13[[#This Row],[Nº Expediente de la plataforma de contratación]]","v":{"$error":"#VALUE!"}},{"$f":"Tabla13[[#This Row],[Importe IVA ]]","v":{"$error":"#VALUE!"}},{"$f":"Tabla13[[#This Row],[Importe de adjudicación (IVA INCLUIDO)]]","v":{"$error":"#VALUE!"}}]
[{"$nulls":18},{"$f":"Tabla13[[#This Row],[Título del contrato]]&Tabla13[[#This Row],[Nº Expediente de la plataforma de contratación]]","v":{"$error":"#VALUE!"}},{"$f":"Tabla13[[#This Row],[Nº Expediente de la plataforma de contratación]]","v":{"$error":"#VALUE!"}},{"$f":"Tabla13[[#This Row],[Importe IVA ]]","v":{"$error":"#VALUE!"}},{"$f":"Tabla13[[#This Row],[Importe de adjudicación (IVA INCLUIDO)]]","v":{"$error":"#VALUE!"}}]
[{"$nulls":18},{"$f":"Tabla13[[#This Row],[Título del contrato]]&Tabla13[[#This Row],[Nº Expediente de la plataforma de contratación]]","v":{"$error":"#VALUE!"}},{"$f":"Tabla13[[#This Row],[Nº Expediente de la plataforma de contratación]]","v":{"$error":"#VALUE!"}},{"$f":"Tabla13[[#This Row],[Importe IVA ]]","v":{"$error":"#VALUE!"}},{"$f":"Tabla13[[#This Row],[Importe de adjudicación (IVA INCLUIDO)]]","v":{"$error":"#VALUE!"}}]
[{"$nulls":18},{"$f":"Tabla13[[#This Row],[Título del contrato]]&Tabla13[[#This Row],[Nº Expediente de la plataforma de contratación]]","v":{"$error":"#VALUE!"}},{"$f":"Tabla13[[#This Row],[Nº Expediente de la plataforma de contratación]]","v":{"$error":"#VALUE!"}},{"$f":"Tabla13[[#This Row],[Importe IVA ]]","v":{"$error":"#VALUE!"}},{"$f":"Tabla13[[#This Row],[Importe de adjudicación (IVA INCLUIDO)]]","v":{"$error":"#VALUE!"}}]
[{"$nulls":18},{"$f":"Tabla13[[#This Row],[Título del contrato]]&Tabla13[[#This Row],[Nº Expediente de la plataforma de contratación]]","v":{"$error":"#VALUE!"}},{"$f":"Tabla13[[#This Row],[Nº Expediente de la plataforma de contratación]]","v":{"$error":"#VALUE!"}},{"$f":"Tabla13[[#This Row],[Importe IVA ]]","v":{"$error":"#VALUE!"}},{"$f":"Tabla13[[#This Row],[Importe de adjudicación (IVA INCLUIDO)]]","v":{"$error":"#VALUE!"}}]
[{"$nulls":18},{"$f":"Tabla13[[#This Row],[Título del contrato]]&Tabla13[[#This Row],[Nº Expediente de la plataforma de contratación]]","v":{"$error":"#VALUE!"}},{"$f":"Tabla13[[#This Row],[Nº Expediente de la plataforma de contratación]]","v":{"$error":"#VALUE!"}},{"$f":"Tabla13[[#This Row],[Importe IVA ]]","v":{"$error":"#VALUE!"}},{"$f":"Tabla13[[#This Row],[Importe de adjudicación (IVA INCLUIDO)]]","v":{"$error":"#VALUE!"}}]
[{"$nulls":18},{"$f":"Tabla13[[#This Row],[Título del contrato]]&Tabla13[[#This Row],[Nº Expediente de la plataforma de contratación]]","v":{"$error":"#VALUE!"}},{"$f":"Tabla13[[#This Row],[Nº Expediente de la plataforma de contratación]]","v":{"$error":"#VALUE!"}},{"$f":"Tabla13[[#This Row],[Importe IVA ]]","v":{"$error":"#VALUE!"}},{"$f":"Tabla13[[#This Row],[Importe de adjudicación (IVA INCLUIDO)]]","v":{"$error":"#VALUE!"}}]
[{"$nulls":18},{"$f":"Tabla13[[#This Row],[Título del contrato]]&Tabla13[[#This Row],[Nº Expediente de la plataforma de contratación]]","v":{"$error":"#VALUE!"}},{"$f":"Tabla13[[#This Row],[Nº Expediente de la plataforma de contratación]]","v":{"$error":"#VALUE!"}},{"$f":"Tabla13[[#This Row],[Importe IVA ]]","v":{"$error":"#VALUE!"}},{"$f":"Tabla13[[#This Row],[Importe de adjudicación (IVA INCLUIDO)]]","v":{"$error":"#VALUE!"}}]
[{"$nulls":18},{"$f":"Tabla13[[#This Row],[Título del contrato]]&Tabla13[[#This Row],[Nº Expediente de la plataforma de contratación]]","v":{"$error":"#VALUE!"}},{"$f":"Tabla13[[#This Row],[Nº Expediente de la plataforma de contratación]]","v":{"$error":"#VALUE!"}},{"$f":"Tabla13[[#This Row],[Importe IVA ]]","v":{"$error":"#VALUE!"}},{"$f":"Tabla13[[#This Row],[Importe de adjudicación (IVA INCLUIDO)]]","v":{"$error":"#VALUE!"}}]
[{"$nulls":18},{"$f":"Tabla13[[#This Row],[Título del contrato]]&Tabla13[[#This Row],[Nº Expediente de la plataforma de contratación]]","v":{"$error":"#VALUE!"}},{"$f":"Tabla13[[#This Row],[Nº Expediente de la plataforma de contratación]]","v":{"$error":"#VALUE!"}},{"$f":"Tabla13[[#This Row],[Importe IVA ]]","v":{"$error":"#VALUE!"}},{"$f":"Tabla13[[#This Row],[Importe de adjudicación (IVA INCLUIDO)]]","v":{"$error":"#VALUE!"}}]
[{"$nulls":18},{"$f":"Tabla13[[#This Row],[Título del contrato]]&Tabla13[[#This Row],[Nº Expediente de la plataforma de contratación]]","v":{"$error":"#VALUE!"}},{"$f":"Tabla13[[#This Row],[Nº Expediente de la plataforma de contratación]]","v":{"$error":"#VALUE!"}},{"$f":"Tabla13[[#This Row],[Importe IVA ]]","v":{"$error":"#VALUE!"}},{"$f":"Tabla13[[#This Row],[Importe de adjudicación (IVA INCLUIDO)]]","v":{"$error":"#VALUE!"}}]
[{"$nulls":18},{"$f":"Tabla13[[#This Row],[Título del contrato]]&Tabla13[[#This Row],[Nº Expediente de la plataforma de contratación]]","v":{"$error":"#VALUE!"}},{"$f":"Tabla13[[#This Row],[Nº Expediente de la plataforma de contratación]]","v":{"$error":"#VALUE!"}},{"$f":"Tabla13[[#This Row],[Importe IVA ]]","v":{"$error":"#VALUE!"}},{"$f":"Tabla13[[#This Row],[Importe de adjudicación (IVA INCLUIDO)]]","v":{"$error":"#VALUE!"}}]
[{"$nulls":18},{"$f":"Tabla13[[#This Row],[Título del contrato]]&Tabla13[[#This Row],[Nº Expediente de la plataforma de contratación]]","v":{"$error":"#VALUE!"}},{"$f":"Tabla13[[#This Row],[Nº Expediente de la plataforma de contratación]]","v":{"$error":"#VALUE!"}},{"$f":"Tabla13[[#This Row],[Importe IVA ]]","v":{"$error":"#VALUE!"}},{"$f":"Tabla13[[#This Row],[Importe de adjudicación (IVA INCLUIDO)]]","v":{"$error":"#VALUE!"}}]
[{"$nulls":18},{"$f":"Tabla13[[#This Row],[Título del contrato]]&Tabla13[[#This Row],[Nº Expediente de la plataforma de contratación]]","v":{"$error":"#VALUE!"}},{"$f":"Tabla13[[#This Row],[Nº Expediente de la plataforma de contratación]]","v":{"$error":"#VALUE!"}},{"$f":"Tabla13[[#This Row],[Importe IVA ]]","v":{"$error":"#VALUE!"}},{"$f":"Tabla13[[#This Row],[Importe de adjudicación (IVA INCLUIDO)]]","v":{"$error":"#VALUE!"}}]
[{"$nulls":18},{"$f":"Tabla13[[#This Row],[Título del contrato]]&Tabla13[[#This Row],[Nº Expediente de la plataforma de contratación]]","v":{"$error":"#VALUE!"}},{"$f":"Tabla13[[#This Row],[Nº Expediente de la plataforma de contratación]]","v":{"$error":"#VALUE!"}},{"$f":"Tabla13[[#This Row],[Importe IVA ]]","v":{"$error":"#VALUE!"}},{"$f":"Tabla13[[#This Row],[Importe de adjudicación (IVA INCLUIDO)]]","v":{"$error":"#VALUE!"}}]
[{"$nulls":18},{"$f":"Tabla13[[#This Row],[Título del contrato]]&Tabla13[[#This Row],[Nº Expediente de la plataforma de contratación]]","v":{"$error":"#VALUE!"}},{"$f":"Tabla13[[#This Row],[Nº Expediente de la plataforma de contratación]]","v":{"$error":"#VALUE!"}},{"$f":"Tabla13[[#This Row],[Importe IVA ]]","v":{"$error":"#VALUE!"}},{"$f":"Tabla13[[#This Row],[Importe de adjudicación (IVA INCLUIDO)]]","v":{"$error":"#VALUE!"}}]
[{"$nulls":18},{"$f":"Tabla13[[#This Row],[Título del contrato]]&Tabla13[[#This Row],[Nº Expediente de la plataforma de contratación]]","v":{"$error":"#VALUE!"}},{"$f":"Tabla13[[#This Row],[Nº Expediente de la plataforma de contratación]]","v":{"$error":"#VALUE!"}},{"$f":"Tabla13[[#This Row],[Importe IVA ]]","v":{"$error":"#VALUE!"}},{"$f":"Tabla13[[#This Row],[Importe de adjudicación (IVA INCLUIDO)]]","v":{"$error":"#VALUE!"}}]
[{"$nulls":18},{"$f":"Tabla13[[#This Row],[Título del contrato]]&Tabla13[[#This Row],[Nº Expediente de la plataforma de contratación]]","v":{"$error":"#VALUE!"}},{"$f":"Tabla13[[#This Row],[Nº Expediente de la plataforma de contratación]]","v":{"$error":"#VALUE!"}},{"$f":"Tabla13[[#This Row],[Importe IVA ]]","v":{"$error":"#VALUE!"}},{"$f":"Tabla13[[#This Row],[Importe de adjudicación (IVA INCLUIDO)]]","v":{"$error":"#VALUE!"}}]
[{"$nulls":18},{"$f":"Tabla13[[#This Row],[Título del contrato]]&Tabla13[[#This Row],[Nº Expediente de la plataforma de contratación]]","v":{"$error":"#VALUE!"}},{"$f":"Tabla13[[#This Row],[Nº Expediente de la plataforma de contratación]]","v":{"$error":"#VALUE!"}},{"$f":"Tabla13[[#This Row],[Importe IVA ]]","v":{"$error":"#VALUE!"}},{"$f":"Tabla13[[#This Row],[Importe de adjudicación (IVA INCLUIDO)]]","v":{"$error":"#VALUE!"}}]
[{"$nulls":18},{"$f":"Tabla13[[#This Row],[Título del contrato]]&Tabla13[[#This Row],[Nº Expediente de la plataforma de contratación]]","v":{"$error":"#VALUE!"}},{"$f":"Tabla13[[#This Row],[Nº Expediente de la plataforma de contratación]]","v":{"$error":"#VALUE!"}},{"$f":"Tabla13[[#This Row],[Importe IVA ]]","v":{"$error":"#VALUE!"}},{"$f":"Tabla13[[#This Row],[Importe de adjudicación (IVA INCLUIDO)]]","v":{"$error":"#VALUE!"}}]
[{"$nulls":18},{"$f":"Tabla13[[#This Row],[Título del contrato]]&Tabla13[[#This Row],[Nº Expediente de la plataforma de contratación]]","v":{"$error":"#VALUE!"}},{"$f":"Tabla13[[#This Row],[Nº Expediente de la plataforma de contratación]]","v":{"$error":"#VALUE!"}},{"$f":"Tabla13[[#This Row],[Importe IVA ]]","v":{"$error":"#VALUE!"}},{"$f":"Tabla13[[#This Row],[Importe de adjudicación (IVA INCLUIDO)]]","v":{"$error":"#VALUE!"}}]
[{"$nulls":18},{"$f":"Tabla13[[#This Row],[Título del contrato]]&Tabla13[[#This Row],[Nº Expediente de la plataforma de contratación]]","v":{"$error":"#VALUE!"}},{"$f":"Tabla13[[#This Row],[Nº Expediente de la plataforma de contratación]]","v":{"$error":"#VALUE!"}},{"$f":"Tabla13[[#This Row],[Importe IVA ]]","v":{"$error":"#VALUE!"}},{"$f":"Tabla13[[#This Row],[Importe de adjudicación (IVA INCLUIDO)]]","v":{"$error":"#VALUE!"}}]
[{"$nulls":18},{"$f":"Tabla13[[#This Row],[Título del contrato]]&Tabla13[[#This Row],[Nº Expediente de la plataforma de contratación]]","v":{"$error":"#VALUE!"}},{"$f":"Tabla13[[#This Row],[Nº Expediente de la plataforma de contratación]]","v":{"$error":"#VALUE!"}},{"$f":"Tabla13[[#This Row],[Importe IVA ]]","v":{"$error":"#VALUE!"}},{"$f":"Tabla13[[#This Row],[Importe de adjudicación (IVA INCLUIDO)]]","v":{"$error":"#VALUE!"}}]
[{"$nulls":18},{"$f":"Tabla13[[#This Row],[Título del contrato]]&Tabla13[[#This Row],[Nº Expediente de la plataforma de contratación]]","v":{"$error":"#VALUE!"}},{"$f":"Tabla13[[#This Row],[Nº Expediente de la plataforma de contratación]]","v":{"$error":"#VALUE!"}},{"$f":"Tabla13[[#This Row],[Importe IVA ]]","v":{"$error":"#VALUE!"}},{"$f":"Tabla13[[#This Row],[Importe de adjudicación (IVA INCLUIDO)]]","v":{"$error":"#VALUE!"}}]
[{"$nulls":18},{"$f":"Tabla13[[#This Row],[Título del contrato]]&Tabla13[[#This Row],[Nº Expediente de la plataforma de contratación]]","v":{"$error":"#VALUE!"}},{"$f":"Tabla13[[#This Row],[Nº Expediente de la plataforma de contratación]]","v":{"$error":"#VALUE!"}},{"$f":"Tabla13[[#This Row],[Importe IVA ]]","v":{"$error":"#VALUE!"}},{"$f":"Tabla13[[#This Row],[Importe de adjudicación (IVA INCLUIDO)]]","v":{"$error":"#VALUE!"}}]
[{"$nulls":18},{"$f":"Tabla13[[#This Row],[Título del contrato]]&Tabla13[[#This Row],[Nº Expediente de la plataforma de contratación]]","v":{"$error":"#VALUE!"}},{"$f":"Tabla13[[#This Row],[Nº Expediente de la plataforma de contratación]]","v":{"$error":"#VALUE!"}},{"$f":"Tabla13[[#This Row],[Importe IVA ]]","v":{"$error":"#VALUE!"}},{"$f":"Tabla13[[#This Row],[Importe de adjudicación (IVA INCLUIDO)]]","v":{"$error":"#VALUE!"}}]
[{"$nulls":18},{"$f":"Tabla13[[#This Row],[Título del contrato]]&Tabla13[[#This Row],[Nº Expediente de la plataforma de contratación]]","v":{"$error":"#VALUE!"}},{"$f":"Tabla13[[#This Row],[Nº Expediente de la plataforma de contratación]]","v":{"$error":"#VALUE!"}},{"$f":"Tabla13[[#This Row],[Importe IVA ]]","v":{"$error":"#VALUE!"}},{"$f":"Tabla13[[#This Row],[Importe de adjudicación (IVA INCLUIDO)]]","v":{"$error":"#VALUE!"}}]
[{"$nulls":18},{"$f":"Tabla13[[#This Row],[Título del contrato]]&Tabla13[[#This Row],[Nº Expediente de la plataforma de contratación]]","v":{"$error":"#VALUE!"}},{"$f":"Tabla13[[#This Row],[Nº Expediente de la plataforma de contratación]]","v":{"$error":"#VALUE!"}},{"$f":"Tabla13[[#This Row],[Importe IVA ]]","v":{"$error":"#VALUE!"}},{"$f":"Tabla13[[#This Row],[Importe de adjudicación (IVA INCLUIDO)]]","v":{"$error":"#VALUE!"}}]
[{"$nulls":18},{"$f":"Tabla13[[#This Row],[Título del contrato]]&Tabla13[[#This Row],[Nº Expediente de la plataforma de contratación]]","v":{"$error":"#VALUE!"}},{"$f":"Tabla13[[#This Row],[Nº Expediente de la plataforma de contratación]]","v":{"$error":"#VALUE!"}},{"$f":"Tabla13[[#This Row],[Importe IVA ]]","v":{"$error":"#VALUE!"}},{"$f":"Tabla13[[#This Row],[Importe de adjudicación (IVA INCLUIDO)]]","v":{"$error":"#VALUE!"}}]
[{"$nulls":18},{"$f":"Tabla13[[#This Row],[Título del contrato]]&Tabla13[[#This Row],[Nº Expediente de la plataforma de contratación]]","v":{"$error":"#VALUE!"}},{"$f":"Tabla13[[#This Row],[Nº Expediente de la plataforma de contratación]]","v":{"$error":"#VALUE!"}},{"$f":"Tabla13[[#This Row],[Importe IVA ]]","v":{"$error":"#VALUE!"}},{"$f":"Tabla13[[#This Row],[Importe de adjudicación (IVA INCLUIDO)]]","v":{"$error":"#VALUE!"}}]
[{"$nulls":18},{"$f":"Tabla13[[#This Row],[Título del contrato]]&Tabla13[[#This Row],[Nº Expediente de la plataforma de contratación]]","v":{"$error":"#VALUE!"}},{"$f":"Tabla13[[#This Row],[Nº Expediente de la plataforma de contratación]]","v":{"$error":"#VALUE!"}},{"$f":"Tabla13[[#This Row],[Importe IVA ]]","v":{"$error":"#VALUE!"}},{"$f":"Tabla13[[#This Row],[Importe de adjudicación (IVA INCLUIDO)]]","v":{"$error":"#VALUE!"}}]
[{"$nulls":18},{"$f":"Tabla13[[#This Row],[Título del contrato]]&Tabla13[[#This Row],[Nº Expediente de la plataforma de contratación]]","v":{"$error":"#VALUE!"}},{"$f":"Tabla13[[#This Row],[Nº Expediente de la plataforma de contratación]]","v":{"$error":"#VALUE!"}},{"$f":"Tabla13[[#This Row],[Importe IVA ]]","v":{"$error":"#VALUE!"}},{"$f":"Tabla13[[#This Row],[Importe de adjudicación (IVA INCLUIDO)]]","v":{"$error":"#VALUE!"}}]
[{"$nulls":18},{"$f":"Tabla13[[#This Row],[Título del contrato]]&Tabla13[[#This Row],[Nº Expediente de la plataforma de contratación]]","v":{"$error":"#VALUE!"}},{"$f":"Tabla13[[#This Row],[Nº Expediente de la plataforma de contratación]]","v":{"$error":"#VALUE!"}},{"$f":"Tabla13[[#This Row],[Importe IVA ]]","v":{"$error":"#VALUE!"}},{"$f":"Tabla13[[#This Row],[Importe de adjudicación (IVA INCLUIDO)]]","v":{"$error":"#VALUE!"}}]
[{"$nulls":18},{"$f":"Tabla13[[#This Row],[Título del contrato]]&Tabla13[[#This Row],[Nº Expediente de la plataforma de contratación]]","v":{"$error":"#VALUE!"}},{"$f":"Tabla13[[#This Row],[Nº Expediente de la plataforma de contratación]]","v":{"$error":"#VALUE!"}},{"$f":"Tabla13[[#This Row],[Importe IVA ]]","v":{"$error":"#VALUE!"}},{"$f":"Tabla13[[#This Row],[Importe de adjudicación (IVA INCLUIDO)]]","v":{"$error":"#VALUE!"}}]
[{"$nulls":18},{"$f":"Tabla13[[#This Row],[Título del contrato]]&Tabla13[[#This Row],[Nº Expediente de la plataforma de contratación]]","v":{"$error":"#VALUE!"}},{"$f":"Tabla13[[#This Row],[Nº Expediente de la plataforma de contratación]]","v":{"$error":"#VALUE!"}},{"$f":"Tabla13[[#This Row],[Importe IVA ]]","v":{"$error":"#VALUE!"}},{"$f":"Tabla13[[#This Row],[Importe de adjudicación (IVA INCLUIDO)]]","v":{"$error":"#VALUE!"}}]
[{"$nulls":18},{"$f":"Tabla13[[#This Row],[Título del contrato]]&Tabla13[[#This Row],[Nº Expediente de la plataforma de contratación]]","v":{"$error":"#VALUE!"}},{"$f":"Tabla13[[#This Row],[Nº Expediente de la plataforma de contratación]]","v":{"$error":"#VALUE!"}},{"$f":"Tabla13[[#This Row],[Importe IVA ]]","v":{"$error":"#VALUE!"}},{"$f":"Tabla13[[#This Row],[Importe de adjudicación (IVA INCLUIDO)]]","v":{"$error":"#VALUE!"}}]
[{"$nulls":18},{"$f":"Tabla13[[#This Row],[Título del contrato]]&Tabla13[[#This Row],[Nº Expediente de la plataforma de contratación]]","v":{"$error":"#VALUE!"}},{"$f":"Tabla13[[#This Row],[Nº Expediente de la plataforma de contratación]]","v":{"$error":"#VALUE!"}},{"$f":"Tabla13[[#This Row],[Importe IVA ]]","v":{"$error":"#VALUE!"}},{"$f":"Tabla13[[#This Row],[Importe de adjudicación (IVA INCLUIDO)]]","v":{"$error":"#VALUE!"}}]
[{"$nulls":18},{"$f":"Tabla13[[#This Row],[Título del contrato]]&Tabla13[[#This Row],[Nº Expediente de la plataforma de contratación]]","v":{"$error":"#VALUE!"}},{"$f":"Tabla13[[#This Row],[Nº Expediente de la plataforma de contratación]]","v":{"$error":"#VALUE!"}},{"$f":"Tabla13[[#This Row],[Importe IVA ]]","v":{"$error":"#VALUE!"}},{"$f":"Tabla13[[#This Row],[Importe de adjudicación (IVA INCLUIDO)]]","v":{"$error":"#VALUE!"}}]
[{"$nulls":18},{"$f":"Tabla13[[#This Row],[Título del contrato]]&Tabla13[[#This Row],[Nº Expediente de la plataforma de contratación]]","v":{"$error":"#VALUE!"}},{"$f":"Tabla13[[#This Row],[Nº Expediente de la plataforma de contratación]]","v":{"$error":"#VALUE!"}},{"$f":"Tabla13[[#This Row],[Importe IVA ]]","v":{"$error":"#VALUE!"}},{"$f":"Tabla13[[#This Row],[Importe de adjudicación (IVA INCLUIDO)]]","v":{"$error":"#VALUE!"}}]
[{"$nulls":18},{"$f":"Tabla13[[#This Row],[Título del contrato]]&Tabla13[[#This Row],[Nº Expediente de la plataforma de contratación]]","v":{"$error":"#VALUE!"}},{"$f":"Tabla13[[#This Row],[Nº Expediente de la plataforma de contratación]]","v":{"$error":"#VALUE!"}},{"$f":"Tabla13[[#This Row],[Importe IVA ]]","v":{"$error":"#VALUE!"}},{"$f":"Tabla13[[#This Row],[Importe de adjudicación (IVA INCLUIDO)]]","v":{"$error":"#VALUE!"}}]
[{"$nulls":18},{"$f":"Tabla13[[#This Row],[Título del contrato]]&Tabla13[[#This Row],[Nº Expediente de la plataforma de contratación]]","v":{"$error":"#VALUE!"}},{"$f":"Tabla13[[#This Row],[Nº Expediente de la plataforma de contratación]]","v":{"$error":"#VALUE!"}},{"$f":"Tabla13[[#This Row],[Importe IVA ]]","v":{"$error":"#VALUE!"}},{"$f":"Tabla13[[#This Row],[Importe de adjudicación (IVA INCLUIDO)]]","v":{"$error":"#VALUE!"}}]
[{"$nulls":18},{"$f":"Tabla13[[#This Row],[Título del contrato]]&Tabla13[[#This Row],[Nº Expediente de la plataforma de contratación]]","v":{"$error":"#VALUE!"}},{"$f":"Tabla13[[#This Row],[Nº Expediente de la plataforma de contratación]]","v":{"$error":"#VALUE!"}},{"$f":"Tabla13[[#This Row],[Importe IVA ]]","v":{"$error":"#VALUE!"}},{"$f":"Tabla13[[#This Row],[Importe de adjudicación (IVA INCLUIDO)]]","v":{"$error":"#VALUE!"}}]
[{"$nulls":18},{"$f":"Tabla13[[#This Row],[Título del contrato]]&Tabla13[[#This Row],[Nº Expediente de la plataforma de contratación]]","v":{"$error":"#VALUE!"}},{"$f":"Tabla13[[#This Row],[Nº Expediente de la plataforma de contratación]]","v":{"$error":"#VALUE!"}},{"$f":"Tabla13[[#This Row],[Importe IVA ]]","v":{"$error":"#VALUE!"}},{"$f":"Tabla13[[#This Row],[Importe de adjudicación (IVA INCLUIDO)]]","v":{"$error":"#VALUE!"}}]
[{"$nulls":18},{"$f":"Tabla13[[#This Row],[Título del contrato]]&Tabla13[[#This Row],[Nº Expediente de la plataforma de contratación]]","v":{"$error":"#VALUE!"}},{"$f":"Tabla13[[#This Row],[Nº Expediente de la plataforma de contratación]]","v":{"$error":"#VALUE!"}},{"$f":"Tabla13[[#This Row],[Importe IVA ]]","v":{"$error":"#VALUE!"}},{"$f":"Tabla13[[#This Row],[Importe de adjudicación (IVA INCLUIDO)]]","v":{"$error":"#VALUE!"}}]
[{"$nulls":18},{"$f":"Tabla13[[#This Row],[Título del contrato]]&Tabla13[[#This Row],[Nº Expediente de la plataforma de contratación]]","v":{"$error":"#VALUE!"}},{"$f":"Tabla13[[#This Row],[Nº Expediente de la plataforma de contratación]]","v":{"$error":"#VALUE!"}},{"$f":"Tabla13[[#This Row],[Importe IVA ]]","v":{"$error":"#VALUE!"}},{"$f":"Tabla13[[#This Row],[Importe de adjudicación (IVA INCLUIDO)]]","v":{"$error":"#VALUE!"}}]
[{"$nulls":18},{"$f":"Tabla13[[#This Row],[Título del contrato]]&Tabla13[[#This Row],[Nº Expediente de la plataforma de contratación]]","v":{"$error":"#VALUE!"}},{"$f":"Tabla13[[#This Row],[Nº Expediente de la plataforma de contratación]]","v":{"$error":"#VALUE!"}},{"$f":"Tabla13[[#This Row],[Importe IVA ]]","v":{"$error":"#VALUE!"}},{"$f":"Tabla13[[#This Row],[Importe de adjudicación (IVA INCLUIDO)]]","v":{"$error":"#VALUE!"}}]
[{"$nulls":18},{"$f":"Tabla13[[#This Row],[Título del contrato]]&Tabla13[[#This Row],[Nº Expediente de la plataforma de contratación]]","v":{"$error":"#VALUE!"}},{"$f":"Tabla13[[#This Row],[Nº Expediente de la plataforma de contratación]]","v":{"$error":"#VALUE!"}},{"$f":"Tabla13[[#This Row],[Importe IVA ]]","v":{"$error":"#VALUE!"}},{"$f":"Tabla13[[#This Row],[Importe de adjudicación (IVA INCLUIDO)]]","v":{"$error":"#VALUE!"}}]
[{"$nulls":18},{"$f":"Tabla13[[#This Row],[Título del contrato]]&Tabla13[[#This Row],[Nº Expediente de la plataforma de contratación]]","v":{"$error":"#VALUE!"}},{"$f":"Tabla13[[#This Row],[Nº Expediente de la plataforma de contratación]]","v":{"$error":"#VALUE!"}},{"$f":"Tabla13[[#This Row],[Importe IVA ]]","v":{"$error":"#VALUE!"}},{"$f":"Tabla13[[#This Row],[Importe de adjudicación (IVA INCLUIDO)]]","v":{"$error":"#VALUE!"}}]
[{"$nulls":18},{"$f":"Tabla13[[#This Row],[Título del contrato]]&Tabla13[[#This Row],[Nº Expediente de la plataforma de contratación]]","v":{"$error":"#VALUE!"}},{"$f":"Tabla13[[#This Row],[Nº Expediente de la plataforma de contratación]]","v":{"$error":"#VALUE!"}},{"$f":"Tabla13[[#This Row],[Importe IVA ]]","v":{"$error":"#VALUE!"}},{"$f":"Tabla13[[#This Row],[Importe de adjudicación (IVA INCLUIDO)]]","v":{"$error":"#VALUE!"}}]
[{"$nulls":18},{"$f":"Tabla13[[#This Row],[Título del contrato]]&Tabla13[[#This Row],[Nº Expediente de la plataforma de contratación]]","v":{"$error":"#VALUE!"}},{"$f":"Tabla13[[#This Row],[Nº Expediente de la plataforma de contratación]]","v":{"$error":"#VALUE!"}},{"$f":"Tabla13[[#This Row],[Importe IVA ]]","v":{"$error":"#VALUE!"}},{"$f":"Tabla13[[#This Row],[Importe de adjudicación (IVA INCLUIDO)]]","v":{"$error":"#VALUE!"}}]
[{"$nulls":18},{"$f":"Tabla13[[#This Row],[Título del contrato]]&Tabla13[[#This Row],[Nº Expediente de la plataforma de contratación]]","v":{"$error":"#VALUE!"}},{"$f":"Tabla13[[#This Row],[Nº Expediente de la plataforma de contratación]]","v":{"$error":"#VALUE!"}},{"$f":"Tabla13[[#This Row],[Importe IVA ]]","v":{"$error":"#VALUE!"}},{"$f":"Tabla13[[#This Row],[Importe de adjudicación (IVA INCLUIDO)]]","v":{"$error":"#VALUE!"}}]
[{"$nulls":18},{"$f":"Tabla13[[#This Row],[Título del contrato]]&Tabla13[[#This Row],[Nº Expediente de la plataforma de contratación]]","v":{"$error":"#VALUE!"}},{"$f":"Tabla13[[#This Row],[Nº Expediente de la plataforma de contratación]]","v":{"$error":"#VALUE!"}},{"$f":"Tabla13[[#This Row],[Importe IVA ]]","v":{"$error":"#VALUE!"}},{"$f":"Tabla13[[#This Row],[Importe de adjudicación (IVA INCLUIDO)]]","v":{"$error":"#VALUE!"}}]
[{"$nulls":18},{"$f":"Tabla13[[#This Row],[Título del contrato]]&Tabla13[[#This Row],[Nº Expediente de la plataforma de contratación]]","v":{"$error":"#VALUE!"}},{"$f":"Tabla13[[#This Row],[Nº Expediente de la plataforma de contratación]]","v":{"$error":"#VALUE!"}},{"$f":"Tabla13[[#This Row],[Importe IVA ]]","v":{"$error":"#VALUE!"}},{"$f":"Tabla13[[#This Row],[Importe de adjudicación (IVA INCLUIDO)]]","v":{"$error":"#VALUE!"}}]
[{"$nulls":18},{"$f":"Tabla13[[#This Row],[Título del contrato]]&Tabla13[[#This Row],[Nº Expediente de la plataforma de contratación]]","v":{"$error":"#VALUE!"}},{"$f":"Tabla13[[#This Row],[Nº Expediente de la plataforma de contratación]]","v":{"$error":"#VALUE!"}},{"$f":"Tabla13[[#This Row],[Importe IVA ]]","v":{"$error":"#VALUE!"}},{"$f":"Tabla13[[#This Row],[Importe de adjudicación (IVA INCLUIDO)]]","v":{"$error":"#VALUE!"}}]
[{"$nulls":18},{"$f":"Tabla13[[#This Row],[Título del contrato]]&Tabla13[[#This Row],[Nº Expediente de la plataforma de contratación]]","v":{"$error":"#VALUE!"}},{"$f":"Tabla13[[#This Row],[Nº Expediente de la plataforma de contratación]]","v":{"$error":"#VALUE!"}},{"$f":"Tabla13[[#This Row],[Importe IVA ]]","v":{"$error":"#VALUE!"}},{"$f":"Tabla13[[#This Row],[Importe de adjudicación (IVA INCLUIDO)]]","v":{"$error":"#VALUE!"}}]
[{"$nulls":18},{"$f":"Tabla13[[#This Row],[Título del contrato]]&Tabla13[[#This Row],[Nº Expediente de la plataforma de contratación]]","v":{"$error":"#VALUE!"}},{"$f":"Tabla13[[#This Row],[Nº Expediente de la plataforma de contratación]]","v":{"$error":"#VALUE!"}},{"$f":"Tabla13[[#This Row],[Importe IVA ]]","v":{"$error":"#VALUE!"}},{"$f":"Tabla13[[#This Row],[Importe de adjudicación (IVA INCLUIDO)]]","v":{"$error":"#VALUE!"}}]
[{"$nulls":18},{"$f":"Tabla13[[#This Row],[Título del contrato]]&Tabla13[[#This Row],[Nº Expediente de la plataforma de contratación]]","v":{"$error":"#VALUE!"}},{"$f":"Tabla13[[#This Row],[Nº Expediente de la plataforma de contratación]]","v":{"$error":"#VALUE!"}},{"$f":"Tabla13[[#This Row],[Importe IVA ]]","v":{"$error":"#VALUE!"}},{"$f":"Tabla13[[#This Row],[Importe de adjudicación (IVA INCLUIDO)]]","v":{"$error":"#VALUE!"}}]
[{"$nulls":18},{"$f":"Tabla13[[#This Row],[Título del contrato]]&Tabla13[[#This Row],[Nº Expediente de la plataforma de contratación]]","v":{"$error":"#VALUE!"}},{"$f":"Tabla13[[#This Row],[Nº Expediente de la plataforma de contratación]]","v":{"$error":"#VALUE!"}},{"$f":"Tabla13[[#This Row],[Importe IVA ]]","v":{"$error":"#VALUE!"}},{"$f":"Tabla13[[#This Row],[Importe de adjudicación (IVA INCLUIDO)]]","v":{"$error":"#VALUE!"}}]
[{"$nulls":18},{"$f":"Tabla13[[#This Row],[Título del contrato]]&Tabla13[[#This Row],[Nº Expediente de la plataforma de contratación]]","v":{"$error":"#VALUE!"}},{"$f":"Tabla13[[#This Row],[Nº Expediente de la plataforma de contratación]]","v":{"$error":"#VALUE!"}},{"$f":"Tabla13[[#This Row],[Importe IVA ]]","v":{"$error":"#VALUE!"}},{"$f":"Tabla13[[#This Row],[Importe de adjudicación (IVA INCLUIDO)]]","v":{"$error":"#VALUE!"}}]
[{"$nulls":18},{"$f":"Tabla13[[#This Row],[Título del contrato]]&Tabla13[[#This Row],[Nº Expediente de la plataforma de contratación]]","v":{"$error":"#VALUE!"}},{"$f":"Tabla13[[#This Row],[Nº Expediente de la plataforma de contratación]]","v":{"$error":"#VALUE!"}},{"$f":"Tabla13[[#This Row],[Importe IVA ]]","v":{"$error":"#VALUE!"}},{"$f":"Tabla13[[#This Row],[Importe de adjudicación (IVA INCLUIDO)]]","v":{"$error":"#VALUE!"}}]
[{"$nulls":18},{"$f":"Tabla13[[#This Row],[Título del contrato]]&Tabla13[[#This Row],[Nº Expediente de la plataforma de contratación]]","v":{"$error":"#VALUE!"}},{"$f":"Tabla13[[#This Row],[Nº Expediente de la plataforma de contratación]]","v":{"$error":"#VALUE!"}},{"$f":"Tabla13[[#This Row],[Importe IVA ]]","v":{"$error":"#VALUE!"}},{"$f":"Tabla13[[#This Row],[Importe de adjudicación (IVA INCLUIDO)]]","v":{"$error":"#VALUE!"}}]
[{"$nulls":18},{"$f":"Tabla13[[#This Row],[Título del contrato]]&Tabla13[[#This Row],[Nº Expediente de la plataforma de contratación]]","v":{"$error":"#VALUE!"}},{"$f":"Tabla13[[#This Row],[Nº Expediente de la plataforma de contratación]]","v":{"$error":"#VALUE!"}},{"$f":"Tabla13[[#This Row],[Importe IVA ]]","v":{"$error":"#VALUE!"}},{"$f":"Tabla13[[#This Row],[Importe de adjudicación (IVA INCLUIDO)]]","v":{"$error":"#VALUE!"}}]
[{"$nulls":18},{"$f":"Tabla13[[#This Row],[Título del contrato]]&Tabla13[[#This Row],[Nº Expediente de la plataforma de contratación]]","v":{"$error":"#VALUE!"}},{"$f":"Tabla13[[#This Row],[Nº Expediente de la plataforma de contratación]]","v":{"$error":"#VALUE!"}},{"$f":"Tabla13[[#This Row],[Importe IVA ]]","v":{"$error":"#VALUE!"}},{"$f":"Tabla13[[#This Row],[Importe de adjudicación (IVA INCLUIDO)]]","v":{"$error":"#VALUE!"}}]
[{"$nulls":18},{"$f":"Tabla13[[#This Row],[Título del contrato]]&Tabla13[[#This Row],[Nº Expediente de la plataforma de contratación]]","v":{"$error":"#VALUE!"}},{"$f":"Tabla13[[#This Row],[Nº Expediente de la plataforma de contratación]]","v":{"$error":"#VALUE!"}},{"$f":"Tabla13[[#This Row],[Importe IVA ]]","v":{"$error":"#VALUE!"}},{"$f":"Tabla13[[#This Row],[Importe de adjudicación (IVA INCLUIDO)]]","v":{"$error":"#VALUE!"}}]
[{"$nulls":18},{"$f":"Tabla13[[#This Row],[Título del contrato]]&Tabla13[[#This Row],[Nº Expediente de la plataforma de contratación]]","v":{"$error":"#VALUE!"}},{"$f":"Tabla13[[#This Row],[Nº Expediente de la plataforma de contratación]]","v":{"$error":"#VALUE!"}},{"$f":"Tabla13[[#This Row],[Importe IVA ]]","v":{"$error":"#VALUE!"}},{"$f":"Tabla13[[#This Row],[Importe de adjudicación (IVA INCLUIDO)]]","v":{"$error":"#VALUE!"}}]
[{"$nulls":18},{"$f":"Tabla13[[#This Row],[Título del contrato]]&Tabla13[[#This Row],[Nº Expediente de la plataforma de contratación]]","v":{"$error":"#VALUE!"}},{"$f":"Tabla13[[#This Row],[Nº Expediente de la plataforma de contratación]]","v":{"$error":"#VALUE!"}},{"$f":"Tabla13[[#This Row],[Importe IVA ]]","v":{"$error":"#VALUE!"}},{"$f":"Tabla13[[#This Row],[Importe de adjudicación (IVA INCLUIDO)]]","v":{"$error":"#VALUE!"}}]
[{"$nulls":18},{"$f":"Tabla13[[#This Row],[Título del contrato]]&Tabla13[[#This Row],[Nº Expediente de la plataforma de contratación]]","v":{"$error":"#VALUE!"}},{"$f":"Tabla13[[#This Row],[Nº Expediente de la plataforma de contratación]]","v":{"$error":"#VALUE!"}},{"$f":"Tabla13[[#This Row],[Importe IVA ]]","v":{"$error":"#VALUE!"}},{"$f":"Tabla13[[#This Row],[Importe de adjudicación (IVA INCLUIDO)]]","v":{"$error":"#VALUE!"}}]
[{"$nulls":18},{"$f":"Tabla13[[#This Row],[Título del contrato]]&Tabla13[[#This Row],[Nº Expediente de la plataforma de contratación]]","v":{"$error":"#VALUE!"}},{"$f":"Tabla13[[#This Row],[Nº Expediente de la plataforma de contratación]]","v":{"$error":"#VALUE!"}},{"$f":"Tabla13[[#This Row],[Importe IVA ]]","v":{"$error":"#VALUE!"}},{"$f":"Tabla13[[#This Row],[Importe de adjudicación (IVA INCLUIDO)]]","v":{"$error":"#VALUE!"}}]
[{"$nulls":18},{"$f":"Tabla13[[#This Row],[Título del contrato]]&Tabla13[[#This Row],[Nº Expediente de la plataforma de contratación]]","v":{"$error":"#VALUE!"}},{"$f":"Tabla13[[#This Row],[Nº Expediente de la plataforma de contratación]]","v":{"$error":"#VALUE!"}},{"$f":"Tabla13[[#This Row],[Importe IVA ]]","v":{"$error":"#VALUE!"}},{"$f":"Tabla13[[#This Row],[Importe de adjudicación (IVA INCLUIDO)]]","v":{"$error":"#VALUE!"}}]
[{"$nulls":18},{"$f":"Tabla13[[#This Row],[Título del contrato]]&Tabla13[[#This Row],[Nº Expediente de la plataforma de contratación]]","v":{"$error":"#VALUE!"}},{"$f":"Tabla13[[#This Row],[Nº Expediente de la plataforma de contratación]]","v":{"$error":"#VALUE!"}},{"$f":"Tabla13[[#This Row],[Importe IVA ]]","v":{"$error":"#VALUE!"}},{"$f":"Tabla13[[#This Row],[Importe de adjudicación (IVA INCLUIDO)]]","v":{"$error":"#VALUE!"}}]
[{"$nulls":18},{"$f":"Tabla13[[#This Row],[Título del contrato]]&Tabla13[[#This Row],[Nº Expediente de la plataforma de contratación]]","v":{"$error":"#VALUE!"}},{"$f":"Tabla13[[#This Row],[Nº Expediente de la plataforma de contratación]]","v":{"$error":"#VALUE!"}},{"$f":"Tabla13[[#This Row],[Importe IVA ]]","v":{"$error":"#VALUE!"}},{"$f":"Tabla13[[#This Row],[Importe de adjudicación (IVA INCLUIDO)]]","v":{"$error":"#VALUE!"}}]
[{"$nulls":18},{"$f":"Tabla13[[#This Row],[Título del contrato]]&Tabla13[[#This Row],[Nº Expediente de la plataforma de contratación]]","v":{"$error":"#VALUE!"}},{"$f":"Tabla13[[#This Row],[Nº Expediente de la plataforma de contratación]]","v":{"$error":"#VALUE!"}},{"$f":"Tabla13[[#This Row],[Importe IVA ]]","v":{"$error":"#VALUE!"}},{"$f":"Tabla13[[#This Row],[Importe de adjudicación (IVA INCLUIDO)]]","v":{"$error":"#VALUE!"}}]
[{"$nulls":18},{"$f":"Tabla13[[#This Row],[Título del contrato]]&Tabla13[[#This Row],[Nº Expediente de la plataforma de contratación]]","v":{"$error":"#VALUE!"}},{"$f":"Tabla13[[#This Row],[Nº Expediente de la plataforma de contratación]]","v":{"$error":"#VALUE!"}},{"$f":"Tabla13[[#This Row],[Importe IVA ]]","v":{"$error":"#VALUE!"}},{"$f":"Tabla13[[#This Row],[Importe de adjudicación (IVA INCLUIDO)]]","v":{"$error":"#VALUE!"}}]
[{"$nulls":18},{"$f":"Tabla13[[#This Row],[Título del contrato]]&Tabla13[[#This Row],[Nº Expediente de la plataforma de contratación]]","v":{"$error":"#VALUE!"}},{"$f":"Tabla13[[#This Row],[Nº Expediente de la plataforma de contratación]]","v":{"$error":"#VALUE!"}},{"$f":"Tabla13[[#This Row],[Importe IVA ]]","v":{"$error":"#VALUE!"}},{"$f":"Tabla13[[#This Row],[Importe de adjudicación (IVA INCLUIDO)]]","v":{"$error":"#VALUE!"}}]
[{"$nulls":18},{"$f":"Tabla13[[#This Row],[Título del contrato]]&Tabla13[[#This Row],[Nº Expediente de la plataforma de contratación]]","v":{"$error":"#VALUE!"}},{"$f":"Tabla13[[#This Row],[Nº Expediente de la plataforma de contratación]]","v":{"$error":"#VALUE!"}},{"$f":"Tabla13[[#This Row],[Importe IVA ]]","v":{"$error":"#VALUE!"}},{"$f":"Tabla13[[#This Row],[Importe de adjudicación (IVA INCLUIDO)]]","v":{"$error":"#VALUE!"}}]
[{"$nulls":18},{"$f":"Tabla13[[#This Row],[Título del contrato]]&Tabla13[[#This Row],[Nº Expediente de la plataforma de contratación]]","v":{"$error":"#VALUE!"}},{"$f":"Tabla13[[#This Row],[Nº Expediente de la plataforma de contratación]]","v":{"$error":"#VALUE!"}},{"$f":"Tabla13[[#This Row],[Importe IVA ]]","v":{"$error":"#VALUE!"}},{"$f":"Tabla13[[#This Row],[Importe de adjudicación (IVA INCLUIDO)]]","v":{"$error":"#VALUE!"}}]
[{"$nulls":18},{"$f":"Tabla13[[#This Row],[Título del contrato]]&Tabla13[[#This Row],[Nº Expediente de la plataforma de contratación]]","v":{"$error":"#VALUE!"}},{"$f":"Tabla13[[#This Row],[Nº Expediente de la plataforma de contratación]]","v":{"$error":"#VALUE!"}},{"$f":"Tabla13[[#This Row],[Importe IVA ]]","v":{"$error":"#VALUE!"}},{"$f":"Tabla13[[#This Row],[Importe de adjudicación (IVA INCLUIDO)]]","v":{"$error":"#VALUE!"}}]
[{"$nulls":18},{"$f":"Tabla13[[#This Row],[Título del contrato]]&Tabla13[[#This Row],[Nº Expediente de la plataforma de contratación]]","v":{"$error":"#VALUE!"}},{"$f":"Tabla13[[#This Row],[Nº Expediente de la plataforma de contratación]]","v":{"$error":"#VALUE!"}},{"$f":"Tabla13[[#This Row],[Importe IVA ]]","v":{"$error":"#VALUE!"}},{"$f":"Tabla13[[#This Row],[Importe de adjudicación (IVA INCLUIDO)]]","v":{"$error":"#VALUE!"}}]
[{"$nulls":18},{"$f":"Tabla13[[#This Row],[Título del contrato]]&Tabla13[[#This Row],[Nº Expediente de la plataforma de contratación]]","v":{"$error":"#VALUE!"}},{"$f":"Tabla13[[#This Row],[Nº Expediente de la plataforma de contratación]]","v":{"$error":"#VALUE!"}},{"$f":"Tabla13[[#This Row],[Importe IVA ]]","v":{"$error":"#VALUE!"}},{"$f":"Tabla13[[#This Row],[Importe de adjudicación (IVA INCLUIDO)]]","v":{"$error":"#VALUE!"}}]
[{"$nulls":18},{"$f":"Tabla13[[#This Row],[Título del contrato]]&Tabla13[[#This Row],[Nº Expediente de la plataforma de contratación]]","v":{"$error":"#VALUE!"}},{"$f":"Tabla13[[#This Row],[Nº Expediente de la plataforma de contratación]]","v":{"$error":"#VALUE!"}},{"$f":"Tabla13[[#This Row],[Importe IVA ]]","v":{"$error":"#VALUE!"}},{"$f":"Tabla13[[#This Row],[Importe de adjudicación (IVA INCLUIDO)]]","v":{"$error":"#VALUE!"}}]
[{"$nulls":18},{"$f":"Tabla13[[#This Row],[Título del contrato]]&Tabla13[[#This Row],[Nº Expediente de la plataforma de contratación]]","v":{"$error":"#VALUE!"}},{"$f":"Tabla13[[#This Row],[Nº Expediente de la plataforma de contratación]]","v":{"$error":"#VALUE!"}},{"$f":"Tabla13[[#This Row],[Importe IVA ]]","v":{"$error":"#VALUE!"}},{"$f":"Tabla13[[#This Row],[Importe de adjudicación (IVA INCLUIDO)]]","v":{"$error":"#VALUE!"}}]
[{"$nulls":18},{"$f":"Tabla13[[#This Row],[Título del contrato]]&Tabla13[[#This Row],[Nº Expediente de la plataforma de contratación]]","v":{"$error":"#VALUE!"}},{"$f":"Tabla13[[#This Row],[Nº Expediente de la plataforma de contratación]]","v":{"$error":"#VALUE!"}},{"$f":"Tabla13[[#This Row],[Importe IVA ]]","v":{"$error":"#VALUE!"}},{"$f":"Tabla13[[#This Row],[Importe de adjudicación (IVA INCLUIDO)]]","v":{"$error":"#VALUE!"}}]
[{"$nulls":18},{"$f":"Tabla13[[#This Row],[Título del contrato]]&Tabla13[[#This Row],[Nº Expediente de la plataforma de contratación]]","v":{"$error":"#VALUE!"}},{"$f":"Tabla13[[#This Row],[Nº Expediente de la plataforma de contratación]]","v":{"$error":"#VALUE!"}},{"$f":"Tabla13[[#This Row],[Importe IVA ]]","v":{"$error":"#VALUE!"}},{"$f":"Tabla13[[#This Row],[Importe de adjudicación (IVA INCLUIDO)]]","v":{"$error":"#VALUE!"}}]
[{"$nulls":18},{"$f":"Tabla13[[#This Row],[Título del contrato]]&Tabla13[[#This Row],[Nº Expediente de la plataforma de contratación]]","v":{"$error":"#VALUE!"}},{"$f":"Tabla13[[#This Row],[Nº Expediente de la plataforma de contratación]]","v":{"$error":"#VALUE!"}},{"$f":"Tabla13[[#This Row],[Importe IVA ]]","v":{"$error":"#VALUE!"}},{"$f":"Tabla13[[#This Row],[Importe de adjudicación (IVA INCLUIDO)]]","v":{"$error":"#VALUE!"}}]
[{"$nulls":18},{"$f":"Tabla13[[#This Row],[Título del contrato]]&Tabla13[[#This Row],[Nº Expediente de la plataforma de contratación]]","v":{"$error":"#VALUE!"}},{"$f":"Tabla13[[#This Row],[Nº Expediente de la plataforma de contratación]]","v":{"$error":"#VALUE!"}},{"$f":"Tabla13[[#This Row],[Importe IVA ]]","v":{"$error":"#VALUE!"}},{"$f":"Tabla13[[#This Row],[Importe de adjudicación (IVA INCLUIDO)]]","v":{"$error":"#VALUE!"}}]
[{"$nulls":18},{"$f":"Tabla13[[#This Row],[Título del contrato]]&Tabla13[[#This Row],[Nº Expediente de la plataforma de contratación]]","v":{"$error":"#VALUE!"}},{"$f":"Tabla13[[#This Row],[Nº Expediente de la plataforma de contratación]]","v":{"$error":"#VALUE!"}},{"$f":"Tabla13[[#This Row],[Importe IVA ]]","v":{"$error":"#VALUE!"}},{"$f":"Tabla13[[#This Row],[Importe de adjudicación (IVA INCLUIDO)]]","v":{"$error":"#VALUE!"}}]
[{"$nulls":18},{"$f":"Tabla13[[#This Row],[Título del contrato]]&Tabla13[[#This Row],[Nº Expediente de la plataforma de contratación]]","v":{"$error":"#VALUE!"}},{"$f":"Tabla13[[#This Row],[Nº Expediente de la plataforma de contratación]]","v":{"$error":"#VALUE!"}},{"$f":"Tabla13[[#This Row],[Importe IVA ]]","v":{"$error":"#VALUE!"}},{"$f":"Tabla13[[#This Row],[Importe de adjudicación (IVA INCLUIDO)]]","v":{"$error":"#VALUE!"}}]
[{"$nulls":18},{"$f":"Tabla13[[#This Row],[Título del contrato]]&Tabla13[[#This Row],[Nº Expediente de la plataforma de contratación]]","v":{"$error":"#VALUE!"}},{"$f":"Tabla13[[#This Row],[Nº Expediente de la plataforma de contratación]]","v":{"$error":"#VALUE!"}},{"$f":"Tabla13[[#This Row],[Importe IVA ]]","v":{"$error":"#VALUE!"}},{"$f":"Tabla13[[#This Row],[Importe de adjudicación (IVA INCLUIDO)]]","v":{"$error":"#VALUE!"}}]
[{"$nulls":18},{"$f":"Tabla13[[#This Row],[Título del contrato]]&Tabla13[[#This Row],[Nº Expediente de la plataforma de contratación]]","v":{"$error":"#VALUE!"}},{"$f":"Tabla13[[#This Row],[Nº Expediente de la plataforma de contratación]]","v":{"$error":"#VALUE!"}},{"$f":"Tabla13[[#This Row],[Importe IVA ]]","v":{"$error":"#VALUE!"}},{"$f":"Tabla13[[#This Row],[Importe de adjudicación (IVA INCLUIDO)]]","v":{"$error":"#VALUE!"}}]
[{"$nulls":18},{"$f":"Tabla13[[#This Row],[Título del contrato]]&Tabla13[[#This Row],[Nº Expediente de la plataforma de contratación]]","v":{"$error":"#VALUE!"}},{"$f":"Tabla13[[#This Row],[Nº Expediente de la plataforma de contratación]]","v":{"$error":"#VALUE!"}},{"$f":"Tabla13[[#This Row],[Importe IVA ]]","v":{"$error":"#VALUE!"}},{"$f":"Tabla13[[#This Row],[Importe de adjudicación (IVA INCLUIDO)]]","v":{"$error":"#VALUE!"}}]
[{"$nulls":18},{"$f":"Tabla13[[#This Row],[Título del contrato]]&Tabla13[[#This Row],[Nº Expediente de la plataforma de contratación]]","v":{"$error":"#VALUE!"}},{"$f":"Tabla13[[#This Row],[Nº Expediente de la plataforma de contratación]]","v":{"$error":"#VALUE!"}},{"$f":"Tabla13[[#This Row],[Importe IVA ]]","v":{"$error":"#VALUE!"}},{"$f":"Tabla13[[#This Row],[Importe de adjudicación (IVA INCLUIDO)]]","v":{"$error":"#VALUE!"}}]
[{"$nulls":18},{"$f":"Tabla13[[#This Row],[Título del contrato]]&Tabla13[[#This Row],[Nº Expediente de la plataforma de contratación]]","v":{"$error":"#VALUE!"}},{"$f":"Tabla13[[#This Row],[Nº Expediente de la plataforma de contratación]]","v":{"$error":"#VALUE!"}},{"$f":"Tabla13[[#This Row],[Importe IVA ]]","v":{"$error":"#VALUE!"}},{"$f":"Tabla13[[#This Row],[Importe de adjudicación (IVA INCLUIDO)]]","v":{"$error":"#VALUE!"}}]
[{"$nulls":18},{"$f":"Tabla13[[#This Row],[Título del contrato]]&Tabla13[[#This Row],[Nº Expediente de la plataforma de contratación]]","v":{"$error":"#VALUE!"}},{"$f":"Tabla13[[#This Row],[Nº Expediente de la plataforma de contratación]]","v":{"$error":"#VALUE!"}},{"$f":"Tabla13[[#This Row],[Importe IVA ]]","v":{"$error":"#VALUE!"}},{"$f":"Tabla13[[#This Row],[Importe de adjudicación (IVA INCLUIDO)]]","v":{"$error":"#VALUE!"}}]
[{"$nulls":18},{"$f":"Tabla13[[#This Row],[Título del contrato]]&Tabla13[[#This Row],[Nº Expediente de la plataforma de contratación]]","v":{"$error":"#VALUE!"}},{"$f":"Tabla13[[#This Row],[Nº Expediente de la plataforma de contratación]]","v":{"$error":"#VALUE!"}},{"$f":"Tabla13[[#This Row],[Importe IVA ]]","v":{"$error":"#VALUE!"}},{"$f":"Tabla13[[#This Row],[Importe de adjudicación (IVA INCLUIDO)]]","v":{"$error":"#VALUE!"}}]
[{"$nulls":18},{"$f":"Tabla13[[#This Row],[Título del contrato]]&Tabla13[[#This Row],[Nº Expediente de la plataforma de contratación]]","v":{"$error":"#VALUE!"}},{"$f":"Tabla13[[#This Row],[Nº Expediente de la plataforma de contratación]]","v":{"$error":"#VALUE!"}},{"$f":"Tabla13[[#This Row],[Importe IVA ]]","v":{"$error":"#VALUE!"}},{"$f":"Tabla13[[#This Row],[Importe de adjudicación (IVA INCLUIDO)]]","v":{"$error":"#VALUE!"}}]
[{"$nulls":18},{"$f":"Tabla13[[#This Row],[Título del contrato]]&Tabla13[[#This Row],[Nº Expediente de la plataforma de contratación]]","v":{"$error":"#VALUE!"}},{"$f":"Tabla13[[#This Row],[Nº Expediente de la plataforma de contratación]]","v":{"$error":"#VALUE!"}},{"$f":"Tabla13[[#This Row],[Importe IVA ]]","v":{"$error":"#VALUE!"}},{"$f":"Tabla13[[#This Row],[Importe de adjudicación (IVA INCLUIDO)]]","v":{"$error":"#VALUE!"}}]
[{"$nulls":18},{"$f":"Tabla13[[#This Row],[Título del contrato]]&Tabla13[[#This Row],[Nº Expediente de la plataforma de contratación]]","v":{"$error":"#VALUE!"}},{"$f":"Tabla13[[#This Row],[Nº Expediente de la plataforma de contratación]]","v":{"$error":"#VALUE!"}},{"$f":"Tabla13[[#This Row],[Importe IVA ]]","v":{"$error":"#VALUE!"}},{"$f":"Tabla13[[#This Row],[Importe de adjudicación (IVA INCLUIDO)]]","v":{"$error":"#VALUE!"}}]
[{"$nulls":18},{"$f":"Tabla13[[#This Row],[Título del contrato]]&Tabla13[[#This Row],[Nº Expediente de la plataforma de contratación]]","v":{"$error":"#VALUE!"}},{"$f":"Tabla13[[#This Row],[Nº Expediente de la plataforma de contratación]]","v":{"$error":"#VALUE!"}},{"$f":"Tabla13[[#This Row],[Importe IVA ]]","v":{"$error":"#VALUE!"}},{"$f":"Tabla13[[#This Row],[Importe de adjudicación (IVA INCLUIDO)]]","v":{"$error":"#VALUE!"}}]
[{"$nulls":18},{"$f":"Tabla13[[#This Row],[Título del contrato]]&Tabla13[[#This Row],[Nº Expediente de la plataforma de contratación]]","v":{"$error":"#VALUE!"}},{"$f":"Tabla13[[#This Row],[Nº Expediente de la plataforma de contratación]]","v":{"$error":"#VALUE!"}},{"$f":"Tabla13[[#This Row],[Importe IVA ]]","v":{"$error":"#VALUE!"}},{"$f":"Tabla13[[#This Row],[Importe de adjudicación (IVA INCLUIDO)]]","v":{"$error":"#VALUE!"}}]
[{"$nulls":18},{"$f":"Tabla13[[#This Row],[Título del contrato]]&Tabla13[[#This Row],[Nº Expediente de la plataforma de contratación]]","v":{"$error":"#VALUE!"}},{"$f":"Tabla13[[#This Row],[Nº Expediente de la plataforma de contratación]]","v":{"$error":"#VALUE!"}},{"$f":"Tabla13[[#This Row],[Importe IVA ]]","v":{"$error":"#VALUE!"}},{"$f":"Tabla13[[#This Row],[Importe de adjudicación (IVA INCLUIDO)]]","v":{"$error":"#VALUE!"}}]
[{"$nulls":18},{"$f":"Tabla13[[#This Row],[Título del contrato]]&Tabla13[[#This Row],[Nº Expediente de la plataforma de contratación]]","v":{"$error":"#VALUE!"}},{"$f":"Tabla13[[#This Row],[Nº Expediente de la plataforma de contratación]]","v":{"$error":"#VALUE!"}},{"$f":"Tabla13[[#This Row],[Importe IVA ]]","v":{"$error":"#VALUE!"}},{"$f":"Tabla13[[#This Row],[Importe de adjudicación (IVA INCLUIDO)]]","v":{"$error":"#VALUE!"}}]
[{"$nulls":18},{"$f":"Tabla13[[#This Row],[Título del contrato]]&Tabla13[[#This Row],[Nº Expediente de la plataforma de contratación]]","v":{"$error":"#VALUE!"}},{"$f":"Tabla13[[#This Row],[Nº Expediente de la plataforma de contratación]]","v":{"$error":"#VALUE!"}},{"$f":"Tabla13[[#This Row],[Importe IVA ]]","v":{"$error":"#VALUE!"}},{"$f":"Tabla13[[#This Row],[Importe de adjudicación (IVA INCLUIDO)]]","v":{"$error":"#VALUE!"}}]
[{"$nulls":18},{"$f":"Tabla13[[#This Row],[Título del contrato]]&Tabla13[[#This Row],[Nº Expediente de la plataforma de contratación]]","v":{"$error":"#VALUE!"}},{"$f":"Tabla13[[#This Row],[Nº Expediente de la plataforma de contratación]]","v":{"$error":"#VALUE!"}},{"$f":"Tabla13[[#This Row],[Importe IVA ]]","v":{"$error":"#VALUE!"}},{"$f":"Tabla13[[#This Row],[Importe de adjudicación (IVA INCLUIDO)]]","v":{"$error":"#VALUE!"}}]
[{"$nulls":18},{"$f":"Tabla13[[#This Row],[Título del contrato]]&Tabla13[[#This Row],[Nº Expediente de la plataforma de contratación]]","v":{"$error":"#VALUE!"}},{"$f":"Tabla13[[#This Row],[Nº Expediente de la plataforma de contratación]]","v":{"$error":"#VALUE!"}},{"$f":"Tabla13[[#This Row],[Importe IVA ]]","v":{"$error":"#VALUE!"}},{"$f":"Tabla13[[#This Row],[Importe de adjudicación (IVA INCLUIDO)]]","v":{"$error":"#VALUE!"}}]
[{"$nulls":18},{"$f":"Tabla13[[#This Row],[Título del contrato]]&Tabla13[[#This Row],[Nº Expediente de la plataforma de contratación]]","v":{"$error":"#VALUE!"}},{"$f":"Tabla13[[#This Row],[Nº Expediente de la plataforma de contratación]]","v":{"$error":"#VALUE!"}},{"$f":"Tabla13[[#This Row],[Importe IVA ]]","v":{"$error":"#VALUE!"}},{"$f":"Tabla13[[#This Row],[Importe de adjudicación (IVA INCLUIDO)]]","v":{"$error":"#VALUE!"}}]
[{"$nulls":18},{"$f":"Tabla13[[#This Row],[Título del contrato]]&Tabla13[[#This Row],[Nº Expediente de la plataforma de contratación]]","v":{"$error":"#VALUE!"}},{"$f":"Tabla13[[#This Row],[Nº Expediente de la plataforma de contratación]]","v":{"$error":"#VALUE!"}},{"$f":"Tabla13[[#This Row],[Importe IVA ]]","v":{"$error":"#VALUE!"}},{"$f":"Tabla13[[#This Row],[Importe de adjudicación (IVA INCLUIDO)]]","v":{"$error":"#VALUE!"}}]
[{"$nulls":18},{"$f":"Tabla13[[#This Row],[Título del contrato]]&Tabla13[[#This Row],[Nº Expediente de la plataforma de contratación]]","v":{"$error":"#VALUE!"}},{"$f":"Tabla13[[#This Row],[Nº Expediente de la plataforma de contratación]]","v":{"$error":"#VALUE!"}},{"$f":"Tabla13[[#This Row],[Importe IVA ]]","v":{"$error":"#VALUE!"}},{"$f":"Tabla13[[#This Row],[Importe de adjudicación (IVA INCLUIDO)]]","v":{"$error":"#VALUE!"}}]
[{"$nulls":18},{"$f":"Tabla13[[#This Row],[Título del contrato]]&Tabla13[[#This Row],[Nº Expediente de la plataforma de contratación]]","v":{"$error":"#VALUE!"}},{"$f":"Tabla13[[#This Row],[Nº Expediente de la plataforma de contratación]]","v":{"$error":"#VALUE!"}},{"$f":"Tabla13[[#This Row],[Importe IVA ]]","v":{"$error":"#VALUE!"}},{"$f":"Tabla13[[#This Row],[Importe de adjudicación (IVA INCLUIDO)]]","v":{"$error":"#VALUE!"}}]
[{"$nulls":18},{"$f":"Tabla13[[#This Row],[Título del contrato]]&Tabla13[[#This Row],[Nº Expediente de la plataforma de contratación]]","v":{"$error":"#VALUE!"}},{"$f":"Tabla13[[#This Row],[Nº Expediente de la plataforma de contratación]]","v":{"$error":"#VALUE!"}},{"$f":"Tabla13[[#This Row],[Importe IVA ]]","v":{"$error":"#VALUE!"}},{"$f":"Tabla13[[#This Row],[Importe de adjudicación (IVA INCLUIDO)]]","v":{"$error":"#VALUE!"}}]
[{"$nulls":18},{"$f":"Tabla13[[#This Row],[Título del contrato]]&Tabla13[[#This Row],[Nº Expediente de la plataforma de contratación]]","v":{"$error":"#VALUE!"}},{"$f":"Tabla13[[#This Row],[Nº Expediente de la plataforma de contratación]]","v":{"$error":"#VALUE!"}},{"$f":"Tabla13[[#This Row],[Importe IVA ]]","v":{"$error":"#VALUE!"}},{"$f":"Tabla13[[#This Row],[Importe de adjudicación (IVA INCLUIDO)]]","v":{"$error":"#VALUE!"}}]
[{"$nulls":18},{"$f":"Tabla13[[#This Row],[Título del contrato]]&Tabla13[[#This Row],[Nº Expediente de la plataforma de contratación]]","v":{"$error":"#VALUE!"}},{"$f":"Tabla13[[#This Row],[Nº Expediente de la plataforma de contratación]]","v":{"$error":"#VALUE!"}},{"$f":"Tabla13[[#This Row],[Importe IVA ]]","v":{"$error":"#VALUE!"}},{"$f":"Tabla13[[#This Row],[Importe de adjudicación (IVA INCLUIDO)]]","v":{"$error":"#VALUE!"}}]
[{"$nulls":18},{"$f":"Tabla13[[#This Row],[Título del contrato]]&Tabla13[[#This Row],[Nº Expediente de la plataforma de contratación]]","v":{"$error":"#VALUE!"}},{"$f":"Tabla13[[#This Row],[Nº Expediente de la plataforma de contratación]]","v":{"$error":"#VALUE!"}},{"$f":"Tabla13[[#This Row],[Importe IVA ]]","v":{"$error":"#VALUE!"}},{"$f":"Tabla13[[#This Row],[Importe de adjudicación (IVA INCLUIDO)]]","v":{"$error":"#VALUE!"}}]
[{"$nulls":18},{"$f":"Tabla13[[#This Row],[Título del contrato]]&Tabla13[[#This Row],[Nº Expediente de la plataforma de contratación]]","v":{"$error":"#VALUE!"}},{"$f":"Tabla13[[#This Row],[Nº Expediente de la plataforma de contratación]]","v":{"$error":"#VALUE!"}},{"$f":"Tabla13[[#This Row],[Importe IVA ]]","v":{"$error":"#VALUE!"}},{"$f":"Tabla13[[#This Row],[Importe de adjudicación (IVA INCLUIDO)]]","v":{"$error":"#VALUE!"}}]
[{"$nulls":18},{"$f":"Tabla13[[#This Row],[Título del contrato]]&Tabla13[[#This Row],[Nº Expediente de la plataforma de contratación]]","v":{"$error":"#VALUE!"}},{"$f":"Tabla13[[#This Row],[Nº Expediente de la plataforma de contratación]]","v":{"$error":"#VALUE!"}},{"$f":"Tabla13[[#This Row],[Importe IVA ]]","v":{"$error":"#VALUE!"}},{"$f":"Tabla13[[#This Row],[Importe de adjudicación (IVA INCLUIDO)]]","v":{"$error":"#VALUE!"}}]
[{"$nulls":18},{"$f":"Tabla13[[#This Row],[Título del contrato]]&Tabla13[[#This Row],[Nº Expediente de la plataforma de contratación]]","v":{"$error":"#VALUE!"}},{"$f":"Tabla13[[#This Row],[Nº Expediente de la plataforma de contratación]]","v":{"$error":"#VALUE!"}},{"$f":"Tabla13[[#This Row],[Importe IVA ]]","v":{"$error":"#VALUE!"}},{"$f":"Tabla13[[#This Row],[Importe de adjudicación (IVA INCLUIDO)]]","v":{"$error":"#VALUE!"}}]
[{"$nulls":18},{"$f":"Tabla13[[#This Row],[Título del contrato]]&Tabla13[[#This Row],[Nº Expediente de la plataforma de contratación]]","v":{"$error":"#VALUE!"}},{"$f":"Tabla13[[#This Row],[Nº Expediente de la plataforma de contratación]]","v":{"$error":"#VALUE!"}},{"$f":"Tabla13[[#This Row],[Importe IVA ]]","v":{"$error":"#VALUE!"}},{"$f":"Tabla13[[#This Row],[Importe de adjudicación (IVA INCLUIDO)]]","v":{"$error":"#VALUE!"}}]
[{"$nulls":18},{"$f":"Tabla13[[#This Row],[Título del contrato]]&Tabla13[[#This Row],[Nº Expediente de la plataforma de contratación]]","v":{"$error":"#VALUE!"}},{"$f":"Tabla13[[#This Row],[Nº Expediente de la plataforma de contratación]]","v":{"$error":"#VALUE!"}},{"$f":"Tabla13[[#This Row],[Importe IVA ]]","v":{"$error":"#VALUE!"}},{"$f":"Tabla13[[#This Row],[Importe de adjudicación (IVA INCLUIDO)]]","v":{"$error":"#VALUE!"}}]
[{"$nulls":18},{"$f":"Tabla13[[#This Row],[Título del contrato]]&Tabla13[[#This Row],[Nº Expediente de la plataforma de contratación]]","v":{"$error":"#VALUE!"}},{"$f":"Tabla13[[#This Row],[Nº Expediente de la plataforma de contratación]]","v":{"$error":"#VALUE!"}},{"$f":"Tabla13[[#This Row],[Importe IVA ]]","v":{"$error":"#VALUE!"}},{"$f":"Tabla13[[#This Row],[Importe de adjudicación (IVA INCLUIDO)]]","v":{"$error":"#VALUE!"}}]
[{"$nulls":18},{"$f":"Tabla13[[#This Row],[Título del contrato]]&Tabla13[[#This Row],[Nº Expediente de la plataforma de contratación]]","v":{"$error":"#VALUE!"}},{"$f":"Tabla13[[#This Row],[Nº Expediente de la plataforma de contratación]]","v":{"$error":"#VALUE!"}},{"$f":"Tabla13[[#This Row],[Importe IVA ]]","v":{"$error":"#VALUE!"}},{"$f":"Tabla13[[#This Row],[Importe de adjudicación (IVA INCLUIDO)]]","v":{"$error":"#VALUE!"}}]
[{"$nulls":18},{"$f":"Tabla13[[#This Row],[Título del contrato]]&Tabla13[[#This Row],[Nº Expediente de la plataforma de contratación]]","v":{"$error":"#VALUE!"}},{"$f":"Tabla13[[#This Row],[Nº Expediente de la plataforma de contratación]]","v":{"$error":"#VALUE!"}},{"$f":"Tabla13[[#This Row],[Importe IVA ]]","v":{"$error":"#VALUE!"}},{"$f":"Tabla13[[#This Row],[Importe de adjudicación (IVA INCLUIDO)]]","v":{"$error":"#VALUE!"}}]
[{"$nulls":18},{"$f":"Tabla13[[#This Row],[Título del contrato]]&Tabla13[[#This Row],[Nº Expediente de la plataforma de contratación]]","v":{"$error":"#VALUE!"}},{"$f":"Tabla13[[#This Row],[Nº Expediente de la plataforma de contratación]]","v":{"$error":"#VALUE!"}},{"$f":"Tabla13[[#This Row],[Importe IVA ]]","v":{"$error":"#VALUE!"}},{"$f":"Tabla13[[#This Row],[Importe de adjudicación (IVA INCLUIDO)]]","v":{"$error":"#VALUE!"}}]
[{"$nulls":18},{"$f":"Tabla13[[#This Row],[Título del contrato]]&Tabla13[[#This Row],[Nº Expediente de la plataforma de contratación]]","v":{"$error":"#VALUE!"}},{"$f":"Tabla13[[#This Row],[Nº Expediente de la plataforma de contratación]]","v":{"$error":"#VALUE!"}},{"$f":"Tabla13[[#This Row],[Importe IVA ]]","v":{"$error":"#VALUE!"}},{"$f":"Tabla13[[#This Row],[Importe de adjudicación (IVA INCLUIDO)]]","v":{"$error":"#VALUE!"}}]
[{"$nulls":18},{"$f":"Tabla13[[#This Row],[Título del contrato]]&Tabla13[[#This Row],[Nº Expediente de la plataforma de contratación]]","v":{"$error":"#VALUE!"}},{"$f":"Tabla13[[#This Row],[Nº Expediente de la plataforma de contratación]]","v":{"$error":"#VALUE!"}},{"$f":"Tabla13[[#This Row],[Importe IVA ]]","v":{"$error":"#VALUE!"}},{"$f":"Tabla13[[#This Row],[Importe de adjudicación (IVA INCLUIDO)]]","v":{"$error":"#VALUE!"}}]
[{"$nulls":18},{"$f":"Tabla13[[#This Row],[Título del contrato]]&Tabla13[[#This Row],[Nº Expediente de la plataforma de contratación]]","v":{"$error":"#VALUE!"}},{"$f":"Tabla13[[#This Row],[Nº Expediente de la plataforma de contratación]]","v":{"$error":"#VALUE!"}},{"$f":"Tabla13[[#This Row],[Importe IVA ]]","v":{"$error":"#VALUE!"}},{"$f":"Tabla13[[#This Row],[Importe de adjudicación (IVA INCLUIDO)]]","v":{"$error":"#VALUE!"}}]
[{"$nulls":18},{"$f":"Tabla13[[#This Row],[Título del contrato]]&Tabla13[[#This Row],[Nº Expediente de la plataforma de contratación]]","v":{"$error":"#VALUE!"}},{"$f":"Tabla13[[#This Row],[Nº Expediente de la plataforma de contratación]]","v":{"$error":"#VALUE!"}},{"$f":"Tabla13[[#This Row],[Importe IVA ]]","v":{"$error":"#VALUE!"}},{"$f":"Tabla13[[#This Row],[Importe de adjudicación (IVA INCLUIDO)]]","v":{"$error":"#VALUE!"}}]
[{"$nulls":18},{"$f":"Tabla13[[#This Row],[Título del contrato]]&Tabla13[[#This Row],[Nº Expediente de la plataforma de contratación]]","v":{"$error":"#VALUE!"}},{"$f":"Tabla13[[#This Row],[Nº Expediente de la plataforma de contratación]]","v":{"$error":"#VALUE!"}},{"$f":"Tabla13[[#This Row],[Importe IVA ]]","v":{"$error":"#VALUE!"}},{"$f":"Tabla13[[#This Row],[Importe de adjudicación (IVA INCLUIDO)]]","v":{"$error":"#VALUE!"}}]
[{"$nulls":18},{"$f":"Tabla13[[#This Row],[Título del contrato]]&Tabla13[[#This Row],[Nº Expediente de la plataforma de contratación]]","v":{"$error":"#VALUE!"}},{"$f":"Tabla13[[#This Row],[Nº Expediente de la plataforma de contratación]]","v":{"$error":"#VALUE!"}},{"$f":"Tabla13[[#This Row],[Importe IVA ]]","v":{"$error":"#VALUE!"}},{"$f":"Tabla13[[#This Row],[Importe de adjudicación (IVA INCLUIDO)]]","v":{"$error":"#VALUE!"}}]
[{"$nulls":18},{"$f":"Tabla13[[#This Row],[Título del contrato]]&Tabla13[[#This Row],[Nº Expediente de la plataforma de contratación]]","v":{"$error":"#VALUE!"}},{"$f":"Tabla13[[#This Row],[Nº Expediente de la plataforma de contratación]]","v":{"$error":"#VALUE!"}},{"$f":"Tabla13[[#This Row],[Importe IVA ]]","v":{"$error":"#VALUE!"}},{"$f":"Tabla13[[#This Row],[Importe de adjudicación (IVA INCLUIDO)]]","v":{"$error":"#VALUE!"}}]
[{"$nulls":18},{"$f":"Tabla13[[#This Row],[Título del contrato]]&Tabla13[[#This Row],[Nº Expediente de la plataforma de contratación]]","v":{"$error":"#VALUE!"}},{"$f":"Tabla13[[#This Row],[Nº Expediente de la plataforma de contratación]]","v":{"$error":"#VALUE!"}},{"$f":"Tabla13[[#This Row],[Importe IVA ]]","v":{"$error":"#VALUE!"}},{"$f":"Tabla13[[#This Row],[Importe de adjudicación (IVA INCLUIDO)]]","v":{"$error":"#VALUE!"}}]
[{"$nulls":18},{"$f":"Tabla13[[#This Row],[Título del contrato]]&Tabla13[[#This Row],[Nº Expediente de la plataforma de contratación]]","v":{"$error":"#VALUE!"}},{"$f":"Tabla13[[#This Row],[Nº Expediente de la plataforma de contratación]]","v":{"$error":"#VALUE!"}},{"$f":"Tabla13[[#This Row],[Importe IVA ]]","v":{"$error":"#VALUE!"}},{"$f":"Tabla13[[#This Row],[Importe de adjudicación (IVA INCLUIDO)]]","v":{"$error":"#VALUE!"}}]
[{"$nulls":18},{"$f":"Tabla13[[#This Row],[Título del contrato]]&Tabla13[[#This Row],[Nº Expediente de la plataforma de contratación]]","v":{"$error":"#VALUE!"}},{"$f":"Tabla13[[#This Row],[Nº Expediente de la plataforma de contratación]]","v":{"$error":"#VALUE!"}},{"$f":"Tabla13[[#This Row],[Importe IVA ]]","v":{"$error":"#VALUE!"}},{"$f":"Tabla13[[#This Row],[Importe de adjudicación (IVA INCLUIDO)]]","v":{"$error":"#VALUE!"}}]
[{"$nulls":18},{"$f":"Tabla13[[#This Row],[Título del contrato]]&Tabla13[[#This Row],[Nº Expediente de la plataforma de contratación]]","v":{"$error":"#VALUE!"}},{"$f":"Tabla13[[#This Row],[Nº Expediente de la plataforma de contratación]]","v":{"$error":"#VALUE!"}},{"$f":"Tabla13[[#This Row],[Importe IVA ]]","v":{"$error":"#VALUE!"}},{"$f":"Tabla13[[#This Row],[Importe de adjudicación (IVA INCLUIDO)]]","v":{"$error":"#VALUE!"}}]
[{"$nulls":18},{"$f":"Tabla13[[#This Row],[Título del contrato]]&Tabla13[[#This Row],[Nº Expediente de la plataforma de contratación]]","v":{"$error":"#VALUE!"}},{"$f":"Tabla13[[#This Row],[Nº Expediente de la plataforma de contratación]]","v":{"$error":"#VALUE!"}},{"$f":"Tabla13[[#This Row],[Importe IVA ]]","v":{"$error":"#VALUE!"}},{"$f":"Tabla13[[#This Row],[Importe de adjudicación (IVA INCLUIDO)]]","v":{"$error":"#VALUE!"}}]
[{"$nulls":18},{"$f":"Tabla13[[#This Row],[Título del contrato]]&Tabla13[[#This Row],[Nº Expediente de la plataforma de contratación]]","v":{"$error":"#VALUE!"}},{"$f":"Tabla13[[#This Row],[Nº Expediente de la plataforma de contratación]]","v":{"$error":"#VALUE!"}},{"$f":"Tabla13[[#This Row],[Importe IVA ]]","v":{"$error":"#VALUE!"}},{"$f":"Tabla13[[#This Row],[Importe de adjudicación (IVA INCLUIDO)]]","v":{"$error":"#VALUE!"}}]
[{"$nulls":18},{"$f":"Tabla13[[#This Row],[Título del contrato]]&Tabla13[[#This Row],[Nº Expediente de la plataforma de contratación]]","v":{"$error":"#VALUE!"}},{"$f":"Tabla13[[#This Row],[Nº Expediente de la plataforma de contratación]]","v":{"$error":"#VALUE!"}},{"$f":"Tabla13[[#This Row],[Importe IVA ]]","v":{"$error":"#VALUE!"}},{"$f":"Tabla13[[#This Row],[Importe de adjudicación (IVA INCLUIDO)]]","v":{"$error":"#VALUE!"}}]
[{"$nulls":18},{"$f":"Tabla13[[#This Row],[Título del contrato]]&Tabla13[[#This Row],[Nº Expediente de la plataforma de contratación]]","v":{"$error":"#VALUE!"}},{"$f":"Tabla13[[#This Row],[Nº Expediente de la plataforma de contratación]]","v":{"$error":"#VALUE!"}},{"$f":"Tabla13[[#This Row],[Importe IVA ]]","v":{"$error":"#VALUE!"}},{"$f":"Tabla13[[#This Row],[Importe de adjudicación (IVA INCLUIDO)]]","v":{"$error":"#VALUE!"}}]
[{"$nulls":18},{"$f":"Tabla13[[#This Row],[Título del contrato]]&Tabla13[[#This Row],[Nº Expediente de la plataforma de contratación]]","v":{"$error":"#VALUE!"}},{"$f":"Tabla13[[#This Row],[Nº Expediente de la plataforma de contratación]]","v":{"$error":"#VALUE!"}},{"$f":"Tabla13[[#This Row],[Importe IVA ]]","v":{"$error":"#VALUE!"}},{"$f":"Tabla13[[#This Row],[Importe de adjudicación (IVA INCLUIDO)]]","v":{"$error":"#VALUE!"}}]
[{"$nulls":18},{"$f":"Tabla13[[#This Row],[Título del contrato]]&Tabla13[[#This Row],[Nº Expediente de la plataforma de contratación]]","v":{"$error":"#VALUE!"}},{"$f":"Tabla13[[#This Row],[Nº Expediente de la plataforma de contratación]]","v":{"$error":"#VALUE!"}},{"$f":"Tabla13[[#This Row],[Importe IVA ]]","v":{"$error":"#VALUE!"}},{"$f":"Tabla13[[#This Row],[Importe de adjudicación (IVA INCLUIDO)]]","v":{"$error":"#VALUE!"}}]
[{"$nulls":18},{"$f":"Tabla13[[#This Row],[Título del contrato]]&Tabla13[[#This Row],[Nº Expediente de la plataforma de contratación]]","v":{"$error":"#VALUE!"}},{"$f":"Tabla13[[#This Row],[Nº Expediente de la plataforma de contratación]]","v":{"$error":"#VALUE!"}},{"$f":"Tabla13[[#This Row],[Importe IVA ]]","v":{"$error":"#VALUE!"}},{"$f":"Tabla13[[#This Row],[Importe de adjudicación (IVA INCLUIDO)]]","v":{"$error":"#VALUE!"}}]
[{"$nulls":18},{"$f":"Tabla13[[#This Row],[Título del contrato]]&Tabla13[[#This Row],[Nº Expediente de la plataforma de contratación]]","v":{"$error":"#VALUE!"}},{"$f":"Tabla13[[#This Row],[Nº Expediente de la plataforma de contratación]]","v":{"$error":"#VALUE!"}},{"$f":"Tabla13[[#This Row],[Importe IVA ]]","v":{"$error":"#VALUE!"}},{"$f":"Tabla13[[#This Row],[Importe de adjudicación (IVA INCLUIDO)]]","v":{"$error":"#VALUE!"}}]
[{"$nulls":18},{"$f":"Tabla13[[#This Row],[Título del contrato]]&Tabla13[[#This Row],[Nº Expediente de la plataforma de contratación]]","v":{"$error":"#VALUE!"}},{"$f":"Tabla13[[#This Row],[Nº Expediente de la plataforma de contratación]]","v":{"$error":"#VALUE!"}},{"$f":"Tabla13[[#This Row],[Importe IVA ]]","v":{"$error":"#VALUE!"}},{"$f":"Tabla13[[#This Row],[Importe de adjudicación (IVA INCLUIDO)]]","v":{"$error":"#VALUE!"}}]
[{"$nulls":18},{"$f":"Tabla13[[#This Row],[Título del contrato]]&Tabla13[[#This Row],[Nº Expediente de la plataforma de contratación]]","v":{"$error":"#VALUE!"}},{"$f":"Tabla13[[#This Row],[Nº Expediente de la plataforma de contratación]]","v":{"$error":"#VALUE!"}},{"$f":"Tabla13[[#This Row],[Importe IVA ]]","v":{"$error":"#VALUE!"}},{"$f":"Tabla13[[#This Row],[Importe de adjudicación (IVA INCLUIDO)]]","v":{"$error":"#VALUE!"}}]
[{"$nulls":18},{"$f":"Tabla13[[#This Row],[Título del contrato]]&Tabla13[[#This Row],[Nº Expediente de la plataforma de contratación]]","v":{"$error":"#VALUE!"}},{"$f":"Tabla13[[#This Row],[Nº Expediente de la plataforma de contratación]]","v":{"$error":"#VALUE!"}},{"$f":"Tabla13[[#This Row],[Importe IVA ]]","v":{"$error":"#VALUE!"}},{"$f":"Tabla13[[#This Row],[Importe de adjudicación (IVA INCLUIDO)]]","v":{"$error":"#VALUE!"}}]
[{"$nulls":18},{"$f":"Tabla13[[#This Row],[Título del contrato]]&Tabla13[[#This Row],[Nº Expediente de la plataforma de contratación]]","v":{"$error":"#VALUE!"}},{"$f":"Tabla13[[#This Row],[Nº Expediente de la plataforma de contratación]]","v":{"$error":"#VALUE!"}},{"$f":"Tabla13[[#This Row],[Importe IVA ]]","v":{"$error":"#VALUE!"}},{"$f":"Tabla13[[#This Row],[Importe de adjudicación (IVA INCLUIDO)]]","v":{"$error":"#VALUE!"}}]
[{"$nulls":18},{"$f":"Tabla13[[#This Row],[Título del contrato]]&Tabla13[[#This Row],[Nº Expediente de la plataforma de contratación]]","v":{"$error":"#VALUE!"}},{"$f":"Tabla13[[#This Row],[Nº Expediente de la plataforma de contratación]]","v":{"$error":"#VALUE!"}},{"$f":"Tabla13[[#This Row],[Importe IVA ]]","v":{"$error":"#VALUE!"}},{"$f":"Tabla13[[#This Row],[Importe de adjudicación (IVA INCLUIDO)]]","v":{"$error":"#VALUE!"}}]
[{"$nulls":18},{"$f":"Tabla13[[#This Row],[Título del contrato]]&Tabla13[[#This Row],[Nº Expediente de la plataforma de contratación]]","v":{"$error":"#VALUE!"}},{"$f":"Tabla13[[#This Row],[Nº Expediente de la plataforma de contratación]]","v":{"$error":"#VALUE!"}},{"$f":"Tabla13[[#This Row],[Importe IVA ]]","v":{"$error":"#VALUE!"}},{"$f":"Tabla13[[#This Row],[Importe de adjudicación (IVA INCLUIDO)]]","v":{"$error":"#VALUE!"}}]
[{"$nulls":18},{"$f":"Tabla13[[#This Row],[Título del contrato]]&Tabla13[[#This Row],[Nº Expediente de la plataforma de contratación]]","v":{"$error":"#VALUE!"}},{"$f":"Tabla13[[#This Row],[Nº Expediente de la plataforma de contratación]]","v":{"$error":"#VALUE!"}},{"$f":"Tabla13[[#This Row],[Importe IVA ]]","v":{"$error":"#VALUE!"}},{"$f":"Tabla13[[#This Row],[Importe de adjudicación (IVA INCLUIDO)]]","v":{"$error":"#VALUE!"}}]
[{"$nulls":18},{"$f":"Tabla13[[#This Row],[Título del contrato]]&Tabla13[[#This Row],[Nº Expediente de la plataforma de contratación]]","v":{"$error":"#VALUE!"}},{"$f":"Tabla13[[#This Row],[Nº Expediente de la plataforma de contratación]]","v":{"$error":"#VALUE!"}},{"$f":"Tabla13[[#This Row],[Importe IVA ]]","v":{"$error":"#VALUE!"}},{"$f":"Tabla13[[#This Row],[Importe de adjudicación (IVA INCLUIDO)]]","v":{"$error":"#VALUE!"}}]
[{"$nulls":18},{"$f":"Tabla13[[#This Row],[Título del contrato]]&Tabla13[[#This Row],[Nº Expediente de la plataforma de contratación]]","v":{"$error":"#VALUE!"}},{"$f":"Tabla13[[#This Row],[Nº Expediente de la plataforma de contratación]]","v":{"$error":"#VALUE!"}},{"$f":"Tabla13[[#This Row],[Importe IVA ]]","v":{"$error":"#VALUE!"}},{"$f":"Tabla13[[#This Row],[Importe de adjudicación (IVA INCLUIDO)]]","v":{"$error":"#VALUE!"}}]
[{"$nulls":18},{"$f":"Tabla13[[#This Row],[Título del contrato]]&Tabla13[[#This Row],[Nº Expediente de la plataforma de contratación]]","v":{"$error":"#VALUE!"}},{"$f":"Tabla13[[#This Row],[Nº Expediente de la plataforma de contratación]]","v":{"$error":"#VALUE!"}},{"$f":"Tabla13[[#This Row],[Importe IVA ]]","v":{"$error":"#VALUE!"}},{"$f":"Tabla13[[#This Row],[Importe de adjudicación (IVA INCLUIDO)]]","v":{"$error":"#VALUE!"}}]
[{"$nulls":18},{"$f":"Tabla13[[#This Row],[Título del contrato]]&Tabla13[[#This Row],[Nº Expediente de la plataforma de contratación]]","v":{"$error":"#VALUE!"}},{"$f":"Tabla13[[#This Row],[Nº Expediente de la plataforma de contratación]]","v":{"$error":"#VALUE!"}},{"$f":"Tabla13[[#This Row],[Importe IVA ]]","v":{"$error":"#VALUE!"}},{"$f":"Tabla13[[#This Row],[Importe de adjudicación (IVA INCLUIDO)]]","v":{"$error":"#VALUE!"}}]
[{"$nulls":18},{"$f":"Tabla13[[#This Row],[Título del contrato]]&Tabla13[[#This Row],[Nº Expediente de la plataforma de contratación]]","v":{"$error":"#VALUE!"}},{"$f":"Tabla13[[#This Row],[Nº Expediente de la plataforma de contratación]]","v":{"$error":"#VALUE!"}},{"$f":"Tabla13[[#This Row],[Importe IVA ]]","v":{"$error":"#VALUE!"}},{"$f":"Tabla13[[#This Row],[Importe de adjudicación (IVA INCLUIDO)]]","v":{"$error":"#VALUE!"}}]
[{"$nulls":18},{"$f":"Tabla13[[#This Row],[Título del contrato]]&Tabla13[[#This Row],[Nº Expediente de la plataforma de contratación]]","v":{"$error":"#VALUE!"}},{"$f":"Tabla13[[#This Row],[Nº Expediente de la plataforma de contratación]]","v":{"$error":"#VALUE!"}},{"$f":"Tabla13[[#This Row],[Importe IVA ]]","v":{"$error":"#VALUE!"}},{"$f":"Tabla13[[#This Row],[Importe de adjudicación (IVA INCLUIDO)]]","v":{"$error":"#VALUE!"}}]
[{"$nulls":18},{"$f":"Tabla13[[#This Row],[Título del contrato]]&Tabla13[[#This Row],[Nº Expediente de la plataforma de contratación]]","v":{"$error":"#VALUE!"}},{"$f":"Tabla13[[#This Row],[Nº Expediente de la plataforma de contratación]]","v":{"$error":"#VALUE!"}},{"$f":"Tabla13[[#This Row],[Importe IVA ]]","v":{"$error":"#VALUE!"}},{"$f":"Tabla13[[#This Row],[Importe de adjudicación (IVA INCLUIDO)]]","v":{"$error":"#VALUE!"}}]
[{"$nulls":18},{"$f":"Tabla13[[#This Row],[Título del contrato]]&Tabla13[[#This Row],[Nº Expediente de la plataforma de contratación]]","v":{"$error":"#VALUE!"}},{"$f":"Tabla13[[#This Row],[Nº Expediente de la plataforma de contratación]]","v":{"$error":"#VALUE!"}},{"$f":"Tabla13[[#This Row],[Importe IVA ]]","v":{"$error":"#VALUE!"}},{"$f":"Tabla13[[#This Row],[Importe de adjudicación (IVA INCLUIDO)]]","v":{"$error":"#VALUE!"}}]
[{"$nulls":18},{"$f":"Tabla13[[#This Row],[Título del contrato]]&Tabla13[[#This Row],[Nº Expediente de la plataforma de contratación]]","v":{"$error":"#VALUE!"}},{"$f":"Tabla13[[#This Row],[Nº Expediente de la plataforma de contratación]]","v":{"$error":"#VALUE!"}},{"$f":"Tabla13[[#This Row],[Importe IVA ]]","v":{"$error":"#VALUE!"}},{"$f":"Tabla13[[#This Row],[Importe de adjudicación (IVA INCLUIDO)]]","v":{"$error":"#VALUE!"}}]
[{"$nulls":18},{"$f":"Tabla13[[#This Row],[Título del contrato]]&Tabla13[[#This Row],[Nº Expediente de la plataforma de contratación]]","v":{"$error":"#VALUE!"}},{"$f":"Tabla13[[#This Row],[Nº Expediente de la plataforma de contratación]]","v":{"$error":"#VALUE!"}},{"$f":"Tabla13[[#This Row],[Importe IVA ]]","v":{"$error":"#VALUE!"}},{"$f":"Tabla13[[#This Row],[Importe de adjudicación (IVA INCLUIDO)]]","v":{"$error":"#VALUE!"}}]
[{"$nulls":18},{"$f":"Tabla13[[#This Row],[Título del contrato]]&Tabla13[[#This Row],[Nº Expediente de la plataforma de contratación]]","v":{"$error":"#VALUE!"}},{"$f":"Tabla13[[#This Row],[Nº Expediente de la plataforma de contratación]]","v":{"$error":"#VALUE!"}},{"$f":"Tabla13[[#This Row],[Importe IVA ]]","v":{"$error":"#VALUE!"}},{"$f":"Tabla13[[#This Row],[Importe de adjudicación (IVA INCLUIDO)]]","v":{"$error":"#VALUE!"}}]
[{"$nulls":18},{"$f":"Tabla13[[#This Row],[Título del contrato]]&Tabla13[[#This Row],[Nº Expediente de la plataforma de contratación]]","v":{"$error":"#VALUE!"}},{"$f":"Tabla13[[#This Row],[Nº Expediente de la plataforma de contratación]]","v":{"$error":"#VALUE!"}},{"$f":"Tabla13[[#This Row],[Importe IVA ]]","v":{"$error":"#VALUE!"}},{"$f":"Tabla13[[#This Row],[Importe de adjudicación (IVA INCLUIDO)]]","v":{"$error":"#VALUE!"}}]
[{"$nulls":18},{"$f":"Tabla13[[#This Row],[Título del contrato]]&Tabla13[[#This Row],[Nº Expediente de la plataforma de contratación]]","v":{"$error":"#VALUE!"}},{"$f":"Tabla13[[#This Row],[Nº Expediente de la plataforma de contratación]]","v":{"$error":"#VALUE!"}},{"$f":"Tabla13[[#This Row],[Importe IVA ]]","v":{"$error":"#VALUE!"}},{"$f":"Tabla13[[#This Row],[Importe de adjudicación (IVA INCLUIDO)]]","v":{"$error":"#VALUE!"}}]
[{"$nulls":18},{"$f":"Tabla13[[#This Row],[Título del contrato]]&Tabla13[[#This Row],[Nº Expediente de la plataforma de contratación]]","v":{"$error":"#VALUE!"}},{"$f":"Tabla13[[#This Row],[Nº Expediente de la plataforma de contratación]]","v":{"$error":"#VALUE!"}},{"$f":"Tabla13[[#This Row],[Importe IVA ]]","v":{"$error":"#VALUE!"}},{"$f":"Tabla13[[#This Row],[Importe de adjudicación (IVA INCLUIDO)]]","v":{"$error":"#VALUE!"}}]
[{"$nulls":18},{"$f":"Tabla13[[#This Row],[Título del contrato]]&Tabla13[[#This Row],[Nº Expediente de la plataforma de contratación]]","v":{"$error":"#VALUE!"}},{"$f":"Tabla13[[#This Row],[Nº Expediente de la plataforma de contratación]]","v":{"$error":"#VALUE!"}},{"$f":"Tabla13[[#This Row],[Importe IVA ]]","v":{"$error":"#VALUE!"}},{"$f":"Tabla13[[#This Row],[Importe de adjudicación (IVA INCLUIDO)]]","v":{"$error":"#VALUE!"}}]
[{"$nulls":18},{"$f":"Tabla13[[#This Row],[Título del contrato]]&Tabla13[[#This Row],[Nº Expediente de la plataforma de contratación]]","v":{"$error":"#VALUE!"}},{"$f":"Tabla13[[#This Row],[Nº Expediente de la plataforma de contratación]]","v":{"$error":"#VALUE!"}},{"$f":"Tabla13[[#This Row],[Importe IVA ]]","v":{"$error":"#VALUE!"}},{"$f":"Tabla13[[#This Row],[Importe de adjudicación (IVA INCLUIDO)]]","v":{"$error":"#VALUE!"}}]
[{"$nulls":18},{"$f":"Tabla13[[#This Row],[Título del contrato]]&Tabla13[[#This Row],[Nº Expediente de la plataforma de contratación]]","v":{"$error":"#VALUE!"}},{"$f":"Tabla13[[#This Row],[Nº Expediente de la plataforma de contratación]]","v":{"$error":"#VALUE!"}},{"$f":"Tabla13[[#This Row],[Importe IVA ]]","v":{"$error":"#VALUE!"}},{"$f":"Tabla13[[#This Row],[Importe de adjudicación (IVA INCLUIDO)]]","v":{"$error":"#VALUE!"}}]
[{"$nulls":18},{"$f":"Tabla13[[#This Row],[Título del contrato]]&Tabla13[[#This Row],[Nº Expediente de la plataforma de contratación]]","v":{"$error":"#VALUE!"}},{"$f":"Tabla13[[#This Row],[Nº Expediente de la plataforma de contratación]]","v":{"$error":"#VALUE!"}},{"$f":"Tabla13[[#This Row],[Importe IVA ]]","v":{"$error":"#VALUE!"}},{"$f":"Tabla13[[#This Row],[Importe de adjudicación (IVA INCLUIDO)]]","v":{"$error":"#VALUE!"}}]
[{"$nulls":18},{"$f":"Tabla13[[#This Row],[Título del contrato]]&Tabla13[[#This Row],[Nº Expediente de la plataforma de contratación]]","v":{"$error":"#VALUE!"}},{"$f":"Tabla13[[#This Row],[Nº Expediente de la plataforma de contratación]]","v":{"$error":"#VALUE!"}},{"$f":"Tabla13[[#This Row],[Importe IVA ]]","v":{"$error":"#VALUE!"}},{"$f":"Tabla13[[#This Row],[Importe de adjudicación (IVA INCLUIDO)]]","v":{"$error":"#VALUE!"}}]
[{"$nulls":18},{"$f":"Tabla13[[#This Row],[Título del contrato]]&Tabla13[[#This Row],[Nº Expediente de la plataforma de contratación]]","v":{"$error":"#VALUE!"}},{"$f":"Tabla13[[#This Row],[Nº Expediente de la plataforma de contratación]]","v":{"$error":"#VALUE!"}},{"$f":"Tabla13[[#This Row],[Importe IVA ]]","v":{"$error":"#VALUE!"}},{"$f":"Tabla13[[#This Row],[Importe de adjudicación (IVA INCLUIDO)]]","v":{"$error":"#VALUE!"}}]
[{"$nulls":18},{"$f":"Tabla13[[#This Row],[Título del contrato]]&Tabla13[[#This Row],[Nº Expediente de la plataforma de contratación]]","v":{"$error":"#VALUE!"}},{"$f":"Tabla13[[#This Row],[Nº Expediente de la plataforma de contratación]]","v":{"$error":"#VALUE!"}},{"$f":"Tabla13[[#This Row],[Importe IVA ]]","v":{"$error":"#VALUE!"}},{"$f":"Tabla13[[#This Row],[Importe de adjudicación (IVA INCLUIDO)]]","v":{"$error":"#VALUE!"}}]
[{"$nulls":18},{"$f":"Tabla13[[#This Row],[Título del contrato]]&Tabla13[[#This Row],[Nº Expediente de la plataforma de contratación]]","v":{"$error":"#VALUE!"}},{"$f":"Tabla13[[#This Row],[Nº Expediente de la plataforma de contratación]]","v":{"$error":"#VALUE!"}},{"$f":"Tabla13[[#This Row],[Importe IVA ]]","v":{"$error":"#VALUE!"}},{"$f":"Tabla13[[#This Row],[Importe de adjudicación (IVA INCLUIDO)]]","v":{"$error":"#VALUE!"}}]
[{"$nulls":18},{"$f":"Tabla13[[#This Row],[Título del contrato]]&Tabla13[[#This Row],[Nº Expediente de la plataforma de contratación]]","v":{"$error":"#VALUE!"}},{"$f":"Tabla13[[#This Row],[Nº Expediente de la plataforma de contratación]]","v":{"$error":"#VALUE!"}},{"$f":"Tabla13[[#This Row],[Importe IVA ]]","v":{"$error":"#VALUE!"}},{"$f":"Tabla13[[#This Row],[Importe de adjudicación (IVA INCLUIDO)]]","v":{"$error":"#VALUE!"}}]
[{"$nulls":18},{"$f":"Tabla13[[#This Row],[Título del contrato]]&Tabla13[[#This Row],[Nº Expediente de la plataforma de contratación]]","v":{"$error":"#VALUE!"}},{"$f":"Tabla13[[#This Row],[Nº Expediente de la plataforma de contratación]]","v":{"$error":"#VALUE!"}},{"$f":"Tabla13[[#This Row],[Importe IVA ]]","v":{"$error":"#VALUE!"}},{"$f":"Tabla13[[#This Row],[Importe de adjudicación (IVA INCLUIDO)]]","v":{"$error":"#VALUE!"}}]
[{"$nulls":18},{"$f":"Tabla13[[#This Row],[Título del contrato]]&Tabla13[[#This Row],[Nº Expediente de la plataforma de contratación]]","v":{"$error":"#VALUE!"}},{"$f":"Tabla13[[#This Row],[Nº Expediente de la plataforma de contratación]]","v":{"$error":"#VALUE!"}},{"$f":"Tabla13[[#This Row],[Importe IVA ]]","v":{"$error":"#VALUE!"}},{"$f":"Tabla13[[#This Row],[Importe de adjudicación (IVA INCLUIDO)]]","v":{"$error":"#VALUE!"}}]
[{"$nulls":18},{"$f":"Tabla13[[#This Row],[Título del contrato]]&Tabla13[[#This Row],[Nº Expediente de la plataforma de contratación]]","v":{"$error":"#VALUE!"}},{"$f":"Tabla13[[#This Row],[Nº Expediente de la plataforma de contratación]]","v":{"$error":"#VALUE!"}},{"$f":"Tabla13[[#This Row],[Importe IVA ]]","v":{"$error":"#VALUE!"}},{"$f":"Tabla13[[#This Row],[Importe de adjudicación (IVA INCLUIDO)]]","v":{"$error":"#VALUE!"}}]
[{"$nulls":18},{"$f":"Tabla13[[#This Row],[Título del contrato]]&Tabla13[[#This Row],[Nº Expediente de la plataforma de contratación]]","v":{"$error":"#VALUE!"}},{"$f":"Tabla13[[#This Row],[Nº Expediente de la plataforma de contratación]]","v":{"$error":"#VALUE!"}},{"$f":"Tabla13[[#This Row],[Importe IVA ]]","v":{"$error":"#VALUE!"}},{"$f":"Tabla13[[#This Row],[Importe de adjudicación (IVA INCLUIDO)]]","v":{"$error":"#VALUE!"}}]
[{"$nulls":18},{"$f":"Tabla13[[#This Row],[Título del contrato]]&Tabla13[[#This Row],[Nº Expediente de la plataforma de contratación]]","v":{"$error":"#VALUE!"}},{"$f":"Tabla13[[#This Row],[Nº Expediente de la plataforma de contratación]]","v":{"$error":"#VALUE!"}},{"$f":"Tabla13[[#This Row],[Importe IVA ]]","v":{"$error":"#VALUE!"}},{"$f":"Tabla13[[#This Row],[Importe de adjudicación (IVA INCLUIDO)]]","v":{"$error":"#VALUE!"}}]
[{"$nulls":18},{"$f":"Tabla13[[#This Row],[Título del contrato]]&Tabla13[[#This Row],[Nº Expediente de la plataforma de contratación]]","v":{"$error":"#VALUE!"}},{"$f":"Tabla13[[#This Row],[Nº Expediente de la plataforma de contratación]]","v":{"$error":"#VALUE!"}},{"$f":"Tabla13[[#This Row],[Importe IVA ]]","v":{"$error":"#VALUE!"}},{"$f":"Tabla13[[#This Row],[Importe de adjudicación (IVA INCLUIDO)]]","v":{"$error":"#VALUE!"}}]
[{"$nulls":18},{"$f":"Tabla13[[#This Row],[Título del contrato]]&Tabla13[[#This Row],[Nº Expediente de la plataforma de contratación]]","v":{"$error":"#VALUE!"}},{"$f":"Tabla13[[#This Row],[Nº Expediente de la plataforma de contratación]]","v":{"$error":"#VALUE!"}},{"$f":"Tabla13[[#This Row],[Importe IVA ]]","v":{"$error":"#VALUE!"}},{"$f":"Tabla13[[#This Row],[Importe de adjudicación (IVA INCLUIDO)]]","v":{"$error":"#VALUE!"}}]
[{"$nulls":18},{"$f":"Tabla13[[#This Row],[Título del contrato]]&Tabla13[[#This Row],[Nº Expediente de la plataforma de contratación]]","v":{"$error":"#VALUE!"}},{"$f":"Tabla13[[#This Row],[Nº Expediente de la plataforma de contratación]]","v":{"$error":"#VALUE!"}},{"$f":"Tabla13[[#This Row],[Importe IVA ]]","v":{"$error":"#VALUE!"}},{"$f":"Tabla13[[#This Row],[Importe de adjudicación (IVA INCLUIDO)]]","v":{"$error":"#VALUE!"}}]
[{"$nulls":18},{"$f":"Tabla13[[#This Row],[Título del contrato]]&Tabla13[[#This Row],[Nº Expediente de la plataforma de contratación]]","v":{"$error":"#VALUE!"}},{"$f":"Tabla13[[#This Row],[Nº Expediente de la plataforma de contratación]]","v":{"$error":"#VALUE!"}},{"$f":"Tabla13[[#This Row],[Importe IVA ]]","v":{"$error":"#VALUE!"}},{"$f":"Tabla13[[#This Row],[Importe de adjudicación (IVA INCLUIDO)]]","v":{"$error":"#VALUE!"}}]
[{"$nulls":18},{"$f":"Tabla13[[#This Row],[Título del contrato]]&Tabla13[[#This Row],[Nº Expediente de la plataforma de contratación]]","v":{"$error":"#VALUE!"}},{"$f":"Tabla13[[#This Row],[Nº Expediente de la plataforma de contratación]]","v":{"$error":"#VALUE!"}},{"$f":"Tabla13[[#This Row],[Importe IVA ]]","v":{"$error":"#VALUE!"}},{"$f":"Tabla13[[#This Row],[Importe de adjudicación (IVA INCLUIDO)]]","v":{"$error":"#VALUE!"}}]
[{"$nulls":18},{"$f":"Tabla13[[#This Row],[Título del contrato]]&Tabla13[[#This Row],[Nº Expediente de la plataforma de contratación]]","v":{"$error":"#VALUE!"}},{"$f":"Tabla13[[#This Row],[Nº Expediente de la plataforma de contratación]]","v":{"$error":"#VALUE!"}},{"$f":"Tabla13[[#This Row],[Importe IVA ]]","v":{"$error":"#VALUE!"}},{"$f":"Tabla13[[#This Row],[Importe de adjudicación (IVA INCLUIDO)]]","v":{"$error":"#VALUE!"}}]
[{"$nulls":18},{"$f":"Tabla13[[#This Row],[Título del contrato]]&Tabla13[[#This Row],[Nº Expediente de la plataforma de contratación]]","v":{"$error":"#VALUE!"}},{"$f":"Tabla13[[#This Row],[Nº Expediente de la plataforma de contratación]]","v":{"$error":"#VALUE!"}},{"$f":"Tabla13[[#This Row],[Importe IVA ]]","v":{"$error":"#VALUE!"}},{"$f":"Tabla13[[#This Row],[Importe de adjudicación (IVA INCLUIDO)]]","v":{"$error":"#VALUE!"}}]
[{"$nulls":18},{"$f":"Tabla13[[#This Row],[Título del contrato]]&Tabla13[[#This Row],[Nº Expediente de la plataforma de contratación]]","v":{"$error":"#VALUE!"}},{"$f":"Tabla13[[#This Row],[Nº Expediente de la plataforma de contratación]]","v":{"$error":"#VALUE!"}},{"$f":"Tabla13[[#This Row],[Importe IVA ]]","v":{"$error":"#VALUE!"}},{"$f":"Tabla13[[#This Row],[Importe de adjudicación (IVA INCLUIDO)]]","v":{"$error":"#VALUE!"}}]
[{"$nulls":18},{"$f":"Tabla13[[#This Row],[Título del contrato]]&Tabla13[[#This Row],[Nº Expediente de la plataforma de contratación]]","v":{"$error":"#VALUE!"}},{"$f":"Tabla13[[#This Row],[Nº Expediente de la plataforma de contratación]]","v":{"$error":"#VALUE!"}},{"$f":"Tabla13[[#This Row],[Importe IVA ]]","v":{"$error":"#VALUE!"}},{"$f":"Tabla13[[#This Row],[Importe de adjudicación (IVA INCLUIDO)]]","v":{"$error":"#VALUE!"}}]
[{"$nulls":18},{"$f":"Tabla13[[#This Row],[Título del contrato]]&Tabla13[[#This Row],[Nº Expediente de la plataforma de contratación]]","v":{"$error":"#VALUE!"}},{"$f":"Tabla13[[#This Row],[Nº Expediente de la plataforma de contratación]]","v":{"$error":"#VALUE!"}},{"$f":"Tabla13[[#This Row],[Importe IVA ]]","v":{"$error":"#VALUE!"}},{"$f":"Tabla13[[#This Row],[Importe de adjudicación (IVA INCLUIDO)]]","v":{"$error":"#VALUE!"}}]
[{"$nulls":18},{"$f":"Tabla13[[#This Row],[Título del contrato]]&Tabla13[[#This Row],[Nº Expediente de la plataforma de contratación]]","v":{"$error":"#VALUE!"}},{"$f":"Tabla13[[#This Row],[Nº Expediente de la plataforma de contratación]]","v":{"$error":"#VALUE!"}},{"$f":"Tabla13[[#This Row],[Importe IVA ]]","v":{"$error":"#VALUE!"}},{"$f":"Tabla13[[#This Row],[Importe de adjudicación (IVA INCLUIDO)]]","v":{"$error":"#VALUE!"}}]
[{"$nulls":18},{"$f":"Tabla13[[#This Row],[Título del contrato]]&Tabla13[[#This Row],[Nº Expediente de la plataforma de contratación]]","v":{"$error":"#VALUE!"}},{"$f":"Tabla13[[#This Row],[Nº Expediente de la plataforma de contratación]]","v":{"$error":"#VALUE!"}},{"$f":"Tabla13[[#This Row],[Importe IVA ]]","v":{"$error":"#VALUE!"}},{"$f":"Tabla13[[#This Row],[Importe de adjudicación (IVA INCLUIDO)]]","v":{"$error":"#VALUE!"}}]
[{"$nulls":18},{"$f":"Tabla13[[#This Row],[Título del contrato]]&Tabla13[[#This Row],[Nº Expediente de la plataforma de contratación]]","v":{"$error":"#VALUE!"}},{"$f":"Tabla13[[#This Row],[Nº Expediente de la plataforma de contratación]]","v":{"$error":"#VALUE!"}},{"$f":"Tabla13[[#This Row],[Importe IVA ]]","v":{"$error":"#VALUE!"}},{"$f":"Tabla13[[#This Row],[Importe de adjudicación (IVA INCLUIDO)]]","v":{"$error":"#VALUE!"}}]
[{"$nulls":18},{"$f":"Tabla13[[#This Row],[Título del contrato]]&Tabla13[[#This Row],[Nº Expediente de la plataforma de contratación]]","v":{"$error":"#VALUE!"}},{"$f":"Tabla13[[#This Row],[Nº Expediente de la plataforma de contratación]]","v":{"$error":"#VALUE!"}},{"$f":"Tabla13[[#This Row],[Importe IVA ]]","v":{"$error":"#VALUE!"}},{"$f":"Tabla13[[#This Row],[Importe de adjudicación (IVA INCLUIDO)]]","v":{"$error":"#VALUE!"}}]
[{"$nulls":18},{"$f":"Tabla13[[#This Row],[Título del contrato]]&Tabla13[[#This Row],[Nº Expediente de la plataforma de contratación]]","v":{"$error":"#VALUE!"}},{"$f":"Tabla13[[#This Row],[Nº Expediente de la plataforma de contratación]]","v":{"$error":"#VALUE!"}},{"$f":"Tabla13[[#This Row],[Importe IVA ]]","v":{"$error":"#VALUE!"}},{"$f":"Tabla13[[#This Row],[Importe de adjudicación (IVA INCLUIDO)]]","v":{"$error":"#VALUE!"}}]
[{"$nulls":18},{"$f":"Tabla13[[#This Row],[Título del contrato]]&Tabla13[[#This Row],[Nº Expediente de la plataforma de contratación]]","v":{"$error":"#VALUE!"}},{"$f":"Tabla13[[#This Row],[Nº Expediente de la plataforma de contratación]]","v":{"$error":"#VALUE!"}},{"$f":"Tabla13[[#This Row],[Importe IVA ]]","v":{"$error":"#VALUE!"}},{"$f":"Tabla13[[#This Row],[Importe de adjudicación (IVA INCLUIDO)]]","v":{"$error":"#VALUE!"}}]
[{"$nulls":18},{"$f":"Tabla13[[#This Row],[Título del contrato]]&Tabla13[[#This Row],[Nº Expediente de la plataforma de contratación]]","v":{"$error":"#VALUE!"}},{"$f":"Tabla13[[#This Row],[Nº Expediente de la plataforma de contratación]]","v":{"$error":"#VALUE!"}},{"$f":"Tabla13[[#This Row],[Importe IVA ]]","v":{"$error":"#VALUE!"}},{"$f":"Tabla13[[#This Row],[Importe de adjudicación (IVA INCLUIDO)]]","v":{"$error":"#VALUE!"}}]
[{"$nulls":18},{"$f":"Tabla13[[#This Row],[Título del contrato]]&Tabla13[[#This Row],[Nº Expediente de la plataforma de contratación]]","v":{"$error":"#VALUE!"}},{"$f":"Tabla13[[#This Row],[Nº Expediente de la plataforma de contratación]]","v":{"$error":"#VALUE!"}},{"$f":"Tabla13[[#This Row],[Importe IVA ]]","v":{"$error":"#VALUE!"}},{"$f":"Tabla13[[#This Row],[Importe de adjudicación (IVA INCLUIDO)]]","v":{"$error":"#VALUE!"}}]
[{"$nulls":18},{"$f":"Tabla13[[#This Row],[Título del contrato]]&Tabla13[[#This Row],[Nº Expediente de la plataforma de contratación]]","v":{"$error":"#VALUE!"}},{"$f":"Tabla13[[#This Row],[Nº Expediente de la plataforma de contratación]]","v":{"$error":"#VALUE!"}},{"$f":"Tabla13[[#This Row],[Importe IVA ]]","v":{"$error":"#VALUE!"}},{"$f":"Tabla13[[#This Row],[Importe de adjudicación (IVA INCLUIDO)]]","v":{"$error":"#VALUE!"}}]
[{"$nulls":18},{"$f":"Tabla13[[#This Row],[Título del contrato]]&Tabla13[[#This Row],[Nº Expediente de la plataforma de contratación]]","v":{"$error":"#VALUE!"}},{"$f":"Tabla13[[#This Row],[Nº Expediente de la plataforma de contratación]]","v":{"$error":"#VALUE!"}},{"$f":"Tabla13[[#This Row],[Importe IVA ]]","v":{"$error":"#VALUE!"}},{"$f":"Tabla13[[#This Row],[Importe de adjudicación (IVA INCLUIDO)]]","v":{"$error":"#VALUE!"}}]
[{"$nulls":18},{"$f":"Tabla13[[#This Row],[Título del contrato]]&Tabla13[[#This Row],[Nº Expediente de la plataforma de contratación]]","v":{"$error":"#VALUE!"}},{"$f":"Tabla13[[#This Row],[Nº Expediente de la plataforma de contratación]]","v":{"$error":"#VALUE!"}},{"$f":"Tabla13[[#This Row],[Importe IVA ]]","v":{"$error":"#VALUE!"}},{"$f":"Tabla13[[#This Row],[Importe de adjudicación (IVA INCLUIDO)]]","v":{"$error":"#VALUE!"}}]
[{"$nulls":18},{"$f":"Tabla13[[#This Row],[Título del contrato]]&Tabla13[[#This Row],[Nº Expediente de la plataforma de contratación]]","v":{"$error":"#VALUE!"}},{"$f":"Tabla13[[#This Row],[Nº Expediente de la plataforma de contratación]]","v":{"$error":"#VALUE!"}},{"$f":"Tabla13[[#This Row],[Importe IVA ]]","v":{"$error":"#VALUE!"}},{"$f":"Tabla13[[#This Row],[Importe de adjudicación (IVA INCLUIDO)]]","v":{"$error":"#VALUE!"}}]
[{"$nulls":18},{"$f":"Tabla13[[#This Row],[Título del contrato]]&Tabla13[[#This Row],[Nº Expediente de la plataforma de contratación]]","v":{"$error":"#VALUE!"}},{"$f":"Tabla13[[#This Row],[Nº Expediente de la plataforma de contratación]]","v":{"$error":"#VALUE!"}},{"$f":"Tabla13[[#This Row],[Importe IVA ]]","v":{"$error":"#VALUE!"}},{"$f":"Tabla13[[#This Row],[Importe de adjudicación (IVA INCLUIDO)]]","v":{"$error":"#VALUE!"}}]
[{"$nulls":18},{"$f":"Tabla13[[#This Row],[Título del contrato]]&Tabla13[[#This Row],[Nº Expediente de la plataforma de contratación]]","v":{"$error":"#VALUE!"}},{"$f":"Tabla13[[#This Row],[Nº Expediente de la plataforma de contratación]]","v":{"$error":"#VALUE!"}},{"$f":"Tabla13[[#This Row],[Importe IVA ]]","v":{"$error":"#VALUE!"}},{"$f":"Tabla13[[#This Row],[Importe de adjudicación (IVA INCLUIDO)]]","v":{"$error":"#VALUE!"}}]
[{"$nulls":18},{"$f":"Tabla13[[#This Row],[Título del contrato]]&Tabla13[[#This Row],[Nº Expediente de la plataforma de contratación]]","v":{"$error":"#VALUE!"}},{"$f":"Tabla13[[#This Row],[Nº Expediente de la plataforma de contratación]]","v":{"$error":"#VALUE!"}},{"$f":"Tabla13[[#This Row],[Importe IVA ]]","v":{"$error":"#VALUE!"}},{"$f":"Tabla13[[#This Row],[Importe de adjudicación (IVA INCLUIDO)]]","v":{"$error":"#VALUE!"}}]
[{"$nulls":18},{"$f":"Tabla13[[#This Row],[Título del contrato]]&Tabla13[[#This Row],[Nº Expediente de la plataforma de contratación]]","v":{"$error":"#VALUE!"}},{"$f":"Tabla13[[#This Row],[Nº Expediente de la plataforma de contratación]]","v":{"$error":"#VALUE!"}},{"$f":"Tabla13[[#This Row],[Importe IVA ]]","v":{"$error":"#VALUE!"}},{"$f":"Tabla13[[#This Row],[Importe de adjudicación (IVA INCLUIDO)]]","v":{"$error":"#VALUE!"}}]
[{"$nulls":18},{"$f":"Tabla13[[#This Row],[Título del contrato]]&Tabla13[[#This Row],[Nº Expediente de la plataforma de contratación]]","v":{"$error":"#VALUE!"}},{"$f":"Tabla13[[#This Row],[Nº Expediente de la plataforma de contratación]]","v":{"$error":"#VALUE!"}},{"$f":"Tabla13[[#This Row],[Importe IVA ]]","v":{"$error":"#VALUE!"}},{"$f":"Tabla13[[#This Row],[Importe de adjudicación (IVA INCLUIDO)]]","v":{"$error":"#VALUE!"}}]
[{"$nulls":18},{"$f":"Tabla13[[#This Row],[Título del contrato]]&Tabla13[[#This Row],[Nº Expediente de la plataforma de contratación]]","v":{"$error":"#VALUE!"}},{"$f":"Tabla13[[#This Row],[Nº Expediente de la plataforma de contratación]]","v":{"$error":"#VALUE!"}},{"$f":"Tabla13[[#This Row],[Importe IVA ]]","v":{"$error":"#VALUE!"}},{"$f":"Tabla13[[#This Row],[Importe de adjudicación (IVA INCLUIDO)]]","v":{"$error":"#VALUE!"}}]
[{"$nulls":18},{"$f":"Tabla13[[#This Row],[Título del contrato]]&Tabla13[[#This Row],[Nº Expediente de la plataforma de contratación]]","v":{"$error":"#VALUE!"}},{"$f":"Tabla13[[#This Row],[Nº Expediente de la plataforma de contratación]]","v":{"$error":"#VALUE!"}},{"$f":"Tabla13[[#This Row],[Importe IVA ]]","v":{"$error":"#VALUE!"}},{"$f":"Tabla13[[#This Row],[Importe de adjudicación (IVA INCLUIDO)]]","v":{"$error":"#VALUE!"}}]
[{"$nulls":18},{"$f":"Tabla13[[#This Row],[Título del contrato]]&Tabla13[[#This Row],[Nº Expediente de la plataforma de contratación]]","v":{"$error":"#VALUE!"}},{"$f":"Tabla13[[#This Row],[Nº Expediente de la plataforma de contratación]]","v":{"$error":"#VALUE!"}},{"$f":"Tabla13[[#This Row],[Importe IVA ]]","v":{"$error":"#VALUE!"}},{"$f":"Tabla13[[#This Row],[Importe de adjudicación (IVA INCLUIDO)]]","v":{"$error":"#VALUE!"}}]
[{"$nulls":18},{"$f":"Tabla13[[#This Row],[Título del contrato]]&Tabla13[[#This Row],[Nº Expediente de la plataforma de contratación]]","v":{"$error":"#VALUE!"}},{"$f":"Tabla13[[#This Row],[Nº Expediente de la plataforma de contratación]]","v":{"$error":"#VALUE!"}},{"$f":"Tabla13[[#This Row],[Importe IVA ]]","v":{"$error":"#VALUE!"}},{"$f":"Tabla13[[#This Row],[Importe de adjudicación (IVA INCLUIDO)]]","v":{"$error":"#VALUE!"}}]
[{"$nulls":18},{"$f":"Tabla13[[#This Row],[Título del contrato]]&Tabla13[[#This Row],[Nº Expediente de la plataforma de contratación]]","v":{"$error":"#VALUE!"}},{"$f":"Tabla13[[#This Row],[Nº Expediente de la plataforma de contratación]]","v":{"$error":"#VALUE!"}},{"$f":"Tabla13[[#This Row],[Importe IVA ]]","v":{"$error":"#VALUE!"}},{"$f":"Tabla13[[#This Row],[Importe de adjudicación (IVA INCLUIDO)]]","v":{"$error":"#VALUE!"}}]
[{"$nulls":18},{"$f":"Tabla13[[#This Row],[Título del contrato]]&Tabla13[[#This Row],[Nº Expediente de la plataforma de contratación]]","v":{"$error":"#VALUE!"}},{"$f":"Tabla13[[#This Row],[Nº Expediente de la plataforma de contratación]]","v":{"$error":"#VALUE!"}},{"$f":"Tabla13[[#This Row],[Importe IVA ]]","v":{"$error":"#VALUE!"}},{"$f":"Tabla13[[#This Row],[Importe de adjudicación (IVA INCLUIDO)]]","v":{"$error":"#VALUE!"}}]
[{"$nulls":18},{"$f":"Tabla13[[#This Row],[Título del contrato]]&Tabla13[[#This Row],[Nº Expediente de la plataforma de contratación]]","v":{"$error":"#VALUE!"}},{"$f":"Tabla13[[#This Row],[Nº Expediente de la plataforma de contratación]]","v":{"$error":"#VALUE!"}},{"$f":"Tabla13[[#This Row],[Importe IVA ]]","v":{"$error":"#VALUE!"}},{"$f":"Tabla13[[#This Row],[Importe de adjudicación (IVA INCLUIDO)]]","v":{"$error":"#VALUE!"}}]
[{"$nulls":18},{"$f":"Tabla13[[#This Row],[Título del contrato]]&Tabla13[[#This Row],[Nº Expediente de la plataforma de contratación]]","v":{"$error":"#VALUE!"}},{"$f":"Tabla13[[#This Row],[Nº Expediente de la plataforma de contratación]]","v":{"$error":"#VALUE!"}},{"$f":"Tabla13[[#This Row],[Importe IVA ]]","v":{"$error":"#VALUE!"}},{"$f":"Tabla13[[#This Row],[Importe de adjudicación (IVA INCLUIDO)]]","v":{"$error":"#VALUE!"}}]
[{"$nulls":18},{"$f":"Tabla13[[#This Row],[Título del contrato]]&Tabla13[[#This Row],[Nº Expediente de la plataforma de contratación]]","v":{"$error":"#VALUE!"}},{"$f":"Tabla13[[#This Row],[Nº Expediente de la plataforma de contratación]]","v":{"$error":"#VALUE!"}},{"$f":"Tabla13[[#This Row],[Importe IVA ]]","v":{"$error":"#VALUE!"}},{"$f":"Tabla13[[#This Row],[Importe de adjudicación (IVA INCLUIDO)]]","v":{"$error":"#VALUE!"}}]
[{"$nulls":18},{"$f":"Tabla13[[#This Row],[Título del contrato]]&Tabla13[[#This Row],[Nº Expediente de la plataforma de contratación]]","v":{"$error":"#VALUE!"}},{"$f":"Tabla13[[#This Row],[Nº Expediente de la plataforma de contratación]]","v":{"$error":"#VALUE!"}},{"$f":"Tabla13[[#This Row],[Importe IVA ]]","v":{"$error":"#VALUE!"}},{"$f":"Tabla13[[#This Row],[Importe de adjudicación (IVA INCLUIDO)]]","v":{"$error":"#VALUE!"}}]
[{"$nulls":18},{"$f":"Tabla13[[#This Row],[Título del contrato]]&Tabla13[[#This Row],[Nº Expediente de la plataforma de contratación]]","v":{"$error":"#VALUE!"}},{"$f":"Tabla13[[#This Row],[Nº Expediente de la plataforma de contratación]]","v":{"$error":"#VALUE!"}},{"$f":"Tabla13[[#This Row],[Importe IVA ]]","v":{"$error":"#VALUE!"}},{"$f":"Tabla13[[#This Row],[Importe de adjudicación (IVA INCLUIDO)]]","v":{"$error":"#VALUE!"}}]
[{"$nulls":18},{"$f":"Tabla13[[#This Row],[Título del contrato]]&Tabla13[[#This Row],[Nº Expediente de la plataforma de contratación]]","v":{"$error":"#VALUE!"}},{"$f":"Tabla13[[#This Row],[Nº Expediente de la plataforma de contratación]]","v":{"$error":"#VALUE!"}},{"$f":"Tabla13[[#This Row],[Importe IVA ]]","v":{"$error":"#VALUE!"}},{"$f":"Tabla13[[#This Row],[Importe de adjudicación (IVA INCLUIDO)]]","v":{"$error":"#VALUE!"}}]
[{"$nulls":18},{"$f":"Tabla13[[#This Row],[Título del contrato]]&Tabla13[[#This Row],[Nº Expediente de la plataforma de contratación]]","v":{"$error":"#VALUE!"}},{"$f":"Tabla13[[#This Row],[Nº Expediente de la plataforma de contratación]]","v":{"$error":"#VALUE!"}},{"$f":"Tabla13[[#This Row],[Importe IVA ]]","v":{"$error":"#VALUE!"}},{"$f":"Tabla13[[#This Row],[Importe de adjudicación (IVA INCLUIDO)]]","v":{"$error":"#VALUE!"}}]
[{"$nulls":18},{"$f":"Tabla13[[#This Row],[Título del contrato]]&Tabla13[[#This Row],[Nº Expediente de la plataforma de contratación]]","v":{"$error":"#VALUE!"}},{"$f":"Tabla13[[#This Row],[Nº Expediente de la plataforma de contratación]]","v":{"$error":"#VALUE!"}},{"$f":"Tabla13[[#This Row],[Importe IVA ]]","v":{"$error":"#VALUE!"}},{"$f":"Tabla13[[#This Row],[Importe de adjudicación (IVA INCLUIDO)]]","v":{"$error":"#VALUE!"}}]
[{"$nulls":18},{"$f":"Tabla13[[#This Row],[Título del contrato]]&Tabla13[[#This Row],[Nº Expediente de la plataforma de contratación]]","v":{"$error":"#VALUE!"}},{"$f":"Tabla13[[#This Row],[Nº Expediente de la plataforma de contratación]]","v":{"$error":"#VALUE!"}},{"$f":"Tabla13[[#This Row],[Importe IVA ]]","v":{"$error":"#VALUE!"}},{"$f":"Tabla13[[#This Row],[Importe de adjudicación (IVA INCLUIDO)]]","v":{"$error":"#VALUE!"}}]
[{"$nulls":18},{"$f":"Tabla13[[#This Row],[Título del contrato]]&Tabla13[[#This Row],[Nº Expediente de la plataforma de contratación]]","v":{"$error":"#VALUE!"}},{"$f":"Tabla13[[#This Row],[Nº Expediente de la plataforma de contratación]]","v":{"$error":"#VALUE!"}},{"$f":"Tabla13[[#This Row],[Importe IVA ]]","v":{"$error":"#VALUE!"}},{"$f":"Tabla13[[#This Row],[Importe de adjudicación (IVA INCLUIDO)]]","v":{"$error":"#VALUE!"}}]
[{"$nulls":18},{"$f":"Tabla13[[#This Row],[Título del contrato]]&Tabla13[[#This Row],[Nº Expediente de la plataforma de contratación]]","v":{"$error":"#VALUE!"}},{"$f":"Tabla13[[#This Row],[Nº Expediente de la plataforma de contratación]]","v":{"$error":"#VALUE!"}},{"$f":"Tabla13[[#This Row],[Importe IVA ]]","v":{"$error":"#VALUE!"}},{"$f":"Tabla13[[#This Row],[Importe de adjudicación (IVA INCLUIDO)]]","v":{"$error":"#VALUE!"}}]
[{"$nulls":18},{"$f":"Tabla13[[#This Row],[Título del contrato]]&Tabla13[[#This Row],[Nº Expediente de la plataforma de contratación]]","v":{"$error":"#VALUE!"}},{"$f":"Tabla13[[#This Row],[Nº Expediente de la plataforma de contratación]]","v":{"$error":"#VALUE!"}},{"$f":"Tabla13[[#This Row],[Importe IVA ]]","v":{"$error":"#VALUE!"}},{"$f":"Tabla13[[#This Row],[Importe de adjudicación (IVA INCLUIDO)]]","v":{"$error":"#VALUE!"}}]
[{"$nulls":18},{"$f":"Tabla13[[#This Row],[Título del contrato]]&Tabla13[[#This Row],[Nº Expediente de la plataforma de contratación]]","v":{"$error":"#VALUE!"}},{"$f":"Tabla13[[#This Row],[Nº Expediente de la plataforma de contratación]]","v":{"$error":"#VALUE!"}},{"$f":"Tabla13[[#This Row],[Importe IVA ]]","v":{"$error":"#VALUE!"}},{"$f":"Tabla13[[#This Row],[Importe de adjudicación (IVA INCLUIDO)]]","v":{"$error":"#VALUE!"}}]
[{"$nulls":18},{"$f":"Tabla13[[#This Row],[Título del contrato]]&Tabla13[[#This Row],[Nº Expediente de la plataforma de contratación]]","v":{"$error":"#VALUE!"}},{"$f":"Tabla13[[#This Row],[Nº Expediente de la plataforma de contratación]]","v":{"$error":"#VALUE!"}},{"$f":"Tabla13[[#This Row],[Importe IVA ]]","v":{"$error":"#VALUE!"}},{"$f":"Tabla13[[#This Row],[Importe de adjudicación (IVA INCLUIDO)]]","v":{"$error":"#VALUE!"}}]
[{"$nulls":18},{"$f":"Tabla13[[#This Row],[Título del contrato]]&Tabla13[[#This Row],[Nº Expediente de la plataforma de contratación]]","v":{"$error":"#VALUE!"}},{"$f":"Tabla13[[#This Row],[Nº Expediente de la plataforma de contratación]]","v":{"$error":"#VALUE!"}},{"$f":"Tabla13[[#This Row],[Importe IVA ]]","v":{"$error":"#VALUE!"}},{"$f":"Tabla13[[#This Row],[Importe de adjudicación (IVA INCLUIDO)]]","v":{"$error":"#VALUE!"}}]
[{"$nulls":18},{"$f":"Tabla13[[#This Row],[Título del contrato]]&Tabla13[[#This Row],[Nº Expediente de la plataforma de contratación]]","v":{"$error":"#VALUE!"}},{"$f":"Tabla13[[#This Row],[Nº Expediente de la plataforma de contratación]]","v":{"$error":"#VALUE!"}},{"$f":"Tabla13[[#This Row],[Importe IVA ]]","v":{"$error":"#VALUE!"}},{"$f":"Tabla13[[#This Row],[Importe de adjudicación (IVA INCLUIDO)]]","v":{"$error":"#VALUE!"}}]
[{"$nulls":18},{"$f":"Tabla13[[#This Row],[Título del contrato]]&Tabla13[[#This Row],[Nº Expediente de la plataforma de contratación]]","v":{"$error":"#VALUE!"}},{"$f":"Tabla13[[#This Row],[Nº Expediente de la plataforma de contratación]]","v":{"$error":"#VALUE!"}},{"$f":"Tabla13[[#This Row],[Importe IVA ]]","v":{"$error":"#VALUE!"}},{"$f":"Tabla13[[#This Row],[Importe de adjudicación (IVA INCLUIDO)]]","v":{"$error":"#VALUE!"}}]
[{"$nulls":18},{"$f":"Tabla13[[#This Row],[Título del contrato]]&Tabla13[[#This Row],[Nº Expediente de la plataforma de contratación]]","v":{"$error":"#VALUE!"}},{"$f":"Tabla13[[#This Row],[Nº Expediente de la plataforma de contratación]]","v":{"$error":"#VALUE!"}},{"$f":"Tabla13[[#This Row],[Importe IVA ]]","v":{"$error":"#VALUE!"}},{"$f":"Tabla13[[#This Row],[Importe de adjudicación (IVA INCLUIDO)]]","v":{"$error":"#VALUE!"}}]
[{"$nulls":18},{"$f":"Tabla13[[#This Row],[Título del contrato]]&Tabla13[[#This Row],[Nº Expediente de la plataforma de contratación]]","v":{"$error":"#VALUE!"}},{"$f":"Tabla13[[#This Row],[Nº Expediente de la plataforma de contratación]]","v":{"$error":"#VALUE!"}},{"$f":"Tabla13[[#This Row],[Importe IVA ]]","v":{"$error":"#VALUE!"}},{"$f":"Tabla13[[#This Row],[Importe de adjudicación (IVA INCLUIDO)]]","v":{"$error":"#VALUE!"}}]
[{"$nulls":18},{"$f":"Tabla13[[#This Row],[Título del contrato]]&Tabla13[[#This Row],[Nº Expediente de la plataforma de contratación]]","v":{"$error":"#VALUE!"}},{"$f":"Tabla13[[#This Row],[Nº Expediente de la plataforma de contratación]]","v":{"$error":"#VALUE!"}},{"$f":"Tabla13[[#This Row],[Importe IVA ]]","v":{"$error":"#VALUE!"}},{"$f":"Tabla13[[#This Row],[Importe de adjudicación (IVA INCLUIDO)]]","v":{"$error":"#VALUE!"}}]
[{"$nulls":18},{"$f":"Tabla13[[#This Row],[Título del contrato]]&Tabla13[[#This Row],[Nº Expediente de la plataforma de contratación]]","v":{"$error":"#VALUE!"}},{"$f":"Tabla13[[#This Row],[Nº Expediente de la plataforma de contratación]]","v":{"$error":"#VALUE!"}},{"$f":"Tabla13[[#This Row],[Importe IVA ]]","v":{"$error":"#VALUE!"}},{"$f":"Tabla13[[#This Row],[Importe de adjudicación (IVA INCLUIDO)]]","v":{"$error":"#VALUE!"}}]
[{"$nulls":18},{"$f":"Tabla13[[#This Row],[Título del contrato]]&Tabla13[[#This Row],[Nº Expediente de la plataforma de contratación]]","v":{"$error":"#VALUE!"}},{"$f":"Tabla13[[#This Row],[Nº Expediente de la plataforma de contratación]]","v":{"$error":"#VALUE!"}},{"$f":"Tabla13[[#This Row],[Importe IVA ]]","v":{"$error":"#VALUE!"}},{"$f":"Tabla13[[#This Row],[Importe de adjudicación (IVA INCLUIDO)]]","v":{"$error":"#VALUE!"}}]
[{"$nulls":18},{"$f":"Tabla13[[#This Row],[Título del contrato]]&Tabla13[[#This Row],[Nº Expediente de la plataforma de contratación]]","v":{"$error":"#VALUE!"}},{"$f":"Tabla13[[#This Row],[Nº Expediente de la plataforma de contratación]]","v":{"$error":"#VALUE!"}},{"$f":"Tabla13[[#This Row],[Importe IVA ]]","v":{"$error":"#VALUE!"}},{"$f":"Tabla13[[#This Row],[Importe de adjudicación (IVA INCLUIDO)]]","v":{"$error":"#VALUE!"}}]
[{"$nulls":18},{"$f":"Tabla13[[#This Row],[Título del contrato]]&Tabla13[[#This Row],[Nº Expediente de la plataforma de contratación]]","v":{"$error":"#VALUE!"}},{"$f":"Tabla13[[#This Row],[Nº Expediente de la plataforma de contratación]]","v":{"$error":"#VALUE!"}},{"$f":"Tabla13[[#This Row],[Importe IVA ]]","v":{"$error":"#VALUE!"}},{"$f":"Tabla13[[#This Row],[Importe de adjudicación (IVA INCLUIDO)]]","v":{"$error":"#VALUE!"}}]
[{"$nulls":18},{"$f":"Tabla13[[#This Row],[Título del contrato]]&Tabla13[[#This Row],[Nº Expediente de la plataforma de contratación]]","v":{"$error":"#VALUE!"}},{"$f":"Tabla13[[#This Row],[Nº Expediente de la plataforma de contratación]]","v":{"$error":"#VALUE!"}},{"$f":"Tabla13[[#This Row],[Importe IVA ]]","v":{"$error":"#VALUE!"}},{"$f":"Tabla13[[#This Row],[Importe de adjudicación (IVA INCLUIDO)]]","v":{"$error":"#VALUE!"}}]
[{"$nulls":18},{"$f":"Tabla13[[#This Row],[Título del contrato]]&Tabla13[[#This Row],[Nº Expediente de la plataforma de contratación]]","v":{"$error":"#VALUE!"}},{"$f":"Tabla13[[#This Row],[Nº Expediente de la plataforma de contratación]]","v":{"$error":"#VALUE!"}},{"$f":"Tabla13[[#This Row],[Importe IVA ]]","v":{"$error":"#VALUE!"}},{"$f":"Tabla13[[#This Row],[Importe de adjudicación (IVA INCLUIDO)]]","v":{"$error":"#VALUE!"}}]
[{"$nulls":18},{"$f":"Tabla13[[#This Row],[Título del contrato]]&Tabla13[[#This Row],[Nº Expediente de la plataforma de contratación]]","v":{"$error":"#VALUE!"}},{"$f":"Tabla13[[#This Row],[Nº Expediente de la plataforma de contratación]]","v":{"$error":"#VALUE!"}},{"$f":"Tabla13[[#This Row],[Importe IVA ]]","v":{"$error":"#VALUE!"}},{"$f":"Tabla13[[#This Row],[Importe de adjudicación (IVA INCLUIDO)]]","v":{"$error":"#VALUE!"}}]
[{"$nulls":18},{"$f":"Tabla13[[#This Row],[Título del contrato]]&Tabla13[[#This Row],[Nº Expediente de la plataforma de contratación]]","v":{"$error":"#VALUE!"}},{"$f":"Tabla13[[#This Row],[Nº Expediente de la plataforma de contratación]]","v":{"$error":"#VALUE!"}},{"$f":"Tabla13[[#This Row],[Importe IVA ]]","v":{"$error":"#VALUE!"}},{"$f":"Tabla13[[#This Row],[Importe de adjudicación (IVA INCLUIDO)]]","v":{"$error":"#VALUE!"}}]
[{"$nulls":18},{"$f":"Tabla13[[#This Row],[Título del contrato]]&Tabla13[[#This Row],[Nº Expediente de la plataforma de contratación]]","v":{"$error":"#VALUE!"}},{"$f":"Tabla13[[#This Row],[Nº Expediente de la plataforma de contratación]]","v":{"$error":"#VALUE!"}},{"$f":"Tabla13[[#This Row],[Importe IVA ]]","v":{"$error":"#VALUE!"}},{"$f":"Tabla13[[#This Row],[Importe de adjudicación (IVA INCLUIDO)]]","v":{"$error":"#VALUE!"}}]
[{"$nulls":18},{"$f":"Tabla13[[#This Row],[Título del contrato]]&Tabla13[[#This Row],[Nº Expediente de la plataforma de contratación]]","v":{"$error":"#VALUE!"}},{"$f":"Tabla13[[#This Row],[Nº Expediente de la plataforma de contratación]]","v":{"$error":"#VALUE!"}},{"$f":"Tabla13[[#This Row],[Importe IVA ]]","v":{"$error":"#VALUE!"}},{"$f":"Tabla13[[#This Row],[Importe de adjudicación (IVA INCLUIDO)]]","v":{"$error":"#VALUE!"}}]
[{"$nulls":18},{"$f":"Tabla13[[#This Row],[Título del contrato]]&Tabla13[[#This Row],[Nº Expediente de la plataforma de contratación]]","v":{"$error":"#VALUE!"}},{"$f":"Tabla13[[#This Row],[Nº Expediente de la plataforma de contratación]]","v":{"$error":"#VALUE!"}},{"$f":"Tabla13[[#This Row],[Importe IVA ]]","v":{"$error":"#VALUE!"}},{"$f":"Tabla13[[#This Row],[Importe de adjudicación (IVA INCLUIDO)]]","v":{"$error":"#VALUE!"}}]
[{"$nulls":18},{"$f":"Tabla13[[#This Row],[Título del contrato]]&Tabla13[[#This Row],[Nº Expediente de la plataforma de contratación]]","v":{"$error":"#VALUE!"}},{"$f":"Tabla13[[#This Row],[Nº Expediente de la plataforma de contratación]]","v":{"$error":"#VALUE!"}},{"$f":"Tabla13[[#This Row],[Importe IVA ]]","v":{"$error":"#VALUE!"}},{"$f":"Tabla13[[#This Row],[Importe de adjudicación (IVA INCLUIDO)]]","v":{"$error":"#VALUE!"}}]
[{"$nulls":18},{"$f":"Tabla13[[#This Row],[Título del contrato]]&Tabla13[[#This Row],[Nº Expediente de la plataforma de contratación]]","v":{"$error":"#VALUE!"}},{"$f":"Tabla13[[#This Row],[Nº Expediente de la plataforma de contratación]]","v":{"$error":"#VALUE!"}},{"$f":"Tabla13[[#This Row],[Importe IVA ]]","v":{"$error":"#VALUE!"}},{"$f":"Tabla13[[#This Row],[Importe de adjudicación (IVA INCLUIDO)]]","v":{"$error":"#VALUE!"}}]
[{"$nulls":18},{"$f":"Tabla13[[#This Row],[Título del contrato]]&Tabla13[[#This Row],[Nº Expediente de la plataforma de contratación]]","v":{"$error":"#VALUE!"}},{"$f":"Tabla13[[#This Row],[Nº Expediente de la plataforma de contratación]]","v":{"$error":"#VALUE!"}},{"$f":"Tabla13[[#This Row],[Importe IVA ]]","v":{"$error":"#VALUE!"}},{"$f":"Tabla13[[#This Row],[Importe de adjudicación (IVA INCLUIDO)]]","v":{"$error":"#VALUE!"}}]
[{"$nulls":18},{"$f":"Tabla13[[#This Row],[Título del contrato]]&Tabla13[[#This Row],[Nº Expediente de la plataforma de contratación]]","v":{"$error":"#VALUE!"}},{"$f":"Tabla13[[#This Row],[Nº Expediente de la plataforma de contratación]]","v":{"$error":"#VALUE!"}},{"$f":"Tabla13[[#This Row],[Importe IVA ]]","v":{"$error":"#VALUE!"}},{"$f":"Tabla13[[#This Row],[Importe de adjudicación (IVA INCLUIDO)]]","v":{"$error":"#VALUE!"}}]
[{"$nulls":18},{"$f":"Tabla13[[#This Row],[Título del contrato]]&Tabla13[[#This Row],[Nº Expediente de la plataforma de contratación]]","v":{"$error":"#VALUE!"}},{"$f":"Tabla13[[#This Row],[Nº Expediente de la plataforma de contratación]]","v":{"$error":"#VALUE!"}},{"$f":"Tabla13[[#This Row],[Importe IVA ]]","v":{"$error":"#VALUE!"}},{"$f":"Tabla13[[#This Row],[Importe de adjudicación (IVA INCLUIDO)]]","v":{"$error":"#VALUE!"}}]
[{"$nulls":18},{"$f":"Tabla13[[#This Row],[Título del contrato]]&Tabla13[[#This Row],[Nº Expediente de la plataforma de contratación]]","v":{"$error":"#VALUE!"}},{"$f":"Tabla13[[#This Row],[Nº Expediente de la plataforma de contratación]]","v":{"$error":"#VALUE!"}},{"$f":"Tabla13[[#This Row],[Importe IVA ]]","v":{"$error":"#VALUE!"}},{"$f":"Tabla13[[#This Row],[Importe de adjudicación (IVA INCLUIDO)]]","v":{"$error":"#VALUE!"}}]
[{"$nulls":18},{"$f":"Tabla13[[#This Row],[Título del contrato]]&Tabla13[[#This Row],[Nº Expediente de la plataforma de contratación]]","v":{"$error":"#VALUE!"}},{"$f":"Tabla13[[#This Row],[Nº Expediente de la plataforma de contratación]]","v":{"$error":"#VALUE!"}},{"$f":"Tabla13[[#This Row],[Importe IVA ]]","v":{"$error":"#VALUE!"}},{"$f":"Tabla13[[#This Row],[Importe de adjudicación (IVA INCLUIDO)]]","v":{"$error":"#VALUE!"}}]
[{"$nulls":18},{"$f":"Tabla13[[#This Row],[Título del contrato]]&Tabla13[[#This Row],[Nº Expediente de la plataforma de contratación]]","v":{"$error":"#VALUE!"}},{"$f":"Tabla13[[#This Row],[Nº Expediente de la plataforma de contratación]]","v":{"$error":"#VALUE!"}},{"$f":"Tabla13[[#This Row],[Importe IVA ]]","v":{"$error":"#VALUE!"}},{"$f":"Tabla13[[#This Row],[Importe de adjudicación (IVA INCLUIDO)]]","v":{"$error":"#VALUE!"}}]
[{"$nulls":18},{"$f":"Tabla13[[#This Row],[Título del contrato]]&Tabla13[[#This Row],[Nº Expediente de la plataforma de contratación]]","v":{"$error":"#VALUE!"}},{"$f":"Tabla13[[#This Row],[Nº Expediente de la plataforma de contratación]]","v":{"$error":"#VALUE!"}},{"$f":"Tabla13[[#This Row],[Importe IVA ]]","v":{"$error":"#VALUE!"}},{"$f":"Tabla13[[#This Row],[Importe de adjudicación (IVA INCLUIDO)]]","v":{"$error":"#VALUE!"}}]
[{"$nulls":18},{"$f":"Tabla13[[#This Row],[Título del contrato]]&Tabla13[[#This Row],[Nº Expediente de la plataforma de contratación]]","v":{"$error":"#VALUE!"}},{"$f":"Tabla13[[#This Row],[Nº Expediente de la plataforma de contratación]]","v":{"$error":"#VALUE!"}},{"$f":"Tabla13[[#This Row],[Importe IVA ]]","v":{"$error":"#VALUE!"}},{"$f":"Tabla13[[#This Row],[Importe de adjudicación (IVA INCLUIDO)]]","v":{"$error":"#VALUE!"}}]
[{"$nulls":18},{"$f":"Tabla13[[#This Row],[Título del contrato]]&Tabla13[[#This Row],[Nº Expediente de la plataforma de contratación]]","v":{"$error":"#VALUE!"}},{"$f":"Tabla13[[#This Row],[Nº Expediente de la plataforma de contratación]]","v":{"$error":"#VALUE!"}},{"$f":"Tabla13[[#This Row],[Importe IVA ]]","v":{"$error":"#VALUE!"}},{"$f":"Tabla13[[#This Row],[Importe de adjudicación (IVA INCLUIDO)]]","v":{"$error":"#VALUE!"}}]
[{"$nulls":18},{"$f":"Tabla13[[#This Row],[Título del contrato]]&Tabla13[[#This Row],[Nº Expediente de la plataforma de contratación]]","v":{"$error":"#VALUE!"}},{"$f":"Tabla13[[#This Row],[Nº Expediente de la plataforma de contratación]]","v":{"$error":"#VALUE!"}},{"$f":"Tabla13[[#This Row],[Importe IVA ]]","v":{"$error":"#VALUE!"}},{"$f":"Tabla13[[#This Row],[Importe de adjudicación (IVA INCLUIDO)]]","v":{"$error":"#VALUE!"}}]
[{"$nulls":18},{"$f":"Tabla13[[#This Row],[Título del contrato]]&Tabla13[[#This Row],[Nº Expediente de la plataforma de contratación]]","v":{"$error":"#VALUE!"}},{"$f":"Tabla13[[#This Row],[Nº Expediente de la plataforma de contratación]]","v":{"$error":"#VALUE!"}},{"$f":"Tabla13[[#This Row],[Importe IVA ]]","v":{"$error":"#VALUE!"}},{"$f":"Tabla13[[#This Row],[Importe de adjudicación (IVA INCLUIDO)]]","v":{"$error":"#VALUE!"}}]
[{"$nulls":18},{"$f":"Tabla13[[#This Row],[Título del contrato]]&Tabla13[[#This Row],[Nº Expediente de la plataforma de contratación]]","v":{"$error":"#VALUE!"}},{"$f":"Tabla13[[#This Row],[Nº Expediente de la plataforma de contratación]]","v":{"$error":"#VALUE!"}},{"$f":"Tabla13[[#This Row],[Importe IVA ]]","v":{"$error":"#VALUE!"}},{"$f":"Tabla13[[#This Row],[Importe de adjudicación (IVA INCLUIDO)]]","v":{"$error":"#VALUE!"}}]
[{"$nulls":18},{"$f":"Tabla13[[#This Row],[Título del contrato]]&Tabla13[[#This Row],[Nº Expediente de la plataforma de contratación]]","v":{"$error":"#VALUE!"}},{"$f":"Tabla13[[#This Row],[Nº Expediente de la plataforma de contratación]]","v":{"$error":"#VALUE!"}},{"$f":"Tabla13[[#This Row],[Importe IVA ]]","v":{"$error":"#VALUE!"}},{"$f":"Tabla13[[#This Row],[Importe de adjudicación (IVA INCLUIDO)]]","v":{"$error":"#VALUE!"}}]
[{"$nulls":18},{"$f":"Tabla13[[#This Row],[Título del contrato]]&Tabla13[[#This Row],[Nº Expediente de la plataforma de contratación]]","v":{"$error":"#VALUE!"}},{"$f":"Tabla13[[#This Row],[Nº Expediente de la plataforma de contratación]]","v":{"$error":"#VALUE!"}},{"$f":"Tabla13[[#This Row],[Importe IVA ]]","v":{"$error":"#VALUE!"}},{"$f":"Tabla13[[#This Row],[Importe de adjudicación (IVA INCLUIDO)]]","v":{"$error":"#VALUE!"}}]
[{"$nulls":18},{"$f":"Tabla13[[#This Row],[Título del contrato]]&Tabla13[[#This Row],[Nº Expediente de la plataforma de contratación]]","v":{"$error":"#VALUE!"}},{"$f":"Tabla13[[#This Row],[Nº Expediente de la plataforma de contratación]]","v":{"$error":"#VALUE!"}},{"$f":"Tabla13[[#This Row],[Importe IVA ]]","v":{"$error":"#VALUE!"}},{"$f":"Tabla13[[#This Row],[Importe de adjudicación (IVA INCLUIDO)]]","v":{"$error":"#VALUE!"}}]
[{"$nulls":18},{"$f":"Tabla13[[#This Row],[Título del contrato]]&Tabla13[[#This Row],[Nº Expediente de la plataforma de contratación]]","v":{"$error":"#VALUE!"}},{"$f":"Tabla13[[#This Row],[Nº Expediente de la plataforma de contratación]]","v":{"$error":"#VALUE!"}},{"$f":"Tabla13[[#This Row],[Importe IVA ]]","v":{"$error":"#VALUE!"}},{"$f":"Tabla13[[#This Row],[Importe de adjudicación (IVA INCLUIDO)]]","v":{"$error":"#VALUE!"}}]
[{"$nulls":18},{"$f":"Tabla13[[#This Row],[Título del contrato]]&Tabla13[[#This Row],[Nº Expediente de la plataforma de contratación]]","v":{"$error":"#VALUE!"}},{"$f":"Tabla13[[#This Row],[Nº Expediente de la plataforma de contratación]]","v":{"$error":"#VALUE!"}},{"$f":"Tabla13[[#This Row],[Importe IVA ]]","v":{"$error":"#VALUE!"}},{"$f":"Tabla13[[#This Row],[Importe de adjudicación (IVA INCLUIDO)]]","v":{"$error":"#VALUE!"}}]
[{"$nulls":18},{"$f":"Tabla13[[#This Row],[Título del contrato]]&Tabla13[[#This Row],[Nº Expediente de la plataforma de contratación]]","v":{"$error":"#VALUE!"}},{"$f":"Tabla13[[#This Row],[Nº Expediente de la plataforma de contratación]]","v":{"$error":"#VALUE!"}},{"$f":"Tabla13[[#This Row],[Importe IVA ]]","v":{"$error":"#VALUE!"}},{"$f":"Tabla13[[#This Row],[Importe de adjudicación (IVA INCLUIDO)]]","v":{"$error":"#VALUE!"}}]
[{"$nulls":18},{"$f":"Tabla13[[#This Row],[Título del contrato]]&Tabla13[[#This Row],[Nº Expediente de la plataforma de contratación]]","v":{"$error":"#VALUE!"}},{"$f":"Tabla13[[#This Row],[Nº Expediente de la plataforma de contratación]]","v":{"$error":"#VALUE!"}},{"$f":"Tabla13[[#This Row],[Importe IVA ]]","v":{"$error":"#VALUE!"}},{"$f":"Tabla13[[#This Row],[Importe de adjudicación (IVA INCLUIDO)]]","v":{"$error":"#VALUE!"}}]
[{"$nulls":18},{"$f":"Tabla13[[#This Row],[Título del contrato]]&Tabla13[[#This Row],[Nº Expediente de la plataforma de contratación]]","v":{"$error":"#VALUE!"}},{"$f":"Tabla13[[#This Row],[Nº Expediente de la plataforma de contratación]]","v":{"$error":"#VALUE!"}},{"$f":"Tabla13[[#This Row],[Importe IVA ]]","v":{"$error":"#VALUE!"}},{"$f":"Tabla13[[#This Row],[Importe de adjudicación (IVA INCLUIDO)]]","v":{"$error":"#VALUE!"}}]
[{"$nulls":18},{"$f":"Tabla13[[#This Row],[Título del contrato]]&Tabla13[[#This Row],[Nº Expediente de la plataforma de contratación]]","v":{"$error":"#VALUE!"}},{"$f":"Tabla13[[#This Row],[Nº Expediente de la plataforma de contratación]]","v":{"$error":"#VALUE!"}},{"$f":"Tabla13[[#This Row],[Importe IVA ]]","v":{"$error":"#VALUE!"}},{"$f":"Tabla13[[#This Row],[Importe de adjudicación (IVA INCLUIDO)]]","v":{"$error":"#VALUE!"}}]
[{"$nulls":18},{"$f":"Tabla13[[#This Row],[Título del contrato]]&Tabla13[[#This Row],[Nº Expediente de la plataforma de contratación]]","v":{"$error":"#VALUE!"}},{"$f":"Tabla13[[#This Row],[Nº Expediente de la plataforma de contratación]]","v":{"$error":"#VALUE!"}},{"$f":"Tabla13[[#This Row],[Importe IVA ]]","v":{"$error":"#VALUE!"}},{"$f":"Tabla13[[#This Row],[Importe de adjudicación (IVA INCLUIDO)]]","v":{"$error":"#VALUE!"}}]
[{"$nulls":18},{"$f":"Tabla13[[#This Row],[Título del contrato]]&Tabla13[[#This Row],[Nº Expediente de la plataforma de contratación]]","v":{"$error":"#VALUE!"}},{"$f":"Tabla13[[#This Row],[Nº Expediente de la plataforma de contratación]]","v":{"$error":"#VALUE!"}},{"$f":"Tabla13[[#This Row],[Importe IVA ]]","v":{"$error":"#VALUE!"}},{"$f":"Tabla13[[#This Row],[Importe de adjudicación (IVA INCLUIDO)]]","v":{"$error":"#VALUE!"}}]
[{"$nulls":18},{"$f":"Tabla13[[#This Row],[Título del contrato]]&Tabla13[[#This Row],[Nº Expediente de la plataforma de contratación]]","v":{"$error":"#VALUE!"}},{"$f":"Tabla13[[#This Row],[Nº Expediente de la plataforma de contratación]]","v":{"$error":"#VALUE!"}},{"$f":"Tabla13[[#This Row],[Importe IVA ]]","v":{"$error":"#VALUE!"}},{"$f":"Tabla13[[#This Row],[Importe de adjudicación (IVA INCLUIDO)]]","v":{"$error":"#VALUE!"}}]
[{"$nulls":18},{"$f":"Tabla13[[#This Row],[Título del contrato]]&Tabla13[[#This Row],[Nº Expediente de la plataforma de contratación]]","v":{"$error":"#VALUE!"}},{"$f":"Tabla13[[#This Row],[Nº Expediente de la plataforma de contratación]]","v":{"$error":"#VALUE!"}},{"$f":"Tabla13[[#This Row],[Importe IVA ]]","v":{"$error":"#VALUE!"}},{"$f":"Tabla13[[#This Row],[Importe de adjudicación (IVA INCLUIDO)]]","v":{"$error":"#VALUE!"}}]
[{"$nulls":18},{"$f":"Tabla13[[#This Row],[Título del contrato]]&Tabla13[[#This Row],[Nº Expediente de la plataforma de contratación]]","v":{"$error":"#VALUE!"}},{"$f":"Tabla13[[#This Row],[Nº Expediente de la plataforma de contratación]]","v":{"$error":"#VALUE!"}},{"$f":"Tabla13[[#This Row],[Importe IVA ]]","v":{"$error":"#VALUE!"}},{"$f":"Tabla13[[#This Row],[Importe de adjudicación (IVA INCLUIDO)]]","v":{"$error":"#VALUE!"}}]
[{"$nulls":18},{"$f":"Tabla13[[#This Row],[Título del contrato]]&Tabla13[[#This Row],[Nº Expediente de la plataforma de contratación]]","v":{"$error":"#VALUE!"}},{"$f":"Tabla13[[#This Row],[Nº Expediente de la plataforma de contratación]]","v":{"$error":"#VALUE!"}},{"$f":"Tabla13[[#This Row],[Importe IVA ]]","v":{"$error":"#VALUE!"}},{"$f":"Tabla13[[#This Row],[Importe de adjudicación (IVA INCLUIDO)]]","v":{"$error":"#VALUE!"}}]
[{"$nulls":18},{"$f":"Tabla13[[#This Row],[Título del contrato]]&Tabla13[[#This Row],[Nº Expediente de la plataforma de contratación]]","v":{"$error":"#VALUE!"}},{"$f":"Tabla13[[#This Row],[Nº Expediente de la plataforma de contratación]]","v":{"$error":"#VALUE!"}},{"$f":"Tabla13[[#This Row],[Importe IVA ]]","v":{"$error":"#VALUE!"}},{"$f":"Tabla13[[#This Row],[Importe de adjudicación (IVA INCLUIDO)]]","v":{"$error":"#VALUE!"}}]
[{"$nulls":18},{"$f":"Tabla13[[#This Row],[Título del contrato]]&Tabla13[[#This Row],[Nº Expediente de la plataforma de contratación]]","v":{"$error":"#VALUE!"}},{"$f":"Tabla13[[#This Row],[Nº Expediente de la plataforma de contratación]]","v":{"$error":"#VALUE!"}},{"$f":"Tabla13[[#This Row],[Importe IVA ]]","v":{"$error":"#VALUE!"}},{"$f":"Tabla13[[#This Row],[Importe de adjudicación (IVA INCLUIDO)]]","v":{"$error":"#VALUE!"}}]
[{"$nulls":18},{"$f":"Tabla13[[#This Row],[Título del contrato]]&Tabla13[[#This Row],[Nº Expediente de la plataforma de contratación]]","v":{"$error":"#VALUE!"}},{"$f":"Tabla13[[#This Row],[Nº Expediente de la plataforma de contratación]]","v":{"$error":"#VALUE!"}},{"$f":"Tabla13[[#This Row],[Importe IVA ]]","v":{"$error":"#VALUE!"}},{"$f":"Tabla13[[#This Row],[Importe de adjudicación (IVA INCLUIDO)]]","v":{"$error":"#VALUE!"}}]
[{"$nulls":18},{"$f":"Tabla13[[#This Row],[Título del contrato]]&Tabla13[[#This Row],[Nº Expediente de la plataforma de contratación]]","v":{"$error":"#VALUE!"}},{"$f":"Tabla13[[#This Row],[Nº Expediente de la plataforma de contratación]]","v":{"$error":"#VALUE!"}},{"$f":"Tabla13[[#This Row],[Importe IVA ]]","v":{"$error":"#VALUE!"}},{"$f":"Tabla13[[#This Row],[Importe de adjudicación (IVA INCLUIDO)]]","v":{"$error":"#VALUE!"}}]
[{"$nulls":18},{"$f":"Tabla13[[#This Row],[Título del contrato]]&Tabla13[[#This Row],[Nº Expediente de la plataforma de contratación]]","v":{"$error":"#VALUE!"}},{"$f":"Tabla13[[#This Row],[Nº Expediente de la plataforma de contratación]]","v":{"$error":"#VALUE!"}},{"$f":"Tabla13[[#This Row],[Importe IVA ]]","v":{"$error":"#VALUE!"}},{"$f":"Tabla13[[#This Row],[Importe de adjudicación (IVA INCLUIDO)]]","v":{"$error":"#VALUE!"}}]
[{"$nulls":18},{"$f":"Tabla13[[#This Row],[Título del contrato]]&Tabla13[[#This Row],[Nº Expediente de la plataforma de contratación]]","v":{"$error":"#VALUE!"}},{"$f":"Tabla13[[#This Row],[Nº Expediente de la plataforma de contratación]]","v":{"$error":"#VALUE!"}},{"$f":"Tabla13[[#This Row],[Importe IVA ]]","v":{"$error":"#VALUE!"}},{"$f":"Tabla13[[#This Row],[Importe de adjudicación (IVA INCLUIDO)]]","v":{"$error":"#VALUE!"}}]
[{"$nulls":18},{"$f":"Tabla13[[#This Row],[Título del contrato]]&Tabla13[[#This Row],[Nº Expediente de la plataforma de contratación]]","v":{"$error":"#VALUE!"}},{"$f":"Tabla13[[#This Row],[Nº Expediente de la plataforma de contratación]]","v":{"$error":"#VALUE!"}},{"$f":"Tabla13[[#This Row],[Importe IVA ]]","v":{"$error":"#VALUE!"}},{"$f":"Tabla13[[#This Row],[Importe de adjudicación (IVA INCLUIDO)]]","v":{"$error":"#VALUE!"}}]
[{"$nulls":18},{"$f":"Tabla13[[#This Row],[Título del contrato]]&Tabla13[[#This Row],[Nº Expediente de la plataforma de contratación]]","v":{"$error":"#VALUE!"}},{"$f":"Tabla13[[#This Row],[Nº Expediente de la plataforma de contratación]]","v":{"$error":"#VALUE!"}},{"$f":"Tabla13[[#This Row],[Importe IVA ]]","v":{"$error":"#VALUE!"}},{"$f":"Tabla13[[#This Row],[Importe de adjudicación (IVA INCLUIDO)]]","v":{"$error":"#VALUE!"}}]
[{"$nulls":18},{"$f":"Tabla13[[#This Row],[Título del contrato]]&Tabla13[[#This Row],[Nº Expediente de la plataforma de contratación]]","v":{"$error":"#VALUE!"}},{"$f":"Tabla13[[#This Row],[Nº Expediente de la plataforma de contratación]]","v":{"$error":"#VALUE!"}},{"$f":"Tabla13[[#This Row],[Importe IVA ]]","v":{"$error":"#VALUE!"}},{"$f":"Tabla13[[#This Row],[Importe de adjudicación (IVA INCLUIDO)]]","v":{"$error":"#VALUE!"}}]
[{"$nulls":18},{"$f":"Tabla13[[#This Row],[Título del contrato]]&Tabla13[[#This Row],[Nº Expediente de la plataforma de contratación]]","v":{"$error":"#VALUE!"}},{"$f":"Tabla13[[#This Row],[Nº Expediente de la plataforma de contratación]]","v":{"$error":"#VALUE!"}},{"$f":"Tabla13[[#This Row],[Importe IVA ]]","v":{"$error":"#VALUE!"}},{"$f":"Tabla13[[#This Row],[Importe de adjudicación (IVA INCLUIDO)]]","v":{"$error":"#VALUE!"}}]
[{"$nulls":18},{"$f":"Tabla13[[#This Row],[Título del contrato]]&Tabla13[[#This Row],[Nº Expediente de la plataforma de contratación]]","v":{"$error":"#VALUE!"}},{"$f":"Tabla13[[#This Row],[Nº Expediente de la plataforma de contratación]]","v":{"$error":"#VALUE!"}},{"$f":"Tabla13[[#This Row],[Importe IVA ]]","v":{"$error":"#VALUE!"}},{"$f":"Tabla13[[#This Row],[Importe de adjudicación (IVA INCLUIDO)]]","v":{"$error":"#VALUE!"}}]
[{"$nulls":18},{"$f":"Tabla13[[#This Row],[Título del contrato]]&Tabla13[[#This Row],[Nº Expediente de la plataforma de contratación]]","v":{"$error":"#VALUE!"}},{"$f":"Tabla13[[#This Row],[Nº Expediente de la plataforma de contratación]]","v":{"$error":"#VALUE!"}},{"$f":"Tabla13[[#This Row],[Importe IVA ]]","v":{"$error":"#VALUE!"}},{"$f":"Tabla13[[#This Row],[Importe de adjudicación (IVA INCLUIDO)]]","v":{"$error":"#VALUE!"}}]
[{"$nulls":18},{"$f":"Tabla13[[#This Row],[Título del contrato]]&Tabla13[[#This Row],[Nº Expediente de la plataforma de contratación]]","v":{"$error":"#VALUE!"}},{"$f":"Tabla13[[#This Row],[Nº Expediente de la plataforma de contratación]]","v":{"$error":"#VALUE!"}},{"$f":"Tabla13[[#This Row],[Importe IVA ]]","v":{"$error":"#VALUE!"}},{"$f":"Tabla13[[#This Row],[Importe de adjudicación (IVA INCLUIDO)]]","v":{"$error":"#VALUE!"}}]
[{"$nulls":18},{"$f":"Tabla13[[#This Row],[Título del contrato]]&Tabla13[[#This Row],[Nº Expediente de la plataforma de contratación]]","v":{"$error":"#VALUE!"}},{"$f":"Tabla13[[#This Row],[Nº Expediente de la plataforma de contratación]]","v":{"$error":"#VALUE!"}},{"$f":"Tabla13[[#This Row],[Importe IVA ]]","v":{"$error":"#VALUE!"}},{"$f":"Tabla13[[#This Row],[Importe de adjudicación (IVA INCLUIDO)]]","v":{"$error":"#VALUE!"}}]
[{"$nulls":18},{"$f":"Tabla13[[#This Row],[Título del contrato]]&Tabla13[[#This Row],[Nº Expediente de la plataforma de contratación]]","v":{"$error":"#VALUE!"}},{"$f":"Tabla13[[#This Row],[Nº Expediente de la plataforma de contratación]]","v":{"$error":"#VALUE!"}},{"$f":"Tabla13[[#This Row],[Importe IVA ]]","v":{"$error":"#VALUE!"}},{"$f":"Tabla13[[#This Row],[Importe de adjudicación (IVA INCLUIDO)]]","v":{"$error":"#VALUE!"}}]
[{"$nulls":18},{"$f":"Tabla13[[#This Row],[Título del contrato]]&Tabla13[[#This Row],[Nº Expediente de la plataforma de contratación]]","v":{"$error":"#VALUE!"}},{"$f":"Tabla13[[#This Row],[Nº Expediente de la plataforma de contratación]]","v":{"$error":"#VALUE!"}},{"$f":"Tabla13[[#This Row],[Importe IVA ]]","v":{"$error":"#VALUE!"}},{"$f":"Tabla13[[#This Row],[Importe de adjudicación (IVA INCLUIDO)]]","v":{"$error":"#VALUE!"}}]
[{"$nulls":18},{"$f":"Tabla13[[#This Row],[Título del contrato]]&Tabla13[[#This Row],[Nº Expediente de la plataforma de contratación]]","v":{"$error":"#VALUE!"}},{"$f":"Tabla13[[#This Row],[Nº Expediente de la plataforma de contratación]]","v":{"$error":"#VALUE!"}},{"$f":"Tabla13[[#This Row],[Importe IVA ]]","v":{"$error":"#VALUE!"}},{"$f":"Tabla13[[#This Row],[Importe de adjudicación (IVA INCLUIDO)]]","v":{"$error":"#VALUE!"}}]
[{"$nulls":18},{"$f":"Tabla13[[#This Row],[Título del contrato]]&Tabla13[[#This Row],[Nº Expediente de la plataforma de contratación]]","v":{"$error":"#VALUE!"}},{"$f":"Tabla13[[#This Row],[Nº Expediente de la plataforma de contratación]]","v":{"$error":"#VALUE!"}},{"$f":"Tabla13[[#This Row],[Importe IVA ]]","v":{"$error":"#VALUE!"}},{"$f":"Tabla13[[#This Row],[Importe de adjudicación (IVA INCLUIDO)]]","v":{"$error":"#VALUE!"}}]
[{"$nulls":18},{"$f":"Tabla13[[#This Row],[Título del contrato]]&Tabla13[[#This Row],[Nº Expediente de la plataforma de contratación]]","v":{"$error":"#VALUE!"}},{"$f":"Tabla13[[#This Row],[Nº Expediente de la plataforma de contratación]]","v":{"$error":"#VALUE!"}},{"$f":"Tabla13[[#This Row],[Importe IVA ]]","v":{"$error":"#VALUE!"}},{"$f":"Tabla13[[#This Row],[Importe de adjudicación (IVA INCLUIDO)]]","v":{"$error":"#VALUE!"}}]
[{"$nulls":18},{"$f":"Tabla13[[#This Row],[Título del contrato]]&Tabla13[[#This Row],[Nº Expediente de la plataforma de contratación]]","v":{"$error":"#VALUE!"}},{"$f":"Tabla13[[#This Row],[Nº Expediente de la plataforma de contratación]]","v":{"$error":"#VALUE!"}},{"$f":"Tabla13[[#This Row],[Importe IVA ]]","v":{"$error":"#VALUE!"}},{"$f":"Tabla13[[#This Row],[Importe de adjudicación (IVA INCLUIDO)]]","v":{"$error":"#VALUE!"}}]
[{"$nulls":18},{"$f":"Tabla13[[#This Row],[Título del contrato]]&Tabla13[[#This Row],[Nº Expediente de la plataforma de contratación]]","v":{"$error":"#VALUE!"}},{"$f":"Tabla13[[#This Row],[Nº Expediente de la plataforma de contratación]]","v":{"$error":"#VALUE!"}},{"$f":"Tabla13[[#This Row],[Importe IVA ]]","v":{"$error":"#VALUE!"}},{"$f":"Tabla13[[#This Row],[Importe de adjudicación (IVA INCLUIDO)]]","v":{"$error":"#VALUE!"}}]
[{"$nulls":18},{"$f":"Tabla13[[#This Row],[Título del contrato]]&Tabla13[[#This Row],[Nº Expediente de la plataforma de contratación]]","v":{"$error":"#VALUE!"}},{"$f":"Tabla13[[#This Row],[Nº Expediente de la plataforma de contratación]]","v":{"$error":"#VALUE!"}},{"$f":"Tabla13[[#This Row],[Importe IVA ]]","v":{"$error":"#VALUE!"}},{"$f":"Tabla13[[#This Row],[Importe de adjudicación (IVA INCLUIDO)]]","v":{"$error":"#VALUE!"}}]
[{"$nulls":18},{"$f":"Tabla13[[#This Row],[Título del contrato]]&Tabla13[[#This Row],[Nº Expediente de la plataforma de contratación]]","v":{"$error":"#VALUE!"}},{"$f":"Tabla13[[#This Row],[Nº Expediente de la plataforma de contratación]]","v":{"$error":"#VALUE!"}},{"$f":"Tabla13[[#This Row],[Importe IVA ]]","v":{"$error":"#VALUE!"}},{"$f":"Tabla13[[#This Row],[Importe de adjudicación (IVA INCLUIDO)]]","v":{"$error":"#VALUE!"}}]
[{"$nulls":18},{"$f":"Tabla13[[#This Row],[Título del contrato]]&Tabla13[[#This Row],[Nº Expediente de la plataforma de contratación]]","v":{"$error":"#VALUE!"}},{"$f":"Tabla13[[#This Row],[Nº Expediente de la plataforma de contratación]]","v":{"$error":"#VALUE!"}},{"$f":"Tabla13[[#This Row],[Importe IVA ]]","v":{"$error":"#VALUE!"}},{"$f":"Tabla13[[#This Row],[Importe de adjudicación (IVA INCLUIDO)]]","v":{"$error":"#VALUE!"}}]
[{"$nulls":18},{"$f":"Tabla13[[#This Row],[Título del contrato]]&Tabla13[[#This Row],[Nº Expediente de la plataforma de contratación]]","v":{"$error":"#VALUE!"}},{"$f":"Tabla13[[#This Row],[Nº Expediente de la plataforma de contratación]]","v":{"$error":"#VALUE!"}},{"$f":"Tabla13[[#This Row],[Importe IVA ]]","v":{"$error":"#VALUE!"}},{"$f":"Tabla13[[#This Row],[Importe de adjudicación (IVA INCLUIDO)]]","v":{"$error":"#VALUE!"}}]
[{"$nulls":18},{"$f":"Tabla13[[#This Row],[Título del contrato]]&Tabla13[[#This Row],[Nº Expediente de la plataforma de contratación]]","v":{"$error":"#VALUE!"}},{"$f":"Tabla13[[#This Row],[Nº Expediente de la plataforma de contratación]]","v":{"$error":"#VALUE!"}},{"$f":"Tabla13[[#This Row],[Importe IVA ]]","v":{"$error":"#VALUE!"}},{"$f":"Tabla13[[#This Row],[Importe de adjudicación (IVA INCLUIDO)]]","v":{"$error":"#VALUE!"}}]
[{"$nulls":18},{"$f":"Tabla13[[#This Row],[Título del contrato]]&Tabla13[[#This Row],[Nº Expediente de la plataforma de contratación]]","v":{"$error":"#VALUE!"}},{"$f":"Tabla13[[#This Row],[Nº Expediente de la plataforma de contratación]]","v":{"$error":"#VALUE!"}},{"$f":"Tabla13[[#This Row],[Importe IVA ]]","v":{"$error":"#VALUE!"}},{"$f":"Tabla13[[#This Row],[Importe de adjudicación (IVA INCLUIDO)]]","v":{"$error":"#VALUE!"}}]
[{"$nulls":18},{"$f":"Tabla13[[#This Row],[Título del contrato]]&Tabla13[[#This Row],[Nº Expediente de la plataforma de contratación]]","v":{"$error":"#VALUE!"}},{"$f":"Tabla13[[#This Row],[Nº Expediente de la plataforma de contratación]]","v":{"$error":"#VALUE!"}},{"$f":"Tabla13[[#This Row],[Importe IVA ]]","v":{"$error":"#VALUE!"}},{"$f":"Tabla13[[#This Row],[Importe de adjudicación (IVA INCLUIDO)]]","v":{"$error":"#VALUE!"}}]
[{"$nulls":18},{"$f":"Tabla13[[#This Row],[Título del contrato]]&Tabla13[[#This Row],[Nº Expediente de la plataforma de contratación]]","v":{"$error":"#VALUE!"}},{"$f":"Tabla13[[#This Row],[Nº Expediente de la plataforma de contratación]]","v":{"$error":"#VALUE!"}},{"$f":"Tabla13[[#This Row],[Importe IVA ]]","v":{"$error":"#VALUE!"}},{"$f":"Tabla13[[#This Row],[Importe de adjudicación (IVA INCLUIDO)]]","v":{"$error":"#VALUE!"}}]
[{"$nulls":18},{"$f":"Tabla13[[#This Row],[Título del contrato]]&Tabla13[[#This Row],[Nº Expediente de la plataforma de contratación]]","v":{"$error":"#VALUE!"}},{"$f":"Tabla13[[#This Row],[Nº Expediente de la plataforma de contratación]]","v":{"$error":"#VALUE!"}},{"$f":"Tabla13[[#This Row],[Importe IVA ]]","v":{"$error":"#VALUE!"}},{"$f":"Tabla13[[#This Row],[Importe de adjudicación (IVA INCLUIDO)]]","v":{"$error":"#VALUE!"}}]
[{"$nulls":18},{"$f":"Tabla13[[#This Row],[Título del contrato]]&Tabla13[[#This Row],[Nº Expediente de la plataforma de contratación]]","v":{"$error":"#VALUE!"}},{"$f":"Tabla13[[#This Row],[Nº Expediente de la plataforma de contratación]]","v":{"$error":"#VALUE!"}},{"$f":"Tabla13[[#This Row],[Importe IVA ]]","v":{"$error":"#VALUE!"}},{"$f":"Tabla13[[#This Row],[Importe de adjudicación (IVA INCLUIDO)]]","v":{"$error":"#VALUE!"}}]
[{"$nulls":18},{"$f":"Tabla13[[#This Row],[Título del contrato]]&Tabla13[[#This Row],[Nº Expediente de la plataforma de contratación]]","v":{"$error":"#VALUE!"}},{"$f":"Tabla13[[#This Row],[Nº Expediente de la plataforma de contratación]]","v":{"$error":"#VALUE!"}},{"$f":"Tabla13[[#This Row],[Importe IVA ]]","v":{"$error":"#VALUE!"}},{"$f":"Tabla13[[#This Row],[Importe de adjudicación (IVA INCLUIDO)]]","v":{"$error":"#VALUE!"}}]
[{"$nulls":18},{"$f":"Tabla13[[#This Row],[Título del contrato]]&Tabla13[[#This Row],[Nº Expediente de la plataforma de contratación]]","v":{"$error":"#VALUE!"}},{"$f":"Tabla13[[#This Row],[Nº Expediente de la plataforma de contratación]]","v":{"$error":"#VALUE!"}},{"$f":"Tabla13[[#This Row],[Importe IVA ]]","v":{"$error":"#VALUE!"}},{"$f":"Tabla13[[#This Row],[Importe de adjudicación (IVA INCLUIDO)]]","v":{"$error":"#VALUE!"}}]
[{"$nulls":18},{"$f":"Tabla13[[#This Row],[Título del contrato]]&Tabla13[[#This Row],[Nº Expediente de la plataforma de contratación]]","v":{"$error":"#VALUE!"}},{"$f":"Tabla13[[#This Row],[Nº Expediente de la plataforma de contratación]]","v":{"$error":"#VALUE!"}},{"$f":"Tabla13[[#This Row],[Importe IVA ]]","v":{"$error":"#VALUE!"}},{"$f":"Tabla13[[#This Row],[Importe de adjudicación (IVA INCLUIDO)]]","v":{"$error":"#VALUE!"}}]
[{"$nulls":18},{"$f":"Tabla13[[#This Row],[Título del contrato]]&Tabla13[[#This Row],[Nº Expediente de la plataforma de contratación]]","v":{"$error":"#VALUE!"}},{"$f":"Tabla13[[#This Row],[Nº Expediente de la plataforma de contratación]]","v":{"$error":"#VALUE!"}},{"$f":"Tabla13[[#This Row],[Importe IVA ]]","v":{"$error":"#VALUE!"}},{"$f":"Tabla13[[#This Row],[Importe de adjudicación (IVA INCLUIDO)]]","v":{"$error":"#VALUE!"}}]
[{"$nulls":18},{"$f":"Tabla13[[#This Row],[Título del contrato]]&Tabla13[[#This Row],[Nº Expediente de la plataforma de contratación]]","v":{"$error":"#VALUE!"}},{"$f":"Tabla13[[#This Row],[Nº Expediente de la plataforma de contratación]]","v":{"$error":"#VALUE!"}},{"$f":"Tabla13[[#This Row],[Importe IVA ]]","v":{"$error":"#VALUE!"}},{"$f":"Tabla13[[#This Row],[Importe de adjudicación (IVA INCLUIDO)]]","v":{"$error":"#VALUE!"}}]
[{"$nulls":18},{"$f":"Tabla13[[#This Row],[Título del contrato]]&Tabla13[[#This Row],[Nº Expediente de la plataforma de contratación]]","v":{"$error":"#VALUE!"}},{"$f":"Tabla13[[#This Row],[Nº Expediente de la plataforma de contratación]]","v":{"$error":"#VALUE!"}},{"$f":"Tabla13[[#This Row],[Importe IVA ]]","v":{"$error":"#VALUE!"}},{"$f":"Tabla13[[#This Row],[Importe de adjudicación (IVA INCLUIDO)]]","v":{"$error":"#VALUE!"}}]
[{"$nulls":18},{"$f":"Tabla13[[#This Row],[Título del contrato]]&Tabla13[[#This Row],[Nº Expediente de la plataforma de contratación]]","v":{"$error":"#VALUE!"}},{"$f":"Tabla13[[#This Row],[Nº Expediente de la plataforma de contratación]]","v":{"$error":"#VALUE!"}},{"$f":"Tabla13[[#This Row],[Importe IVA ]]","v":{"$error":"#VALUE!"}},{"$f":"Tabla13[[#This Row],[Importe de adjudicación (IVA INCLUIDO)]]","v":{"$error":"#VALUE!"}}]
[{"$nulls":18},{"$f":"Tabla13[[#This Row],[Título del contrato]]&Tabla13[[#This Row],[Nº Expediente de la plataforma de contratación]]","v":{"$error":"#VALUE!"}},{"$f":"Tabla13[[#This Row],[Nº Expediente de la plataforma de contratación]]","v":{"$error":"#VALUE!"}},{"$f":"Tabla13[[#This Row],[Importe IVA ]]","v":{"$error":"#VALUE!"}},{"$f":"Tabla13[[#This Row],[Importe de adjudicación (IVA INCLUIDO)]]","v":{"$error":"#VALUE!"}}]
[{"$nulls":18},{"$f":"Tabla13[[#This Row],[Título del contrato]]&Tabla13[[#This Row],[Nº Expediente de la plataforma de contratación]]","v":{"$error":"#VALUE!"}},{"$f":"Tabla13[[#This Row],[Nº Expediente de la plataforma de contratación]]","v":{"$error":"#VALUE!"}},{"$f":"Tabla13[[#This Row],[Importe IVA ]]","v":{"$error":"#VALUE!"}},{"$f":"Tabla13[[#This Row],[Importe de adjudicación (IVA INCLUIDO)]]","v":{"$error":"#VALUE!"}}]
[{"$nulls":18},{"$f":"Tabla13[[#This Row],[Título del contrato]]&Tabla13[[#This Row],[Nº Expediente de la plataforma de contratación]]","v":{"$error":"#VALUE!"}},{"$f":"Tabla13[[#This Row],[Nº Expediente de la plataforma de contratación]]","v":{"$error":"#VALUE!"}},{"$f":"Tabla13[[#This Row],[Importe IVA ]]","v":{"$error":"#VALUE!"}},{"$f":"Tabla13[[#This Row],[Importe de adjudicación (IVA INCLUIDO)]]","v":{"$error":"#VALUE!"}}]
[{"$nulls":18},{"$f":"Tabla13[[#This Row],[Título del contrato]]&Tabla13[[#This Row],[Nº Expediente de la plataforma de contratación]]","v":{"$error":"#VALUE!"}},{"$f":"Tabla13[[#This Row],[Nº Expediente de la plataforma de contratación]]","v":{"$error":"#VALUE!"}},{"$f":"Tabla13[[#This Row],[Importe IVA ]]","v":{"$error":"#VALUE!"}},{"$f":"Tabla13[[#This Row],[Importe de adjudicación (IVA INCLUIDO)]]","v":{"$error":"#VALUE!"}}]
[{"$nulls":18},{"$f":"Tabla13[[#This Row],[Título del contrato]]&Tabla13[[#This Row],[Nº Expediente de la plataforma de contratación]]","v":{"$error":"#VALUE!"}},{"$f":"Tabla13[[#This Row],[Nº Expediente de la plataforma de contratación]]","v":{"$error":"#VALUE!"}},{"$f":"Tabla13[[#This Row],[Importe IVA ]]","v":{"$error":"#VALUE!"}},{"$f":"Tabla13[[#This Row],[Importe de adjudicación (IVA INCLUIDO)]]","v":{"$error":"#VALUE!"}}]
[{"$nulls":18},{"$f":"Tabla13[[#This Row],[Título del contrato]]&Tabla13[[#This Row],[Nº Expediente de la plataforma de contratación]]","v":{"$error":"#VALUE!"}},{"$f":"Tabla13[[#This Row],[Nº Expediente de la plataforma de contratación]]","v":{"$error":"#VALUE!"}},{"$f":"Tabla13[[#This Row],[Importe IVA ]]","v":{"$error":"#VALUE!"}},{"$f":"Tabla13[[#This Row],[Importe de adjudicación (IVA INCLUIDO)]]","v":{"$error":"#VALUE!"}}]
[{"$nulls":18},{"$f":"Tabla13[[#This Row],[Título del contrato]]&Tabla13[[#This Row],[Nº Expediente de la plataforma de contratación]]","v":{"$error":"#VALUE!"}},{"$f":"Tabla13[[#This Row],[Nº Expediente de la plataforma de contratación]]","v":{"$error":"#VALUE!"}},{"$f":"Tabla13[[#This Row],[Importe IVA ]]","v":{"$error":"#VALUE!"}},{"$f":"Tabla13[[#This Row],[Importe de adjudicación (IVA INCLUIDO)]]","v":{"$error":"#VALUE!"}}]
[{"$nulls":18},{"$f":"Tabla13[[#This Row],[Título del contrato]]&Tabla13[[#This Row],[Nº Expediente de la plataforma de contratación]]","v":{"$error":"#VALUE!"}},{"$f":"Tabla13[[#This Row],[Nº Expediente de la plataforma de contratación]]","v":{"$error":"#VALUE!"}},{"$f":"Tabla13[[#This Row],[Importe IVA ]]","v":{"$error":"#VALUE!"}},{"$f":"Tabla13[[#This Row],[Importe de adjudicación (IVA INCLUIDO)]]","v":{"$error":"#VALUE!"}}]
[{"$nulls":18},{"$f":"Tabla13[[#This Row],[Título del contrato]]&Tabla13[[#This Row],[Nº Expediente de la plataforma de contratación]]","v":{"$error":"#VALUE!"}},{"$f":"Tabla13[[#This Row],[Nº Expediente de la plataforma de contratación]]","v":{"$error":"#VALUE!"}},{"$f":"Tabla13[[#This Row],[Importe IVA ]]","v":{"$error":"#VALUE!"}},{"$f":"Tabla13[[#This Row],[Importe de adjudicación (IVA INCLUIDO)]]","v":{"$error":"#VALUE!"}}]
[{"$nulls":18},{"$f":"Tabla13[[#This Row],[Título del contrato]]&Tabla13[[#This Row],[Nº Expediente de la plataforma de contratación]]","v":{"$error":"#VALUE!"}},{"$f":"Tabla13[[#This Row],[Nº Expediente de la plataforma de contratación]]","v":{"$error":"#VALUE!"}},{"$f":"Tabla13[[#This Row],[Importe IVA ]]","v":{"$error":"#VALUE!"}},{"$f":"Tabla13[[#This Row],[Importe de adjudicación (IVA INCLUIDO)]]","v":{"$error":"#VALUE!"}}]
[{"$nulls":18},{"$f":"Tabla13[[#This Row],[Título del contrato]]&Tabla13[[#This Row],[Nº Expediente de la plataforma de contratación]]","v":{"$error":"#VALUE!"}},{"$f":"Tabla13[[#This Row],[Nº Expediente de la plataforma de contratación]]","v":{"$error":"#VALUE!"}},{"$f":"Tabla13[[#This Row],[Importe IVA ]]","v":{"$error":"#VALUE!"}},{"$f":"Tabla13[[#This Row],[Importe de adjudicación (IVA INCLUIDO)]]","v":{"$error":"#VALUE!"}}]
[{"$nulls":18},{"$f":"Tabla13[[#This Row],[Título del contrato]]&Tabla13[[#This Row],[Nº Expediente de la plataforma de contratación]]","v":{"$error":"#VALUE!"}},{"$f":"Tabla13[[#This Row],[Nº Expediente de la plataforma de contratación]]","v":{"$error":"#VALUE!"}},{"$f":"Tabla13[[#This Row],[Importe IVA ]]","v":{"$error":"#VALUE!"}},{"$f":"Tabla13[[#This Row],[Importe de adjudicación (IVA INCLUIDO)]]","v":{"$error":"#VALUE!"}}]
[{"$nulls":18},{"$f":"Tabla13[[#This Row],[Título del contrato]]&Tabla13[[#This Row],[Nº Expediente de la plataforma de contratación]]","v":{"$error":"#VALUE!"}},{"$f":"Tabla13[[#This Row],[Nº Expediente de la plataforma de contratación]]","v":{"$error":"#VALUE!"}},{"$f":"Tabla13[[#This Row],[Importe IVA ]]","v":{"$error":"#VALUE!"}},{"$f":"Tabla13[[#This Row],[Importe de adjudicación (IVA INCLUIDO)]]","v":{"$error":"#VALUE!"}}]
[{"$nulls":18},{"$f":"Tabla13[[#This Row],[Título del contrato]]&Tabla13[[#This Row],[Nº Expediente de la plataforma de contratación]]","v":{"$error":"#VALUE!"}},{"$f":"Tabla13[[#This Row],[Nº Expediente de la plataforma de contratación]]","v":{"$error":"#VALUE!"}},{"$f":"Tabla13[[#This Row],[Importe IVA ]]","v":{"$error":"#VALUE!"}},{"$f":"Tabla13[[#This Row],[Importe de adjudicación (IVA INCLUIDO)]]","v":{"$error":"#VALUE!"}}]
[{"$nulls":18},{"$f":"Tabla13[[#This Row],[Título del contrato]]&Tabla13[[#This Row],[Nº Expediente de la plataforma de contratación]]","v":{"$error":"#VALUE!"}},{"$f":"Tabla13[[#This Row],[Nº Expediente de la plataforma de contratación]]","v":{"$error":"#VALUE!"}},{"$f":"Tabla13[[#This Row],[Importe IVA ]]","v":{"$error":"#VALUE!"}},{"$f":"Tabla13[[#This Row],[Importe de adjudicación (IVA INCLUIDO)]]","v":{"$error":"#VALUE!"}}]
[{"$nulls":18},{"$f":"Tabla13[[#This Row],[Título del contrato]]&Tabla13[[#This Row],[Nº Expediente de la plataforma de contratación]]","v":{"$error":"#VALUE!"}},{"$f":"Tabla13[[#This Row],[Nº Expediente de la plataforma de contratación]]","v":{"$error":"#VALUE!"}},{"$f":"Tabla13[[#This Row],[Importe IVA ]]","v":{"$error":"#VALUE!"}},{"$f":"Tabla13[[#This Row],[Importe de adjudicación (IVA INCLUIDO)]]","v":{"$error":"#VALUE!"}}]
[{"$nulls":18},{"$f":"Tabla13[[#This Row],[Título del contrato]]&Tabla13[[#This Row],[Nº Expediente de la plataforma de contratación]]","v":{"$error":"#VALUE!"}},{"$f":"Tabla13[[#This Row],[Nº Expediente de la plataforma de contratación]]","v":{"$error":"#VALUE!"}},{"$f":"Tabla13[[#This Row],[Importe IVA ]]","v":{"$error":"#VALUE!"}},{"$f":"Tabla13[[#This Row],[Importe de adjudicación (IVA INCLUIDO)]]","v":{"$error":"#VALUE!"}}]
[{"$nulls":18},{"$f":"Tabla13[[#This Row],[Título del contrato]]&Tabla13[[#This Row],[Nº Expediente de la plataforma de contratación]]","v":{"$error":"#VALUE!"}},{"$f":"Tabla13[[#This Row],[Nº Expediente de la plataforma de contratación]]","v":{"$error":"#VALUE!"}},{"$f":"Tabla13[[#This Row],[Importe IVA ]]","v":{"$error":"#VALUE!"}},{"$f":"Tabla13[[#This Row],[Importe de adjudicación (IVA INCLUIDO)]]","v":{"$error":"#VALUE!"}}]
[{"$nulls":18},{"$f":"Tabla13[[#This Row],[Título del contrato]]&Tabla13[[#This Row],[Nº Expediente de la plataforma de contratación]]","v":{"$error":"#VALUE!"}},{"$f":"Tabla13[[#This Row],[Nº Expediente de la plataforma de contratación]]","v":{"$error":"#VALUE!"}},{"$f":"Tabla13[[#This Row],[Importe IVA ]]","v":{"$error":"#VALUE!"}},{"$f":"Tabla13[[#This Row],[Importe de adjudicación (IVA INCLUIDO)]]","v":{"$error":"#VALUE!"}}]
[{"$nulls":18},{"$f":"Tabla13[[#This Row],[Título del contrato]]&Tabla13[[#This Row],[Nº Expediente de la plataforma de contratación]]","v":{"$error":"#VALUE!"}},{"$f":"Tabla13[[#This Row],[Nº Expediente de la plataforma de contratación]]","v":{"$error":"#VALUE!"}},{"$f":"Tabla13[[#This Row],[Importe IVA ]]","v":{"$error":"#VALUE!"}},{"$f":"Tabla13[[#This Row],[Importe de adjudicación (IVA INCLUIDO)]]","v":{"$error":"#VALUE!"}}]
[{"$nulls":18},{"$f":"Tabla13[[#This Row],[Título del contrato]]&Tabla13[[#This Row],[Nº Expediente de la plataforma de contratación]]","v":{"$error":"#VALUE!"}},{"$f":"Tabla13[[#This Row],[Nº Expediente de la plataforma de contratación]]","v":{"$error":"#VALUE!"}},{"$f":"Tabla13[[#This Row],[Importe IVA ]]","v":{"$error":"#VALUE!"}},{"$f":"Tabla13[[#This Row],[Importe de adjudicación (IVA INCLUIDO)]]","v":{"$error":"#VALUE!"}}]
[{"$nulls":18},{"$f":"Tabla13[[#This Row],[Título del contrato]]&Tabla13[[#This Row],[Nº Expediente de la plataforma de contratación]]","v":{"$error":"#VALUE!"}},{"$f":"Tabla13[[#This Row],[Nº Expediente de la plataforma de contratación]]","v":{"$error":"#VALUE!"}},{"$f":"Tabla13[[#This Row],[Importe IVA ]]","v":{"$error":"#VALUE!"}},{"$f":"Tabla13[[#This Row],[Importe de adjudicación (IVA INCLUIDO)]]","v":{"$error":"#VALUE!"}}]
[{"$nulls":18},{"$f":"Tabla13[[#This Row],[Título del contrato]]&Tabla13[[#This Row],[Nº Expediente de la plataforma de contratación]]","v":{"$error":"#VALUE!"}},{"$f":"Tabla13[[#This Row],[Nº Expediente de la plataforma de contratación]]","v":{"$error":"#VALUE!"}},{"$f":"Tabla13[[#This Row],[Importe IVA ]]","v":{"$error":"#VALUE!"}},{"$f":"Tabla13[[#This Row],[Importe de adjudicación (IVA INCLUIDO)]]","v":{"$error":"#VALUE!"}}]
[{"$nulls":18},{"$f":"Tabla13[[#This Row],[Título del contrato]]&Tabla13[[#This Row],[Nº Expediente de la plataforma de contratación]]","v":{"$error":"#VALUE!"}},{"$f":"Tabla13[[#This Row],[Nº Expediente de la plataforma de contratación]]","v":{"$error":"#VALUE!"}},{"$f":"Tabla13[[#This Row],[Importe IVA ]]","v":{"$error":"#VALUE!"}},{"$f":"Tabla13[[#This Row],[Importe de adjudicación (IVA INCLUIDO)]]","v":{"$error":"#VALUE!"}}]
[{"$nulls":18},{"$f":"Tabla13[[#This Row],[Título del contrato]]&Tabla13[[#This Row],[Nº Expediente de la plataforma de contratación]]","v":{"$error":"#VALUE!"}},{"$f":"Tabla13[[#This Row],[Nº Expediente de la plataforma de contratación]]","v":{"$error":"#VALUE!"}},{"$f":"Tabla13[[#This Row],[Importe IVA ]]","v":{"$error":"#VALUE!"}},{"$f":"Tabla13[[#This Row],[Importe de adjudicación (IVA INCLUIDO)]]","v":{"$error":"#VALUE!"}}]
[{"$nulls":18},{"$f":"Tabla13[[#This Row],[Título del contrato]]&Tabla13[[#This Row],[Nº Expediente de la plataforma de contratación]]","v":{"$error":"#VALUE!"}},{"$f":"Tabla13[[#This Row],[Nº Expediente de la plataforma de contratación]]","v":{"$error":"#VALUE!"}},{"$f":"Tabla13[[#This Row],[Importe IVA ]]","v":{"$error":"#VALUE!"}},{"$f":"Tabla13[[#This Row],[Importe de adjudicación (IVA INCLUIDO)]]","v":{"$error":"#VALUE!"}}]
[{"$nulls":18},{"$f":"Tabla13[[#This Row],[Título del contrato]]&Tabla13[[#This Row],[Nº Expediente de la plataforma de contratación]]","v":{"$error":"#VALUE!"}},{"$f":"Tabla13[[#This Row],[Nº Expediente de la plataforma de contratación]]","v":{"$error":"#VALUE!"}},{"$f":"Tabla13[[#This Row],[Importe IVA ]]","v":{"$error":"#VALUE!"}},{"$f":"Tabla13[[#This Row],[Importe de adjudicación (IVA INCLUIDO)]]","v":{"$error":"#VALUE!"}}]
[{"$nulls":18},{"$f":"Tabla13[[#This Row],[Título del contrato]]&Tabla13[[#This Row],[Nº Expediente de la plataforma de contratación]]","v":{"$error":"#VALUE!"}},{"$f":"Tabla13[[#This Row],[Nº Expediente de la plataforma de contratación]]","v":{"$error":"#VALUE!"}},{"$f":"Tabla13[[#This Row],[Importe IVA ]]","v":{"$error":"#VALUE!"}},{"$f":"Tabla13[[#This Row],[Importe de adjudicación (IVA INCLUIDO)]]","v":{"$error":"#VALUE!"}}]
[{"$nulls":18},{"$f":"Tabla13[[#This Row],[Título del contrato]]&Tabla13[[#This Row],[Nº Expediente de la plataforma de contratación]]","v":{"$error":"#VALUE!"}},{"$f":"Tabla13[[#This Row],[Nº Expediente de la plataforma de contratación]]","v":{"$error":"#VALUE!"}},{"$f":"Tabla13[[#This Row],[Importe IVA ]]","v":{"$error":"#VALUE!"}},{"$f":"Tabla13[[#This Row],[Importe de adjudicación (IVA INCLUIDO)]]","v":{"$error":"#VALUE!"}}]
[{"$nulls":18},{"$f":"Tabla13[[#This Row],[Título del contrato]]&Tabla13[[#This Row],[Nº Expediente de la plataforma de contratación]]","v":{"$error":"#VALUE!"}},{"$f":"Tabla13[[#This Row],[Nº Expediente de la plataforma de contratación]]","v":{"$error":"#VALUE!"}},{"$f":"Tabla13[[#This Row],[Importe IVA ]]","v":{"$error":"#VALUE!"}},{"$f":"Tabla13[[#This Row],[Importe de adjudicación (IVA INCLUIDO)]]","v":{"$error":"#VALUE!"}}]
[{"$nulls":18},{"$f":"Tabla13[[#This Row],[Título del contrato]]&Tabla13[[#This Row],[Nº Expediente de la plataforma de contratación]]","v":{"$error":"#VALUE!"}},{"$f":"Tabla13[[#This Row],[Nº Expediente de la plataforma de contratación]]","v":{"$error":"#VALUE!"}},{"$f":"Tabla13[[#This Row],[Importe IVA ]]","v":{"$error":"#VALUE!"}},{"$f":"Tabla13[[#This Row],[Importe de adjudicación (IVA INCLUIDO)]]","v":{"$error":"#VALUE!"}}]
[{"$nulls":18},{"$f":"Tabla13[[#This Row],[Título del contrato]]&Tabla13[[#This Row],[Nº Expediente de la plataforma de contratación]]","v":{"$error":"#VALUE!"}},{"$f":"Tabla13[[#This Row],[Nº Expediente de la plataforma de contratación]]","v":{"$error":"#VALUE!"}},{"$f":"Tabla13[[#This Row],[Importe IVA ]]","v":{"$error":"#VALUE!"}},{"$f":"Tabla13[[#This Row],[Importe de adjudicación (IVA INCLUIDO)]]","v":{"$error":"#VALUE!"}}]
[{"$nulls":18},{"$f":"Tabla13[[#This Row],[Título del contrato]]&Tabla13[[#This Row],[Nº Expediente de la plataforma de contratación]]","v":{"$error":"#VALUE!"}},{"$f":"Tabla13[[#This Row],[Nº Expediente de la plataforma de contratación]]","v":{"$error":"#VALUE!"}},{"$f":"Tabla13[[#This Row],[Importe IVA ]]","v":{"$error":"#VALUE!"}},{"$f":"Tabla13[[#This Row],[Importe de adjudicación (IVA INCLUIDO)]]","v":{"$error":"#VALUE!"}}]
[{"$nulls":18},{"$f":"Tabla13[[#This Row],[Título del contrato]]&Tabla13[[#This Row],[Nº Expediente de la plataforma de contratación]]","v":{"$error":"#VALUE!"}},{"$f":"Tabla13[[#This Row],[Nº Expediente de la plataforma de contratación]]","v":{"$error":"#VALUE!"}},{"$f":"Tabla13[[#This Row],[Importe IVA ]]","v":{"$error":"#VALUE!"}},{"$f":"Tabla13[[#This Row],[Importe de adjudicación (IVA INCLUIDO)]]","v":{"$error":"#VALUE!"}}]
[{"$nulls":18},{"$f":"Tabla13[[#This Row],[Título del contrato]]&Tabla13[[#This Row],[Nº Expediente de la plataforma de contratación]]","v":{"$error":"#VALUE!"}},{"$f":"Tabla13[[#This Row],[Nº Expediente de la plataforma de contratación]]","v":{"$error":"#VALUE!"}},{"$f":"Tabla13[[#This Row],[Importe IVA ]]","v":{"$error":"#VALUE!"}},{"$f":"Tabla13[[#This Row],[Importe de adjudicación (IVA INCLUIDO)]]","v":{"$error":"#VALUE!"}}]
[{"$nulls":18},{"$f":"Tabla13[[#This Row],[Título del contrato]]&Tabla13[[#This Row],[Nº Expediente de la plataforma de contratación]]","v":{"$error":"#VALUE!"}},{"$f":"Tabla13[[#This Row],[Nº Expediente de la plataforma de contratación]]","v":{"$error":"#VALUE!"}},{"$f":"Tabla13[[#This Row],[Importe IVA ]]","v":{"$error":"#VALUE!"}},{"$f":"Tabla13[[#This Row],[Importe de adjudicación (IVA INCLUIDO)]]","v":{"$error":"#VALUE!"}}]
[{"$nulls":18},{"$f":"Tabla13[[#This Row],[Título del contrato]]&Tabla13[[#This Row],[Nº Expediente de la plataforma de contratación]]","v":{"$error":"#VALUE!"}},{"$f":"Tabla13[[#This Row],[Nº Expediente de la plataforma de contratación]]","v":{"$error":"#VALUE!"}},{"$f":"Tabla13[[#This Row],[Importe IVA ]]","v":{"$error":"#VALUE!"}},{"$f":"Tabla13[[#This Row],[Importe de adjudicación (IVA INCLUIDO)]]","v":{"$error":"#VALUE!"}}]
[{"$nulls":18},{"$f":"Tabla13[[#This Row],[Título del contrato]]&Tabla13[[#This Row],[Nº Expediente de la plataforma de contratación]]","v":{"$error":"#VALUE!"}},{"$f":"Tabla13[[#This Row],[Nº Expediente de la plataforma de contratación]]","v":{"$error":"#VALUE!"}},{"$f":"Tabla13[[#This Row],[Importe IVA ]]","v":{"$error":"#VALUE!"}},{"$f":"Tabla13[[#This Row],[Importe de adjudicación (IVA INCLUIDO)]]","v":{"$error":"#VALUE!"}}]
[{"$nulls":18},{"$f":"Tabla13[[#This Row],[Título del contrato]]&Tabla13[[#This Row],[Nº Expediente de la plataforma de contratación]]","v":{"$error":"#VALUE!"}},{"$f":"Tabla13[[#This Row],[Nº Expediente de la plataforma de contratación]]","v":{"$error":"#VALUE!"}},{"$f":"Tabla13[[#This Row],[Importe IVA ]]","v":{"$error":"#VALUE!"}},{"$f":"Tabla13[[#This Row],[Importe de adjudicación (IVA INCLUIDO)]]","v":{"$error":"#VALUE!"}}]
[{"$nulls":18},{"$f":"Tabla13[[#This Row],[Título del contrato]]&Tabla13[[#This Row],[Nº Expediente de la plataforma de contratación]]","v":{"$error":"#VALUE!"}},{"$f":"Tabla13[[#This Row],[Nº Expediente de la plataforma de contratación]]","v":{"$error":"#VALUE!"}},{"$f":"Tabla13[[#This Row],[Importe IVA ]]","v":{"$error":"#VALUE!"}},{"$f":"Tabla13[[#This Row],[Importe de adjudicación (IVA INCLUIDO)]]","v":{"$error":"#VALUE!"}}]
[{"$nulls":18},{"$f":"Tabla13[[#This Row],[Título del contrato]]&Tabla13[[#This Row],[Nº Expediente de la plataforma de contratación]]","v":{"$error":"#VALUE!"}},{"$f":"Tabla13[[#This Row],[Nº Expediente de la plataforma de contratación]]","v":{"$error":"#VALUE!"}},{"$f":"Tabla13[[#This Row],[Importe IVA ]]","v":{"$error":"#VALUE!"}},{"$f":"Tabla13[[#This Row],[Importe de adjudicación (IVA INCLUIDO)]]","v":{"$error":"#VALUE!"}}]
[{"$nulls":18},{"$f":"Tabla13[[#This Row],[Título del contrato]]&Tabla13[[#This Row],[Nº Expediente de la plataforma de contratación]]","v":{"$error":"#VALUE!"}},{"$f":"Tabla13[[#This Row],[Nº Expediente de la plataforma de contratación]]","v":{"$error":"#VALUE!"}},{"$f":"Tabla13[[#This Row],[Importe IVA ]]","v":{"$error":"#VALUE!"}},{"$f":"Tabla13[[#This Row],[Importe de adjudicación (IVA INCLUIDO)]]","v":{"$error":"#VALUE!"}}]
[{"$nulls":18},{"$f":"Tabla13[[#This Row],[Título del contrato]]&Tabla13[[#This Row],[Nº Expediente de la plataforma de contratación]]","v":{"$error":"#VALUE!"}},{"$f":"Tabla13[[#This Row],[Nº Expediente de la plataforma de contratación]]","v":{"$error":"#VALUE!"}},{"$f":"Tabla13[[#This Row],[Importe IVA ]]","v":{"$error":"#VALUE!"}},{"$f":"Tabla13[[#This Row],[Importe de adjudicación (IVA INCLUIDO)]]","v":{"$error":"#VALUE!"}}]
[{"$nulls":18},{"$f":"Tabla13[[#This Row],[Título del contrato]]&Tabla13[[#This Row],[Nº Expediente de la plataforma de contratación]]","v":{"$error":"#VALUE!"}},{"$f":"Tabla13[[#This Row],[Nº Expediente de la plataforma de contratación]]","v":{"$error":"#VALUE!"}},{"$f":"Tabla13[[#This Row],[Importe IVA ]]","v":{"$error":"#VALUE!"}},{"$f":"Tabla13[[#This Row],[Importe de adjudicación (IVA INCLUIDO)]]","v":{"$error":"#VALUE!"}}]
[{"$nulls":18},{"$f":"Tabla13[[#This Row],[Título del contrato]]&Tabla13[[#This Row],[Nº Expediente de la plataforma de contratación]]","v":{"$error":"#VALUE!"}},{"$f":"Tabla13[[#This Row],[Nº Expediente de la plataforma de contratación]]","v":{"$error":"#VALUE!"}},{"$f":"Tabla13[[#This Row],[Importe IVA ]]","v":{"$error":"#VALUE!"}},{"$f":"Tabla13[[#This Row],[Importe de adjudicación (IVA INCLUIDO)]]","v":{"$error":"#VALUE!"}}]
[{"$nulls":18},{"$f":"Tabla13[[#This Row],[Título del contrato]]&Tabla13[[#This Row],[Nº Expediente de la plataforma de contratación]]","v":{"$error":"#VALUE!"}},{"$f":"Tabla13[[#This Row],[Nº Expediente de la plataforma de contratación]]","v":{"$error":"#VALUE!"}},{"$f":"Tabla13[[#This Row],[Importe IVA ]]","v":{"$error":"#VALUE!"}},{"$f":"Tabla13[[#This Row],[Importe de adjudicación (IVA INCLUIDO)]]","v":{"$error":"#VALUE!"}}]
[{"$nulls":18},{"$f":"Tabla13[[#This Row],[Título del contrato]]&Tabla13[[#This Row],[Nº Expediente de la plataforma de contratación]]","v":{"$error":"#VALUE!"}},{"$f":"Tabla13[[#This Row],[Nº Expediente de la plataforma de contratación]]","v":{"$error":"#VALUE!"}},{"$f":"Tabla13[[#This Row],[Importe IVA ]]","v":{"$error":"#VALUE!"}},{"$f":"Tabla13[[#This Row],[Importe de adjudicación (IVA INCLUIDO)]]","v":{"$error":"#VALUE!"}}]
[{"$nulls":18},{"$f":"Tabla13[[#This Row],[Título del contrato]]&Tabla13[[#This Row],[Nº Expediente de la plataforma de contratación]]","v":{"$error":"#VALUE!"}},{"$f":"Tabla13[[#This Row],[Nº Expediente de la plataforma de contratación]]","v":{"$error":"#VALUE!"}},{"$f":"Tabla13[[#This Row],[Importe IVA ]]","v":{"$error":"#VALUE!"}},{"$f":"Tabla13[[#This Row],[Importe de adjudicación (IVA INCLUIDO)]]","v":{"$error":"#VALUE!"}}]
[{"$nulls":18},{"$f":"Tabla13[[#This Row],[Título del contrato]]&Tabla13[[#This Row],[Nº Expediente de la plataforma de contratación]]","v":{"$error":"#VALUE!"}},{"$f":"Tabla13[[#This Row],[Nº Expediente de la plataforma de contratación]]","v":{"$error":"#VALUE!"}},{"$f":"Tabla13[[#This Row],[Importe IVA ]]","v":{"$error":"#VALUE!"}},{"$f":"Tabla13[[#This Row],[Importe de adjudicación (IVA INCLUIDO)]]","v":{"$error":"#VALUE!"}}]
[{"$nulls":18},{"$f":"Tabla13[[#This Row],[Título del contrato]]&Tabla13[[#This Row],[Nº Expediente de la plataforma de contratación]]","v":{"$error":"#VALUE!"}},{"$f":"Tabla13[[#This Row],[Nº Expediente de la plataforma de contratación]]","v":{"$error":"#VALUE!"}},{"$f":"Tabla13[[#This Row],[Importe IVA ]]","v":{"$error":"#VALUE!"}},{"$f":"Tabla13[[#This Row],[Importe de adjudicación (IVA INCLUIDO)]]","v":{"$error":"#VALUE!"}}]
[{"$nulls":18},{"$f":"Tabla13[[#This Row],[Título del contrato]]&Tabla13[[#This Row],[Nº Expediente de la plataforma de contratación]]","v":{"$error":"#VALUE!"}},{"$f":"Tabla13[[#This Row],[Nº Expediente de la plataforma de contratación]]","v":{"$error":"#VALUE!"}},{"$f":"Tabla13[[#This Row],[Importe IVA ]]","v":{"$error":"#VALUE!"}},{"$f":"Tabla13[[#This Row],[Importe de adjudicación (IVA INCLUIDO)]]","v":{"$error":"#VALUE!"}}]
[{"$nulls":18},{"$f":"Tabla13[[#This Row],[Título del contrato]]&Tabla13[[#This Row],[Nº Expediente de la plataforma de contratación]]","v":{"$error":"#VALUE!"}},{"$f":"Tabla13[[#This Row],[Nº Expediente de la plataforma de contratación]]","v":{"$error":"#VALUE!"}},{"$f":"Tabla13[[#This Row],[Importe IVA ]]","v":{"$error":"#VALUE!"}},{"$f":"Tabla13[[#This Row],[Importe de adjudicación (IVA INCLUIDO)]]","v":{"$error":"#VALUE!"}}]
[{"$nulls":18},{"$f":"Tabla13[[#This Row],[Título del contrato]]&Tabla13[[#This Row],[Nº Expediente de la plataforma de contratación]]","v":{"$error":"#VALUE!"}},{"$f":"Tabla13[[#This Row],[Nº Expediente de la plataforma de contratación]]","v":{"$error":"#VALUE!"}},{"$f":"Tabla13[[#This Row],[Importe IVA ]]","v":{"$error":"#VALUE!"}},{"$f":"Tabla13[[#This Row],[Importe de adjudicación (IVA INCLUIDO)]]","v":{"$error":"#VALUE!"}}]
[{"$nulls":18},{"$f":"Tabla13[[#This Row],[Título del contrato]]&Tabla13[[#This Row],[Nº Expediente de la plataforma de contratación]]","v":{"$error":"#VALUE!"}},{"$f":"Tabla13[[#This Row],[Nº Expediente de la plataforma de contratación]]","v":{"$error":"#VALUE!"}},{"$f":"Tabla13[[#This Row],[Importe IVA ]]","v":{"$error":"#VALUE!"}},{"$f":"Tabla13[[#This Row],[Importe de adjudicación (IVA INCLUIDO)]]","v":{"$error":"#VALUE!"}}]
[{"$nulls":18},{"$f":"Tabla13[[#This Row],[Título del contrato]]&Tabla13[[#This Row],[Nº Expediente de la plataforma de contratación]]","v":{"$error":"#VALUE!"}},{"$f":"Tabla13[[#This Row],[Nº Expediente de la plataforma de contratación]]","v":{"$error":"#VALUE!"}},{"$f":"Tabla13[[#This Row],[Importe IVA ]]","v":{"$error":"#VALUE!"}},{"$f":"Tabla13[[#This Row],[Importe de adjudicación (IVA INCLUIDO)]]","v":{"$error":"#VALUE!"}}]
[{"$nulls":18},{"$f":"Tabla13[[#This Row],[Título del contrato]]&Tabla13[[#This Row],[Nº Expediente de la plataforma de contratación]]","v":{"$error":"#VALUE!"}},{"$f":"Tabla13[[#This Row],[Nº Expediente de la plataforma de contratación]]","v":{"$error":"#VALUE!"}},{"$f":"Tabla13[[#This Row],[Importe IVA ]]","v":{"$error":"#VALUE!"}},{"$f":"Tabla13[[#This Row],[Importe de adjudicación (IVA INCLUIDO)]]","v":{"$error":"#VALUE!"}}]
[{"$nulls":18},{"$f":"Tabla13[[#This Row],[Título del contrato]]&Tabla13[[#This Row],[Nº Expediente de la plataforma de contratación]]","v":{"$error":"#VALUE!"}},{"$f":"Tabla13[[#This Row],[Nº Expediente de la plataforma de contratación]]","v":{"$error":"#VALUE!"}},{"$f":"Tabla13[[#This Row],[Importe IVA ]]","v":{"$error":"#VALUE!"}},{"$f":"Tabla13[[#This Row],[Importe de adjudicación (IVA INCLUIDO)]]","v":{"$error":"#VALUE!"}}]
[{"$nulls":18},{"$f":"Tabla13[[#This Row],[Título del contrato]]&Tabla13[[#This Row],[Nº Expediente de la plataforma de contratación]]","v":{"$error":"#VALUE!"}},{"$f":"Tabla13[[#This Row],[Nº Expediente de la plataforma de contratación]]","v":{"$error":"#VALUE!"}},{"$f":"Tabla13[[#This Row],[Importe IVA ]]","v":{"$error":"#VALUE!"}},{"$f":"Tabla13[[#This Row],[Importe de adjudicación (IVA INCLUIDO)]]","v":{"$error":"#VALUE!"}}]
[{"$nulls":18},{"$f":"Tabla13[[#This Row],[Título del contrato]]&Tabla13[[#This Row],[Nº Expediente de la plataforma de contratación]]","v":{"$error":"#VALUE!"}},{"$f":"Tabla13[[#This Row],[Nº Expediente de la plataforma de contratación]]","v":{"$error":"#VALUE!"}},{"$f":"Tabla13[[#This Row],[Importe IVA ]]","v":{"$error":"#VALUE!"}},{"$f":"Tabla13[[#This Row],[Importe de adjudicación (IVA INCLUIDO)]]","v":{"$error":"#VALUE!"}}]
[{"$nulls":18},{"$f":"Tabla13[[#This Row],[Título del contrato]]&Tabla13[[#This Row],[Nº Expediente de la plataforma de contratación]]","v":{"$error":"#VALUE!"}},{"$f":"Tabla13[[#This Row],[Nº Expediente de la plataforma de contratación]]","v":{"$error":"#VALUE!"}},{"$f":"Tabla13[[#This Row],[Importe IVA ]]","v":{"$error":"#VALUE!"}},{"$f":"Tabla13[[#This Row],[Importe de adjudicación (IVA INCLUIDO)]]","v":{"$error":"#VALUE!"}}]
[{"$nulls":18},{"$f":"Tabla13[[#This Row],[Título del contrato]]&Tabla13[[#This Row],[Nº Expediente de la plataforma de contratación]]","v":{"$error":"#VALUE!"}},{"$f":"Tabla13[[#This Row],[Nº Expediente de la plataforma de contratación]]","v":{"$error":"#VALUE!"}},{"$f":"Tabla13[[#This Row],[Importe IVA ]]","v":{"$error":"#VALUE!"}},{"$f":"Tabla13[[#This Row],[Importe de adjudicación (IVA INCLUIDO)]]","v":{"$error":"#VALUE!"}}]
[{"$nulls":18},{"$f":"Tabla13[[#This Row],[Título del contrato]]&Tabla13[[#This Row],[Nº Expediente de la plataforma de contratación]]","v":{"$error":"#VALUE!"}},{"$f":"Tabla13[[#This Row],[Nº Expediente de la plataforma de contratación]]","v":{"$error":"#VALUE!"}},{"$f":"Tabla13[[#This Row],[Importe IVA ]]","v":{"$error":"#VALUE!"}},{"$f":"Tabla13[[#This Row],[Importe de adjudicación (IVA INCLUIDO)]]","v":{"$error":"#VALUE!"}}]
[{"$nulls":18},{"$f":"Tabla13[[#This Row],[Título del contrato]]&Tabla13[[#This Row],[Nº Expediente de la plataforma de contratación]]","v":{"$error":"#VALUE!"}},{"$f":"Tabla13[[#This Row],[Nº Expediente de la plataforma de contratación]]","v":{"$error":"#VALUE!"}},{"$f":"Tabla13[[#This Row],[Importe IVA ]]","v":{"$error":"#VALUE!"}},{"$f":"Tabla13[[#This Row],[Importe de adjudicación (IVA INCLUIDO)]]","v":{"$error":"#VALUE!"}}]
[{"$nulls":18},{"$f":"Tabla13[[#This Row],[Título del contrato]]&Tabla13[[#This Row],[Nº Expediente de la plataforma de contratación]]","v":{"$error":"#VALUE!"}},{"$f":"Tabla13[[#This Row],[Nº Expediente de la plataforma de contratación]]","v":{"$error":"#VALUE!"}},{"$f":"Tabla13[[#This Row],[Importe IVA ]]","v":{"$error":"#VALUE!"}},{"$f":"Tabla13[[#This Row],[Importe de adjudicación (IVA INCLUIDO)]]","v":{"$error":"#VALUE!"}}]
[{"$nulls":18},{"$f":"Tabla13[[#This Row],[Título del contrato]]&Tabla13[[#This Row],[Nº Expediente de la plataforma de contratación]]","v":{"$error":"#VALUE!"}},{"$f":"Tabla13[[#This Row],[Nº Expediente de la plataforma de contratación]]","v":{"$error":"#VALUE!"}},{"$f":"Tabla13[[#This Row],[Importe IVA ]]","v":{"$error":"#VALUE!"}},{"$f":"Tabla13[[#This Row],[Importe de adjudicación (IVA INCLUIDO)]]","v":{"$error":"#VALUE!"}}]
[{"$nulls":18},{"$f":"Tabla13[[#This Row],[Título del contrato]]&Tabla13[[#This Row],[Nº Expediente de la plataforma de contratación]]","v":{"$error":"#VALUE!"}},{"$f":"Tabla13[[#This Row],[Nº Expediente de la plataforma de contratación]]","v":{"$error":"#VALUE!"}},{"$f":"Tabla13[[#This Row],[Importe IVA ]]","v":{"$error":"#VALUE!"}},{"$f":"Tabla13[[#This Row],[Importe de adjudicación (IVA INCLUIDO)]]","v":{"$error":"#VALUE!"}}]
[{"$nulls":18},{"$f":"Tabla13[[#This Row],[Título del contrato]]&Tabla13[[#This Row],[Nº Expediente de la plataforma de contratación]]","v":{"$error":"#VALUE!"}},{"$f":"Tabla13[[#This Row],[Nº Expediente de la plataforma de contratación]]","v":{"$error":"#VALUE!"}},{"$f":"Tabla13[[#This Row],[Importe IVA ]]","v":{"$error":"#VALUE!"}},{"$f":"Tabla13[[#This Row],[Importe de adjudicación (IVA INCLUIDO)]]","v":{"$error":"#VALUE!"}}]
[{"$nulls":18},{"$f":"Tabla13[[#This Row],[Título del contrato]]&Tabla13[[#This Row],[Nº Expediente de la plataforma de contratación]]","v":{"$error":"#VALUE!"}},{"$f":"Tabla13[[#This Row],[Nº Expediente de la plataforma de contratación]]","v":{"$error":"#VALUE!"}},{"$f":"Tabla13[[#This Row],[Importe IVA ]]","v":{"$error":"#VALUE!"}},{"$f":"Tabla13[[#This Row],[Importe de adjudicación (IVA INCLUIDO)]]","v":{"$error":"#VALUE!"}}]
[{"$nulls":18},{"$f":"Tabla13[[#This Row],[Título del contrato]]&Tabla13[[#This Row],[Nº Expediente de la plataforma de contratación]]","v":{"$error":"#VALUE!"}},{"$f":"Tabla13[[#This Row],[Nº Expediente de la plataforma de contratación]]","v":{"$error":"#VALUE!"}},{"$f":"Tabla13[[#This Row],[Importe IVA ]]","v":{"$error":"#VALUE!"}},{"$f":"Tabla13[[#This Row],[Importe de adjudicación (IVA INCLUIDO)]]","v":{"$error":"#VALUE!"}}]
[{"$nulls":18},{"$f":"Tabla13[[#This Row],[Título del contrato]]&Tabla13[[#This Row],[Nº Expediente de la plataforma de contratación]]","v":{"$error":"#VALUE!"}},{"$f":"Tabla13[[#This Row],[Nº Expediente de la plataforma de contratación]]","v":{"$error":"#VALUE!"}},{"$f":"Tabla13[[#This Row],[Importe IVA ]]","v":{"$error":"#VALUE!"}},{"$f":"Tabla13[[#This Row],[Importe de adjudicación (IVA INCLUIDO)]]","v":{"$error":"#VALUE!"}}]
[{"$nulls":18},{"$f":"Tabla13[[#This Row],[Título del contrato]]&Tabla13[[#This Row],[Nº Expediente de la plataforma de contratación]]","v":{"$error":"#VALUE!"}},{"$f":"Tabla13[[#This Row],[Nº Expediente de la plataforma de contratación]]","v":{"$error":"#VALUE!"}},{"$f":"Tabla13[[#This Row],[Importe IVA ]]","v":{"$error":"#VALUE!"}},{"$f":"Tabla13[[#This Row],[Importe de adjudicación (IVA INCLUIDO)]]","v":{"$error":"#VALUE!"}}]
[{"$nulls":18},{"$f":"Tabla13[[#This Row],[Título del contrato]]&Tabla13[[#This Row],[Nº Expediente de la plataforma de contratación]]","v":{"$error":"#VALUE!"}},{"$f":"Tabla13[[#This Row],[Nº Expediente de la plataforma de contratación]]","v":{"$error":"#VALUE!"}},{"$f":"Tabla13[[#This Row],[Importe IVA ]]","v":{"$error":"#VALUE!"}},{"$f":"Tabla13[[#This Row],[Importe de adjudicación (IVA INCLUIDO)]]","v":{"$error":"#VALUE!"}}]
[{"$nulls":18},{"$f":"Tabla13[[#This Row],[Título del contrato]]&Tabla13[[#This Row],[Nº Expediente de la plataforma de contratación]]","v":{"$error":"#VALUE!"}},{"$f":"Tabla13[[#This Row],[Nº Expediente de la plataforma de contratación]]","v":{"$error":"#VALUE!"}},{"$f":"Tabla13[[#This Row],[Importe IVA ]]","v":{"$error":"#VALUE!"}},{"$f":"Tabla13[[#This Row],[Importe de adjudicación (IVA INCLUIDO)]]","v":{"$error":"#VALUE!"}}]
[{"$nulls":18},{"$f":"Tabla13[[#This Row],[Título del contrato]]&Tabla13[[#This Row],[Nº Expediente de la plataforma de contratación]]","v":{"$error":"#VALUE!"}},{"$f":"Tabla13[[#This Row],[Nº Expediente de la plataforma de contratación]]","v":{"$error":"#VALUE!"}},{"$f":"Tabla13[[#This Row],[Importe IVA ]]","v":{"$error":"#VALUE!"}},{"$f":"Tabla13[[#This Row],[Importe de adjudicación (IVA INCLUIDO)]]","v":{"$error":"#VALUE!"}}]
[{"$nulls":18},{"$f":"Tabla13[[#This Row],[Título del contrato]]&Tabla13[[#This Row],[Nº Expediente de la plataforma de contratación]]","v":{"$error":"#VALUE!"}},{"$f":"Tabla13[[#This Row],[Nº Expediente de la plataforma de contratación]]","v":{"$error":"#VALUE!"}},{"$f":"Tabla13[[#This Row],[Importe IVA ]]","v":{"$error":"#VALUE!"}},{"$f":"Tabla13[[#This Row],[Importe de adjudicación (IVA INCLUIDO)]]","v":{"$error":"#VALUE!"}}]
[{"$nulls":18},{"$f":"Tabla13[[#This Row],[Título del contrato]]&Tabla13[[#This Row],[Nº Expediente de la plataforma de contratación]]","v":{"$error":"#VALUE!"}},{"$f":"Tabla13[[#This Row],[Nº Expediente de la plataforma de contratación]]","v":{"$error":"#VALUE!"}},{"$f":"Tabla13[[#This Row],[Importe IVA ]]","v":{"$error":"#VALUE!"}},{"$f":"Tabla13[[#This Row],[Importe de adjudicación (IVA INCLUIDO)]]","v":{"$error":"#VALUE!"}}]
[{"$nulls":18},{"$f":"Tabla13[[#This Row],[Título del contrato]]&Tabla13[[#This Row],[Nº Expediente de la plataforma de contratación]]","v":{"$error":"#VALUE!"}},{"$f":"Tabla13[[#This Row],[Nº Expediente de la plataforma de contratación]]","v":{"$error":"#VALUE!"}},{"$f":"Tabla13[[#This Row],[Importe IVA ]]","v":{"$error":"#VALUE!"}},{"$f":"Tabla13[[#This Row],[Importe de adjudicación (IVA INCLUIDO)]]","v":{"$error":"#VALUE!"}}]
[{"$nulls":18},{"$f":"Tabla13[[#This Row],[Título del contrato]]&Tabla13[[#This Row],[Nº Expediente de la plataforma de contratación]]","v":{"$error":"#VALUE!"}},{"$f":"Tabla13[[#This Row],[Nº Expediente de la plataforma de contratación]]","v":{"$error":"#VALUE!"}},{"$f":"Tabla13[[#This Row],[Importe IVA ]]","v":{"$error":"#VALUE!"}},{"$f":"Tabla13[[#This Row],[Importe de adjudicación (IVA INCLUIDO)]]","v":{"$error":"#VALUE!"}}]
[{"$nulls":18},{"$f":"Tabla13[[#This Row],[Título del contrato]]&Tabla13[[#This Row],[Nº Expediente de la plataforma de contratación]]","v":{"$error":"#VALUE!"}},{"$f":"Tabla13[[#This Row],[Nº Expediente de la plataforma de contratación]]","v":{"$error":"#VALUE!"}},{"$f":"Tabla13[[#This Row],[Importe IVA ]]","v":{"$error":"#VALUE!"}},{"$f":"Tabla13[[#This Row],[Importe de adjudicación (IVA INCLUIDO)]]","v":{"$error":"#VALUE!"}}]
[{"$nulls":18},{"$f":"Tabla13[[#This Row],[Título del contrato]]&Tabla13[[#This Row],[Nº Expediente de la plataforma de contratación]]","v":{"$error":"#VALUE!"}},{"$f":"Tabla13[[#This Row],[Nº Expediente de la plataforma de contratación]]","v":{"$error":"#VALUE!"}},{"$f":"Tabla13[[#This Row],[Importe IVA ]]","v":{"$error":"#VALUE!"}},{"$f":"Tabla13[[#This Row],[Importe de adjudicación (IVA INCLUIDO)]]","v":{"$error":"#VALUE!"}}]
[{"$nulls":18},{"$f":"Tabla13[[#This Row],[Título del contrato]]&Tabla13[[#This Row],[Nº Expediente de la plataforma de contratación]]","v":{"$error":"#VALUE!"}},{"$f":"Tabla13[[#This Row],[Nº Expediente de la plataforma de contratación]]","v":{"$error":"#VALUE!"}},{"$f":"Tabla13[[#This Row],[Importe IVA ]]","v":{"$error":"#VALUE!"}},{"$f":"Tabla13[[#This Row],[Importe de adjudicación (IVA INCLUIDO)]]","v":{"$error":"#VALUE!"}}]
[{"$nulls":18},{"$f":"Tabla13[[#This Row],[Título del contrato]]&Tabla13[[#This Row],[Nº Expediente de la plataforma de contratación]]","v":{"$error":"#VALUE!"}},{"$f":"Tabla13[[#This Row],[Nº Expediente de la plataforma de contratación]]","v":{"$error":"#VALUE!"}},{"$f":"Tabla13[[#This Row],[Importe IVA ]]","v":{"$error":"#VALUE!"}},{"$f":"Tabla13[[#This Row],[Importe de adjudicación (IVA INCLUIDO)]]","v":{"$error":"#VALUE!"}}]
[{"$nulls":18},{"$f":"Tabla13[[#This Row],[Título del contrato]]&Tabla13[[#This Row],[Nº Expediente de la plataforma de contratación]]","v":{"$error":"#VALUE!"}},{"$f":"Tabla13[[#This Row],[Nº Expediente de la plataforma de contratación]]","v":{"$error":"#VALUE!"}},{"$f":"Tabla13[[#This Row],[Importe IVA ]]","v":{"$error":"#VALUE!"}},{"$f":"Tabla13[[#This Row],[Importe de adjudicación (IVA INCLUIDO)]]","v":{"$error":"#VALUE!"}}]
[{"$nulls":18},{"$f":"Tabla13[[#This Row],[Título del contrato]]&Tabla13[[#This Row],[Nº Expediente de la plataforma de contratación]]","v":{"$error":"#VALUE!"}},{"$f":"Tabla13[[#This Row],[Nº Expediente de la plataforma de contratación]]","v":{"$error":"#VALUE!"}},{"$f":"Tabla13[[#This Row],[Importe IVA ]]","v":{"$error":"#VALUE!"}},{"$f":"Tabla13[[#This Row],[Importe de adjudicación (IVA INCLUIDO)]]","v":{"$error":"#VALUE!"}}]
[{"$nulls":18},{"$f":"Tabla13[[#This Row],[Título del contrato]]&Tabla13[[#This Row],[Nº Expediente de la plataforma de contratación]]","v":{"$error":"#VALUE!"}},{"$f":"Tabla13[[#This Row],[Nº Expediente de la plataforma de contratación]]","v":{"$error":"#VALUE!"}},{"$f":"Tabla13[[#This Row],[Importe IVA ]]","v":{"$error":"#VALUE!"}},{"$f":"Tabla13[[#This Row],[Importe de adjudicación (IVA INCLUIDO)]]","v":{"$error":"#VALUE!"}}]
[{"$nulls":18},{"$f":"Tabla13[[#This Row],[Título del contrato]]&Tabla13[[#This Row],[Nº Expediente de la plataforma de contratación]]","v":{"$error":"#VALUE!"}},{"$f":"Tabla13[[#This Row],[Nº Expediente de la plataforma de contratación]]","v":{"$error":"#VALUE!"}},{"$f":"Tabla13[[#This Row],[Importe IVA ]]","v":{"$error":"#VALUE!"}},{"$f":"Tabla13[[#This Row],[Importe de adjudicación (IVA INCLUIDO)]]","v":{"$error":"#VALUE!"}}]
[{"$nulls":18},{"$f":"Tabla13[[#This Row],[Título del contrato]]&Tabla13[[#This Row],[Nº Expediente de la plataforma de contratación]]","v":{"$error":"#VALUE!"}},{"$f":"Tabla13[[#This Row],[Nº Expediente de la plataforma de contratación]]","v":{"$error":"#VALUE!"}},{"$f":"Tabla13[[#This Row],[Importe IVA ]]","v":{"$error":"#VALUE!"}},{"$f":"Tabla13[[#This Row],[Importe de adjudicación (IVA INCLUIDO)]]","v":{"$error":"#VALUE!"}}]
[{"$nulls":18},{"$f":"Tabla13[[#This Row],[Título del contrato]]&Tabla13[[#This Row],[Nº Expediente de la plataforma de contratación]]","v":{"$error":"#VALUE!"}},{"$f":"Tabla13[[#This Row],[Nº Expediente de la plataforma de contratación]]","v":{"$error":"#VALUE!"}},{"$f":"Tabla13[[#This Row],[Importe IVA ]]","v":{"$error":"#VALUE!"}},{"$f":"Tabla13[[#This Row],[Importe de adjudicación (IVA INCLUIDO)]]","v":{"$error":"#VALUE!"}}]
[{"$nulls":18},{"$f":"Tabla13[[#This Row],[Título del contrato]]&Tabla13[[#This Row],[Nº Expediente de la plataforma de contratación]]","v":{"$error":"#VALUE!"}},{"$f":"Tabla13[[#This Row],[Nº Expediente de la plataforma de contratación]]","v":{"$error":"#VALUE!"}},{"$f":"Tabla13[[#This Row],[Importe IVA ]]","v":{"$error":"#VALUE!"}},{"$f":"Tabla13[[#This Row],[Importe de adjudicación (IVA INCLUIDO)]]","v":{"$error":"#VALUE!"}}]
[{"$nulls":18},{"$f":"Tabla13[[#This Row],[Título del contrato]]&Tabla13[[#This Row],[Nº Expediente de la plataforma de contratación]]","v":{"$error":"#VALUE!"}},{"$f":"Tabla13[[#This Row],[Nº Expediente de la plataforma de contratación]]","v":{"$error":"#VALUE!"}},{"$f":"Tabla13[[#This Row],[Importe IVA ]]","v":{"$error":"#VALUE!"}},{"$f":"Tabla13[[#This Row],[Importe de adjudicación (IVA INCLUIDO)]]","v":{"$error":"#VALUE!"}}]
[{"$nulls":18},{"$f":"Tabla13[[#This Row],[Título del contrato]]&Tabla13[[#This Row],[Nº Expediente de la plataforma de contratación]]","v":{"$error":"#VALUE!"}},{"$f":"Tabla13[[#This Row],[Nº Expediente de la plataforma de contratación]]","v":{"$error":"#VALUE!"}},{"$f":"Tabla13[[#This Row],[Importe IVA ]]","v":{"$error":"#VALUE!"}},{"$f":"Tabla13[[#This Row],[Importe de adjudicación (IVA INCLUIDO)]]","v":{"$error":"#VALUE!"}}]
[{"$nulls":18},{"$f":"Tabla13[[#This Row],[Título del contrato]]&Tabla13[[#This Row],[Nº Expediente de la plataforma de contratación]]","v":{"$error":"#VALUE!"}},{"$f":"Tabla13[[#This Row],[Nº Expediente de la plataforma de contratación]]","v":{"$error":"#VALUE!"}},{"$f":"Tabla13[[#This Row],[Importe IVA ]]","v":{"$error":"#VALUE!"}},{"$f":"Tabla13[[#This Row],[Importe de adjudicación (IVA INCLUIDO)]]","v":{"$error":"#VALUE!"}}]
[{"$nulls":18},{"$f":"Tabla13[[#This Row],[Título del contrato]]&Tabla13[[#This Row],[Nº Expediente de la plataforma de contratación]]","v":{"$error":"#VALUE!"}},{"$f":"Tabla13[[#This Row],[Nº Expediente de la plataforma de contratación]]","v":{"$error":"#VALUE!"}},{"$f":"Tabla13[[#This Row],[Importe IVA ]]","v":{"$error":"#VALUE!"}},{"$f":"Tabla13[[#This Row],[Importe de adjudicación (IVA INCLUIDO)]]","v":{"$error":"#VALUE!"}}]
[{"$nulls":18},{"$f":"Tabla13[[#This Row],[Título del contrato]]&Tabla13[[#This Row],[Nº Expediente de la plataforma de contratación]]","v":{"$error":"#VALUE!"}},{"$f":"Tabla13[[#This Row],[Nº Expediente de la plataforma de contratación]]","v":{"$error":"#VALUE!"}},{"$f":"Tabla13[[#This Row],[Importe IVA ]]","v":{"$error":"#VALUE!"}},{"$f":"Tabla13[[#This Row],[Importe de adjudicación (IVA INCLUIDO)]]","v":{"$error":"#VALUE!"}}]
[{"$nulls":18},{"$f":"Tabla13[[#This Row],[Título del contrato]]&Tabla13[[#This Row],[Nº Expediente de la plataforma de contratación]]","v":{"$error":"#VALUE!"}},{"$f":"Tabla13[[#This Row],[Nº Expediente de la plataforma de contratación]]","v":{"$error":"#VALUE!"}},{"$f":"Tabla13[[#This Row],[Importe IVA ]]","v":{"$error":"#VALUE!"}},{"$f":"Tabla13[[#This Row],[Importe de adjudicación (IVA INCLUIDO)]]","v":{"$error":"#VALUE!"}}]
[{"$nulls":18},{"$f":"Tabla13[[#This Row],[Título del contrato]]&Tabla13[[#This Row],[Nº Expediente de la plataforma de contratación]]","v":{"$error":"#VALUE!"}},{"$f":"Tabla13[[#This Row],[Nº Expediente de la plataforma de contratación]]","v":{"$error":"#VALUE!"}},{"$f":"Tabla13[[#This Row],[Importe IVA ]]","v":{"$error":"#VALUE!"}},{"$f":"Tabla13[[#This Row],[Importe de adjudicación (IVA INCLUIDO)]]","v":{"$error":"#VALUE!"}}]
[{"$nulls":18},{"$f":"Tabla13[[#This Row],[Título del contrato]]&Tabla13[[#This Row],[Nº Expediente de la plataforma de contratación]]","v":{"$error":"#VALUE!"}},{"$f":"Tabla13[[#This Row],[Nº Expediente de la plataforma de contratación]]","v":{"$error":"#VALUE!"}},{"$f":"Tabla13[[#This Row],[Importe IVA ]]","v":{"$error":"#VALUE!"}},{"$f":"Tabla13[[#This Row],[Importe de adjudicación (IVA INCLUIDO)]]","v":{"$error":"#VALUE!"}}]
[{"$nulls":18},{"$f":"Tabla13[[#This Row],[Título del contrato]]&Tabla13[[#This Row],[Nº Expediente de la plataforma de contratación]]","v":{"$error":"#VALUE!"}},{"$f":"Tabla13[[#This Row],[Nº Expediente de la plataforma de contratación]]","v":{"$error":"#VALUE!"}},{"$f":"Tabla13[[#This Row],[Importe IVA ]]","v":{"$error":"#VALUE!"}},{"$f":"Tabla13[[#This Row],[Importe de adjudicación (IVA INCLUIDO)]]","v":{"$error":"#VALUE!"}}]
[{"$nulls":18},{"$f":"Tabla13[[#This Row],[Título del contrato]]&Tabla13[[#This Row],[Nº Expediente de la plataforma de contratación]]","v":{"$error":"#VALUE!"}},{"$f":"Tabla13[[#This Row],[Nº Expediente de la plataforma de contratación]]","v":{"$error":"#VALUE!"}},{"$f":"Tabla13[[#This Row],[Importe IVA ]]","v":{"$error":"#VALUE!"}},{"$f":"Tabla13[[#This Row],[Importe de adjudicación (IVA INCLUIDO)]]","v":{"$error":"#VALUE!"}}]
[{"$nulls":18},{"$f":"Tabla13[[#This Row],[Título del contrato]]&Tabla13[[#This Row],[Nº Expediente de la plataforma de contratación]]","v":{"$error":"#VALUE!"}},{"$f":"Tabla13[[#This Row],[Nº Expediente de la plataforma de contratación]]","v":{"$error":"#VALUE!"}},{"$f":"Tabla13[[#This Row],[Importe IVA ]]","v":{"$error":"#VALUE!"}},{"$f":"Tabla13[[#This Row],[Importe de adjudicación (IVA INCLUIDO)]]","v":{"$error":"#VALUE!"}}]
[{"$nulls":18},{"$f":"Tabla13[[#This Row],[Título del contrato]]&Tabla13[[#This Row],[Nº Expediente de la plataforma de contratación]]","v":{"$error":"#VALUE!"}},{"$f":"Tabla13[[#This Row],[Nº Expediente de la plataforma de contratación]]","v":{"$error":"#VALUE!"}},{"$f":"Tabla13[[#This Row],[Importe IVA ]]","v":{"$error":"#VALUE!"}},{"$f":"Tabla13[[#This Row],[Importe de adjudicación (IVA INCLUIDO)]]","v":{"$error":"#VALUE!"}}]
[{"$nulls":18},{"$f":"Tabla13[[#This Row],[Título del contrato]]&Tabla13[[#This Row],[Nº Expediente de la plataforma de contratación]]","v":{"$error":"#VALUE!"}},{"$f":"Tabla13[[#This Row],[Nº Expediente de la plataforma de contratación]]","v":{"$error":"#VALUE!"}},{"$f":"Tabla13[[#This Row],[Importe IVA ]]","v":{"$error":"#VALUE!"}},{"$f":"Tabla13[[#This Row],[Importe de adjudicación (IVA INCLUIDO)]]","v":{"$error":"#VALUE!"}}]
[{"$nulls":18},{"$f":"Tabla13[[#This Row],[Título del contrato]]&Tabla13[[#This Row],[Nº Expediente de la plataforma de contratación]]","v":{"$error":"#VALUE!"}},{"$f":"Tabla13[[#This Row],[Nº Expediente de la plataforma de contratación]]","v":{"$error":"#VALUE!"}},{"$f":"Tabla13[[#This Row],[Importe IVA ]]","v":{"$error":"#VALUE!"}},{"$f":"Tabla13[[#This Row],[Importe de adjudicación (IVA INCLUIDO)]]","v":{"$error":"#VALUE!"}}]
[{"$nulls":18},{"$f":"Tabla13[[#This Row],[Título del contrato]]&Tabla13[[#This Row],[Nº Expediente de la plataforma de contratación]]","v":{"$error":"#VALUE!"}},{"$f":"Tabla13[[#This Row],[Nº Expediente de la plataforma de contratación]]","v":{"$error":"#VALUE!"}},{"$f":"Tabla13[[#This Row],[Importe IVA ]]","v":{"$error":"#VALUE!"}},{"$f":"Tabla13[[#This Row],[Importe de adjudicación (IVA INCLUIDO)]]","v":{"$error":"#VALUE!"}}]
[{"$nulls":18},{"$f":"Tabla13[[#This Row],[Título del contrato]]&Tabla13[[#This Row],[Nº Expediente de la plataforma de contratación]]","v":{"$error":"#VALUE!"}},{"$f":"Tabla13[[#This Row],[Nº Expediente de la plataforma de contratación]]","v":{"$error":"#VALUE!"}},{"$f":"Tabla13[[#This Row],[Importe IVA ]]","v":{"$error":"#VALUE!"}},{"$f":"Tabla13[[#This Row],[Importe de adjudicación (IVA INCLUIDO)]]","v":{"$error":"#VALUE!"}}]
[{"$nulls":18},{"$f":"Tabla13[[#This Row],[Título del contrato]]&Tabla13[[#This Row],[Nº Expediente de la plataforma de contratación]]","v":{"$error":"#VALUE!"}},{"$f":"Tabla13[[#This Row],[Nº Expediente de la plataforma de contratación]]","v":{"$error":"#VALUE!"}},{"$f":"Tabla13[[#This Row],[Importe IVA ]]","v":{"$error":"#VALUE!"}},{"$f":"Tabla13[[#This Row],[Importe de adjudicación (IVA INCLUIDO)]]","v":{"$error":"#VALUE!"}}]
[{"$nulls":18},{"$f":"Tabla13[[#This Row],[Título del contrato]]&Tabla13[[#This Row],[Nº Expediente de la plataforma de contratación]]","v":{"$error":"#VALUE!"}},{"$f":"Tabla13[[#This Row],[Nº Expediente de la plataforma de contratación]]","v":{"$error":"#VALUE!"}},{"$f":"Tabla13[[#This Row],[Importe IVA ]]","v":{"$error":"#VALUE!"}},{"$f":"Tabla13[[#This Row],[Importe de adjudicación (IVA INCLUIDO)]]","v":{"$error":"#VALUE!"}}]
[{"$nulls":18},{"$f":"Tabla13[[#This Row],[Título del contrato]]&Tabla13[[#This Row],[Nº Expediente de la plataforma de contratación]]","v":{"$error":"#VALUE!"}},{"$f":"Tabla13[[#This Row],[Nº Expediente de la plataforma de contratación]]","v":{"$error":"#VALUE!"}},{"$f":"Tabla13[[#This Row],[Importe IVA ]]","v":{"$error":"#VALUE!"}},{"$f":"Tabla13[[#This Row],[Importe de adjudicación (IVA INCLUIDO)]]","v":{"$error":"#VALUE!"}}]
[{"$nulls":18},{"$f":"Tabla13[[#This Row],[Título del contrato]]&Tabla13[[#This Row],[Nº Expediente de la plataforma de contratación]]","v":{"$error":"#VALUE!"}},{"$f":"Tabla13[[#This Row],[Nº Expediente de la plataforma de contratación]]","v":{"$error":"#VALUE!"}},{"$f":"Tabla13[[#This Row],[Importe IVA ]]","v":{"$error":"#VALUE!"}},{"$f":"Tabla13[[#This Row],[Importe de adjudicación (IVA INCLUIDO)]]","v":{"$error":"#VALUE!"}}]
[{"$nulls":18},{"$f":"Tabla13[[#This Row],[Título del contrato]]&Tabla13[[#This Row],[Nº Expediente de la plataforma de contratación]]","v":{"$error":"#VALUE!"}},{"$f":"Tabla13[[#This Row],[Nº Expediente de la plataforma de contratación]]","v":{"$error":"#VALUE!"}},{"$f":"Tabla13[[#This Row],[Importe IVA ]]","v":{"$error":"#VALUE!"}},{"$f":"Tabla13[[#This Row],[Importe de adjudicación (IVA INCLUIDO)]]","v":{"$error":"#VALUE!"}}]
[{"$nulls":18},{"$f":"Tabla13[[#This Row],[Título del contrato]]&Tabla13[[#This Row],[Nº Expediente de la plataforma de contratación]]","v":{"$error":"#VALUE!"}},{"$f":"Tabla13[[#This Row],[Nº Expediente de la plataforma de contratación]]","v":{"$error":"#VALUE!"}},{"$f":"Tabla13[[#This Row],[Importe IVA ]]","v":{"$error":"#VALUE!"}},{"$f":"Tabla13[[#This Row],[Importe de adjudicación (IVA INCLUIDO)]]","v":{"$error":"#VALUE!"}}]
[{"$nulls":18},{"$f":"Tabla13[[#This Row],[Título del contrato]]&Tabla13[[#This Row],[Nº Expediente de la plataforma de contratación]]","v":{"$error":"#VALUE!"}},{"$f":"Tabla13[[#This Row],[Nº Expediente de la plataforma de contratación]]","v":{"$error":"#VALUE!"}},{"$f":"Tabla13[[#This Row],[Importe IVA ]]","v":{"$error":"#VALUE!"}},{"$f":"Tabla13[[#This Row],[Importe de adjudicación (IVA INCLUIDO)]]","v":{"$error":"#VALUE!"}}]
[{"$nulls":18},{"$f":"Tabla13[[#This Row],[Título del contrato]]&Tabla13[[#This Row],[Nº Expediente de la plataforma de contratación]]","v":{"$error":"#VALUE!"}},{"$f":"Tabla13[[#This Row],[Nº Expediente de la plataforma de contratación]]","v":{"$error":"#VALUE!"}},{"$f":"Tabla13[[#This Row],[Importe IVA ]]","v":{"$error":"#VALUE!"}},{"$f":"Tabla13[[#This Row],[Importe de adjudicación (IVA INCLUIDO)]]","v":{"$error":"#VALUE!"}}]
[{"$nulls":18},{"$f":"Tabla13[[#This Row],[Título del contrato]]&Tabla13[[#This Row],[Nº Expediente de la plataforma de contratación]]","v":{"$error":"#VALUE!"}},{"$f":"Tabla13[[#This Row],[Nº Expediente de la plataforma de contratación]]","v":{"$error":"#VALUE!"}},{"$f":"Tabla13[[#This Row],[Importe IVA ]]","v":{"$error":"#VALUE!"}},{"$f":"Tabla13[[#This Row],[Importe de adjudicación (IVA INCLUIDO)]]","v":{"$error":"#VALUE!"}}]
[{"$nulls":18},{"$f":"Tabla13[[#This Row],[Título del contrato]]&Tabla13[[#This Row],[Nº Expediente de la plataforma de contratación]]","v":{"$error":"#VALUE!"}},{"$f":"Tabla13[[#This Row],[Nº Expediente de la plataforma de contratación]]","v":{"$error":"#VALUE!"}},{"$f":"Tabla13[[#This Row],[Importe IVA ]]","v":{"$error":"#VALUE!"}},{"$f":"Tabla13[[#This Row],[Importe de adjudicación (IVA INCLUIDO)]]","v":{"$error":"#VALUE!"}}]
[{"$nulls":18},{"$f":"Tabla13[[#This Row],[Título del contrato]]&Tabla13[[#This Row],[Nº Expediente de la plataforma de contratación]]","v":{"$error":"#VALUE!"}},{"$f":"Tabla13[[#This Row],[Nº Expediente de la plataforma de contratación]]","v":{"$error":"#VALUE!"}},{"$f":"Tabla13[[#This Row],[Importe IVA ]]","v":{"$error":"#VALUE!"}},{"$f":"Tabla13[[#This Row],[Importe de adjudicación (IVA INCLUIDO)]]","v":{"$error":"#VALUE!"}}]
[{"$nulls":18},{"$f":"Tabla13[[#This Row],[Título del contrato]]&Tabla13[[#This Row],[Nº Expediente de la plataforma de contratación]]","v":{"$error":"#VALUE!"}},{"$f":"Tabla13[[#This Row],[Nº Expediente de la plataforma de contratación]]","v":{"$error":"#VALUE!"}},{"$f":"Tabla13[[#This Row],[Importe IVA ]]","v":{"$error":"#VALUE!"}},{"$f":"Tabla13[[#This Row],[Importe de adjudicación (IVA INCLUIDO)]]","v":{"$error":"#VALUE!"}}]
[{"$nulls":18},{"$f":"Tabla13[[#This Row],[Título del contrato]]&Tabla13[[#This Row],[Nº Expediente de la plataforma de contratación]]","v":{"$error":"#VALUE!"}},{"$f":"Tabla13[[#This Row],[Nº Expediente de la plataforma de contratación]]","v":{"$error":"#VALUE!"}},{"$f":"Tabla13[[#This Row],[Importe IVA ]]","v":{"$error":"#VALUE!"}},{"$f":"Tabla13[[#This Row],[Importe de adjudicación (IVA INCLUIDO)]]","v":{"$error":"#VALUE!"}}]
[{"$nulls":18},{"$f":"Tabla13[[#This Row],[Título del contrato]]&Tabla13[[#This Row],[Nº Expediente de la plataforma de contratación]]","v":{"$error":"#VALUE!"}},{"$f":"Tabla13[[#This Row],[Nº Expediente de la plataforma de contratación]]","v":{"$error":"#VALUE!"}},{"$f":"Tabla13[[#This Row],[Importe IVA ]]","v":{"$error":"#VALUE!"}},{"$f":"Tabla13[[#This Row],[Importe de adjudicación (IVA INCLUIDO)]]","v":{"$error":"#VALUE!"}}]
[{"$nulls":18},{"$f":"Tabla13[[#This Row],[Título del contrato]]&Tabla13[[#This Row],[Nº Expediente de la plataforma de contratación]]","v":{"$error":"#VALUE!"}},{"$f":"Tabla13[[#This Row],[Nº Expediente de la plataforma de contratación]]","v":{"$error":"#VALUE!"}},{"$f":"Tabla13[[#This Row],[Importe IVA ]]","v":{"$error":"#VALUE!"}},{"$f":"Tabla13[[#This Row],[Importe de adjudicación (IVA INCLUIDO)]]","v":{"$error":"#VALUE!"}}]
[{"$nulls":18},{"$f":"Tabla13[[#This Row],[Título del contrato]]&Tabla13[[#This Row],[Nº Expediente de la plataforma de contratación]]","v":{"$error":"#VALUE!"}},{"$f":"Tabla13[[#This Row],[Nº Expediente de la plataforma de contratación]]","v":{"$error":"#VALUE!"}},{"$f":"Tabla13[[#This Row],[Importe IVA ]]","v":{"$error":"#VALUE!"}},{"$f":"Tabla13[[#This Row],[Importe de adjudicación (IVA INCLUIDO)]]","v":{"$error":"#VALUE!"}}]
[{"$nulls":18},{"$f":"Tabla13[[#This Row],[Título del contrato]]&Tabla13[[#This Row],[Nº Expediente de la plataforma de contratación]]","v":{"$error":"#VALUE!"}},{"$f":"Tabla13[[#This Row],[Nº Expediente de la plataforma de contratación]]","v":{"$error":"#VALUE!"}},{"$f":"Tabla13[[#This Row],[Importe IVA ]]","v":{"$error":"#VALUE!"}},{"$f":"Tabla13[[#This Row],[Importe de adjudicación (IVA INCLUIDO)]]","v":{"$error":"#VALUE!"}}]
[{"$nulls":18},{"$f":"Tabla13[[#This Row],[Título del contrato]]&Tabla13[[#This Row],[Nº Expediente de la plataforma de contratación]]","v":{"$error":"#VALUE!"}},{"$f":"Tabla13[[#This Row],[Nº Expediente de la plataforma de contratación]]","v":{"$error":"#VALUE!"}},{"$f":"Tabla13[[#This Row],[Importe IVA ]]","v":{"$error":"#VALUE!"}},{"$f":"Tabla13[[#This Row],[Importe de adjudicación (IVA INCLUIDO)]]","v":{"$error":"#VALUE!"}}]
[{"$nulls":18},{"$f":"Tabla13[[#This Row],[Título del contrato]]&Tabla13[[#This Row],[Nº Expediente de la plataforma de contratación]]","v":{"$error":"#VALUE!"}},{"$f":"Tabla13[[#This Row],[Nº Expediente de la plataforma de contratación]]","v":{"$error":"#VALUE!"}},{"$f":"Tabla13[[#This Row],[Importe IVA ]]","v":{"$error":"#VALUE!"}},{"$f":"Tabla13[[#This Row],[Importe de adjudicación (IVA INCLUIDO)]]","v":{"$error":"#VALUE!"}}]
[{"$nulls":18},{"$f":"Tabla13[[#This Row],[Título del contrato]]&Tabla13[[#This Row],[Nº Expediente de la plataforma de contratación]]","v":{"$error":"#VALUE!"}},{"$f":"Tabla13[[#This Row],[Nº Expediente de la plataforma de contratación]]","v":{"$error":"#VALUE!"}},{"$f":"Tabla13[[#This Row],[Importe IVA ]]","v":{"$error":"#VALUE!"}},{"$f":"Tabla13[[#This Row],[Importe de adjudicación (IVA INCLUIDO)]]","v":{"$error":"#VALUE!"}}]
[{"$nulls":18},{"$f":"Tabla13[[#This Row],[Título del contrato]]&Tabla13[[#This Row],[Nº Expediente de la plataforma de contratación]]","v":{"$error":"#VALUE!"}},{"$f":"Tabla13[[#This Row],[Nº Expediente de la plataforma de contratación]]","v":{"$error":"#VALUE!"}},{"$f":"Tabla13[[#This Row],[Importe IVA ]]","v":{"$error":"#VALUE!"}},{"$f":"Tabla13[[#This Row],[Importe de adjudicación (IVA INCLUIDO)]]","v":{"$error":"#VALUE!"}}]
[{"$nulls":18},{"$f":"Tabla13[[#This Row],[Título del contrato]]&Tabla13[[#This Row],[Nº Expediente de la plataforma de contratación]]","v":{"$error":"#VALUE!"}},{"$f":"Tabla13[[#This Row],[Nº Expediente de la plataforma de contratación]]","v":{"$error":"#VALUE!"}},{"$f":"Tabla13[[#This Row],[Importe IVA ]]","v":{"$error":"#VALUE!"}},{"$f":"Tabla13[[#This Row],[Importe de adjudicación (IVA INCLUIDO)]]","v":{"$error":"#VALUE!"}}]
[{"$nulls":18},{"$f":"Tabla13[[#This Row],[Título del contrato]]&Tabla13[[#This Row],[Nº Expediente de la plataforma de contratación]]","v":{"$error":"#VALUE!"}},{"$f":"Tabla13[[#This Row],[Nº Expediente de la plataforma de contratación]]","v":{"$error":"#VALUE!"}},{"$f":"Tabla13[[#This Row],[Importe IVA ]]","v":{"$error":"#VALUE!"}},{"$f":"Tabla13[[#This Row],[Importe de adjudicación (IVA INCLUIDO)]]","v":{"$error":"#VALUE!"}}]
[{"$nulls":18},{"$f":"Tabla13[[#This Row],[Título del contrato]]&Tabla13[[#This Row],[Nº Expediente de la plataforma de contratación]]","v":{"$error":"#VALUE!"}},{"$f":"Tabla13[[#This Row],[Nº Expediente de la plataforma de contratación]]","v":{"$error":"#VALUE!"}},{"$f":"Tabla13[[#This Row],[Importe IVA ]]","v":{"$error":"#VALUE!"}},{"$f":"Tabla13[[#This Row],[Importe de adjudicación (IVA INCLUIDO)]]","v":{"$error":"#VALUE!"}}]
[{"$nulls":18},{"$f":"Tabla13[[#This Row],[Título del contrato]]&Tabla13[[#This Row],[Nº Expediente de la plataforma de contratación]]","v":{"$error":"#VALUE!"}},{"$f":"Tabla13[[#This Row],[Nº Expediente de la plataforma de contratación]]","v":{"$error":"#VALUE!"}},{"$f":"Tabla13[[#This Row],[Importe IVA ]]","v":{"$error":"#VALUE!"}},{"$f":"Tabla13[[#This Row],[Importe de adjudicación (IVA INCLUIDO)]]","v":{"$error":"#VALUE!"}}]
[{"$nulls":18},{"$f":"Tabla13[[#This Row],[Título del contrato]]&Tabla13[[#This Row],[Nº Expediente de la plataforma de contratación]]","v":{"$error":"#VALUE!"}},{"$f":"Tabla13[[#This Row],[Nº Expediente de la plataforma de contratación]]","v":{"$error":"#VALUE!"}},{"$f":"Tabla13[[#This Row],[Importe IVA ]]","v":{"$error":"#VALUE!"}},{"$f":"Tabla13[[#This Row],[Importe de adjudicación (IVA INCLUIDO)]]","v":{"$error":"#VALUE!"}}]
[{"$nulls":18},{"$f":"Tabla13[[#This Row],[Título del contrato]]&Tabla13[[#This Row],[Nº Expediente de la plataforma de contratación]]","v":{"$error":"#VALUE!"}},{"$f":"Tabla13[[#This Row],[Nº Expediente de la plataforma de contratación]]","v":{"$error":"#VALUE!"}},{"$f":"Tabla13[[#This Row],[Importe IVA ]]","v":{"$error":"#VALUE!"}},{"$f":"Tabla13[[#This Row],[Importe de adjudicación (IVA INCLUIDO)]]","v":{"$error":"#VALUE!"}}]
[{"$nulls":18},{"$f":"Tabla13[[#This Row],[Título del contrato]]&Tabla13[[#This Row],[Nº Expediente de la plataforma de contratación]]","v":{"$error":"#VALUE!"}},{"$f":"Tabla13[[#This Row],[Nº Expediente de la plataforma de contratación]]","v":{"$error":"#VALUE!"}},{"$f":"Tabla13[[#This Row],[Importe IVA ]]","v":{"$error":"#VALUE!"}},{"$f":"Tabla13[[#This Row],[Importe de adjudicación (IVA INCLUIDO)]]","v":{"$error":"#VALUE!"}}]
[{"$nulls":18},{"$f":"Tabla13[[#This Row],[Título del contrato]]&Tabla13[[#This Row],[Nº Expediente de la plataforma de contratación]]","v":{"$error":"#VALUE!"}},{"$f":"Tabla13[[#This Row],[Nº Expediente de la plataforma de contratación]]","v":{"$error":"#VALUE!"}},{"$f":"Tabla13[[#This Row],[Importe IVA ]]","v":{"$error":"#VALUE!"}},{"$f":"Tabla13[[#This Row],[Importe de adjudicación (IVA INCLUIDO)]]","v":{"$error":"#VALUE!"}}]
[{"$nulls":18},{"$f":"Tabla13[[#This Row],[Título del contrato]]&Tabla13[[#This Row],[Nº Expediente de la plataforma de contratación]]","v":{"$error":"#VALUE!"}},{"$f":"Tabla13[[#This Row],[Nº Expediente de la plataforma de contratación]]","v":{"$error":"#VALUE!"}},{"$f":"Tabla13[[#This Row],[Importe IVA ]]","v":{"$error":"#VALUE!"}},{"$f":"Tabla13[[#This Row],[Importe de adjudicación (IVA INCLUIDO)]]","v":{"$error":"#VALUE!"}}]
[{"$nulls":18},{"$f":"Tabla13[[#This Row],[Título del contrato]]&Tabla13[[#This Row],[Nº Expediente de la plataforma de contratación]]","v":{"$error":"#VALUE!"}},{"$f":"Tabla13[[#This Row],[Nº Expediente de la plataforma de contratación]]","v":{"$error":"#VALUE!"}},{"$f":"Tabla13[[#This Row],[Importe IVA ]]","v":{"$error":"#VALUE!"}},{"$f":"Tabla13[[#This Row],[Importe de adjudicación (IVA INCLUIDO)]]","v":{"$error":"#VALUE!"}}]
[{"$nulls":18},{"$f":"Tabla13[[#This Row],[Título del contrato]]&Tabla13[[#This Row],[Nº Expediente de la plataforma de contratación]]","v":{"$error":"#VALUE!"}},{"$f":"Tabla13[[#This Row],[Nº Expediente de la plataforma de contratación]]","v":{"$error":"#VALUE!"}},{"$f":"Tabla13[[#This Row],[Importe IVA ]]","v":{"$error":"#VALUE!"}},{"$f":"Tabla13[[#This Row],[Importe de adjudicación (IVA INCLUIDO)]]","v":{"$error":"#VALUE!"}}]
[{"$nulls":18},{"$f":"Tabla13[[#This Row],[Título del contrato]]&Tabla13[[#This Row],[Nº Expediente de la plataforma de contratación]]","v":{"$error":"#VALUE!"}},{"$f":"Tabla13[[#This Row],[Nº Expediente de la plataforma de contratación]]","v":{"$error":"#VALUE!"}},{"$f":"Tabla13[[#This Row],[Importe IVA ]]","v":{"$error":"#VALUE!"}},{"$f":"Tabla13[[#This Row],[Importe de adjudicación (IVA INCLUIDO)]]","v":{"$error":"#VALUE!"}}]
[{"$nulls":18},{"$f":"Tabla13[[#This Row],[Título del contrato]]&Tabla13[[#This Row],[Nº Expediente de la plataforma de contratación]]","v":{"$error":"#VALUE!"}},{"$f":"Tabla13[[#This Row],[Nº Expediente de la plataforma de contratación]]","v":{"$error":"#VALUE!"}},{"$f":"Tabla13[[#This Row],[Importe IVA ]]","v":{"$error":"#VALUE!"}},{"$f":"Tabla13[[#This Row],[Importe de adjudicación (IVA INCLUIDO)]]","v":{"$error":"#VALUE!"}}]
[{"$nulls":18},{"$f":"Tabla13[[#This Row],[Título del contrato]]&Tabla13[[#This Row],[Nº Expediente de la plataforma de contratación]]","v":{"$error":"#VALUE!"}},{"$f":"Tabla13[[#This Row],[Nº Expediente de la plataforma de contratación]]","v":{"$error":"#VALUE!"}},{"$f":"Tabla13[[#This Row],[Importe IVA ]]","v":{"$error":"#VALUE!"}},{"$f":"Tabla13[[#This Row],[Importe de adjudicación (IVA INCLUIDO)]]","v":{"$error":"#VALUE!"}}]
[{"$nulls":18},{"$f":"Tabla13[[#This Row],[Título del contrato]]&Tabla13[[#This Row],[Nº Expediente de la plataforma de contratación]]","v":{"$error":"#VALUE!"}},{"$f":"Tabla13[[#This Row],[Nº Expediente de la plataforma de contratación]]","v":{"$error":"#VALUE!"}},{"$f":"Tabla13[[#This Row],[Importe IVA ]]","v":{"$error":"#VALUE!"}},{"$f":"Tabla13[[#This Row],[Importe de adjudicación (IVA INCLUIDO)]]","v":{"$error":"#VALUE!"}}]
[{"$nulls":18},{"$f":"Tabla13[[#This Row],[Título del contrato]]&Tabla13[[#This Row],[Nº Expediente de la plataforma de contratación]]","v":{"$error":"#VALUE!"}},{"$f":"Tabla13[[#This Row],[Nº Expediente de la plataforma de contratación]]","v":{"$error":"#VALUE!"}},{"$f":"Tabla13[[#This Row],[Importe IVA ]]","v":{"$error":"#VALUE!"}},{"$f":"Tabla13[[#This Row],[Importe de adjudicación (IVA INCLUIDO)]]","v":{"$error":"#VALUE!"}}]
[{"$nulls":18},{"$f":"Tabla13[[#This Row],[Título del contrato]]&Tabla13[[#This Row],[Nº Expediente de la plataforma de contratación]]","v":{"$error":"#VALUE!"}},{"$f":"Tabla13[[#This Row],[Nº Expediente de la plataforma de contratación]]","v":{"$error":"#VALUE!"}},{"$f":"Tabla13[[#This Row],[Importe IVA ]]","v":{"$error":"#VALUE!"}},{"$f":"Tabla13[[#This Row],[Importe de adjudicación (IVA INCLUIDO)]]","v":{"$error":"#VALUE!"}}]
[{"$nulls":18},{"$f":"Tabla13[[#This Row],[Título del contrato]]&Tabla13[[#This Row],[Nº Expediente de la plataforma de contratación]]","v":{"$error":"#VALUE!"}},{"$f":"Tabla13[[#This Row],[Nº Expediente de la plataforma de contratación]]","v":{"$error":"#VALUE!"}},{"$f":"Tabla13[[#This Row],[Importe IVA ]]","v":{"$error":"#VALUE!"}},{"$f":"Tabla13[[#This Row],[Importe de adjudicación (IVA INCLUIDO)]]","v":{"$error":"#VALUE!"}}]
[{"$nulls":18},{"$f":"Tabla13[[#This Row],[Título del contrato]]&Tabla13[[#This Row],[Nº Expediente de la plataforma de contratación]]","v":{"$error":"#VALUE!"}},{"$f":"Tabla13[[#This Row],[Nº Expediente de la plataforma de contratación]]","v":{"$error":"#VALUE!"}},{"$f":"Tabla13[[#This Row],[Importe IVA ]]","v":{"$error":"#VALUE!"}},{"$f":"Tabla13[[#This Row],[Importe de adjudicación (IVA INCLUIDO)]]","v":{"$error":"#VALUE!"}}]
[{"$nulls":18},{"$f":"Tabla13[[#This Row],[Título del contrato]]&Tabla13[[#This Row],[Nº Expediente de la plataforma de contratación]]","v":{"$error":"#VALUE!"}},{"$f":"Tabla13[[#This Row],[Nº Expediente de la plataforma de contratación]]","v":{"$error":"#VALUE!"}},{"$f":"Tabla13[[#This Row],[Importe IVA ]]","v":{"$error":"#VALUE!"}},{"$f":"Tabla13[[#This Row],[Importe de adjudicación (IVA INCLUIDO)]]","v":{"$error":"#VALUE!"}}]
[{"$nulls":18},{"$f":"Tabla13[[#This Row],[Título del contrato]]&Tabla13[[#This Row],[Nº Expediente de la plataforma de contratación]]","v":{"$error":"#VALUE!"}},{"$f":"Tabla13[[#This Row],[Nº Expediente de la plataforma de contratación]]","v":{"$error":"#VALUE!"}},{"$f":"Tabla13[[#This Row],[Importe IVA ]]","v":{"$error":"#VALUE!"}},{"$f":"Tabla13[[#This Row],[Importe de adjudicación (IVA INCLUIDO)]]","v":{"$error":"#VALUE!"}}]
[{"$nulls":18},{"$f":"Tabla13[[#This Row],[Título del contrato]]&Tabla13[[#This Row],[Nº Expediente de la plataforma de contratación]]","v":{"$error":"#VALUE!"}},{"$f":"Tabla13[[#This Row],[Nº Expediente de la plataforma de contratación]]","v":{"$error":"#VALUE!"}},{"$f":"Tabla13[[#This Row],[Importe IVA ]]","v":{"$error":"#VALUE!"}},{"$f":"Tabla13[[#This Row],[Importe de adjudicación (IVA INCLUIDO)]]","v":{"$error":"#VALUE!"}}]
[{"$nulls":18},{"$f":"Tabla13[[#This Row],[Título del contrato]]&Tabla13[[#This Row],[Nº Expediente de la plataforma de contratación]]","v":{"$error":"#VALUE!"}},{"$f":"Tabla13[[#This Row],[Nº Expediente de la plataforma de contratación]]","v":{"$error":"#VALUE!"}},{"$f":"Tabla13[[#This Row],[Importe IVA ]]","v":{"$error":"#VALUE!"}},{"$f":"Tabla13[[#This Row],[Importe de adjudicación (IVA INCLUIDO)]]","v":{"$error":"#VALUE!"}}]
[{"$nulls":18},{"$f":"Tabla13[[#This Row],[Título del contrato]]&Tabla13[[#This Row],[Nº Expediente de la plataforma de contratación]]","v":{"$error":"#VALUE!"}},{"$f":"Tabla13[[#This Row],[Nº Expediente de la plataforma de contratación]]","v":{"$error":"#VALUE!"}},{"$f":"Tabla13[[#This Row],[Importe IVA ]]","v":{"$error":"#VALUE!"}},{"$f":"Tabla13[[#This Row],[Importe de adjudicación (IVA INCLUIDO)]]","v":{"$error":"#VALUE!"}}]
[{"$nulls":18},{"$f":"Tabla13[[#This Row],[Título del contrato]]&Tabla13[[#This Row],[Nº Expediente de la plataforma de contratación]]","v":{"$error":"#VALUE!"}},{"$f":"Tabla13[[#This Row],[Nº Expediente de la plataforma de contratación]]","v":{"$error":"#VALUE!"}},{"$f":"Tabla13[[#This Row],[Importe IVA ]]","v":{"$error":"#VALUE!"}},{"$f":"Tabla13[[#This Row],[Importe de adjudicación (IVA INCLUIDO)]]","v":{"$error":"#VALUE!"}}]
[{"$nulls":18},{"$f":"Tabla13[[#This Row],[Título del contrato]]&Tabla13[[#This Row],[Nº Expediente de la plataforma de contratación]]","v":{"$error":"#VALUE!"}},{"$f":"Tabla13[[#This Row],[Nº Expediente de la plataforma de contratación]]","v":{"$error":"#VALUE!"}},{"$f":"Tabla13[[#This Row],[Importe IVA ]]","v":{"$error":"#VALUE!"}},{"$f":"Tabla13[[#This Row],[Importe de adjudicación (IVA INCLUIDO)]]","v":{"$error":"#VALUE!"}}]
[{"$nulls":18},{"$f":"Tabla13[[#This Row],[Título del contrato]]&Tabla13[[#This Row],[Nº Expediente de la plataforma de contratación]]","v":{"$error":"#VALUE!"}},{"$f":"Tabla13[[#This Row],[Nº Expediente de la plataforma de contratación]]","v":{"$error":"#VALUE!"}},{"$f":"Tabla13[[#This Row],[Importe IVA ]]","v":{"$error":"#VALUE!"}},{"$f":"Tabla13[[#This Row],[Importe de adjudicación (IVA INCLUIDO)]]","v":{"$error":"#VALUE!"}}]
[{"$nulls":18},{"$f":"Tabla13[[#This Row],[Título del contrato]]&Tabla13[[#This Row],[Nº Expediente de la plataforma de contratación]]","v":{"$error":"#VALUE!"}},{"$f":"Tabla13[[#This Row],[Nº Expediente de la plataforma de contratación]]","v":{"$error":"#VALUE!"}},{"$f":"Tabla13[[#This Row],[Importe IVA ]]","v":{"$error":"#VALUE!"}},{"$f":"Tabla13[[#This Row],[Importe de adjudicación (IVA INCLUIDO)]]","v":{"$error":"#VALUE!"}}]
[{"$nulls":18},{"$f":"Tabla13[[#This Row],[Título del contrato]]&Tabla13[[#This Row],[Nº Expediente de la plataforma de contratación]]","v":{"$error":"#VALUE!"}},{"$f":"Tabla13[[#This Row],[Nº Expediente de la plataforma de contratación]]","v":{"$error":"#VALUE!"}},{"$f":"Tabla13[[#This Row],[Importe IVA ]]","v":{"$error":"#VALUE!"}},{"$f":"Tabla13[[#This Row],[Importe de adjudicación (IVA INCLUIDO)]]","v":{"$error":"#VALUE!"}}]
[{"$nulls":18},{"$f":"Tabla13[[#This Row],[Título del contrato]]&Tabla13[[#This Row],[Nº Expediente de la plataforma de contratación]]","v":{"$error":"#VALUE!"}},{"$f":"Tabla13[[#This Row],[Nº Expediente de la plataforma de contratación]]","v":{"$error":"#VALUE!"}},{"$f":"Tabla13[[#This Row],[Importe IVA ]]","v":{"$error":"#VALUE!"}},{"$f":"Tabla13[[#This Row],[Importe de adjudicación (IVA INCLUIDO)]]","v":{"$error":"#VALUE!"}}]
[{"$nulls":18},{"$f":"Tabla13[[#This Row],[Título del contrato]]&Tabla13[[#This Row],[Nº Expediente de la plataforma de contratación]]","v":{"$error":"#VALUE!"}},{"$f":"Tabla13[[#This Row],[Nº Expediente de la plataforma de contratación]]","v":{"$error":"#VALUE!"}},{"$f":"Tabla13[[#This Row],[Importe IVA ]]","v":{"$error":"#VALUE!"}},{"$f":"Tabla13[[#This Row],[Importe de adjudicación (IVA INCLUIDO)]]","v":{"$error":"#VALUE!"}}]
[{"$nulls":18},{"$f":"Tabla13[[#This Row],[Título del contrato]]&Tabla13[[#This Row],[Nº Expediente de la plataforma de contratación]]","v":{"$error":"#VALUE!"}},{"$f":"Tabla13[[#This Row],[Nº Expediente de la plataforma de contratación]]","v":{"$error":"#VALUE!"}},{"$f":"Tabla13[[#This Row],[Importe IVA ]]","v":{"$error":"#VALUE!"}},{"$f":"Tabla13[[#This Row],[Importe de adjudicación (IVA INCLUIDO)]]","v":{"$error":"#VALUE!"}}]
[{"$nulls":18},{"$f":"Tabla13[[#This Row],[Título del contrato]]&Tabla13[[#This Row],[Nº Expediente de la plataforma de contratación]]","v":{"$error":"#VALUE!"}},{"$f":"Tabla13[[#This Row],[Nº Expediente de la plataforma de contratación]]","v":{"$error":"#VALUE!"}},{"$f":"Tabla13[[#This Row],[Importe IVA ]]","v":{"$error":"#VALUE!"}},{"$f":"Tabla13[[#This Row],[Importe de adjudicación (IVA INCLUIDO)]]","v":{"$error":"#VALUE!"}}]
[{"$nulls":18},{"$f":"Tabla13[[#This Row],[Título del contrato]]&Tabla13[[#This Row],[Nº Expediente de la plataforma de contratación]]","v":{"$error":"#VALUE!"}},{"$f":"Tabla13[[#This Row],[Nº Expediente de la plataforma de contratación]]","v":{"$error":"#VALUE!"}},{"$f":"Tabla13[[#This Row],[Importe IVA ]]","v":{"$error":"#VALUE!"}},{"$f":"Tabla13[[#This Row],[Importe de adjudicación (IVA INCLUIDO)]]","v":{"$error":"#VALUE!"}}]
[{"$nulls":18},{"$f":"Tabla13[[#This Row],[Título del contrato]]&Tabla13[[#This Row],[Nº Expediente de la plataforma de contratación]]","v":{"$error":"#VALUE!"}},{"$f":"Tabla13[[#This Row],[Nº Expediente de la plataforma de contratación]]","v":{"$error":"#VALUE!"}},{"$f":"Tabla13[[#This Row],[Importe IVA ]]","v":{"$error":"#VALUE!"}},{"$f":"Tabla13[[#This Row],[Importe de adjudicación (IVA INCLUIDO)]]","v":{"$error":"#VALUE!"}}]
[{"$nulls":18},{"$f":"Tabla13[[#This Row],[Título del contrato]]&Tabla13[[#This Row],[Nº Expediente de la plataforma de contratación]]","v":{"$error":"#VALUE!"}},{"$f":"Tabla13[[#This Row],[Nº Expediente de la plataforma de contratación]]","v":{"$error":"#VALUE!"}},{"$f":"Tabla13[[#This Row],[Importe IVA ]]","v":{"$error":"#VALUE!"}},{"$f":"Tabla13[[#This Row],[Importe de adjudicación (IVA INCLUIDO)]]","v":{"$error":"#VALUE!"}}]
[{"$nulls":18},{"$f":"Tabla13[[#This Row],[Título del contrato]]&Tabla13[[#This Row],[Nº Expediente de la plataforma de contratación]]","v":{"$error":"#VALUE!"}},{"$f":"Tabla13[[#This Row],[Nº Expediente de la plataforma de contratación]]","v":{"$error":"#VALUE!"}},{"$f":"Tabla13[[#This Row],[Importe IVA ]]","v":{"$error":"#VALUE!"}},{"$f":"Tabla13[[#This Row],[Importe de adjudicación (IVA INCLUIDO)]]","v":{"$error":"#VALUE!"}}]
[{"$nulls":18},{"$f":"Tabla13[[#This Row],[Título del contrato]]&Tabla13[[#This Row],[Nº Expediente de la plataforma de contratación]]","v":{"$error":"#VALUE!"}},{"$f":"Tabla13[[#This Row],[Nº Expediente de la plataforma de contratación]]","v":{"$error":"#VALUE!"}},{"$f":"Tabla13[[#This Row],[Importe IVA ]]","v":{"$error":"#VALUE!"}},{"$f":"Tabla13[[#This Row],[Importe de adjudicación (IVA INCLUIDO)]]","v":{"$error":"#VALUE!"}}]
[{"$nulls":18},{"$f":"Tabla13[[#This Row],[Título del contrato]]&Tabla13[[#This Row],[Nº Expediente de la plataforma de contratación]]","v":{"$error":"#VALUE!"}},{"$f":"Tabla13[[#This Row],[Nº Expediente de la plataforma de contratación]]","v":{"$error":"#VALUE!"}},{"$f":"Tabla13[[#This Row],[Importe IVA ]]","v":{"$error":"#VALUE!"}},{"$f":"Tabla13[[#This Row],[Importe de adjudicación (IVA INCLUIDO)]]","v":{"$error":"#VALUE!"}}]
[{"$nulls":18},{"$f":"Tabla13[[#This Row],[Título del contrato]]&Tabla13[[#This Row],[Nº Expediente de la plataforma de contratación]]","v":{"$error":"#VALUE!"}},{"$f":"Tabla13[[#This Row],[Nº Expediente de la plataforma de contratación]]","v":{"$error":"#VALUE!"}},{"$f":"Tabla13[[#This Row],[Importe IVA ]]","v":{"$error":"#VALUE!"}},{"$f":"Tabla13[[#This Row],[Importe de adjudicación (IVA INCLUIDO)]]","v":{"$error":"#VALUE!"}}]
[{"$nulls":18},{"$f":"Tabla13[[#This Row],[Título del contrato]]&Tabla13[[#This Row],[Nº Expediente de la plataforma de contratación]]","v":{"$error":"#VALUE!"}},{"$f":"Tabla13[[#This Row],[Nº Expediente de la plataforma de contratación]]","v":{"$error":"#VALUE!"}},{"$f":"Tabla13[[#This Row],[Importe IVA ]]","v":{"$error":"#VALUE!"}},{"$f":"Tabla13[[#This Row],[Importe de adjudicación (IVA INCLUIDO)]]","v":{"$error":"#VALUE!"}}]
[{"$nulls":18},{"$f":"Tabla13[[#This Row],[Título del contrato]]&Tabla13[[#This Row],[Nº Expediente de la plataforma de contratación]]","v":{"$error":"#VALUE!"}},{"$f":"Tabla13[[#This Row],[Nº Expediente de la plataforma de contratación]]","v":{"$error":"#VALUE!"}},{"$f":"Tabla13[[#This Row],[Importe IVA ]]","v":{"$error":"#VALUE!"}},{"$f":"Tabla13[[#This Row],[Importe de adjudicación (IVA INCLUIDO)]]","v":{"$error":"#VALUE!"}}]
[{"$nulls":18},{"$f":"Tabla13[[#This Row],[Título del contrato]]&Tabla13[[#This Row],[Nº Expediente de la plataforma de contratación]]","v":{"$error":"#VALUE!"}},{"$f":"Tabla13[[#This Row],[Nº Expediente de la plataforma de contratación]]","v":{"$error":"#VALUE!"}},{"$f":"Tabla13[[#This Row],[Importe IVA ]]","v":{"$error":"#VALUE!"}},{"$f":"Tabla13[[#This Row],[Importe de adjudicación (IVA INCLUIDO)]]","v":{"$error":"#VALUE!"}}]
[{"$nulls":18},{"$f":"Tabla13[[#This Row],[Título del contrato]]&Tabla13[[#This Row],[Nº Expediente de la plataforma de contratación]]","v":{"$error":"#VALUE!"}},{"$f":"Tabla13[[#This Row],[Nº Expediente de la plataforma de contratación]]","v":{"$error":"#VALUE!"}},{"$f":"Tabla13[[#This Row],[Importe IVA ]]","v":{"$error":"#VALUE!"}},{"$f":"Tabla13[[#This Row],[Importe de adjudicación (IVA INCLUIDO)]]","v":{"$error":"#VALUE!"}}]
[{"$nulls":18},{"$f":"Tabla13[[#This Row],[Título del contrato]]&Tabla13[[#This Row],[Nº Expediente de la plataforma de contratación]]","v":{"$error":"#VALUE!"}},{"$f":"Tabla13[[#This Row],[Nº Expediente de la plataforma de contratación]]","v":{"$error":"#VALUE!"}},{"$f":"Tabla13[[#This Row],[Importe IVA ]]","v":{"$error":"#VALUE!"}},{"$f":"Tabla13[[#This Row],[Importe de adjudicación (IVA INCLUIDO)]]","v":{"$error":"#VALUE!"}}]
[{"$nulls":18},{"$f":"Tabla13[[#This Row],[Título del contrato]]&Tabla13[[#This Row],[Nº Expediente de la plataforma de contratación]]","v":{"$error":"#VALUE!"}},{"$f":"Tabla13[[#This Row],[Nº Expediente de la plataforma de contratación]]","v":{"$error":"#VALUE!"}},{"$f":"Tabla13[[#This Row],[Importe IVA ]]","v":{"$error":"#VALUE!"}},{"$f":"Tabla13[[#This Row],[Importe de adjudicación (IVA INCLUIDO)]]","v":{"$error":"#VALUE!"}}]
[{"$nulls":18},{"$f":"Tabla13[[#This Row],[Título del contrato]]&Tabla13[[#This Row],[Nº Expediente de la plataforma de contratación]]","v":{"$error":"#VALUE!"}},{"$f":"Tabla13[[#This Row],[Nº Expediente de la plataforma de contratación]]","v":{"$error":"#VALUE!"}},{"$f":"Tabla13[[#This Row],[Importe IVA ]]","v":{"$error":"#VALUE!"}},{"$f":"Tabla13[[#This Row],[Importe de adjudicación (IVA INCLUIDO)]]","v":{"$error":"#VALUE!"}}]
[{"$nulls":18},{"$f":"Tabla13[[#This Row],[Título del contrato]]&Tabla13[[#This Row],[Nº Expediente de la plataforma de contratación]]","v":{"$error":"#VALUE!"}},{"$f":"Tabla13[[#This Row],[Nº Expediente de la plataforma de contratación]]","v":{"$error":"#VALUE!"}},{"$f":"Tabla13[[#This Row],[Importe IVA ]]","v":{"$error":"#VALUE!"}},{"$f":"Tabla13[[#This Row],[Importe de adjudicación (IVA INCLUIDO)]]","v":{"$error":"#VALUE!"}}]
[{"$nulls":18},{"$f":"Tabla13[[#This Row],[Título del contrato]]&Tabla13[[#This Row],[Nº Expediente de la plataforma de contratación]]","v":{"$error":"#VALUE!"}},{"$f":"Tabla13[[#This Row],[Nº Expediente de la plataforma de contratación]]","v":{"$error":"#VALUE!"}},{"$f":"Tabla13[[#This Row],[Importe IVA ]]","v":{"$error":"#VALUE!"}},{"$f":"Tabla13[[#This Row],[Importe de adjudicación (IVA INCLUIDO)]]","v":{"$error":"#VALUE!"}}]
[{"$nulls":18},{"$f":"Tabla13[[#This Row],[Título del contrato]]&Tabla13[[#This Row],[Nº Expediente de la plataforma de contratación]]","v":{"$error":"#VALUE!"}},{"$f":"Tabla13[[#This Row],[Nº Expediente de la plataforma de contratación]]","v":{"$error":"#VALUE!"}},{"$f":"Tabla13[[#This Row],[Importe IVA ]]","v":{"$error":"#VALUE!"}},{"$f":"Tabla13[[#This Row],[Importe de adjudicación (IVA INCLUIDO)]]","v":{"$error":"#VALUE!"}}]
[{"$nulls":18},{"$f":"Tabla13[[#This Row],[Título del contrato]]&Tabla13[[#This Row],[Nº Expediente de la plataforma de contratación]]","v":{"$error":"#VALUE!"}},{"$f":"Tabla13[[#This Row],[Nº Expediente de la plataforma de contratación]]","v":{"$error":"#VALUE!"}},{"$f":"Tabla13[[#This Row],[Importe IVA ]]","v":{"$error":"#VALUE!"}},{"$f":"Tabla13[[#This Row],[Importe de adjudicación (IVA INCLUIDO)]]","v":{"$error":"#VALUE!"}}]
[{"$nulls":18},{"$f":"Tabla13[[#This Row],[Título del contrato]]&Tabla13[[#This Row],[Nº Expediente de la plataforma de contratación]]","v":{"$error":"#VALUE!"}},{"$f":"Tabla13[[#This Row],[Nº Expediente de la plataforma de contratación]]","v":{"$error":"#VALUE!"}},{"$f":"Tabla13[[#This Row],[Importe IVA ]]","v":{"$error":"#VALUE!"}},{"$f":"Tabla13[[#This Row],[Importe de adjudicación (IVA INCLUIDO)]]","v":{"$error":"#VALUE!"}}]
[{"$nulls":18},{"$f":"Tabla13[[#This Row],[Título del contrato]]&Tabla13[[#This Row],[Nº Expediente de la plataforma de contratación]]","v":{"$error":"#VALUE!"}},{"$f":"Tabla13[[#This Row],[Nº Expediente de la plataforma de contratación]]","v":{"$error":"#VALUE!"}},{"$f":"Tabla13[[#This Row],[Importe IVA ]]","v":{"$error":"#VALUE!"}},{"$f":"Tabla13[[#This Row],[Importe de adjudicación (IVA INCLUIDO)]]","v":{"$error":"#VALUE!"}}]
[{"$nulls":18},{"$f":"Tabla13[[#This Row],[Título del contrato]]&Tabla13[[#This Row],[Nº Expediente de la plataforma de contratación]]","v":{"$error":"#VALUE!"}},{"$f":"Tabla13[[#This Row],[Nº Expediente de la plataforma de contratación]]","v":{"$error":"#VALUE!"}},{"$f":"Tabla13[[#This Row],[Importe IVA ]]","v":{"$error":"#VALUE!"}},{"$f":"Tabla13[[#This Row],[Importe de adjudicación (IVA INCLUIDO)]]","v":{"$error":"#VALUE!"}}]
[{"$nulls":18},{"$f":"Tabla13[[#This Row],[Título del contrato]]&Tabla13[[#This Row],[Nº Expediente de la plataforma de contratación]]","v":{"$error":"#VALUE!"}},{"$f":"Tabla13[[#This Row],[Nº Expediente de la plataforma de contratación]]","v":{"$error":"#VALUE!"}},{"$f":"Tabla13[[#This Row],[Importe IVA ]]","v":{"$error":"#VALUE!"}},{"$f":"Tabla13[[#This Row],[Importe de adjudicación (IVA INCLUIDO)]]","v":{"$error":"#VALUE!"}}]
[{"$nulls":18},{"$f":"Tabla13[[#This Row],[Título del contrato]]&Tabla13[[#This Row],[Nº Expediente de la plataforma de contratación]]","v":{"$error":"#VALUE!"}},{"$f":"Tabla13[[#This Row],[Nº Expediente de la plataforma de contratación]]","v":{"$error":"#VALUE!"}},{"$f":"Tabla13[[#This Row],[Importe IVA ]]","v":{"$error":"#VALUE!"}},{"$f":"Tabla13[[#This Row],[Importe de adjudicación (IVA INCLUIDO)]]","v":{"$error":"#VALUE!"}}]
[{"$nulls":18},{"$f":"Tabla13[[#This Row],[Título del contrato]]&Tabla13[[#This Row],[Nº Expediente de la plataforma de contratación]]","v":{"$error":"#VALUE!"}},{"$f":"Tabla13[[#This Row],[Nº Expediente de la plataforma de contratación]]","v":{"$error":"#VALUE!"}},{"$f":"Tabla13[[#This Row],[Importe IVA ]]","v":{"$error":"#VALUE!"}},{"$f":"Tabla13[[#This Row],[Importe de adjudicación (IVA INCLUIDO)]]","v":{"$error":"#VALUE!"}}]
[{"$nulls":18},{"$f":"Tabla13[[#This Row],[Título del contrato]]&Tabla13[[#This Row],[Nº Expediente de la plataforma de contratación]]","v":{"$error":"#VALUE!"}},{"$f":"Tabla13[[#This Row],[Nº Expediente de la plataforma de contratación]]","v":{"$error":"#VALUE!"}},{"$f":"Tabla13[[#This Row],[Importe IVA ]]","v":{"$error":"#VALUE!"}},{"$f":"Tabla13[[#This Row],[Importe de adjudicación (IVA INCLUIDO)]]","v":{"$error":"#VALUE!"}}]
[{"$nulls":18},{"$f":"Tabla13[[#This Row],[Título del contrato]]&Tabla13[[#This Row],[Nº Expediente de la plataforma de contratación]]","v":{"$error":"#VALUE!"}},{"$f":"Tabla13[[#This Row],[Nº Expediente de la plataforma de contratación]]","v":{"$error":"#VALUE!"}},{"$f":"Tabla13[[#This Row],[Importe IVA ]]","v":{"$error":"#VALUE!"}},{"$f":"Tabla13[[#This Row],[Importe de adjudicación (IVA INCLUIDO)]]","v":{"$error":"#VALUE!"}}]
[{"$nulls":18},{"$f":"Tabla13[[#This Row],[Título del contrato]]&Tabla13[[#This Row],[Nº Expediente de la plataforma de contratación]]","v":{"$error":"#VALUE!"}},{"$f":"Tabla13[[#This Row],[Nº Expediente de la plataforma de contratación]]","v":{"$error":"#VALUE!"}},{"$f":"Tabla13[[#This Row],[Importe IVA ]]","v":{"$error":"#VALUE!"}},{"$f":"Tabla13[[#This Row],[Importe de adjudicación (IVA INCLUIDO)]]","v":{"$error":"#VALUE!"}}]
[{"$nulls":18},{"$f":"Tabla13[[#This Row],[Título del contrato]]&Tabla13[[#This Row],[Nº Expediente de la plataforma de contratación]]","v":{"$error":"#VALUE!"}},{"$f":"Tabla13[[#This Row],[Nº Expediente de la plataforma de contratación]]","v":{"$error":"#VALUE!"}},{"$f":"Tabla13[[#This Row],[Importe IVA ]]","v":{"$error":"#VALUE!"}},{"$f":"Tabla13[[#This Row],[Importe de adjudicación (IVA INCLUIDO)]]","v":{"$error":"#VALUE!"}}]
[{"$nulls":18},{"$f":"Tabla13[[#This Row],[Título del contrato]]&Tabla13[[#This Row],[Nº Expediente de la plataforma de contratación]]","v":{"$error":"#VALUE!"}},{"$f":"Tabla13[[#This Row],[Nº Expediente de la plataforma de contratación]]","v":{"$error":"#VALUE!"}},{"$f":"Tabla13[[#This Row],[Importe IVA ]]","v":{"$error":"#VALUE!"}},{"$f":"Tabla13[[#This Row],[Importe de adjudicación (IVA INCLUIDO)]]","v":{"$error":"#VALUE!"}}]
[{"$nulls":18},{"$f":"Tabla13[[#This Row],[Título del contrato]]&Tabla13[[#This Row],[Nº Expediente de la plataforma de contratación]]","v":{"$error":"#VALUE!"}},{"$f":"Tabla13[[#This Row],[Nº Expediente de la plataforma de contratación]]","v":{"$error":"#VALUE!"}},{"$f":"Tabla13[[#This Row],[Importe IVA ]]","v":{"$error":"#VALUE!"}},{"$f":"Tabla13[[#This Row],[Importe de adjudicación (IVA INCLUIDO)]]","v":{"$error":"#VALUE!"}}]
[{"$nulls":18},{"$f":"Tabla13[[#This Row],[Título del contrato]]&Tabla13[[#This Row],[Nº Expediente de la plataforma de contratación]]","v":{"$error":"#VALUE!"}},{"$f":"Tabla13[[#This Row],[Nº Expediente de la plataforma de contratación]]","v":{"$error":"#VALUE!"}},{"$f":"Tabla13[[#This Row],[Importe IVA ]]","v":{"$error":"#VALUE!"}},{"$f":"Tabla13[[#This Row],[Importe de adjudicación (IVA INCLUIDO)]]","v":{"$error":"#VALUE!"}}]
[{"$nulls":18},{"$f":"Tabla13[[#This Row],[Título del contrato]]&Tabla13[[#This Row],[Nº Expediente de la plataforma de contratación]]","v":{"$error":"#VALUE!"}},{"$f":"Tabla13[[#This Row],[Nº Expediente de la plataforma de contratación]]","v":{"$error":"#VALUE!"}},{"$f":"Tabla13[[#This Row],[Importe IVA ]]","v":{"$error":"#VALUE!"}},{"$f":"Tabla13[[#This Row],[Importe de adjudicación (IVA INCLUIDO)]]","v":{"$error":"#VALUE!"}}]
[{"$nulls":18},{"$f":"Tabla13[[#This Row],[Título del contrato]]&Tabla13[[#This Row],[Nº Expediente de la plataforma de contratación]]","v":{"$error":"#VALUE!"}},{"$f":"Tabla13[[#This Row],[Nº Expediente de la plataforma de contratación]]","v":{"$error":"#VALUE!"}},{"$f":"Tabla13[[#This Row],[Importe IVA ]]","v":{"$error":"#VALUE!"}},{"$f":"Tabla13[[#This Row],[Importe de adjudicación (IVA INCLUIDO)]]","v":{"$error":"#VALUE!"}}]
[{"$nulls":18},{"$f":"Tabla13[[#This Row],[Título del contrato]]&Tabla13[[#This Row],[Nº Expediente de la plataforma de contratación]]","v":{"$error":"#VALUE!"}},{"$f":"Tabla13[[#This Row],[Nº Expediente de la plataforma de contratación]]","v":{"$error":"#VALUE!"}},{"$f":"Tabla13[[#This Row],[Importe IVA ]]","v":{"$error":"#VALUE!"}},{"$f":"Tabla13[[#This Row],[Importe de adjudicación (IVA INCLUIDO)]]","v":{"$error":"#VALUE!"}}]
[{"$nulls":18},{"$f":"Tabla13[[#This Row],[Título del contrato]]&Tabla13[[#This Row],[Nº Expediente de la plataforma de contratación]]","v":{"$error":"#VALUE!"}},{"$f":"Tabla13[[#This Row],[Nº Expediente de la plataforma de contratación]]","v":{"$error":"#VALUE!"}},{"$f":"Tabla13[[#This Row],[Importe IVA ]]","v":{"$error":"#VALUE!"}},{"$f":"Tabla13[[#This Row],[Importe de adjudicación (IVA INCLUIDO)]]","v":{"$error":"#VALUE!"}}]
[{"$nulls":18},{"$f":"Tabla13[[#This Row],[Título del contrato]]&Tabla13[[#This Row],[Nº Expediente de la plataforma de contratación]]","v":{"$error":"#VALUE!"}},{"$f":"Tabla13[[#This Row],[Nº Expediente de la plataforma de contratación]]","v":{"$error":"#VALUE!"}},{"$f":"Tabla13[[#This Row],[Importe IVA ]]","v":{"$error":"#VALUE!"}},{"$f":"Tabla13[[#This Row],[Importe de adjudicación (IVA INCLUIDO)]]","v":{"$error":"#VALUE!"}}]
[{"$nulls":18},{"$f":"Tabla13[[#This Row],[Título del contrato]]&Tabla13[[#This Row],[Nº Expediente de la plataforma de contratación]]","v":{"$error":"#VALUE!"}},{"$f":"Tabla13[[#This Row],[Nº Expediente de la plataforma de contratación]]","v":{"$error":"#VALUE!"}},{"$f":"Tabla13[[#This Row],[Importe IVA ]]","v":{"$error":"#VALUE!"}},{"$f":"Tabla13[[#This Row],[Importe de adjudicación (IVA INCLUIDO)]]","v":{"$error":"#VALUE!"}}]
[{"$nulls":18},{"$f":"Tabla13[[#This Row],[Título del contrato]]&Tabla13[[#This Row],[Nº Expediente de la plataforma de contratación]]","v":{"$error":"#VALUE!"}},{"$f":"Tabla13[[#This Row],[Nº Expediente de la plataforma de contratación]]","v":{"$error":"#VALUE!"}},{"$f":"Tabla13[[#This Row],[Importe IVA ]]","v":{"$error":"#VALUE!"}},{"$f":"Tabla13[[#This Row],[Importe de adjudicación (IVA INCLUIDO)]]","v":{"$error":"#VALUE!"}}]
[{"$nulls":18},{"$f":"Tabla13[[#This Row],[Título del contrato]]&Tabla13[[#This Row],[Nº Expediente de la plataforma de contratación]]","v":{"$error":"#VALUE!"}},{"$f":"Tabla13[[#This Row],[Nº Expediente de la plataforma de contratación]]","v":{"$error":"#VALUE!"}},{"$f":"Tabla13[[#This Row],[Importe IVA ]]","v":{"$error":"#VALUE!"}},{"$f":"Tabla13[[#This Row],[Importe de adjudicación (IVA INCLUIDO)]]","v":{"$error":"#VALUE!"}}]
[{"$nulls":18},{"$f":"Tabla13[[#This Row],[Título del contrato]]&Tabla13[[#This Row],[Nº Expediente de la plataforma de contratación]]","v":{"$error":"#VALUE!"}},{"$f":"Tabla13[[#This Row],[Nº Expediente de la plataforma de contratación]]","v":{"$error":"#VALUE!"}},{"$f":"Tabla13[[#This Row],[Importe IVA ]]","v":{"$error":"#VALUE!"}},{"$f":"Tabla13[[#This Row],[Importe de adjudicación (IVA INCLUIDO)]]","v":{"$error":"#VALUE!"}}]
[{"$nulls":18},{"$f":"Tabla13[[#This Row],[Título del contrato]]&Tabla13[[#This Row],[Nº Expediente de la plataforma de contratación]]","v":{"$error":"#VALUE!"}},{"$f":"Tabla13[[#This Row],[Nº Expediente de la plataforma de contratación]]","v":{"$error":"#VALUE!"}},{"$f":"Tabla13[[#This Row],[Importe IVA ]]","v":{"$error":"#VALUE!"}},{"$f":"Tabla13[[#This Row],[Importe de adjudicación (IVA INCLUIDO)]]","v":{"$error":"#VALUE!"}}]
[{"$nulls":18},{"$f":"Tabla13[[#This Row],[Título del contrato]]&Tabla13[[#This Row],[Nº Expediente de la plataforma de contratación]]","v":{"$error":"#VALUE!"}},{"$f":"Tabla13[[#This Row],[Nº Expediente de la plataforma de contratación]]","v":{"$error":"#VALUE!"}},{"$f":"Tabla13[[#This Row],[Importe IVA ]]","v":{"$error":"#VALUE!"}},{"$f":"Tabla13[[#This Row],[Importe de adjudicación (IVA INCLUIDO)]]","v":{"$error":"#VALUE!"}}]
[{"$nulls":18},{"$f":"Tabla13[[#This Row],[Título del contrato]]&Tabla13[[#This Row],[Nº Expediente de la plataforma de contratación]]","v":{"$error":"#VALUE!"}},{"$f":"Tabla13[[#This Row],[Nº Expediente de la plataforma de contratación]]","v":{"$error":"#VALUE!"}},{"$f":"Tabla13[[#This Row],[Importe IVA ]]","v":{"$error":"#VALUE!"}},{"$f":"Tabla13[[#This Row],[Importe de adjudicación (IVA INCLUIDO)]]","v":{"$error":"#VALUE!"}}]
[{"$nulls":18},{"$f":"Tabla13[[#This Row],[Título del contrato]]&Tabla13[[#This Row],[Nº Expediente de la plataforma de contratación]]","v":{"$error":"#VALUE!"}},{"$f":"Tabla13[[#This Row],[Nº Expediente de la plataforma de contratación]]","v":{"$error":"#VALUE!"}},{"$f":"Tabla13[[#This Row],[Importe IVA ]]","v":{"$error":"#VALUE!"}},{"$f":"Tabla13[[#This Row],[Importe de adjudicación (IVA INCLUIDO)]]","v":{"$error":"#VALUE!"}}]
[{"$nulls":18},{"$f":"Tabla13[[#This Row],[Título del contrato]]&Tabla13[[#This Row],[Nº Expediente de la plataforma de contratación]]","v":{"$error":"#VALUE!"}},{"$f":"Tabla13[[#This Row],[Nº Expediente de la plataforma de contratación]]","v":{"$error":"#VALUE!"}},{"$f":"Tabla13[[#This Row],[Importe IVA ]]","v":{"$error":"#VALUE!"}},{"$f":"Tabla13[[#This Row],[Importe de adjudicación (IVA INCLUIDO)]]","v":{"$error":"#VALUE!"}}]
[{"$nulls":18},{"$f":"Tabla13[[#This Row],[Título del contrato]]&Tabla13[[#This Row],[Nº Expediente de la plataforma de contratación]]","v":{"$error":"#VALUE!"}},{"$f":"Tabla13[[#This Row],[Nº Expediente de la plataforma de contratación]]","v":{"$error":"#VALUE!"}},{"$f":"Tabla13[[#This Row],[Importe IVA ]]","v":{"$error":"#VALUE!"}},{"$f":"Tabla13[[#This Row],[Importe de adjudicación (IVA INCLUIDO)]]","v":{"$error":"#VALUE!"}}]
[{"$nulls":18},{"$f":"Tabla13[[#This Row],[Título del contrato]]&Tabla13[[#This Row],[Nº Expediente de la plataforma de contratación]]","v":{"$error":"#VALUE!"}},{"$f":"Tabla13[[#This Row],[Nº Expediente de la plataforma de contratación]]","v":{"$error":"#VALUE!"}},{"$f":"Tabla13[[#This Row],[Importe IVA ]]","v":{"$error":"#VALUE!"}},{"$f":"Tabla13[[#This Row],[Importe de adjudicación (IVA INCLUIDO)]]","v":{"$error":"#VALUE!"}}]
[{"$nulls":18},{"$f":"Tabla13[[#This Row],[Título del contrato]]&Tabla13[[#This Row],[Nº Expediente de la plataforma de contratación]]","v":{"$error":"#VALUE!"}},{"$f":"Tabla13[[#This Row],[Nº Expediente de la plataforma de contratación]]","v":{"$error":"#VALUE!"}},{"$f":"Tabla13[[#This Row],[Importe IVA ]]","v":{"$error":"#VALUE!"}},{"$f":"Tabla13[[#This Row],[Importe de adjudicación (IVA INCLUIDO)]]","v":{"$error":"#VALUE!"}}]
[{"$nulls":18},{"$f":"Tabla13[[#This Row],[Título del contrato]]&Tabla13[[#This Row],[Nº Expediente de la plataforma de contratación]]","v":{"$error":"#VALUE!"}},{"$f":"Tabla13[[#This Row],[Nº Expediente de la plataforma de contratación]]","v":{"$error":"#VALUE!"}},{"$f":"Tabla13[[#This Row],[Importe IVA ]]","v":{"$error":"#VALUE!"}},{"$f":"Tabla13[[#This Row],[Importe de adjudicación (IVA INCLUIDO)]]","v":{"$error":"#VALUE!"}}]
[{"$nulls":18},{"$f":"Tabla13[[#This Row],[Título del contrato]]&Tabla13[[#This Row],[Nº Expediente de la plataforma de contratación]]","v":{"$error":"#VALUE!"}},{"$f":"Tabla13[[#This Row],[Nº Expediente de la plataforma de contratación]]","v":{"$error":"#VALUE!"}},{"$f":"Tabla13[[#This Row],[Importe IVA ]]","v":{"$error":"#VALUE!"}},{"$f":"Tabla13[[#This Row],[Importe de adjudicación (IVA INCLUIDO)]]","v":{"$error":"#VALUE!"}}]
[{"$nulls":18},{"$f":"Tabla13[[#This Row],[Título del contrato]]&Tabla13[[#This Row],[Nº Expediente de la plataforma de contratación]]","v":{"$error":"#VALUE!"}},{"$f":"Tabla13[[#This Row],[Nº Expediente de la plataforma de contratación]]","v":{"$error":"#VALUE!"}},{"$f":"Tabla13[[#This Row],[Importe IVA ]]","v":{"$error":"#VALUE!"}},{"$f":"Tabla13[[#This Row],[Importe de adjudicación (IVA INCLUIDO)]]","v":{"$error":"#VALUE!"}}]
[{"$nulls":18},{"$f":"Tabla13[[#This Row],[Título del contrato]]&Tabla13[[#This Row],[Nº Expediente de la plataforma de contratación]]","v":{"$error":"#VALUE!"}},{"$f":"Tabla13[[#This Row],[Nº Expediente de la plataforma de contratación]]","v":{"$error":"#VALUE!"}},{"$f":"Tabla13[[#This Row],[Importe IVA ]]","v":{"$error":"#VALUE!"}},{"$f":"Tabla13[[#This Row],[Importe de adjudicación (IVA INCLUIDO)]]","v":{"$error":"#VALUE!"}}]
[{"$nulls":18},{"$f":"Tabla13[[#This Row],[Título del contrato]]&Tabla13[[#This Row],[Nº Expediente de la plataforma de contratación]]","v":{"$error":"#VALUE!"}},{"$f":"Tabla13[[#This Row],[Nº Expediente de la plataforma de contratación]]","v":{"$error":"#VALUE!"}},{"$f":"Tabla13[[#This Row],[Importe IVA ]]","v":{"$error":"#VALUE!"}},{"$f":"Tabla13[[#This Row],[Importe de adjudicación (IVA INCLUIDO)]]","v":{"$error":"#VALUE!"}}]
[{"$nulls":18},{"$f":"Tabla13[[#This Row],[Título del contrato]]&Tabla13[[#This Row],[Nº Expediente de la plataforma de contratación]]","v":{"$error":"#VALUE!"}},{"$f":"Tabla13[[#This Row],[Nº Expediente de la plataforma de contratación]]","v":{"$error":"#VALUE!"}},{"$f":"Tabla13[[#This Row],[Importe IVA ]]","v":{"$error":"#VALUE!"}},{"$f":"Tabla13[[#This Row],[Importe de adjudicación (IVA INCLUIDO)]]","v":{"$error":"#VALUE!"}}]
[{"$nulls":18},{"$f":"Tabla13[[#This Row],[Título del contrato]]&Tabla13[[#This Row],[Nº Expediente de la plataforma de contratación]]","v":{"$error":"#VALUE!"}},{"$f":"Tabla13[[#This Row],[Nº Expediente de la plataforma de contratación]]","v":{"$error":"#VALUE!"}},{"$f":"Tabla13[[#This Row],[Importe IVA ]]","v":{"$error":"#VALUE!"}},{"$f":"Tabla13[[#This Row],[Importe de adjudicación (IVA INCLUIDO)]]","v":{"$error":"#VALUE!"}}]
[{"$nulls":18},{"$f":"Tabla13[[#This Row],[Título del contrato]]&Tabla13[[#This Row],[Nº Expediente de la plataforma de contratación]]","v":{"$error":"#VALUE!"}},{"$f":"Tabla13[[#This Row],[Nº Expediente de la plataforma de contratación]]","v":{"$error":"#VALUE!"}},{"$f":"Tabla13[[#This Row],[Importe IVA ]]","v":{"$error":"#VALUE!"}},{"$f":"Tabla13[[#This Row],[Importe de adjudicación (IVA INCLUIDO)]]","v":{"$error":"#VALUE!"}}]
[{"$nulls":18},{"$f":"Tabla13[[#This Row],[Título del contrato]]&Tabla13[[#This Row],[Nº Expediente de la plataforma de contratación]]","v":{"$error":"#VALUE!"}},{"$f":"Tabla13[[#This Row],[Nº Expediente de la plataforma de contratación]]","v":{"$error":"#VALUE!"}},{"$f":"Tabla13[[#This Row],[Importe IVA ]]","v":{"$error":"#VALUE!"}},{"$f":"Tabla13[[#This Row],[Importe de adjudicación (IVA INCLUIDO)]]","v":{"$error":"#VALUE!"}}]
[{"$nulls":18},{"$f":"Tabla13[[#This Row],[Título del contrato]]&Tabla13[[#This Row],[Nº Expediente de la plataforma de contratación]]","v":{"$error":"#VALUE!"}},{"$f":"Tabla13[[#This Row],[Nº Expediente de la plataforma de contratación]]","v":{"$error":"#VALUE!"}},{"$f":"Tabla13[[#This Row],[Importe IVA ]]","v":{"$error":"#VALUE!"}},{"$f":"Tabla13[[#This Row],[Importe de adjudicación (IVA INCLUIDO)]]","v":{"$error":"#VALUE!"}}]
[{"$nulls":18},{"$f":"Tabla13[[#This Row],[Título del contrato]]&Tabla13[[#This Row],[Nº Expediente de la plataforma de contratación]]","v":{"$error":"#VALUE!"}},{"$f":"Tabla13[[#This Row],[Nº Expediente de la plataforma de contratación]]","v":{"$error":"#VALUE!"}},{"$f":"Tabla13[[#This Row],[Importe IVA ]]","v":{"$error":"#VALUE!"}},{"$f":"Tabla13[[#This Row],[Importe de adjudicación (IVA INCLUIDO)]]","v":{"$error":"#VALUE!"}}]
[{"$nulls":18},{"$f":"Tabla13[[#This Row],[Título del contrato]]&Tabla13[[#This Row],[Nº Expediente de la plataforma de contratación]]","v":{"$error":"#VALUE!"}},{"$f":"Tabla13[[#This Row],[Nº Expediente de la plataforma de contratación]]","v":{"$error":"#VALUE!"}},{"$f":"Tabla13[[#This Row],[Importe IVA ]]","v":{"$error":"#VALUE!"}},{"$f":"Tabla13[[#This Row],[Importe de adjudicación (IVA INCLUIDO)]]","v":{"$error":"#VALUE!"}}]
[{"$nulls":18},{"$f":"Tabla13[[#This Row],[Título del contrato]]&Tabla13[[#This Row],[Nº Expediente de la plataforma de contratación]]","v":{"$error":"#VALUE!"}},{"$f":"Tabla13[[#This Row],[Nº Expediente de la plataforma de contratación]]","v":{"$error":"#VALUE!"}},{"$f":"Tabla13[[#This Row],[Importe IVA ]]","v":{"$error":"#VALUE!"}},{"$f":"Tabla13[[#This Row],[Importe de adjudicación (IVA INCLUIDO)]]","v":{"$error":"#VALUE!"}}]
[{"$nulls":18},{"$f":"Tabla13[[#This Row],[Título del contrato]]&Tabla13[[#This Row],[Nº Expediente de la plataforma de contratación]]","v":{"$error":"#VALUE!"}},{"$f":"Tabla13[[#This Row],[Nº Expediente de la plataforma de contratación]]","v":{"$error":"#VALUE!"}},{"$f":"Tabla13[[#This Row],[Importe IVA ]]","v":{"$error":"#VALUE!"}},{"$f":"Tabla13[[#This Row],[Importe de adjudicación (IVA INCLUIDO)]]","v":{"$error":"#VALUE!"}}]
[{"$nulls":18},{"$f":"Tabla13[[#This Row],[Título del contrato]]&Tabla13[[#This Row],[Nº Expediente de la plataforma de contratación]]","v":{"$error":"#VALUE!"}},{"$f":"Tabla13[[#This Row],[Nº Expediente de la plataforma de contratación]]","v":{"$error":"#VALUE!"}},{"$f":"Tabla13[[#This Row],[Importe IVA ]]","v":{"$error":"#VALUE!"}},{"$f":"Tabla13[[#This Row],[Importe de adjudicación (IVA INCLUIDO)]]","v":{"$error":"#VALUE!"}}]
[{"$nulls":18},{"$f":"Tabla13[[#This Row],[Título del contrato]]&Tabla13[[#This Row],[Nº Expediente de la plataforma de contratación]]","v":{"$error":"#VALUE!"}},{"$f":"Tabla13[[#This Row],[Nº Expediente de la plataforma de contratación]]","v":{"$error":"#VALUE!"}},{"$f":"Tabla13[[#This Row],[Importe IVA ]]","v":{"$error":"#VALUE!"}},{"$f":"Tabla13[[#This Row],[Importe de adjudicación (IVA INCLUIDO)]]","v":{"$error":"#VALUE!"}}]
[{"$nulls":18},{"$f":"Tabla13[[#This Row],[Título del contrato]]&Tabla13[[#This Row],[Nº Expediente de la plataforma de contratación]]","v":{"$error":"#VALUE!"}},{"$f":"Tabla13[[#This Row],[Nº Expediente de la plataforma de contratación]]","v":{"$error":"#VALUE!"}},{"$f":"Tabla13[[#This Row],[Importe IVA ]]","v":{"$error":"#VALUE!"}},{"$f":"Tabla13[[#This Row],[Importe de adjudicación (IVA INCLUIDO)]]","v":{"$error":"#VALUE!"}}]
[{"$nulls":18},{"$f":"Tabla13[[#This Row],[Título del contrato]]&Tabla13[[#This Row],[Nº Expediente de la plataforma de contratación]]","v":{"$error":"#VALUE!"}},{"$f":"Tabla13[[#This Row],[Nº Expediente de la plataforma de contratación]]","v":{"$error":"#VALUE!"}},{"$f":"Tabla13[[#This Row],[Importe IVA ]]","v":{"$error":"#VALUE!"}},{"$f":"Tabla13[[#This Row],[Importe de adjudicación (IVA INCLUIDO)]]","v":{"$error":"#VALUE!"}}]
[{"$nulls":18},{"$f":"Tabla13[[#This Row],[Título del contrato]]&Tabla13[[#This Row],[Nº Expediente de la plataforma de contratación]]","v":{"$error":"#VALUE!"}},{"$f":"Tabla13[[#This Row],[Nº Expediente de la plataforma de contratación]]","v":{"$error":"#VALUE!"}},{"$f":"Tabla13[[#This Row],[Importe IVA ]]","v":{"$error":"#VALUE!"}},{"$f":"Tabla13[[#This Row],[Importe de adjudicación (IVA INCLUIDO)]]","v":{"$error":"#VALUE!"}}]
[{"$nulls":18},{"$f":"Tabla13[[#This Row],[Título del contrato]]&Tabla13[[#This Row],[Nº Expediente de la plataforma de contratación]]","v":{"$error":"#VALUE!"}},{"$f":"Tabla13[[#This Row],[Nº Expediente de la plataforma de contratación]]","v":{"$error":"#VALUE!"}},{"$f":"Tabla13[[#This Row],[Importe IVA ]]","v":{"$error":"#VALUE!"}},{"$f":"Tabla13[[#This Row],[Importe de adjudicación (IVA INCLUIDO)]]","v":{"$error":"#VALUE!"}}]
[{"$nulls":18},{"$f":"Tabla13[[#This Row],[Título del contrato]]&Tabla13[[#This Row],[Nº Expediente de la plataforma de contratación]]","v":{"$error":"#VALUE!"}},{"$f":"Tabla13[[#This Row],[Nº Expediente de la plataforma de contratación]]","v":{"$error":"#VALUE!"}},{"$f":"Tabla13[[#This Row],[Importe IVA ]]","v":{"$error":"#VALUE!"}},{"$f":"Tabla13[[#This Row],[Importe de adjudicación (IVA INCLUIDO)]]","v":{"$error":"#VALUE!"}}]
[{"$nulls":18},{"$f":"Tabla13[[#This Row],[Título del contrato]]&Tabla13[[#This Row],[Nº Expediente de la plataforma de contratación]]","v":{"$error":"#VALUE!"}},{"$f":"Tabla13[[#This Row],[Nº Expediente de la plataforma de contratación]]","v":{"$error":"#VALUE!"}},{"$f":"Tabla13[[#This Row],[Importe IVA ]]","v":{"$error":"#VALUE!"}},{"$f":"Tabla13[[#This Row],[Importe de adjudicación (IVA INCLUIDO)]]","v":{"$error":"#VALUE!"}}]
[{"$nulls":18},{"$f":"Tabla13[[#This Row],[Título del contrato]]&Tabla13[[#This Row],[Nº Expediente de la plataforma de contratación]]","v":{"$error":"#VALUE!"}},{"$f":"Tabla13[[#This Row],[Nº Expediente de la plataforma de contratación]]","v":{"$error":"#VALUE!"}},{"$f":"Tabla13[[#This Row],[Importe IVA ]]","v":{"$error":"#VALUE!"}},{"$f":"Tabla13[[#This Row],[Importe de adjudicación (IVA INCLUIDO)]]","v":{"$error":"#VALUE!"}}]
[{"$nulls":18},{"$f":"Tabla13[[#This Row],[Título del contrato]]&Tabla13[[#This Row],[Nº Expediente de la plataforma de contratación]]","v":{"$error":"#VALUE!"}},{"$f":"Tabla13[[#This Row],[Nº Expediente de la plataforma de contratación]]","v":{"$error":"#VALUE!"}},{"$f":"Tabla13[[#This Row],[Importe IVA ]]","v":{"$error":"#VALUE!"}},{"$f":"Tabla13[[#This Row],[Importe de adjudicación (IVA INCLUIDO)]]","v":{"$error":"#VALUE!"}}]
[{"$nulls":18},{"$f":"Tabla13[[#This Row],[Título del contrato]]&Tabla13[[#This Row],[Nº Expediente de la plataforma de contratación]]","v":{"$error":"#VALUE!"}},{"$f":"Tabla13[[#This Row],[Nº Expediente de la plataforma de contratación]]","v":{"$error":"#VALUE!"}},{"$f":"Tabla13[[#This Row],[Importe IVA ]]","v":{"$error":"#VALUE!"}},{"$f":"Tabla13[[#This Row],[Importe de adjudicación (IVA INCLUIDO)]]","v":{"$error":"#VALUE!"}}]
[{"$nulls":18},{"$f":"Tabla13[[#This Row],[Título del contrato]]&Tabla13[[#This Row],[Nº Expediente de la plataforma de contratación]]","v":{"$error":"#VALUE!"}},{"$f":"Tabla13[[#This Row],[Nº Expediente de la plataforma de contratación]]","v":{"$error":"#VALUE!"}},{"$f":"Tabla13[[#This Row],[Importe IVA ]]","v":{"$error":"#VALUE!"}},{"$f":"Tabla13[[#This Row],[Importe de adjudicación (IVA INCLUIDO)]]","v":{"$error":"#VALUE!"}}]
[{"$nulls":18},{"$f":"Tabla13[[#This Row],[Título del contrato]]&Tabla13[[#This Row],[Nº Expediente de la plataforma de contratación]]","v":{"$error":"#VALUE!"}},{"$f":"Tabla13[[#This Row],[Nº Expediente de la plataforma de contratación]]","v":{"$error":"#VALUE!"}},{"$f":"Tabla13[[#This Row],[Importe IVA ]]","v":{"$error":"#VALUE!"}},{"$f":"Tabla13[[#This Row],[Importe de adjudicación (IVA INCLUIDO)]]","v":{"$error":"#VALUE!"}}]
[{"$nulls":18},{"$f":"Tabla13[[#This Row],[Título del contrato]]&Tabla13[[#This Row],[Nº Expediente de la plataforma de contratación]]","v":{"$error":"#VALUE!"}},{"$f":"Tabla13[[#This Row],[Nº Expediente de la plataforma de contratación]]","v":{"$error":"#VALUE!"}},{"$f":"Tabla13[[#This Row],[Importe IVA ]]","v":{"$error":"#VALUE!"}},{"$f":"Tabla13[[#This Row],[Importe de adjudicación (IVA INCLUIDO)]]","v":{"$error":"#VALUE!"}}]
[{"$nulls":18},{"$f":"Tabla13[[#This Row],[Título del contrato]]&Tabla13[[#This Row],[Nº Expediente de la plataforma de contratación]]","v":{"$error":"#VALUE!"}},{"$f":"Tabla13[[#This Row],[Nº Expediente de la plataforma de contratación]]","v":{"$error":"#VALUE!"}},{"$f":"Tabla13[[#This Row],[Importe IVA ]]","v":{"$error":"#VALUE!"}},{"$f":"Tabla13[[#This Row],[Importe de adjudicación (IVA INCLUIDO)]]","v":{"$error":"#VALUE!"}}]
[{"$nulls":18},{"$f":"Tabla13[[#This Row],[Título del contrato]]&Tabla13[[#This Row],[Nº Expediente de la plataforma de contratación]]","v":{"$error":"#VALUE!"}},{"$f":"Tabla13[[#This Row],[Nº Expediente de la plataforma de contratación]]","v":{"$error":"#VALUE!"}},{"$f":"Tabla13[[#This Row],[Importe IVA ]]","v":{"$error":"#VALUE!"}},{"$f":"Tabla13[[#This Row],[Importe de adjudicación (IVA INCLUIDO)]]","v":{"$error":"#VALUE!"}}]
[{"$nulls":18},{"$f":"Tabla13[[#This Row],[Título del contrato]]&Tabla13[[#This Row],[Nº Expediente de la plataforma de contratación]]","v":{"$error":"#VALUE!"}},{"$f":"Tabla13[[#This Row],[Nº Expediente de la plataforma de contratación]]","v":{"$error":"#VALUE!"}},{"$f":"Tabla13[[#This Row],[Importe IVA ]]","v":{"$error":"#VALUE!"}},{"$f":"Tabla13[[#This Row],[Importe de adjudicación (IVA INCLUIDO)]]","v":{"$error":"#VALUE!"}}]
[{"$nulls":18},{"$f":"Tabla13[[#This Row],[Título del contrato]]&Tabla13[[#This Row],[Nº Expediente de la plataforma de contratación]]","v":{"$error":"#VALUE!"}},{"$f":"Tabla13[[#This Row],[Nº Expediente de la plataforma de contratación]]","v":{"$error":"#VALUE!"}},{"$f":"Tabla13[[#This Row],[Importe IVA ]]","v":{"$error":"#VALUE!"}},{"$f":"Tabla13[[#This Row],[Importe de adjudicación (IVA INCLUIDO)]]","v":{"$error":"#VALUE!"}}]
[{"$nulls":18},{"$f":"Tabla13[[#This Row],[Título del contrato]]&Tabla13[[#This Row],[Nº Expediente de la plataforma de contratación]]","v":{"$error":"#VALUE!"}},{"$f":"Tabla13[[#This Row],[Nº Expediente de la plataforma de contratación]]","v":{"$error":"#VALUE!"}},{"$f":"Tabla13[[#This Row],[Importe IVA ]]","v":{"$error":"#VALUE!"}},{"$f":"Tabla13[[#This Row],[Importe de adjudicación (IVA INCLUIDO)]]","v":{"$error":"#VALUE!"}}]
[{"$nulls":18},{"$f":"Tabla13[[#This Row],[Título del contrato]]&Tabla13[[#This Row],[Nº Expediente de la plataforma de contratación]]","v":{"$error":"#VALUE!"}},{"$f":"Tabla13[[#This Row],[Nº Expediente de la plataforma de contratación]]","v":{"$error":"#VALUE!"}},{"$f":"Tabla13[[#This Row],[Importe IVA ]]","v":{"$error":"#VALUE!"}},{"$f":"Tabla13[[#This Row],[Importe de adjudicación (IVA INCLUIDO)]]","v":{"$error":"#VALUE!"}}]
[{"$nulls":18},{"$f":"Tabla13[[#This Row],[Título del contrato]]&Tabla13[[#This Row],[Nº Expediente de la plataforma de contratación]]","v":{"$error":"#VALUE!"}},{"$f":"Tabla13[[#This Row],[Nº Expediente de la plataforma de contratación]]","v":{"$error":"#VALUE!"}},{"$f":"Tabla13[[#This Row],[Importe IVA ]]","v":{"$error":"#VALUE!"}},{"$f":"Tabla13[[#This Row],[Importe de adjudicación (IVA INCLUIDO)]]","v":{"$error":"#VALUE!"}}]
[{"$nulls":18},{"$f":"Tabla13[[#This Row],[Título del contrato]]&Tabla13[[#This Row],[Nº Expediente de la plataforma de contratación]]","v":{"$error":"#VALUE!"}},{"$f":"Tabla13[[#This Row],[Nº Expediente de la plataforma de contratación]]","v":{"$error":"#VALUE!"}},{"$f":"Tabla13[[#This Row],[Importe IVA ]]","v":{"$error":"#VALUE!"}},{"$f":"Tabla13[[#This Row],[Importe de adjudicación (IVA INCLUIDO)]]","v":{"$error":"#VALUE!"}}]
[{"$nulls":18},{"$f":"Tabla13[[#This Row],[Título del contrato]]&Tabla13[[#This Row],[Nº Expediente de la plataforma de contratación]]","v":{"$error":"#VALUE!"}},{"$f":"Tabla13[[#This Row],[Nº Expediente de la plataforma de contratación]]","v":{"$error":"#VALUE!"}},{"$f":"Tabla13[[#This Row],[Importe IVA ]]","v":{"$error":"#VALUE!"}},{"$f":"Tabla13[[#This Row],[Importe de adjudicación (IVA INCLUIDO)]]","v":{"$error":"#VALUE!"}}]
[{"$nulls":18},{"$f":"Tabla13[[#This Row],[Título del contrato]]&Tabla13[[#This Row],[Nº Expediente de la plataforma de contratación]]","v":{"$error":"#VALUE!"}},{"$f":"Tabla13[[#This Row],[Nº Expediente de la plataforma de contratación]]","v":{"$error":"#VALUE!"}},{"$f":"Tabla13[[#This Row],[Importe IVA ]]","v":{"$error":"#VALUE!"}},{"$f":"Tabla13[[#This Row],[Importe de adjudicación (IVA INCLUIDO)]]","v":{"$error":"#VALUE!"}}]
[{"$nulls":18},{"$f":"Tabla13[[#This Row],[Título del contrato]]&Tabla13[[#This Row],[Nº Expediente de la plataforma de contratación]]","v":{"$error":"#VALUE!"}},{"$f":"Tabla13[[#This Row],[Nº Expediente de la plataforma de contratación]]","v":{"$error":"#VALUE!"}},{"$f":"Tabla13[[#This Row],[Importe IVA ]]","v":{"$error":"#VALUE!"}},{"$f":"Tabla13[[#This Row],[Importe de adjudicación (IVA INCLUIDO)]]","v":{"$error":"#VALUE!"}}]
[{"$nulls":18},{"$f":"Tabla13[[#This Row],[Título del contrato]]&Tabla13[[#This Row],[Nº Expediente de la plataforma de contratación]]","v":{"$error":"#VALUE!"}},{"$f":"Tabla13[[#This Row],[Nº Expediente de la plataforma de contratación]]","v":{"$error":"#VALUE!"}},{"$f":"Tabla13[[#This Row],[Importe IVA ]]","v":{"$error":"#VALUE!"}},{"$f":"Tabla13[[#This Row],[Importe de adjudicación (IVA INCLUIDO)]]","v":{"$error":"#VALUE!"}}]
[{"$nulls":18},{"$f":"Tabla13[[#This Row],[Título del contrato]]&Tabla13[[#This Row],[Nº Expediente de la plataforma de contratación]]","v":{"$error":"#VALUE!"}},{"$f":"Tabla13[[#This Row],[Nº Expediente de la plataforma de contratación]]","v":{"$error":"#VALUE!"}},{"$f":"Tabla13[[#This Row],[Importe IVA ]]","v":{"$error":"#VALUE!"}},{"$f":"Tabla13[[#This Row],[Importe de adjudicación (IVA INCLUIDO)]]","v":{"$error":"#VALUE!"}}]
[{"$nulls":18},{"$f":"Tabla13[[#This Row],[Título del contrato]]&Tabla13[[#This Row],[Nº Expediente de la plataforma de contratación]]","v":{"$error":"#VALUE!"}},{"$f":"Tabla13[[#This Row],[Nº Expediente de la plataforma de contratación]]","v":{"$error":"#VALUE!"}},{"$f":"Tabla13[[#This Row],[Importe IVA ]]","v":{"$error":"#VALUE!"}},{"$f":"Tabla13[[#This Row],[Importe de adjudicación (IVA INCLUIDO)]]","v":{"$error":"#VALUE!"}}]
[{"$nulls":18},{"$f":"Tabla13[[#This Row],[Título del contrato]]&Tabla13[[#This Row],[Nº Expediente de la plataforma de contratación]]","v":{"$error":"#VALUE!"}},{"$f":"Tabla13[[#This Row],[Nº Expediente de la plataforma de contratación]]","v":{"$error":"#VALUE!"}},{"$f":"Tabla13[[#This Row],[Importe IVA ]]","v":{"$error":"#VALUE!"}},{"$f":"Tabla13[[#This Row],[Importe de adjudicación (IVA INCLUIDO)]]","v":{"$error":"#VALUE!"}}]
[{"$nulls":18},{"$f":"Tabla13[[#This Row],[Título del contrato]]&Tabla13[[#This Row],[Nº Expediente de la plataforma de contratación]]","v":{"$error":"#VALUE!"}},{"$f":"Tabla13[[#This Row],[Nº Expediente de la plataforma de contratación]]","v":{"$error":"#VALUE!"}},{"$f":"Tabla13[[#This Row],[Importe IVA ]]","v":{"$error":"#VALUE!"}},{"$f":"Tabla13[[#This Row],[Importe de adjudicación (IVA INCLUIDO)]]","v":{"$error":"#VALUE!"}}]
[{"$nulls":18},{"$f":"Tabla13[[#This Row],[Título del contrato]]&Tabla13[[#This Row],[Nº Expediente de la plataforma de contratación]]","v":{"$error":"#VALUE!"}},{"$f":"Tabla13[[#This Row],[Nº Expediente de la plataforma de contratación]]","v":{"$error":"#VALUE!"}},{"$f":"Tabla13[[#This Row],[Importe IVA ]]","v":{"$error":"#VALUE!"}},{"$f":"Tabla13[[#This Row],[Importe de adjudicación (IVA INCLUIDO)]]","v":{"$error":"#VALUE!"}}]
[{"$nulls":18},{"$f":"Tabla13[[#This Row],[Título del contrato]]&Tabla13[[#This Row],[Nº Expediente de la plataforma de contratación]]","v":{"$error":"#VALUE!"}},{"$f":"Tabla13[[#This Row],[Nº Expediente de la plataforma de contratación]]","v":{"$error":"#VALUE!"}},{"$f":"Tabla13[[#This Row],[Importe IVA ]]","v":{"$error":"#VALUE!"}},{"$f":"Tabla13[[#This Row],[Importe de adjudicación (IVA INCLUIDO)]]","v":{"$error":"#VALUE!"}}]
[{"$nulls":18},{"$f":"Tabla13[[#This Row],[Título del contrato]]&Tabla13[[#This Row],[Nº Expediente de la plataforma de contratación]]","v":{"$error":"#VALUE!"}},{"$f":"Tabla13[[#This Row],[Nº Expediente de la plataforma de contratación]]","v":{"$error":"#VALUE!"}},{"$f":"Tabla13[[#This Row],[Importe IVA ]]","v":{"$error":"#VALUE!"}},{"$f":"Tabla13[[#This Row],[Importe de adjudicación (IVA INCLUIDO)]]","v":{"$error":"#VALUE!"}}]
[{"$nulls":18},{"$f":"Tabla13[[#This Row],[Título del contrato]]&Tabla13[[#This Row],[Nº Expediente de la plataforma de contratación]]","v":{"$error":"#VALUE!"}},{"$f":"Tabla13[[#This Row],[Nº Expediente de la plataforma de contratación]]","v":{"$error":"#VALUE!"}},{"$f":"Tabla13[[#This Row],[Importe IVA ]]","v":{"$error":"#VALUE!"}},{"$f":"Tabla13[[#This Row],[Importe de adjudicación (IVA INCLUIDO)]]","v":{"$error":"#VALUE!"}}]
[{"$nulls":18},{"$f":"Tabla13[[#This Row],[Título del contrato]]&Tabla13[[#This Row],[Nº Expediente de la plataforma de contratación]]","v":{"$error":"#VALUE!"}},{"$f":"Tabla13[[#This Row],[Nº Expediente de la plataforma de contratación]]","v":{"$error":"#VALUE!"}},{"$f":"Tabla13[[#This Row],[Importe IVA ]]","v":{"$error":"#VALUE!"}},{"$f":"Tabla13[[#This Row],[Importe de adjudicación (IVA INCLUIDO)]]","v":{"$error":"#VALUE!"}}]
[{"$nulls":18},{"$f":"Tabla13[[#This Row],[Título del contrato]]&Tabla13[[#This Row],[Nº Expediente de la plataforma de contratación]]","v":{"$error":"#VALUE!"}},{"$f":"Tabla13[[#This Row],[Nº Expediente de la plataforma de contratación]]","v":{"$error":"#VALUE!"}},{"$f":"Tabla13[[#This Row],[Importe IVA ]]","v":{"$error":"#VALUE!"}},{"$f":"Tabla13[[#This Row],[Importe de adjudicación (IVA INCLUIDO)]]","v":{"$error":"#VALUE!"}}]
[{"$nulls":18},{"$f":"Tabla13[[#This Row],[Título del contrato]]&Tabla13[[#This Row],[Nº Expediente de la plataforma de contratación]]","v":{"$error":"#VALUE!"}},{"$f":"Tabla13[[#This Row],[Nº Expediente de la plataforma de contratación]]","v":{"$error":"#VALUE!"}},{"$f":"Tabla13[[#This Row],[Importe IVA ]]","v":{"$error":"#VALUE!"}},{"$f":"Tabla13[[#This Row],[Importe de adjudicación (IVA INCLUIDO)]]","v":{"$error":"#VALUE!"}}]
[{"$nulls":18},{"$f":"Tabla13[[#This Row],[Título del contrato]]&Tabla13[[#This Row],[Nº Expediente de la plataforma de contratación]]","v":{"$error":"#VALUE!"}},{"$f":"Tabla13[[#This Row],[Nº Expediente de la plataforma de contratación]]","v":{"$error":"#VALUE!"}},{"$f":"Tabla13[[#This Row],[Importe IVA ]]","v":{"$error":"#VALUE!"}},{"$f":"Tabla13[[#This Row],[Importe de adjudicación (IVA INCLUIDO)]]","v":{"$error":"#VALUE!"}}]
[{"$nulls":18},{"$f":"Tabla13[[#This Row],[Título del contrato]]&Tabla13[[#This Row],[Nº Expediente de la plataforma de contratación]]","v":{"$error":"#VALUE!"}},{"$f":"Tabla13[[#This Row],[Nº Expediente de la plataforma de contratación]]","v":{"$error":"#VALUE!"}},{"$f":"Tabla13[[#This Row],[Importe IVA ]]","v":{"$error":"#VALUE!"}},{"$f":"Tabla13[[#This Row],[Importe de adjudicación (IVA INCLUIDO)]]","v":{"$error":"#VALUE!"}}]
[{"$nulls":18},{"$f":"Tabla13[[#This Row],[Título del contrato]]&Tabla13[[#This Row],[Nº Expediente de la plataforma de contratación]]","v":{"$error":"#VALUE!"}},{"$f":"Tabla13[[#This Row],[Nº Expediente de la plataforma de contratación]]","v":{"$error":"#VALUE!"}},{"$f":"Tabla13[[#This Row],[Importe IVA ]]","v":{"$error":"#VALUE!"}},{"$f":"Tabla13[[#This Row],[Importe de adjudicación (IVA INCLUIDO)]]","v":{"$error":"#VALUE!"}}]
[{"$nulls":18},{"$f":"Tabla13[[#This Row],[Título del contrato]]&Tabla13[[#This Row],[Nº Expediente de la plataforma de contratación]]","v":{"$error":"#VALUE!"}},{"$f":"Tabla13[[#This Row],[Nº Expediente de la plataforma de contratación]]","v":{"$error":"#VALUE!"}},{"$f":"Tabla13[[#This Row],[Importe IVA ]]","v":{"$error":"#VALUE!"}},{"$f":"Tabla13[[#This Row],[Importe de adjudicación (IVA INCLUIDO)]]","v":{"$error":"#VALUE!"}}]
[{"$nulls":18},{"$f":"Tabla13[[#This Row],[Título del contrato]]&Tabla13[[#This Row],[Nº Expediente de la plataforma de contratación]]","v":{"$error":"#VALUE!"}},{"$f":"Tabla13[[#This Row],[Nº Expediente de la plataforma de contratación]]","v":{"$error":"#VALUE!"}},{"$f":"Tabla13[[#This Row],[Importe IVA ]]","v":{"$error":"#VALUE!"}},{"$f":"Tabla13[[#This Row],[Importe de adjudicación (IVA INCLUIDO)]]","v":{"$error":"#VALUE!"}}]
[{"$nulls":18},{"$f":"Tabla13[[#This Row],[Título del contrato]]&Tabla13[[#This Row],[Nº Expediente de la plataforma de contratación]]","v":{"$error":"#VALUE!"}},{"$f":"Tabla13[[#This Row],[Nº Expediente de la plataforma de contratación]]","v":{"$error":"#VALUE!"}},{"$f":"Tabla13[[#This Row],[Importe IVA ]]","v":{"$error":"#VALUE!"}},{"$f":"Tabla13[[#This Row],[Importe de adjudicación (IVA INCLUIDO)]]","v":{"$error":"#VALUE!"}}]
[{"$nulls":18},{"$f":"Tabla13[[#This Row],[Título del contrato]]&Tabla13[[#This Row],[Nº Expediente de la plataforma de contratación]]","v":{"$error":"#VALUE!"}},{"$f":"Tabla13[[#This Row],[Nº Expediente de la plataforma de contratación]]","v":{"$error":"#VALUE!"}},{"$f":"Tabla13[[#This Row],[Importe IVA ]]","v":{"$error":"#VALUE!"}},{"$f":"Tabla13[[#This Row],[Importe de adjudicación (IVA INCLUIDO)]]","v":{"$error":"#VALUE!"}}]
[{"$nulls":18},{"$f":"Tabla13[[#This Row],[Título del contrato]]&Tabla13[[#This Row],[Nº Expediente de la plataforma de contratación]]","v":{"$error":"#VALUE!"}},{"$f":"Tabla13[[#This Row],[Nº Expediente de la plataforma de contratación]]","v":{"$error":"#VALUE!"}},{"$f":"Tabla13[[#This Row],[Importe IVA ]]","v":{"$error":"#VALUE!"}},{"$f":"Tabla13[[#This Row],[Importe de adjudicación (IVA INCLUIDO)]]","v":{"$error":"#VALUE!"}}]
[{"$nulls":18},{"$f":"Tabla13[[#This Row],[Título del contrato]]&Tabla13[[#This Row],[Nº Expediente de la plataforma de contratación]]","v":{"$error":"#VALUE!"}},{"$f":"Tabla13[[#This Row],[Nº Expediente de la plataforma de contratación]]","v":{"$error":"#VALUE!"}},{"$f":"Tabla13[[#This Row],[Importe IVA ]]","v":{"$error":"#VALUE!"}},{"$f":"Tabla13[[#This Row],[Importe de adjudicación (IVA INCLUIDO)]]","v":{"$error":"#VALUE!"}}]
[{"$nulls":18},{"$f":"Tabla13[[#This Row],[Título del contrato]]&Tabla13[[#This Row],[Nº Expediente de la plataforma de contratación]]","v":{"$error":"#VALUE!"}},{"$f":"Tabla13[[#This Row],[Nº Expediente de la plataforma de contratación]]","v":{"$error":"#VALUE!"}},{"$f":"Tabla13[[#This Row],[Importe IVA ]]","v":{"$error":"#VALUE!"}},{"$f":"Tabla13[[#This Row],[Importe de adjudicación (IVA INCLUIDO)]]","v":{"$error":"#VALUE!"}}]
[{"$nulls":18},{"$f":"Tabla13[[#This Row],[Título del contrato]]&Tabla13[[#This Row],[Nº Expediente de la plataforma de contratación]]","v":{"$error":"#VALUE!"}},{"$f":"Tabla13[[#This Row],[Nº Expediente de la plataforma de contratación]]","v":{"$error":"#VALUE!"}},{"$f":"Tabla13[[#This Row],[Importe IVA ]]","v":{"$error":"#VALUE!"}},{"$f":"Tabla13[[#This Row],[Importe de adjudicación (IVA INCLUIDO)]]","v":{"$error":"#VALUE!"}}]
[{"$nulls":18},{"$f":"Tabla13[[#This Row],[Título del contrato]]&Tabla13[[#This Row],[Nº Expediente de la plataforma de contratación]]","v":{"$error":"#VALUE!"}},{"$f":"Tabla13[[#This Row],[Nº Expediente de la plataforma de contratación]]","v":{"$error":"#VALUE!"}},{"$f":"Tabla13[[#This Row],[Importe IVA ]]","v":{"$error":"#VALUE!"}},{"$f":"Tabla13[[#This Row],[Importe de adjudicación (IVA INCLUIDO)]]","v":{"$error":"#VALUE!"}}]
[{"$nulls":18},{"$f":"Tabla13[[#This Row],[Título del contrato]]&Tabla13[[#This Row],[Nº Expediente de la plataforma de contratación]]","v":{"$error":"#VALUE!"}},{"$f":"Tabla13[[#This Row],[Nº Expediente de la plataforma de contratación]]","v":{"$error":"#VALUE!"}},{"$f":"Tabla13[[#This Row],[Importe IVA ]]","v":{"$error":"#VALUE!"}},{"$f":"Tabla13[[#This Row],[Importe de adjudicación (IVA INCLUIDO)]]","v":{"$error":"#VALUE!"}}]
[{"$nulls":18},{"$f":"Tabla13[[#This Row],[Título del contrato]]&Tabla13[[#This Row],[Nº Expediente de la plataforma de contratación]]","v":{"$error":"#VALUE!"}},{"$f":"Tabla13[[#This Row],[Nº Expediente de la plataforma de contratación]]","v":{"$error":"#VALUE!"}},{"$f":"Tabla13[[#This Row],[Importe IVA ]]","v":{"$error":"#VALUE!"}},{"$f":"Tabla13[[#This Row],[Importe de adjudicación (IVA INCLUIDO)]]","v":{"$error":"#VALUE!"}}]
[{"$nulls":18},{"$f":"Tabla13[[#This Row],[Título del contrato]]&Tabla13[[#This Row],[Nº Expediente de la plataforma de contratación]]","v":{"$error":"#VALUE!"}},{"$f":"Tabla13[[#This Row],[Nº Expediente de la plataforma de contratación]]","v":{"$error":"#VALUE!"}},{"$f":"Tabla13[[#This Row],[Importe IVA ]]","v":{"$error":"#VALUE!"}},{"$f":"Tabla13[[#This Row],[Importe de adjudicación (IVA INCLUIDO)]]","v":{"$error":"#VALUE!"}}]
[{"$nulls":18},{"$f":"Tabla13[[#This Row],[Título del contrato]]&Tabla13[[#This Row],[Nº Expediente de la plataforma de contratación]]","v":{"$error":"#VALUE!"}},{"$f":"Tabla13[[#This Row],[Nº Expediente de la plataforma de contratación]]","v":{"$error":"#VALUE!"}},{"$f":"Tabla13[[#This Row],[Importe IVA ]]","v":{"$error":"#VALUE!"}},{"$f":"Tabla13[[#This Row],[Importe de adjudicación (IVA INCLUIDO)]]","v":{"$error":"#VALUE!"}}]
[{"$nulls":18},{"$f":"Tabla13[[#This Row],[Título del contrato]]&Tabla13[[#This Row],[Nº Expediente de la plataforma de contratación]]","v":{"$error":"#VALUE!"}},{"$f":"Tabla13[[#This Row],[Nº Expediente de la plataforma de contratación]]","v":{"$error":"#VALUE!"}},{"$f":"Tabla13[[#This Row],[Importe IVA ]]","v":{"$error":"#VALUE!"}},{"$f":"Tabla13[[#This Row],[Importe de adjudicación (IVA INCLUIDO)]]","v":{"$error":"#VALUE!"}}]
[{"$nulls":18},{"$f":"Tabla13[[#This Row],[Título del contrato]]&Tabla13[[#This Row],[Nº Expediente de la plataforma de contratación]]","v":{"$error":"#VALUE!"}},{"$f":"Tabla13[[#This Row],[Nº Expediente de la plataforma de contratación]]","v":{"$error":"#VALUE!"}},{"$f":"Tabla13[[#This Row],[Importe IVA ]]","v":{"$error":"#VALUE!"}},{"$f":"Tabla13[[#This Row],[Importe de adjudicación (IVA INCLUIDO)]]","v":{"$error":"#VALUE!"}}]
[{"$nulls":18},{"$f":"Tabla13[[#This Row],[Título del contrato]]&Tabla13[[#This Row],[Nº Expediente de la plataforma de contratación]]","v":{"$error":"#VALUE!"}},{"$f":"Tabla13[[#This Row],[Nº Expediente de la plataforma de contratación]]","v":{"$error":"#VALUE!"}},{"$f":"Tabla13[[#This Row],[Importe IVA ]]","v":{"$error":"#VALUE!"}},{"$f":"Tabla13[[#This Row],[Importe de adjudicación (IVA INCLUIDO)]]","v":{"$error":"#VALUE!"}}]
[{"$nulls":18},{"$f":"Tabla13[[#This Row],[Título del contrato]]&Tabla13[[#This Row],[Nº Expediente de la plataforma de contratación]]","v":{"$error":"#VALUE!"}},{"$f":"Tabla13[[#This Row],[Nº Expediente de la plataforma de contratación]]","v":{"$error":"#VALUE!"}},{"$f":"Tabla13[[#This Row],[Importe IVA ]]","v":{"$error":"#VALUE!"}},{"$f":"Tabla13[[#This Row],[Importe de adjudicación (IVA INCLUIDO)]]","v":{"$error":"#VALUE!"}}]
[{"$nulls":18},{"$f":"Tabla13[[#This Row],[Título del contrato]]&Tabla13[[#This Row],[Nº Expediente de la plataforma de contratación]]","v":{"$error":"#VALUE!"}},{"$f":"Tabla13[[#This Row],[Nº Expediente de la plataforma de contratación]]","v":{"$error":"#VALUE!"}},{"$f":"Tabla13[[#This Row],[Importe IVA ]]","v":{"$error":"#VALUE!"}},{"$f":"Tabla13[[#This Row],[Importe de adjudicación (IVA INCLUIDO)]]","v":{"$error":"#VALUE!"}}]
[{"$nulls":18},{"$f":"Tabla13[[#This Row],[Título del contrato]]&Tabla13[[#This Row],[Nº Expediente de la plataforma de contratación]]","v":{"$error":"#VALUE!"}},{"$f":"Tabla13[[#This Row],[Nº Expediente de la plataforma de contratación]]","v":{"$error":"#VALUE!"}},{"$f":"Tabla13[[#This Row],[Importe IVA ]]","v":{"$error":"#VALUE!"}},{"$f":"Tabla13[[#This Row],[Importe de adjudicación (IVA INCLUIDO)]]","v":{"$error":"#VALUE!"}}]
[{"$nulls":18},{"$f":"Tabla13[[#This Row],[Título del contrato]]&Tabla13[[#This Row],[Nº Expediente de la plataforma de contratación]]","v":{"$error":"#VALUE!"}},{"$f":"Tabla13[[#This Row],[Nº Expediente de la plataforma de contratación]]","v":{"$error":"#VALUE!"}},{"$f":"Tabla13[[#This Row],[Importe IVA ]]","v":{"$error":"#VALUE!"}},{"$f":"Tabla13[[#This Row],[Importe de adjudicación (IVA INCLUIDO)]]","v":{"$error":"#VALUE!"}}]
[{"$nulls":18},{"$f":"Tabla13[[#This Row],[Título del contrato]]&Tabla13[[#This Row],[Nº Expediente de la plataforma de contratación]]","v":{"$error":"#VALUE!"}},{"$f":"Tabla13[[#This Row],[Nº Expediente de la plataforma de contratación]]","v":{"$error":"#VALUE!"}},{"$f":"Tabla13[[#This Row],[Importe IVA ]]","v":{"$error":"#VALUE!"}},{"$f":"Tabla13[[#This Row],[Importe de adjudicación (IVA INCLUIDO)]]","v":{"$error":"#VALUE!"}}]
[{"$nulls":18},{"$f":"Tabla13[[#This Row],[Título del contrato]]&Tabla13[[#This Row],[Nº Expediente de la plataforma de contratación]]","v":{"$error":"#VALUE!"}},{"$f":"Tabla13[[#This Row],[Nº Expediente de la plataforma de contratación]]","v":{"$error":"#VALUE!"}},{"$f":"Tabla13[[#This Row],[Importe IVA ]]","v":{"$error":"#VALUE!"}},{"$f":"Tabla13[[#This Row],[Importe de adjudicación (IVA INCLUIDO)]]","v":{"$error":"#VALUE!"}}]
[{"$nulls":18},{"$f":"Tabla13[[#This Row],[Título del contrato]]&Tabla13[[#This Row],[Nº Expediente de la plataforma de contratación]]","v":{"$error":"#VALUE!"}},{"$f":"Tabla13[[#This Row],[Nº Expediente de la plataforma de contratación]]","v":{"$error":"#VALUE!"}},{"$f":"Tabla13[[#This Row],[Importe IVA ]]","v":{"$error":"#VALUE!"}},{"$f":"Tabla13[[#This Row],[Importe de adjudicación (IVA INCLUIDO)]]","v":{"$error":"#VALUE!"}}]
[{"$nulls":18},{"$f":"Tabla13[[#This Row],[Título del contrato]]&Tabla13[[#This Row],[Nº Expediente de la plataforma de contratación]]","v":{"$error":"#VALUE!"}},{"$f":"Tabla13[[#This Row],[Nº Expediente de la plataforma de contratación]]","v":{"$error":"#VALUE!"}},{"$f":"Tabla13[[#This Row],[Importe IVA ]]","v":{"$error":"#VALUE!"}},{"$f":"Tabla13[[#This Row],[Importe de adjudicación (IVA INCLUIDO)]]","v":{"$error":"#VALUE!"}}]
[{"$nulls":18},{"$f":"Tabla13[[#This Row],[Título del contrato]]&Tabla13[[#This Row],[Nº Expediente de la plataforma de contratación]]","v":{"$error":"#VALUE!"}},{"$f":"Tabla13[[#This Row],[Nº Expediente de la plataforma de contratación]]","v":{"$error":"#VALUE!"}},{"$f":"Tabla13[[#This Row],[Importe IVA ]]","v":{"$error":"#VALUE!"}},{"$f":"Tabla13[[#This Row],[Importe de adjudicación (IVA INCLUIDO)]]","v":{"$error":"#VALUE!"}}]
[{"$nulls":18},{"$f":"Tabla13[[#This Row],[Título del contrato]]&Tabla13[[#This Row],[Nº Expediente de la plataforma de contratación]]","v":{"$error":"#VALUE!"}},{"$f":"Tabla13[[#This Row],[Nº Expediente de la plataforma de contratación]]","v":{"$error":"#VALUE!"}},{"$f":"Tabla13[[#This Row],[Importe IVA ]]","v":{"$error":"#VALUE!"}},{"$f":"Tabla13[[#This Row],[Importe de adjudicación (IVA INCLUIDO)]]","v":{"$error":"#VALUE!"}}]
[{"$nulls":18},{"$f":"Tabla13[[#This Row],[Título del contrato]]&Tabla13[[#This Row],[Nº Expediente de la plataforma de contratación]]","v":{"$error":"#VALUE!"}},{"$f":"Tabla13[[#This Row],[Nº Expediente de la plataforma de contratación]]","v":{"$error":"#VALUE!"}},{"$f":"Tabla13[[#This Row],[Importe IVA ]]","v":{"$error":"#VALUE!"}},{"$f":"Tabla13[[#This Row],[Importe de adjudicación (IVA INCLUIDO)]]","v":{"$error":"#VALUE!"}}]
[{"$nulls":18},{"$f":"Tabla13[[#This Row],[Título del contrato]]&Tabla13[[#This Row],[Nº Expediente de la plataforma de contratación]]","v":{"$error":"#VALUE!"}},{"$f":"Tabla13[[#This Row],[Nº Expediente de la plataforma de contratación]]","v":{"$error":"#VALUE!"}},{"$f":"Tabla13[[#This Row],[Importe IVA ]]","v":{"$error":"#VALUE!"}},{"$f":"Tabla13[[#This Row],[Importe de adjudicación (IVA INCLUIDO)]]","v":{"$error":"#VALUE!"}}]
[{"$nulls":18},{"$f":"Tabla13[[#This Row],[Título del contrato]]&Tabla13[[#This Row],[Nº Expediente de la plataforma de contratación]]","v":{"$error":"#VALUE!"}},{"$f":"Tabla13[[#This Row],[Nº Expediente de la plataforma de contratación]]","v":{"$error":"#VALUE!"}},{"$f":"Tabla13[[#This Row],[Importe IVA ]]","v":{"$error":"#VALUE!"}},{"$f":"Tabla13[[#This Row],[Importe de adjudicación (IVA INCLUIDO)]]","v":{"$error":"#VALUE!"}}]
[{"$nulls":18},{"$f":"Tabla13[[#This Row],[Título del contrato]]&Tabla13[[#This Row],[Nº Expediente de la plataforma de contratación]]","v":{"$error":"#VALUE!"}},{"$f":"Tabla13[[#This Row],[Nº Expediente de la plataforma de contratación]]","v":{"$error":"#VALUE!"}},{"$f":"Tabla13[[#This Row],[Importe IVA ]]","v":{"$error":"#VALUE!"}},{"$f":"Tabla13[[#This Row],[Importe de adjudicación (IVA INCLUIDO)]]","v":{"$error":"#VALUE!"}}]
[{"$nulls":18},{"$f":"Tabla13[[#This Row],[Título del contrato]]&Tabla13[[#This Row],[Nº Expediente de la plataforma de contratación]]","v":{"$error":"#VALUE!"}},{"$f":"Tabla13[[#This Row],[Nº Expediente de la plataforma de contratación]]","v":{"$error":"#VALUE!"}},{"$f":"Tabla13[[#This Row],[Importe IVA ]]","v":{"$error":"#VALUE!"}},{"$f":"Tabla13[[#This Row],[Importe de adjudicación (IVA INCLUIDO)]]","v":{"$error":"#VALUE!"}}]
[{"$nulls":18},{"$f":"Tabla13[[#This Row],[Título del contrato]]&Tabla13[[#This Row],[Nº Expediente de la plataforma de contratación]]","v":{"$error":"#VALUE!"}},{"$f":"Tabla13[[#This Row],[Nº Expediente de la plataforma de contratación]]","v":{"$error":"#VALUE!"}},{"$f":"Tabla13[[#This Row],[Importe IVA ]]","v":{"$error":"#VALUE!"}},{"$f":"Tabla13[[#This Row],[Importe de adjudicación (IVA INCLUIDO)]]","v":{"$error":"#VALUE!"}}]
[{"$nulls":18},{"$f":"Tabla13[[#This Row],[Título del contrato]]&Tabla13[[#This Row],[Nº Expediente de la plataforma de contratación]]","v":{"$error":"#VALUE!"}},{"$f":"Tabla13[[#This Row],[Nº Expediente de la plataforma de contratación]]","v":{"$error":"#VALUE!"}},{"$f":"Tabla13[[#This Row],[Importe IVA ]]","v":{"$error":"#VALUE!"}},{"$f":"Tabla13[[#This Row],[Importe de adjudicación (IVA INCLUIDO)]]","v":{"$error":"#VALUE!"}}]
[{"$nulls":18},{"$f":"Tabla13[[#This Row],[Título del contrato]]&Tabla13[[#This Row],[Nº Expediente de la plataforma de contratación]]","v":{"$error":"#VALUE!"}},{"$f":"Tabla13[[#This Row],[Nº Expediente de la plataforma de contratación]]","v":{"$error":"#VALUE!"}},{"$f":"Tabla13[[#This Row],[Importe IVA ]]","v":{"$error":"#VALUE!"}},{"$f":"Tabla13[[#This Row],[Importe de adjudicación (IVA INCLUIDO)]]","v":{"$error":"#VALUE!"}}]
[{"$nulls":18},{"$f":"Tabla13[[#This Row],[Título del contrato]]&Tabla13[[#This Row],[Nº Expediente de la plataforma de contratación]]","v":{"$error":"#VALUE!"}},{"$f":"Tabla13[[#This Row],[Nº Expediente de la plataforma de contratación]]","v":{"$error":"#VALUE!"}},{"$f":"Tabla13[[#This Row],[Importe IVA ]]","v":{"$error":"#VALUE!"}},{"$f":"Tabla13[[#This Row],[Importe de adjudicación (IVA INCLUIDO)]]","v":{"$error":"#VALUE!"}}]
[{"$nulls":18},{"$f":"Tabla13[[#This Row],[Título del contrato]]&Tabla13[[#This Row],[Nº Expediente de la plataforma de contratación]]","v":{"$error":"#VALUE!"}},{"$f":"Tabla13[[#This Row],[Nº Expediente de la plataforma de contratación]]","v":{"$error":"#VALUE!"}},{"$f":"Tabla13[[#This Row],[Importe IVA ]]","v":{"$error":"#VALUE!"}},{"$f":"Tabla13[[#This Row],[Importe de adjudicación (IVA INCLUIDO)]]","v":{"$error":"#VALUE!"}}]
[{"$nulls":18},{"$f":"Tabla13[[#This Row],[Título del contrato]]&Tabla13[[#This Row],[Nº Expediente de la plataforma de contratación]]","v":{"$error":"#VALUE!"}},{"$f":"Tabla13[[#This Row],[Nº Expediente de la plataforma de contratación]]","v":{"$error":"#VALUE!"}},{"$f":"Tabla13[[#This Row],[Importe IVA ]]","v":{"$error":"#VALUE!"}},{"$f":"Tabla13[[#This Row],[Importe de adjudicación (IVA INCLUIDO)]]","v":{"$error":"#VALUE!"}}]
[{"$nulls":18},{"$f":"Tabla13[[#This Row],[Título del contrato]]&Tabla13[[#This Row],[Nº Expediente de la plataforma de contratación]]","v":{"$error":"#VALUE!"}},{"$f":"Tabla13[[#This Row],[Nº Expediente de la plataforma de contratación]]","v":{"$error":"#VALUE!"}},{"$f":"Tabla13[[#This Row],[Importe IVA ]]","v":{"$error":"#VALUE!"}},{"$f":"Tabla13[[#This Row],[Importe de adjudicación (IVA INCLUIDO)]]","v":{"$error":"#VALUE!"}}]
[{"$nulls":18},{"$f":"Tabla13[[#This Row],[Título del contrato]]&Tabla13[[#This Row],[Nº Expediente de la plataforma de contratación]]","v":{"$error":"#VALUE!"}},{"$f":"Tabla13[[#This Row],[Nº Expediente de la plataforma de contratación]]","v":{"$error":"#VALUE!"}},{"$f":"Tabla13[[#This Row],[Importe IVA ]]","v":{"$error":"#VALUE!"}},{"$f":"Tabla13[[#This Row],[Importe de adjudicación (IVA INCLUIDO)]]","v":{"$error":"#VALUE!"}}]
[{"$nulls":18},{"$f":"Tabla13[[#This Row],[Título del contrato]]&Tabla13[[#This Row],[Nº Expediente de la plataforma de contratación]]","v":{"$error":"#VALUE!"}},{"$f":"Tabla13[[#This Row],[Nº Expediente de la plataforma de contratación]]","v":{"$error":"#VALUE!"}},{"$f":"Tabla13[[#This Row],[Importe IVA ]]","v":{"$error":"#VALUE!"}},{"$f":"Tabla13[[#This Row],[Importe de adjudicación (IVA INCLUIDO)]]","v":{"$error":"#VALUE!"}}]
[{"$nulls":18},{"$f":"Tabla13[[#This Row],[Título del contrato]]&Tabla13[[#This Row],[Nº Expediente de la plataforma de contratación]]","v":{"$error":"#VALUE!"}},{"$f":"Tabla13[[#This Row],[Nº Expediente de la plataforma de contratación]]","v":{"$error":"#VALUE!"}},{"$f":"Tabla13[[#This Row],[Importe IVA ]]","v":{"$error":"#VALUE!"}},{"$f":"Tabla13[[#This Row],[Importe de adjudicación (IVA INCLUIDO)]]","v":{"$error":"#VALUE!"}}]
[{"$nulls":18},{"$f":"Tabla13[[#This Row],[Título del contrato]]&Tabla13[[#This Row],[Nº Expediente de la plataforma de contratación]]","v":{"$error":"#VALUE!"}},{"$f":"Tabla13[[#This Row],[Nº Expediente de la plataforma de contratación]]","v":{"$error":"#VALUE!"}},{"$f":"Tabla13[[#This Row],[Importe IVA ]]","v":{"$error":"#VALUE!"}},{"$f":"Tabla13[[#This Row],[Importe de adjudicación (IVA INCLUIDO)]]","v":{"$error":"#VALUE!"}}]
[{"$nulls":18},{"$f":"Tabla13[[#This Row],[Título del contrato]]&Tabla13[[#This Row],[Nº Expediente de la plataforma de contratación]]","v":{"$error":"#VALUE!"}},{"$f":"Tabla13[[#This Row],[Nº Expediente de la plataforma de contratación]]","v":{"$error":"#VALUE!"}},{"$f":"Tabla13[[#This Row],[Importe IVA ]]","v":{"$error":"#VALUE!"}},{"$f":"Tabla13[[#This Row],[Importe de adjudicación (IVA INCLUIDO)]]","v":{"$error":"#VALUE!"}}]
[{"$nulls":18},{"$f":"Tabla13[[#This Row],[Título del contrato]]&Tabla13[[#This Row],[Nº Expediente de la plataforma de contratación]]","v":{"$error":"#VALUE!"}},{"$f":"Tabla13[[#This Row],[Nº Expediente de la plataforma de contratación]]","v":{"$error":"#VALUE!"}},{"$f":"Tabla13[[#This Row],[Importe IVA ]]","v":{"$error":"#VALUE!"}},{"$f":"Tabla13[[#This Row],[Importe de adjudicación (IVA INCLUIDO)]]","v":{"$error":"#VALUE!"}}]
[{"$nulls":18},{"$f":"Tabla13[[#This Row],[Título del contrato]]&Tabla13[[#This Row],[Nº Expediente de la plataforma de contratación]]","v":{"$error":"#VALUE!"}},{"$f":"Tabla13[[#This Row],[Nº Expediente de la plataforma de contratación]]","v":{"$error":"#VALUE!"}},{"$f":"Tabla13[[#This Row],[Importe IVA ]]","v":{"$error":"#VALUE!"}},{"$f":"Tabla13[[#This Row],[Importe de adjudicación (IVA INCLUIDO)]]","v":{"$error":"#VALUE!"}}]
[{"$nulls":18},{"$f":"Tabla13[[#This Row],[Título del contrato]]&Tabla13[[#This Row],[Nº Expediente de la plataforma de contratación]]","v":{"$error":"#VALUE!"}},{"$f":"Tabla13[[#This Row],[Nº Expediente de la plataforma de contratación]]","v":{"$error":"#VALUE!"}},{"$f":"Tabla13[[#This Row],[Importe IVA ]]","v":{"$error":"#VALUE!"}},{"$f":"Tabla13[[#This Row],[Importe de adjudicación (IVA INCLUIDO)]]","v":{"$error":"#VALUE!"}}]
[{"$nulls":18},{"$f":"Tabla13[[#This Row],[Título del contrato]]&Tabla13[[#This Row],[Nº Expediente de la plataforma de contratación]]","v":{"$error":"#VALUE!"}},{"$f":"Tabla13[[#This Row],[Nº Expediente de la plataforma de contratación]]","v":{"$error":"#VALUE!"}},{"$f":"Tabla13[[#This Row],[Importe IVA ]]","v":{"$error":"#VALUE!"}},{"$f":"Tabla13[[#This Row],[Importe de adjudicación (IVA INCLUIDO)]]","v":{"$error":"#VALUE!"}}]
[{"$nulls":18},{"$f":"Tabla13[[#This Row],[Título del contrato]]&Tabla13[[#This Row],[Nº Expediente de la plataforma de contratación]]","v":{"$error":"#VALUE!"}},{"$f":"Tabla13[[#This Row],[Nº Expediente de la plataforma de contratación]]","v":{"$error":"#VALUE!"}},{"$f":"Tabla13[[#This Row],[Importe IVA ]]","v":{"$error":"#VALUE!"}},{"$f":"Tabla13[[#This Row],[Importe de adjudicación (IVA INCLUIDO)]]","v":{"$error":"#VALUE!"}}]
[{"$nulls":18},{"$f":"Tabla13[[#This Row],[Título del contrato]]&Tabla13[[#This Row],[Nº Expediente de la plataforma de contratación]]","v":{"$error":"#VALUE!"}},{"$f":"Tabla13[[#This Row],[Nº Expediente de la plataforma de contratación]]","v":{"$error":"#VALUE!"}},{"$f":"Tabla13[[#This Row],[Importe IVA ]]","v":{"$error":"#VALUE!"}},{"$f":"Tabla13[[#This Row],[Importe de adjudicación (IVA INCLUIDO)]]","v":{"$error":"#VALUE!"}}]
[{"$nulls":18},{"$f":"Tabla13[[#This Row],[Título del contrato]]&Tabla13[[#This Row],[Nº Expediente de la plataforma de contratación]]","v":{"$error":"#VALUE!"}},{"$f":"Tabla13[[#This Row],[Nº Expediente de la plataforma de contratación]]","v":{"$error":"#VALUE!"}},{"$f":"Tabla13[[#This Row],[Importe IVA ]]","v":{"$error":"#VALUE!"}},{"$f":"Tabla13[[#This Row],[Importe de adjudicación (IVA INCLUIDO)]]","v":{"$error":"#VALUE!"}}]
[{"$nulls":18},{"$f":"Tabla13[[#This Row],[Título del contrato]]&Tabla13[[#This Row],[Nº Expediente de la plataforma de contratación]]","v":{"$error":"#VALUE!"}},{"$f":"Tabla13[[#This Row],[Nº Expediente de la plataforma de contratación]]","v":{"$error":"#VALUE!"}},{"$f":"Tabla13[[#This Row],[Importe IVA ]]","v":{"$error":"#VALUE!"}},{"$f":"Tabla13[[#This Row],[Importe de adjudicación (IVA INCLUIDO)]]","v":{"$error":"#VALUE!"}}]
[{"$nulls":18},{"$f":"Tabla13[[#This Row],[Título del contrato]]&Tabla13[[#This Row],[Nº Expediente de la plataforma de contratación]]","v":{"$error":"#VALUE!"}},{"$f":"Tabla13[[#This Row],[Nº Expediente de la plataforma de contratación]]","v":{"$error":"#VALUE!"}},{"$f":"Tabla13[[#This Row],[Importe IVA ]]","v":{"$error":"#VALUE!"}},{"$f":"Tabla13[[#This Row],[Importe de adjudicación (IVA INCLUIDO)]]","v":{"$error":"#VALUE!"}}]
[{"$nulls":18},{"$f":"Tabla13[[#This Row],[Título del contrato]]&Tabla13[[#This Row],[Nº Expediente de la plataforma de contratación]]","v":{"$error":"#VALUE!"}},{"$f":"Tabla13[[#This Row],[Nº Expediente de la plataforma de contratación]]","v":{"$error":"#VALUE!"}},{"$f":"Tabla13[[#This Row],[Importe IVA ]]","v":{"$error":"#VALUE!"}},{"$f":"Tabla13[[#This Row],[Importe de adjudicación (IVA INCLUIDO)]]","v":{"$error":"#VALUE!"}}]
[{"$nulls":18},{"$f":"Tabla13[[#This Row],[Título del contrato]]&Tabla13[[#This Row],[Nº Expediente de la plataforma de contratación]]","v":{"$error":"#VALUE!"}},{"$f":"Tabla13[[#This Row],[Nº Expediente de la plataforma de contratación]]","v":{"$error":"#VALUE!"}},{"$f":"Tabla13[[#This Row],[Importe IVA ]]","v":{"$error":"#VALUE!"}},{"$f":"Tabla13[[#This Row],[Importe de adjudicación (IVA INCLUIDO)]]","v":{"$error":"#VALUE!"}}]
[{"$nulls":18},{"$f":"Tabla13[[#This Row],[Título del contrato]]&Tabla13[[#This Row],[Nº Expediente de la plataforma de contratación]]","v":{"$error":"#VALUE!"}},{"$f":"Tabla13[[#This Row],[Nº Expediente de la plataforma de contratación]]","v":{"$error":"#VALUE!"}},{"$f":"Tabla13[[#This Row],[Importe IVA ]]","v":{"$error":"#VALUE!"}},{"$f":"Tabla13[[#This Row],[Importe de adjudicación (IVA INCLUIDO)]]","v":{"$error":"#VALUE!"}}]
[{"$nulls":18},{"$f":"Tabla13[[#This Row],[Título del contrato]]&Tabla13[[#This Row],[Nº Expediente de la plataforma de contratación]]","v":{"$error":"#VALUE!"}},{"$f":"Tabla13[[#This Row],[Nº Expediente de la plataforma de contratación]]","v":{"$error":"#VALUE!"}},{"$f":"Tabla13[[#This Row],[Importe IVA ]]","v":{"$error":"#VALUE!"}},{"$f":"Tabla13[[#This Row],[Importe de adjudicación (IVA INCLUIDO)]]","v":{"$error":"#VALUE!"}}]
[{"$nulls":18},{"$f":"Tabla13[[#This Row],[Título del contrato]]&Tabla13[[#This Row],[Nº Expediente de la plataforma de contratación]]","v":{"$error":"#VALUE!"}},{"$f":"Tabla13[[#This Row],[Nº Expediente de la plataforma de contratación]]","v":{"$error":"#VALUE!"}},{"$f":"Tabla13[[#This Row],[Importe IVA ]]","v":{"$error":"#VALUE!"}},{"$f":"Tabla13[[#This Row],[Importe de adjudicación (IVA INCLUIDO)]]","v":{"$error":"#VALUE!"}}]
[{"$nulls":18},{"$f":"Tabla13[[#This Row],[Título del contrato]]&Tabla13[[#This Row],[Nº Expediente de la plataforma de contratación]]","v":{"$error":"#VALUE!"}},{"$f":"Tabla13[[#This Row],[Nº Expediente de la plataforma de contratación]]","v":{"$error":"#VALUE!"}},{"$f":"Tabla13[[#This Row],[Importe IVA ]]","v":{"$error":"#VALUE!"}},{"$f":"Tabla13[[#This Row],[Importe de adjudicación (IVA INCLUIDO)]]","v":{"$error":"#VALUE!"}}]
[{"$nulls":18},{"$f":"Tabla13[[#This Row],[Título del contrato]]&Tabla13[[#This Row],[Nº Expediente de la plataforma de contratación]]","v":{"$error":"#VALUE!"}},{"$f":"Tabla13[[#This Row],[Nº Expediente de la plataforma de contratación]]","v":{"$error":"#VALUE!"}},{"$f":"Tabla13[[#This Row],[Importe IVA ]]","v":{"$error":"#VALUE!"}},{"$f":"Tabla13[[#This Row],[Importe de adjudicación (IVA INCLUIDO)]]","v":{"$error":"#VALUE!"}}]
[{"$nulls":18},{"$f":"Tabla13[[#This Row],[Título del contrato]]&Tabla13[[#This Row],[Nº Expediente de la plataforma de contratación]]","v":{"$error":"#VALUE!"}},{"$f":"Tabla13[[#This Row],[Nº Expediente de la plataforma de contratación]]","v":{"$error":"#VALUE!"}},{"$f":"Tabla13[[#This Row],[Importe IVA ]]","v":{"$error":"#VALUE!"}},{"$f":"Tabla13[[#This Row],[Importe de adjudicación (IVA INCLUIDO)]]","v":{"$error":"#VALUE!"}}]
[{"$nulls":18},{"$f":"Tabla13[[#This Row],[Título del contrato]]&Tabla13[[#This Row],[Nº Expediente de la plataforma de contratación]]","v":{"$error":"#VALUE!"}},{"$f":"Tabla13[[#This Row],[Nº Expediente de la plataforma de contratación]]","v":{"$error":"#VALUE!"}},{"$f":"Tabla13[[#This Row],[Importe IVA ]]","v":{"$error":"#VALUE!"}},{"$f":"Tabla13[[#This Row],[Importe de adjudicación (IVA INCLUIDO)]]","v":{"$error":"#VALUE!"}}]
[{"$nulls":18},{"$f":"Tabla13[[#This Row],[Título del contrato]]&Tabla13[[#This Row],[Nº Expediente de la plataforma de contratación]]","v":{"$error":"#VALUE!"}},{"$f":"Tabla13[[#This Row],[Nº Expediente de la plataforma de contratación]]","v":{"$error":"#VALUE!"}},{"$f":"Tabla13[[#This Row],[Importe IVA ]]","v":{"$error":"#VALUE!"}},{"$f":"Tabla13[[#This Row],[Importe de adjudicación (IVA INCLUIDO)]]","v":{"$error":"#VALUE!"}}]
[{"$nulls":18},{"$f":"Tabla13[[#This Row],[Título del contrato]]&Tabla13[[#This Row],[Nº Expediente de la plataforma de contratación]]","v":{"$error":"#VALUE!"}},{"$f":"Tabla13[[#This Row],[Nº Expediente de la plataforma de contratación]]","v":{"$error":"#VALUE!"}},{"$f":"Tabla13[[#This Row],[Importe IVA ]]","v":{"$error":"#VALUE!"}},{"$f":"Tabla13[[#This Row],[Importe de adjudicación (IVA INCLUIDO)]]","v":{"$error":"#VALUE!"}}]
[{"$nulls":18},{"$f":"Tabla13[[#This Row],[Título del contrato]]&Tabla13[[#This Row],[Nº Expediente de la plataforma de contratación]]","v":{"$error":"#VALUE!"}},{"$f":"Tabla13[[#This Row],[Nº Expediente de la plataforma de contratación]]","v":{"$error":"#VALUE!"}},{"$f":"Tabla13[[#This Row],[Importe IVA ]]","v":{"$error":"#VALUE!"}},{"$f":"Tabla13[[#This Row],[Importe de adjudicación (IVA INCLUIDO)]]","v":{"$error":"#VALUE!"}}]
[{"$nulls":18},{"$f":"Tabla13[[#This Row],[Título del contrato]]&Tabla13[[#This Row],[Nº Expediente de la plataforma de contratación]]","v":{"$error":"#VALUE!"}},{"$f":"Tabla13[[#This Row],[Nº Expediente de la plataforma de contratación]]","v":{"$error":"#VALUE!"}},{"$f":"Tabla13[[#This Row],[Importe IVA ]]","v":{"$error":"#VALUE!"}},{"$f":"Tabla13[[#This Row],[Importe de adjudicación (IVA INCLUIDO)]]","v":{"$error":"#VALUE!"}}]
[{"$nulls":18},{"$f":"Tabla13[[#This Row],[Título del contrato]]&Tabla13[[#This Row],[Nº Expediente de la plataforma de contratación]]","v":{"$error":"#VALUE!"}},{"$f":"Tabla13[[#This Row],[Nº Expediente de la plataforma de contratación]]","v":{"$error":"#VALUE!"}},{"$f":"Tabla13[[#This Row],[Importe IVA ]]","v":{"$error":"#VALUE!"}},{"$f":"Tabla13[[#This Row],[Importe de adjudicación (IVA INCLUIDO)]]","v":{"$error":"#VALUE!"}}]
[{"$nulls":18},{"$f":"Tabla13[[#This Row],[Título del contrato]]&Tabla13[[#This Row],[Nº Expediente de la plataforma de contratación]]","v":{"$error":"#VALUE!"}},{"$f":"Tabla13[[#This Row],[Nº Expediente de la plataforma de contratación]]","v":{"$error":"#VALUE!"}},{"$f":"Tabla13[[#This Row],[Importe IVA ]]","v":{"$error":"#VALUE!"}},{"$f":"Tabla13[[#This Row],[Importe de adjudicación (IVA INCLUIDO)]]","v":{"$error":"#VALUE!"}}]
[{"$nulls":18},{"$f":"Tabla13[[#This Row],[Título del contrato]]&Tabla13[[#This Row],[Nº Expediente de la plataforma de contratación]]","v":{"$error":"#VALUE!"}},{"$f":"Tabla13[[#This Row],[Nº Expediente de la plataforma de contratación]]","v":{"$error":"#VALUE!"}},{"$f":"Tabla13[[#This Row],[Importe IVA ]]","v":{"$error":"#VALUE!"}},{"$f":"Tabla13[[#This Row],[Importe de adjudicación (IVA INCLUIDO)]]","v":{"$error":"#VALUE!"}}]
[{"$nulls":18},{"$f":"Tabla13[[#This Row],[Título del contrato]]&Tabla13[[#This Row],[Nº Expediente de la plataforma de contratación]]","v":{"$error":"#VALUE!"}},{"$f":"Tabla13[[#This Row],[Nº Expediente de la plataforma de contratación]]","v":{"$error":"#VALUE!"}},{"$f":"Tabla13[[#This Row],[Importe IVA ]]","v":{"$error":"#VALUE!"}},{"$f":"Tabla13[[#This Row],[Importe de adjudicación (IVA INCLUIDO)]]","v":{"$error":"#VALUE!"}}]
[{"$nulls":18},{"$f":"Tabla13[[#This Row],[Título del contrato]]&Tabla13[[#This Row],[Nº Expediente de la plataforma de contratación]]","v":{"$error":"#VALUE!"}},{"$f":"Tabla13[[#This Row],[Nº Expediente de la plataforma de contratación]]","v":{"$error":"#VALUE!"}},{"$f":"Tabla13[[#This Row],[Importe IVA ]]","v":{"$error":"#VALUE!"}},{"$f":"Tabla13[[#This Row],[Importe de adjudicación (IVA INCLUIDO)]]","v":{"$error":"#VALUE!"}}]
[{"$nulls":18},{"$f":"Tabla13[[#This Row],[Título del contrato]]&Tabla13[[#This Row],[Nº Expediente de la plataforma de contratación]]","v":{"$error":"#VALUE!"}},{"$f":"Tabla13[[#This Row],[Nº Expediente de la plataforma de contratación]]","v":{"$error":"#VALUE!"}},{"$f":"Tabla13[[#This Row],[Importe IVA ]]","v":{"$error":"#VALUE!"}},{"$f":"Tabla13[[#This Row],[Importe de adjudicación (IVA INCLUIDO)]]","v":{"$error":"#VALUE!"}}]
[{"$nulls":18},{"$f":"Tabla13[[#This Row],[Título del contrato]]&Tabla13[[#This Row],[Nº Expediente de la plataforma de contratación]]","v":{"$error":"#VALUE!"}},{"$f":"Tabla13[[#This Row],[Nº Expediente de la plataforma de contratación]]","v":{"$error":"#VALUE!"}},{"$f":"Tabla13[[#This Row],[Importe IVA ]]","v":{"$error":"#VALUE!"}},{"$f":"Tabla13[[#This Row],[Importe de adjudicación (IVA INCLUIDO)]]","v":{"$error":"#VALUE!"}}]
[{"$nulls":18},{"$f":"Tabla13[[#This Row],[Título del contrato]]&Tabla13[[#This Row],[Nº Expediente de la plataforma de contratación]]","v":{"$error":"#VALUE!"}},{"$f":"Tabla13[[#This Row],[Nº Expediente de la plataforma de contratación]]","v":{"$error":"#VALUE!"}},{"$f":"Tabla13[[#This Row],[Importe IVA ]]","v":{"$error":"#VALUE!"}},{"$f":"Tabla13[[#This Row],[Importe de adjudicación (IVA INCLUIDO)]]","v":{"$error":"#VALUE!"}}]
[{"$nulls":18},{"$f":"Tabla13[[#This Row],[Título del contrato]]&Tabla13[[#This Row],[Nº Expediente de la plataforma de contratación]]","v":{"$error":"#VALUE!"}},{"$f":"Tabla13[[#This Row],[Nº Expediente de la plataforma de contratación]]","v":{"$error":"#VALUE!"}},{"$f":"Tabla13[[#This Row],[Importe IVA ]]","v":{"$error":"#VALUE!"}},{"$f":"Tabla13[[#This Row],[Importe de adjudicación (IVA INCLUIDO)]]","v":{"$error":"#VALUE!"}}]
[{"$nulls":18},{"$f":"Tabla13[[#This Row],[Título del contrato]]&Tabla13[[#This Row],[Nº Expediente de la plataforma de contratación]]","v":{"$error":"#VALUE!"}},{"$f":"Tabla13[[#This Row],[Nº Expediente de la plataforma de contratación]]","v":{"$error":"#VALUE!"}},{"$f":"Tabla13[[#This Row],[Importe IVA ]]","v":{"$error":"#VALUE!"}},{"$f":"Tabla13[[#This Row],[Importe de adjudicación (IVA INCLUIDO)]]","v":{"$error":"#VALUE!"}}]
[{"$nulls":18},{"$f":"Tabla13[[#This Row],[Título del contrato]]&Tabla13[[#This Row],[Nº Expediente de la plataforma de contratación]]","v":{"$error":"#VALUE!"}},{"$f":"Tabla13[[#This Row],[Nº Expediente de la plataforma de contratación]]","v":{"$error":"#VALUE!"}},{"$f":"Tabla13[[#This Row],[Importe IVA ]]","v":{"$error":"#VALUE!"}},{"$f":"Tabla13[[#This Row],[Importe de adjudicación (IVA INCLUIDO)]]","v":{"$error":"#VALUE!"}}]
[{"$nulls":18},{"$f":"Tabla13[[#This Row],[Título del contrato]]&Tabla13[[#This Row],[Nº Expediente de la plataforma de contratación]]","v":{"$error":"#VALUE!"}},{"$f":"Tabla13[[#This Row],[Nº Expediente de la plataforma de contratación]]","v":{"$error":"#VALUE!"}},{"$f":"Tabla13[[#This Row],[Importe IVA ]]","v":{"$error":"#VALUE!"}},{"$f":"Tabla13[[#This Row],[Importe de adjudicación (IVA INCLUIDO)]]","v":{"$error":"#VALUE!"}}]
[{"$nulls":18},{"$f":"Tabla13[[#This Row],[Título del contrato]]&Tabla13[[#This Row],[Nº Expediente de la plataforma de contratación]]","v":{"$error":"#VALUE!"}},{"$f":"Tabla13[[#This Row],[Nº Expediente de la plataforma de contratación]]","v":{"$error":"#VALUE!"}},{"$f":"Tabla13[[#This Row],[Importe IVA ]]","v":{"$error":"#VALUE!"}},{"$f":"Tabla13[[#This Row],[Importe de adjudicación (IVA INCLUIDO)]]","v":{"$error":"#VALUE!"}}]
[{"$nulls":18},{"$f":"Tabla13[[#This Row],[Título del contrato]]&Tabla13[[#This Row],[Nº Expediente de la plataforma de contratación]]","v":{"$error":"#VALUE!"}},{"$f":"Tabla13[[#This Row],[Nº Expediente de la plataforma de contratación]]","v":{"$error":"#VALUE!"}},{"$f":"Tabla13[[#This Row],[Importe IVA ]]","v":{"$error":"#VALUE!"}},{"$f":"Tabla13[[#This Row],[Importe de adjudicación (IVA INCLUIDO)]]","v":{"$error":"#VALUE!"}}]
[{"$nulls":18},{"$f":"Tabla13[[#This Row],[Título del contrato]]&Tabla13[[#This Row],[Nº Expediente de la plataforma de contratación]]","v":{"$error":"#VALUE!"}},{"$f":"Tabla13[[#This Row],[Nº Expediente de la plataforma de contratación]]","v":{"$error":"#VALUE!"}},{"$f":"Tabla13[[#This Row],[Importe IVA ]]","v":{"$error":"#VALUE!"}},{"$f":"Tabla13[[#This Row],[Importe de adjudicación (IVA INCLUIDO)]]","v":{"$error":"#VALUE!"}}]
[{"$nulls":18},{"$f":"Tabla13[[#This Row],[Título del contrato]]&Tabla13[[#This Row],[Nº Expediente de la plataforma de contratación]]","v":{"$error":"#VALUE!"}},{"$f":"Tabla13[[#This Row],[Nº Expediente de la plataforma de contratación]]","v":{"$error":"#VALUE!"}},{"$f":"Tabla13[[#This Row],[Importe IVA ]]","v":{"$error":"#VALUE!"}},{"$f":"Tabla13[[#This Row],[Importe de adjudicación (IVA INCLUIDO)]]","v":{"$error":"#VALUE!"}}]
[{"$nulls":18},{"$f":"Tabla13[[#This Row],[Título del contrato]]&Tabla13[[#This Row],[Nº Expediente de la plataforma de contratación]]","v":{"$error":"#VALUE!"}},{"$f":"Tabla13[[#This Row],[Nº Expediente de la plataforma de contratación]]","v":{"$error":"#VALUE!"}},{"$f":"Tabla13[[#This Row],[Importe IVA ]]","v":{"$error":"#VALUE!"}},{"$f":"Tabla13[[#This Row],[Importe de adjudicación (IVA INCLUIDO)]]","v":{"$error":"#VALUE!"}}]
[{"$nulls":18},{"$f":"Tabla13[[#This Row],[Título del contrato]]&Tabla13[[#This Row],[Nº Expediente de la plataforma de contratación]]","v":{"$error":"#VALUE!"}},{"$f":"Tabla13[[#This Row],[Nº Expediente de la plataforma de contratación]]","v":{"$error":"#VALUE!"}},{"$f":"Tabla13[[#This Row],[Importe IVA ]]","v":{"$error":"#VALUE!"}},{"$f":"Tabla13[[#This Row],[Importe de adjudicación (IVA INCLUIDO)]]","v":{"$error":"#VALUE!"}}]
[{"$nulls":18},{"$f":"Tabla13[[#This Row],[Título del contrato]]&Tabla13[[#This Row],[Nº Expediente de la plataforma de contratación]]","v":{"$error":"#VALUE!"}},{"$f":"Tabla13[[#This Row],[Nº Expediente de la plataforma de contratación]]","v":{"$error":"#VALUE!"}},{"$f":"Tabla13[[#This Row],[Importe IVA ]]","v":{"$error":"#VALUE!"}},{"$f":"Tabla13[[#This Row],[Importe de adjudicación (IVA INCLUIDO)]]","v":{"$error":"#VALUE!"}}]
[{"$nulls":18},{"$f":"Tabla13[[#This Row],[Título del contrato]]&Tabla13[[#This Row],[Nº Expediente de la plataforma de contratación]]","v":{"$error":"#VALUE!"}},{"$f":"Tabla13[[#This Row],[Nº Expediente de la plataforma de contratación]]","v":{"$error":"#VALUE!"}},{"$f":"Tabla13[[#This Row],[Importe IVA ]]","v":{"$error":"#VALUE!"}},{"$f":"Tabla13[[#This Row],[Importe de adjudicación (IVA INCLUIDO)]]","v":{"$error":"#VALUE!"}}]
[{"$nulls":18},{"$f":"Tabla13[[#This Row],[Título del contrato]]&Tabla13[[#This Row],[Nº Expediente de la plataforma de contratación]]","v":{"$error":"#VALUE!"}},{"$f":"Tabla13[[#This Row],[Nº Expediente de la plataforma de contratación]]","v":{"$error":"#VALUE!"}},{"$f":"Tabla13[[#This Row],[Importe IVA ]]","v":{"$error":"#VALUE!"}},{"$f":"Tabla13[[#This Row],[Importe de adjudicación (IVA INCLUIDO)]]","v":{"$error":"#VALUE!"}}]
[{"$nulls":18},{"$f":"Tabla13[[#This Row],[Título del contrato]]&Tabla13[[#This Row],[Nº Expediente de la plataforma de contratación]]","v":{"$error":"#VALUE!"}},{"$f":"Tabla13[[#This Row],[Nº Expediente de la plataforma de contratación]]","v":{"$error":"#VALUE!"}},{"$f":"Tabla13[[#This Row],[Importe IVA ]]","v":{"$error":"#VALUE!"}},{"$f":"Tabla13[[#This Row],[Importe de adjudicación (IVA INCLUIDO)]]","v":{"$error":"#VALUE!"}}]
[{"$nulls":18},{"$f":"Tabla13[[#This Row],[Título del contrato]]&Tabla13[[#This Row],[Nº Expediente de la plataforma de contratación]]","v":{"$error":"#VALUE!"}},{"$f":"Tabla13[[#This Row],[Nº Expediente de la plataforma de contratación]]","v":{"$error":"#VALUE!"}},{"$f":"Tabla13[[#This Row],[Importe IVA ]]","v":{"$error":"#VALUE!"}},{"$f":"Tabla13[[#This Row],[Importe de adjudicación (IVA INCLUIDO)]]","v":{"$error":"#VALUE!"}}]
[{"$nulls":18},{"$f":"Tabla13[[#This Row],[Título del contrato]]&Tabla13[[#This Row],[Nº Expediente de la plataforma de contratación]]","v":{"$error":"#VALUE!"}},{"$f":"Tabla13[[#This Row],[Nº Expediente de la plataforma de contratación]]","v":{"$error":"#VALUE!"}},{"$f":"Tabla13[[#This Row],[Importe IVA ]]","v":{"$error":"#VALUE!"}},{"$f":"Tabla13[[#This Row],[Importe de adjudicación (IVA INCLUIDO)]]","v":{"$error":"#VALUE!"}}]
[{"$nulls":18},{"$f":"Tabla13[[#This Row],[Título del contrato]]&Tabla13[[#This Row],[Nº Expediente de la plataforma de contratación]]","v":{"$error":"#VALUE!"}},{"$f":"Tabla13[[#This Row],[Nº Expediente de la plataforma de contratación]]","v":{"$error":"#VALUE!"}},{"$f":"Tabla13[[#This Row],[Importe IVA ]]","v":{"$error":"#VALUE!"}},{"$f":"Tabla13[[#This Row],[Importe de adjudicación (IVA INCLUIDO)]]","v":{"$error":"#VALUE!"}}]
[{"$nulls":18},{"$f":"Tabla13[[#This Row],[Título del contrato]]&Tabla13[[#This Row],[Nº Expediente de la plataforma de contratación]]","v":{"$error":"#VALUE!"}},{"$f":"Tabla13[[#This Row],[Nº Expediente de la plataforma de contratación]]","v":{"$error":"#VALUE!"}},{"$f":"Tabla13[[#This Row],[Importe IVA ]]","v":{"$error":"#VALUE!"}},{"$f":"Tabla13[[#This Row],[Importe de adjudicación (IVA INCLUIDO)]]","v":{"$error":"#VALUE!"}}]
[{"$nulls":18},{"$f":"Tabla13[[#This Row],[Título del contrato]]&Tabla13[[#This Row],[Nº Expediente de la plataforma de contratación]]","v":{"$error":"#VALUE!"}},{"$f":"Tabla13[[#This Row],[Nº Expediente de la plataforma de contratación]]","v":{"$error":"#VALUE!"}},{"$f":"Tabla13[[#This Row],[Importe IVA ]]","v":{"$error":"#VALUE!"}},{"$f":"Tabla13[[#This Row],[Importe de adjudicación (IVA INCLUIDO)]]","v":{"$error":"#VALUE!"}}]
[{"$nulls":18},{"$f":"Tabla13[[#This Row],[Título del contrato]]&Tabla13[[#This Row],[Nº Expediente de la plataforma de contratación]]","v":{"$error":"#VALUE!"}},{"$f":"Tabla13[[#This Row],[Nº Expediente de la plataforma de contratación]]","v":{"$error":"#VALUE!"}},{"$f":"Tabla13[[#This Row],[Importe IVA ]]","v":{"$error":"#VALUE!"}},{"$f":"Tabla13[[#This Row],[Importe de adjudicación (IVA INCLUIDO)]]","v":{"$error":"#VALUE!"}}]
[{"$nulls":18},{"$f":"Tabla13[[#This Row],[Título del contrato]]&Tabla13[[#This Row],[Nº Expediente de la plataforma de contratación]]","v":{"$error":"#VALUE!"}},{"$f":"Tabla13[[#This Row],[Nº Expediente de la plataforma de contratación]]","v":{"$error":"#VALUE!"}},{"$f":"Tabla13[[#This Row],[Importe IVA ]]","v":{"$error":"#VALUE!"}},{"$f":"Tabla13[[#This Row],[Importe de adjudicación (IVA INCLUIDO)]]","v":{"$error":"#VALUE!"}}]
[{"$nulls":18},{"$f":"Tabla13[[#This Row],[Título del contrato]]&Tabla13[[#This Row],[Nº Expediente de la plataforma de contratación]]","v":{"$error":"#VALUE!"}},{"$f":"Tabla13[[#This Row],[Nº Expediente de la plataforma de contratación]]","v":{"$error":"#VALUE!"}},{"$f":"Tabla13[[#This Row],[Importe IVA ]]","v":{"$error":"#VALUE!"}},{"$f":"Tabla13[[#This Row],[Importe de adjudicación (IVA INCLUIDO)]]","v":{"$error":"#VALUE!"}}]
[{"$nulls":18},{"$f":"Tabla13[[#This Row],[Título del contrato]]&Tabla13[[#This Row],[Nº Expediente de la plataforma de contratación]]","v":{"$error":"#VALUE!"}},{"$f":"Tabla13[[#This Row],[Nº Expediente de la plataforma de contratación]]","v":{"$error":"#VALUE!"}},{"$f":"Tabla13[[#This Row],[Importe IVA ]]","v":{"$error":"#VALUE!"}},{"$f":"Tabla13[[#This Row],[Importe de adjudicación (IVA INCLUIDO)]]","v":{"$error":"#VALUE!"}}]
[{"$nulls":18},{"$f":"Tabla13[[#This Row],[Título del contrato]]&Tabla13[[#This Row],[Nº Expediente de la plataforma de contratación]]","v":{"$error":"#VALUE!"}},{"$f":"Tabla13[[#This Row],[Nº Expediente de la plataforma de contratación]]","v":{"$error":"#VALUE!"}},{"$f":"Tabla13[[#This Row],[Importe IVA ]]","v":{"$error":"#VALUE!"}},{"$f":"Tabla13[[#This Row],[Importe de adjudicación (IVA INCLUIDO)]]","v":{"$error":"#VALUE!"}}]
[{"$nulls":18},{"$f":"Tabla13[[#This Row],[Título del contrato]]&Tabla13[[#This Row],[Nº Expediente de la plataforma de contratación]]","v":{"$error":"#VALUE!"}},{"$f":"Tabla13[[#This Row],[Nº Expediente de la plataforma de contratación]]","v":{"$error":"#VALUE!"}},{"$f":"Tabla13[[#This Row],[Importe IVA ]]","v":{"$error":"#VALUE!"}},{"$f":"Tabla13[[#This Row],[Importe de adjudicación (IVA INCLUIDO)]]","v":{"$error":"#VALUE!"}}]
[{"$nulls":18},{"$f":"Tabla13[[#This Row],[Título del contrato]]&Tabla13[[#This Row],[Nº Expediente de la plataforma de contratación]]","v":{"$error":"#VALUE!"}},{"$f":"Tabla13[[#This Row],[Nº Expediente de la plataforma de contratación]]","v":{"$error":"#VALUE!"}},{"$f":"Tabla13[[#This Row],[Importe IVA ]]","v":{"$error":"#VALUE!"}},{"$f":"Tabla13[[#This Row],[Importe de adjudicación (IVA INCLUIDO)]]","v":{"$error":"#VALUE!"}}]
[{"$nulls":18},{"$f":"Tabla13[[#This Row],[Título del contrato]]&Tabla13[[#This Row],[Nº Expediente de la plataforma de contratación]]","v":{"$error":"#VALUE!"}},{"$f":"Tabla13[[#This Row],[Nº Expediente de la plataforma de contratación]]","v":{"$error":"#VALUE!"}},{"$f":"Tabla13[[#This Row],[Importe IVA ]]","v":{"$error":"#VALUE!"}},{"$f":"Tabla13[[#This Row],[Importe de adjudicación (IVA INCLUIDO)]]","v":{"$error":"#VALUE!"}}]
[{"$nulls":18},{"$f":"Tabla13[[#This Row],[Título del contrato]]&Tabla13[[#This Row],[Nº Expediente de la plataforma de contratación]]","v":{"$error":"#VALUE!"}},{"$f":"Tabla13[[#This Row],[Nº Expediente de la plataforma de contratación]]","v":{"$error":"#VALUE!"}},{"$f":"Tabla13[[#This Row],[Importe IVA ]]","v":{"$error":"#VALUE!"}},{"$f":"Tabla13[[#This Row],[Importe de adjudicación (IVA INCLUIDO)]]","v":{"$error":"#VALUE!"}}]
[{"$nulls":18},{"$f":"Tabla13[[#This Row],[Título del contrato]]&Tabla13[[#This Row],[Nº Expediente de la plataforma de contratación]]","v":{"$error":"#VALUE!"}},{"$f":"Tabla13[[#This Row],[Nº Expediente de la plataforma de contratación]]","v":{"$error":"#VALUE!"}},{"$f":"Tabla13[[#This Row],[Importe IVA ]]","v":{"$error":"#VALUE!"}},{"$f":"Tabla13[[#This Row],[Importe de adjudicación (IVA INCLUIDO)]]","v":{"$error":"#VALUE!"}}]
[{"$nulls":18},{"$f":"Tabla13[[#This Row],[Título del contrato]]&Tabla13[[#This Row],[Nº Expediente de la plataforma de contratación]]","v":{"$error":"#VALUE!"}},{"$f":"Tabla13[[#This Row],[Nº Expediente de la plataforma de contratación]]","v":{"$error":"#VALUE!"}},{"$f":"Tabla13[[#This Row],[Importe IVA ]]","v":{"$error":"#VALUE!"}},{"$f":"Tabla13[[#This Row],[Importe de adjudicación (IVA INCLUIDO)]]","v":{"$error":"#VALUE!"}}]
[{"$nulls":18},{"$f":"Tabla13[[#This Row],[Título del contrato]]&Tabla13[[#This Row],[Nº Expediente de la plataforma de contratación]]","v":{"$error":"#VALUE!"}},{"$f":"Tabla13[[#This Row],[Nº Expediente de la plataforma de contratación]]","v":{"$error":"#VALUE!"}},{"$f":"Tabla13[[#This Row],[Importe IVA ]]","v":{"$error":"#VALUE!"}},{"$f":"Tabla13[[#This Row],[Importe de adjudicación (IVA INCLUIDO)]]","v":{"$error":"#VALUE!"}}]
[{"$nulls":18},{"$f":"Tabla13[[#This Row],[Título del contrato]]&Tabla13[[#This Row],[Nº Expediente de la plataforma de contratación]]","v":{"$error":"#VALUE!"}},{"$f":"Tabla13[[#This Row],[Nº Expediente de la plataforma de contratación]]","v":{"$error":"#VALUE!"}},{"$f":"Tabla13[[#This Row],[Importe IVA ]]","v":{"$error":"#VALUE!"}},{"$f":"Tabla13[[#This Row],[Importe de adjudicación (IVA INCLUIDO)]]","v":{"$error":"#VALUE!"}}]
[{"$nulls":18},{"$f":"Tabla13[[#This Row],[Título del contrato]]&Tabla13[[#This Row],[Nº Expediente de la plataforma de contratación]]","v":{"$error":"#VALUE!"}},{"$f":"Tabla13[[#This Row],[Nº Expediente de la plataforma de contratación]]","v":{"$error":"#VALUE!"}},{"$f":"Tabla13[[#This Row],[Importe IVA ]]","v":{"$error":"#VALUE!"}},{"$f":"Tabla13[[#This Row],[Importe de adjudicación (IVA INCLUIDO)]]","v":{"$error":"#VALUE!"}}]
[{"$nulls":18},{"$f":"Tabla13[[#This Row],[Título del contrato]]&Tabla13[[#This Row],[Nº Expediente de la plataforma de contratación]]","v":{"$error":"#VALUE!"}},{"$f":"Tabla13[[#This Row],[Nº Expediente de la plataforma de contratación]]","v":{"$error":"#VALUE!"}},{"$f":"Tabla13[[#This Row],[Importe IVA ]]","v":{"$error":"#VALUE!"}},{"$f":"Tabla13[[#This Row],[Importe de adjudicación (IVA INCLUIDO)]]","v":{"$error":"#VALUE!"}}]
[{"$nulls":18},{"$f":"Tabla13[[#This Row],[Título del contrato]]&Tabla13[[#This Row],[Nº Expediente de la plataforma de contratación]]","v":{"$error":"#VALUE!"}},{"$f":"Tabla13[[#This Row],[Nº Expediente de la plataforma de contratación]]","v":{"$error":"#VALUE!"}},{"$f":"Tabla13[[#This Row],[Importe IVA ]]","v":{"$error":"#VALUE!"}},{"$f":"Tabla13[[#This Row],[Importe de adjudicación (IVA INCLUIDO)]]","v":{"$error":"#VALUE!"}}]
[{"$nulls":18},{"$f":"Tabla13[[#This Row],[Título del contrato]]&Tabla13[[#This Row],[Nº Expediente de la plataforma de contratación]]","v":{"$error":"#VALUE!"}},{"$f":"Tabla13[[#This Row],[Nº Expediente de la plataforma de contratación]]","v":{"$error":"#VALUE!"}},{"$f":"Tabla13[[#This Row],[Importe IVA ]]","v":{"$error":"#VALUE!"}},{"$f":"Tabla13[[#This Row],[Importe de adjudicación (IVA INCLUIDO)]]","v":{"$error":"#VALUE!"}}]
[{"$nulls":18},{"$f":"Tabla13[[#This Row],[Título del contrato]]&Tabla13[[#This Row],[Nº Expediente de la plataforma de contratación]]","v":{"$error":"#VALUE!"}},{"$f":"Tabla13[[#This Row],[Nº Expediente de la plataforma de contratación]]","v":{"$error":"#VALUE!"}},{"$f":"Tabla13[[#This Row],[Importe IVA ]]","v":{"$error":"#VALUE!"}},{"$f":"Tabla13[[#This Row],[Importe de adjudicación (IVA INCLUIDO)]]","v":{"$error":"#VALUE!"}}]
[{"$nulls":18},{"$f":"Tabla13[[#This Row],[Título del contrato]]&Tabla13[[#This Row],[Nº Expediente de la plataforma de contratación]]","v":{"$error":"#VALUE!"}},{"$f":"Tabla13[[#This Row],[Nº Expediente de la plataforma de contratación]]","v":{"$error":"#VALUE!"}},{"$f":"Tabla13[[#This Row],[Importe IVA ]]","v":{"$error":"#VALUE!"}},{"$f":"Tabla13[[#This Row],[Importe de adjudicación (IVA INCLUIDO)]]","v":{"$error":"#VALUE!"}}]
[{"$nulls":18},{"$f":"Tabla13[[#This Row],[Título del contrato]]&Tabla13[[#This Row],[Nº Expediente de la plataforma de contratación]]","v":{"$error":"#VALUE!"}},{"$f":"Tabla13[[#This Row],[Nº Expediente de la plataforma de contratación]]","v":{"$error":"#VALUE!"}},{"$f":"Tabla13[[#This Row],[Importe IVA ]]","v":{"$error":"#VALUE!"}},{"$f":"Tabla13[[#This Row],[Importe de adjudicación (IVA INCLUIDO)]]","v":{"$error":"#VALUE!"}}]
[{"$nulls":18},{"$f":"Tabla13[[#This Row],[Título del contrato]]&Tabla13[[#This Row],[Nº Expediente de la plataforma de contratación]]","v":{"$error":"#VALUE!"}},{"$f":"Tabla13[[#This Row],[Nº Expediente de la plataforma de contratación]]","v":{"$error":"#VALUE!"}},{"$f":"Tabla13[[#This Row],[Importe IVA ]]","v":{"$error":"#VALUE!"}},{"$f":"Tabla13[[#This Row],[Importe de adjudicación (IVA INCLUIDO)]]","v":{"$error":"#VALUE!"}}]
[{"$nulls":18},{"$f":"Tabla13[[#This Row],[Título del contrato]]&Tabla13[[#This Row],[Nº Expediente de la plataforma de contratación]]","v":{"$error":"#VALUE!"}},{"$f":"Tabla13[[#This Row],[Nº Expediente de la plataforma de contratación]]","v":{"$error":"#VALUE!"}},{"$f":"Tabla13[[#This Row],[Importe IVA ]]","v":{"$error":"#VALUE!"}},{"$f":"Tabla13[[#This Row],[Importe de adjudicación (IVA INCLUIDO)]]","v":{"$error":"#VALUE!"}}]
[{"$nulls":18},{"$f":"Tabla13[[#This Row],[Título del contrato]]&Tabla13[[#This Row],[Nº Expediente de la plataforma de contratación]]","v":{"$error":"#VALUE!"}},{"$f":"Tabla13[[#This Row],[Nº Expediente de la plataforma de contratación]]","v":{"$error":"#VALUE!"}},{"$f":"Tabla13[[#This Row],[Importe IVA ]]","v":{"$error":"#VALUE!"}},{"$f":"Tabla13[[#This Row],[Importe de adjudicación (IVA INCLUIDO)]]","v":{"$error":"#VALUE!"}}]
[{"$nulls":18},{"$f":"Tabla13[[#This Row],[Título del contrato]]&Tabla13[[#This Row],[Nº Expediente de la plataforma de contratación]]","v":{"$error":"#VALUE!"}},{"$f":"Tabla13[[#This Row],[Nº Expediente de la plataforma de contratación]]","v":{"$error":"#VALUE!"}},{"$f":"Tabla13[[#This Row],[Importe IVA ]]","v":{"$error":"#VALUE!"}},{"$f":"Tabla13[[#This Row],[Importe de adjudicación (IVA INCLUIDO)]]","v":{"$error":"#VALUE!"}}]
[{"$nulls":18},{"$f":"Tabla13[[#This Row],[Título del contrato]]&Tabla13[[#This Row],[Nº Expediente de la plataforma de contratación]]","v":{"$error":"#VALUE!"}},{"$f":"Tabla13[[#This Row],[Nº Expediente de la plataforma de contratación]]","v":{"$error":"#VALUE!"}},{"$f":"Tabla13[[#This Row],[Importe IVA ]]","v":{"$error":"#VALUE!"}},{"$f":"Tabla13[[#This Row],[Importe de adjudicación (IVA INCLUIDO)]]","v":{"$error":"#VALUE!"}}]
[{"$nulls":18},{"$f":"Tabla13[[#This Row],[Título del contrato]]&Tabla13[[#This Row],[Nº Expediente de la plataforma de contratación]]","v":{"$error":"#VALUE!"}},{"$f":"Tabla13[[#This Row],[Nº Expediente de la plataforma de contratación]]","v":{"$error":"#VALUE!"}},{"$f":"Tabla13[[#This Row],[Importe IVA ]]","v":{"$error":"#VALUE!"}},{"$f":"Tabla13[[#This Row],[Importe de adjudicación (IVA INCLUIDO)]]","v":{"$error":"#VALUE!"}}]
[{"$nulls":18},{"$f":"Tabla13[[#This Row],[Título del contrato]]&Tabla13[[#This Row],[Nº Expediente de la plataforma de contratación]]","v":{"$error":"#VALUE!"}},{"$f":"Tabla13[[#This Row],[Nº Expediente de la plataforma de contratación]]","v":{"$error":"#VALUE!"}},{"$f":"Tabla13[[#This Row],[Importe IVA ]]","v":{"$error":"#VALUE!"}},{"$f":"Tabla13[[#This Row],[Importe de adjudicación (IVA INCLUIDO)]]","v":{"$error":"#VALUE!"}}]
[{"$nulls":18},{"$f":"Tabla13[[#This Row],[Título del contrato]]&Tabla13[[#This Row],[Nº Expediente de la plataforma de contratación]]","v":{"$error":"#VALUE!"}},{"$f":"Tabla13[[#This Row],[Nº Expediente de la plataforma de contratación]]","v":{"$error":"#VALUE!"}},{"$f":"Tabla13[[#This Row],[Importe IVA ]]","v":{"$error":"#VALUE!"}},{"$f":"Tabla13[[#This Row],[Importe de adjudicación (IVA INCLUIDO)]]","v":{"$error":"#VALUE!"}}]
[{"$nulls":18},{"$f":"Tabla13[[#This Row],[Título del contrato]]&Tabla13[[#This Row],[Nº Expediente de la plataforma de contratación]]","v":{"$error":"#VALUE!"}},{"$f":"Tabla13[[#This Row],[Nº Expediente de la plataforma de contratación]]","v":{"$error":"#VALUE!"}},{"$f":"Tabla13[[#This Row],[Importe IVA ]]","v":{"$error":"#VALUE!"}},{"$f":"Tabla13[[#This Row],[Importe de adjudicación (IVA INCLUIDO)]]","v":{"$error":"#VALUE!"}}]
[{"$nulls":18},{"$f":"Tabla13[[#This Row],[Título del contrato]]&Tabla13[[#This Row],[Nº Expediente de la plataforma de contratación]]","v":{"$error":"#VALUE!"}},{"$f":"Tabla13[[#This Row],[Nº Expediente de la plataforma de contratación]]","v":{"$error":"#VALUE!"}},{"$f":"Tabla13[[#This Row],[Importe IVA ]]","v":{"$error":"#VALUE!"}},{"$f":"Tabla13[[#This Row],[Importe de adjudicación (IVA INCLUIDO)]]","v":{"$error":"#VALUE!"}}]
[{"$nulls":18},{"$f":"Tabla13[[#This Row],[Título del contrato]]&Tabla13[[#This Row],[Nº Expediente de la plataforma de contratación]]","v":{"$error":"#VALUE!"}},{"$f":"Tabla13[[#This Row],[Nº Expediente de la plataforma de contratación]]","v":{"$error":"#VALUE!"}},{"$f":"Tabla13[[#This Row],[Importe IVA ]]","v":{"$error":"#VALUE!"}},{"$f":"Tabla13[[#This Row],[Importe de adjudicación (IVA INCLUIDO)]]","v":{"$error":"#VALUE!"}}]
[{"$nulls":18},{"$f":"Tabla13[[#This Row],[Título del contrato]]&Tabla13[[#This Row],[Nº Expediente de la plataforma de contratación]]","v":{"$error":"#VALUE!"}},{"$f":"Tabla13[[#This Row],[Nº Expediente de la plataforma de contratación]]","v":{"$error":"#VALUE!"}},{"$f":"Tabla13[[#This Row],[Importe IVA ]]","v":{"$error":"#VALUE!"}},{"$f":"Tabla13[[#This Row],[Importe de adjudicación (IVA INCLUIDO)]]","v":{"$error":"#VALUE!"}}]
[{"$nulls":18},{"$f":"Tabla13[[#This Row],[Título del contrato]]&Tabla13[[#This Row],[Nº Expediente de la plataforma de contratación]]","v":{"$error":"#VALUE!"}},{"$f":"Tabla13[[#This Row],[Nº Expediente de la plataforma de contratación]]","v":{"$error":"#VALUE!"}},{"$f":"Tabla13[[#This Row],[Importe IVA ]]","v":{"$error":"#VALUE!"}},{"$f":"Tabla13[[#This Row],[Importe de adjudicación (IVA INCLUIDO)]]","v":{"$error":"#VALUE!"}}]
[{"$nulls":18},{"$f":"Tabla13[[#This Row],[Título del contrato]]&Tabla13[[#This Row],[Nº Expediente de la plataforma de contratación]]","v":{"$error":"#VALUE!"}},{"$f":"Tabla13[[#This Row],[Nº Expediente de la plataforma de contratación]]","v":{"$error":"#VALUE!"}},{"$f":"Tabla13[[#This Row],[Importe IVA ]]","v":{"$error":"#VALUE!"}},{"$f":"Tabla13[[#This Row],[Importe de adjudicación (IVA INCLUIDO)]]","v":{"$error":"#VALUE!"}}]
[{"$nulls":18},{"$f":"Tabla13[[#This Row],[Título del contrato]]&Tabla13[[#This Row],[Nº Expediente de la plataforma de contratación]]","v":{"$error":"#VALUE!"}},{"$f":"Tabla13[[#This Row],[Nº Expediente de la plataforma de contratación]]","v":{"$error":"#VALUE!"}},{"$f":"Tabla13[[#This Row],[Importe IVA ]]","v":{"$error":"#VALUE!"}},{"$f":"Tabla13[[#This Row],[Importe de adjudicación (IVA INCLUIDO)]]","v":{"$error":"#VALUE!"}}]
[{"$nulls":18},{"$f":"Tabla13[[#This Row],[Título del contrato]]&Tabla13[[#This Row],[Nº Expediente de la plataforma de contratación]]","v":{"$error":"#VALUE!"}},{"$f":"Tabla13[[#This Row],[Nº Expediente de la plataforma de contratación]]","v":{"$error":"#VALUE!"}},{"$f":"Tabla13[[#This Row],[Importe IVA ]]","v":{"$error":"#VALUE!"}},{"$f":"Tabla13[[#This Row],[Importe de adjudicación (IVA INCLUIDO)]]","v":{"$error":"#VALUE!"}}]
[{"$nulls":18},{"$f":"Tabla13[[#This Row],[Título del contrato]]&Tabla13[[#This Row],[Nº Expediente de la plataforma de contratación]]","v":{"$error":"#VALUE!"}},{"$f":"Tabla13[[#This Row],[Nº Expediente de la plataforma de contratación]]","v":{"$error":"#VALUE!"}},{"$f":"Tabla13[[#This Row],[Importe IVA ]]","v":{"$error":"#VALUE!"}},{"$f":"Tabla13[[#This Row],[Importe de adjudicación (IVA INCLUIDO)]]","v":{"$error":"#VALUE!"}}]
[{"$nulls":18},{"$f":"Tabla13[[#This Row],[Título del contrato]]&Tabla13[[#This Row],[Nº Expediente de la plataforma de contratación]]","v":{"$error":"#VALUE!"}},{"$f":"Tabla13[[#This Row],[Nº Expediente de la plataforma de contratación]]","v":{"$error":"#VALUE!"}},{"$f":"Tabla13[[#This Row],[Importe IVA ]]","v":{"$error":"#VALUE!"}},{"$f":"Tabla13[[#This Row],[Importe de adjudicación (IVA INCLUIDO)]]","v":{"$error":"#VALUE!"}}]
[{"$nulls":18},{"$f":"Tabla13[[#This Row],[Título del contrato]]&Tabla13[[#This Row],[Nº Expediente de la plataforma de contratación]]","v":{"$error":"#VALUE!"}},{"$f":"Tabla13[[#This Row],[Nº Expediente de la plataforma de contratación]]","v":{"$error":"#VALUE!"}},{"$f":"Tabla13[[#This Row],[Importe IVA ]]","v":{"$error":"#VALUE!"}},{"$f":"Tabla13[[#This Row],[Importe de adjudicación (IVA INCLUIDO)]]","v":{"$error":"#VALUE!"}}]
[{"$nulls":18},{"$f":"Tabla13[[#This Row],[Título del contrato]]&Tabla13[[#This Row],[Nº Expediente de la plataforma de contratación]]","v":{"$error":"#VALUE!"}},{"$f":"Tabla13[[#This Row],[Nº Expediente de la plataforma de contratación]]","v":{"$error":"#VALUE!"}},{"$f":"Tabla13[[#This Row],[Importe IVA ]]","v":{"$error":"#VALUE!"}},{"$f":"Tabla13[[#This Row],[Importe de adjudicación (IVA INCLUIDO)]]","v":{"$error":"#VALUE!"}}]
[{"$nulls":18},{"$f":"Tabla13[[#This Row],[Título del contrato]]&Tabla13[[#This Row],[Nº Expediente de la plataforma de contratación]]","v":{"$error":"#VALUE!"}},{"$f":"Tabla13[[#This Row],[Nº Expediente de la plataforma de contratación]]","v":{"$error":"#VALUE!"}},{"$f":"Tabla13[[#This Row],[Importe IVA ]]","v":{"$error":"#VALUE!"}},{"$f":"Tabla13[[#This Row],[Importe de adjudicación (IVA INCLUIDO)]]","v":{"$error":"#VALUE!"}}]
[{"$nulls":18},{"$f":"Tabla13[[#This Row],[Título del contrato]]&Tabla13[[#This Row],[Nº Expediente de la plataforma de contratación]]","v":{"$error":"#VALUE!"}},{"$f":"Tabla13[[#This Row],[Nº Expediente de la plataforma de contratación]]","v":{"$error":"#VALUE!"}},{"$f":"Tabla13[[#This Row],[Importe IVA ]]","v":{"$error":"#VALUE!"}},{"$f":"Tabla13[[#This Row],[Importe de adjudicación (IVA INCLUIDO)]]","v":{"$error":"#VALUE!"}}]
[{"$nulls":18},{"$f":"Tabla13[[#This Row],[Título del contrato]]&Tabla13[[#This Row],[Nº Expediente de la plataforma de contratación]]","v":{"$error":"#VALUE!"}},{"$f":"Tabla13[[#This Row],[Nº Expediente de la plataforma de contratación]]","v":{"$error":"#VALUE!"}},{"$f":"Tabla13[[#This Row],[Importe IVA ]]","v":{"$error":"#VALUE!"}},{"$f":"Tabla13[[#This Row],[Importe de adjudicación (IVA INCLUIDO)]]","v":{"$error":"#VALUE!"}}]
[{"$nulls":18},{"$f":"Tabla13[[#This Row],[Título del contrato]]&Tabla13[[#This Row],[Nº Expediente de la plataforma de contratación]]","v":{"$error":"#VALUE!"}},{"$f":"Tabla13[[#This Row],[Nº Expediente de la plataforma de contratación]]","v":{"$error":"#VALUE!"}},{"$f":"Tabla13[[#This Row],[Importe IVA ]]","v":{"$error":"#VALUE!"}},{"$f":"Tabla13[[#This Row],[Importe de adjudicación (IVA INCLUIDO)]]","v":{"$error":"#VALUE!"}}]
[{"$nulls":18},{"$f":"Tabla13[[#This Row],[Título del contrato]]&Tabla13[[#This Row],[Nº Expediente de la plataforma de contratación]]","v":{"$error":"#VALUE!"}},{"$f":"Tabla13[[#This Row],[Nº Expediente de la plataforma de contratación]]","v":{"$error":"#VALUE!"}},{"$f":"Tabla13[[#This Row],[Importe IVA ]]","v":{"$error":"#VALUE!"}},{"$f":"Tabla13[[#This Row],[Importe de adjudicación (IVA INCLUIDO)]]","v":{"$error":"#VALUE!"}}]
[{"$nulls":18},{"$f":"Tabla13[[#This Row],[Título del contrato]]&Tabla13[[#This Row],[Nº Expediente de la plataforma de contratación]]","v":{"$error":"#VALUE!"}},{"$f":"Tabla13[[#This Row],[Nº Expediente de la plataforma de contratación]]","v":{"$error":"#VALUE!"}},{"$f":"Tabla13[[#This Row],[Importe IVA ]]","v":{"$error":"#VALUE!"}},{"$f":"Tabla13[[#This Row],[Importe de adjudicación (IVA INCLUIDO)]]","v":{"$error":"#VALUE!"}}]
[{"$nulls":18},{"$f":"Tabla13[[#This Row],[Título del contrato]]&Tabla13[[#This Row],[Nº Expediente de la plataforma de contratación]]","v":{"$error":"#VALUE!"}},{"$f":"Tabla13[[#This Row],[Nº Expediente de la plataforma de contratación]]","v":{"$error":"#VALUE!"}},{"$f":"Tabla13[[#This Row],[Importe IVA ]]","v":{"$error":"#VALUE!"}},{"$f":"Tabla13[[#This Row],[Importe de adjudicación (IVA INCLUIDO)]]","v":{"$error":"#VALUE!"}}]
[{"$nulls":18},{"$f":"Tabla13[[#This Row],[Título del contrato]]&Tabla13[[#This Row],[Nº Expediente de la plataforma de contratación]]","v":{"$error":"#VALUE!"}},{"$f":"Tabla13[[#This Row],[Nº Expediente de la plataforma de contratación]]","v":{"$error":"#VALUE!"}},{"$f":"Tabla13[[#This Row],[Importe IVA ]]","v":{"$error":"#VALUE!"}},{"$f":"Tabla13[[#This Row],[Importe de adjudicación (IVA INCLUIDO)]]","v":{"$error":"#VALUE!"}}]
[{"$nulls":18},{"$f":"Tabla13[[#This Row],[Título del contrato]]&Tabla13[[#This Row],[Nº Expediente de la plataforma de contratación]]","v":{"$error":"#VALUE!"}},{"$f":"Tabla13[[#This Row],[Nº Expediente de la plataforma de contratación]]","v":{"$error":"#VALUE!"}},{"$f":"Tabla13[[#This Row],[Importe IVA ]]","v":{"$error":"#VALUE!"}},{"$f":"Tabla13[[#This Row],[Importe de adjudicación (IVA INCLUIDO)]]","v":{"$error":"#VALUE!"}}]
[{"$nulls":18},{"$f":"Tabla13[[#This Row],[Título del contrato]]&Tabla13[[#This Row],[Nº Expediente de la plataforma de contratación]]","v":{"$error":"#VALUE!"}},{"$f":"Tabla13[[#This Row],[Nº Expediente de la plataforma de contratación]]","v":{"$error":"#VALUE!"}},{"$f":"Tabla13[[#This Row],[Importe IVA ]]","v":{"$error":"#VALUE!"}},{"$f":"Tabla13[[#This Row],[Importe de adjudicación (IVA INCLUIDO)]]","v":{"$error":"#VALUE!"}}]
[{"$nulls":18},{"$f":"Tabla13[[#This Row],[Título del contrato]]&Tabla13[[#This Row],[Nº Expediente de la plataforma de contratación]]","v":{"$error":"#VALUE!"}},{"$f":"Tabla13[[#This Row],[Nº Expediente de la plataforma de contratación]]","v":{"$error":"#VALUE!"}},{"$f":"Tabla13[[#This Row],[Importe IVA ]]","v":{"$error":"#VALUE!"}},{"$f":"Tabla13[[#This Row],[Importe de adjudicación (IVA INCLUIDO)]]","v":{"$error":"#VALUE!"}}]
[{"$nulls":18},{"$f":"Tabla13[[#This Row],[Título del contrato]]&Tabla13[[#This Row],[Nº Expediente de la plataforma de contratación]]","v":{"$error":"#VALUE!"}},{"$f":"Tabla13[[#This Row],[Nº Expediente de la plataforma de contratación]]","v":{"$error":"#VALUE!"}},{"$f":"Tabla13[[#This Row],[Importe IVA ]]","v":{"$error":"#VALUE!"}},{"$f":"Tabla13[[#This Row],[Importe de adjudicación (IVA INCLUIDO)]]","v":{"$error":"#VALUE!"}}]
[{"$nulls":18},{"$f":"Tabla13[[#This Row],[Título del contrato]]&Tabla13[[#This Row],[Nº Expediente de la plataforma de contratación]]","v":{"$error":"#VALUE!"}},{"$f":"Tabla13[[#This Row],[Nº Expediente de la plataforma de contratación]]","v":{"$error":"#VALUE!"}},{"$f":"Tabla13[[#This Row],[Importe IVA ]]","v":{"$error":"#VALUE!"}},{"$f":"Tabla13[[#This Row],[Importe de adjudicación (IVA INCLUIDO)]]","v":{"$error":"#VALUE!"}}]
[{"$nulls":18},{"$f":"Tabla13[[#This Row],[Título del contrato]]&Tabla13[[#This Row],[Nº Expediente de la plataforma de contratación]]","v":{"$error":"#VALUE!"}},{"$f":"Tabla13[[#This Row],[Nº Expediente de la plataforma de contratación]]","v":{"$error":"#VALUE!"}},{"$f":"Tabla13[[#This Row],[Importe IVA ]]","v":{"$error":"#VALUE!"}},{"$f":"Tabla13[[#This Row],[Importe de adjudicación (IVA INCLUIDO)]]","v":{"$error":"#VALUE!"}}]
[{"$nulls":18},{"$f":"Tabla13[[#This Row],[Título del contrato]]&Tabla13[[#This Row],[Nº Expediente de la plataforma de contratación]]","v":{"$error":"#VALUE!"}},{"$f":"Tabla13[[#This Row],[Nº Expediente de la plataforma de contratación]]","v":{"$error":"#VALUE!"}},{"$f":"Tabla13[[#This Row],[Importe IVA ]]","v":{"$error":"#VALUE!"}},{"$f":"Tabla13[[#This Row],[Importe de adjudicación (IVA INCLUIDO)]]","v":{"$error":"#VALUE!"}}]
[{"$nulls":18},{"$f":"Tabla13[[#This Row],[Título del contrato]]&Tabla13[[#This Row],[Nº Expediente de la plataforma de contratación]]","v":{"$error":"#VALUE!"}},{"$f":"Tabla13[[#This Row],[Nº Expediente de la plataforma de contratación]]","v":{"$error":"#VALUE!"}},{"$f":"Tabla13[[#This Row],[Importe IVA ]]","v":{"$error":"#VALUE!"}},{"$f":"Tabla13[[#This Row],[Importe de adjudicación (IVA INCLUIDO)]]","v":{"$error":"#VALUE!"}}]
[{"$nulls":18},{"$f":"Tabla13[[#This Row],[Título del contrato]]&Tabla13[[#This Row],[Nº Expediente de la plataforma de contratación]]","v":{"$error":"#VALUE!"}},{"$f":"Tabla13[[#This Row],[Nº Expediente de la plataforma de contratación]]","v":{"$error":"#VALUE!"}},{"$f":"Tabla13[[#This Row],[Importe IVA ]]","v":{"$error":"#VALUE!"}},{"$f":"Tabla13[[#This Row],[Importe de adjudicación (IVA INCLUIDO)]]","v":{"$error":"#VALUE!"}}]
[{"$nulls":18},{"$f":"Tabla13[[#This Row],[Título del contrato]]&Tabla13[[#This Row],[Nº Expediente de la plataforma de contratación]]","v":{"$error":"#VALUE!"}},{"$f":"Tabla13[[#This Row],[Nº Expediente de la plataforma de contratación]]","v":{"$error":"#VALUE!"}},{"$f":"Tabla13[[#This Row],[Importe IVA ]]","v":{"$error":"#VALUE!"}},{"$f":"Tabla13[[#This Row],[Importe de adjudicación (IVA INCLUIDO)]]","v":{"$error":"#VALUE!"}}]
[{"$nulls":18},{"$f":"Tabla13[[#This Row],[Título del contrato]]&Tabla13[[#This Row],[Nº Expediente de la plataforma de contratación]]","v":{"$error":"#VALUE!"}},{"$f":"Tabla13[[#This Row],[Nº Expediente de la plataforma de contratación]]","v":{"$error":"#VALUE!"}},{"$f":"Tabla13[[#This Row],[Importe IVA ]]","v":{"$error":"#VALUE!"}},{"$f":"Tabla13[[#This Row],[Importe de adjudicación (IVA INCLUIDO)]]","v":{"$error":"#VALUE!"}}]
[{"$nulls":18},{"$f":"Tabla13[[#This Row],[Título del contrato]]&Tabla13[[#This Row],[Nº Expediente de la plataforma de contratación]]","v":{"$error":"#VALUE!"}},{"$f":"Tabla13[[#This Row],[Nº Expediente de la plataforma de contratación]]","v":{"$error":"#VALUE!"}},{"$f":"Tabla13[[#This Row],[Importe IVA ]]","v":{"$error":"#VALUE!"}},{"$f":"Tabla13[[#This Row],[Importe de adjudicación (IVA INCLUIDO)]]","v":{"$error":"#VALUE!"}}]
[{"$nulls":18},{"$f":"Tabla13[[#This Row],[Título del contrato]]&Tabla13[[#This Row],[Nº Expediente de la plataforma de contratación]]","v":{"$error":"#VALUE!"}},{"$f":"Tabla13[[#This Row],[Nº Expediente de la plataforma de contratación]]","v":{"$error":"#VALUE!"}},{"$f":"Tabla13[[#This Row],[Importe IVA ]]","v":{"$error":"#VALUE!"}},{"$f":"Tabla13[[#This Row],[Importe de adjudicación (IVA INCLUIDO)]]","v":{"$error":"#VALUE!"}}]
[{"$nulls":18},{"$f":"Tabla13[[#This Row],[Título del contrato]]&Tabla13[[#This Row],[Nº Expediente de la plataforma de contratación]]","v":{"$error":"#VALUE!"}},{"$f":"Tabla13[[#This Row],[Nº Expediente de la plataforma de contratación]]","v":{"$error":"#VALUE!"}},{"$f":"Tabla13[[#This Row],[Importe IVA ]]","v":{"$error":"#VALUE!"}},{"$f":"Tabla13[[#This Row],[Importe de adjudicación (IVA INCLUIDO)]]","v":{"$error":"#VALUE!"}}]
[{"$nulls":18},{"$f":"Tabla13[[#This Row],[Título del contrato]]&Tabla13[[#This Row],[Nº Expediente de la plataforma de contratación]]","v":{"$error":"#VALUE!"}},{"$f":"Tabla13[[#This Row],[Nº Expediente de la plataforma de contratación]]","v":{"$error":"#VALUE!"}},{"$f":"Tabla13[[#This Row],[Importe IVA ]]","v":{"$error":"#VALUE!"}},{"$f":"Tabla13[[#This Row],[Importe de adjudicación (IVA INCLUIDO)]]","v":{"$error":"#VALUE!"}}]
[{"$nulls":18},{"$f":"Tabla13[[#This Row],[Título del contrato]]&Tabla13[[#This Row],[Nº Expediente de la plataforma de contratación]]","v":{"$error":"#VALUE!"}},{"$f":"Tabla13[[#This Row],[Nº Expediente de la plataforma de contratación]]","v":{"$error":"#VALUE!"}},{"$f":"Tabla13[[#This Row],[Importe IVA ]]","v":{"$error":"#VALUE!"}},{"$f":"Tabla13[[#This Row],[Importe de adjudicación (IVA INCLUIDO)]]","v":{"$error":"#VALUE!"}}]
[{"$nulls":18},{"$f":"Tabla13[[#This Row],[Título del contrato]]&Tabla13[[#This Row],[Nº Expediente de la plataforma de contratación]]","v":{"$error":"#VALUE!"}},{"$f":"Tabla13[[#This Row],[Nº Expediente de la plataforma de contratación]]","v":{"$error":"#VALUE!"}},{"$f":"Tabla13[[#This Row],[Importe IVA ]]","v":{"$error":"#VALUE!"}},{"$f":"Tabla13[[#This Row],[Importe de adjudicación (IVA INCLUIDO)]]","v":{"$error":"#VALUE!"}}]
[{"$nulls":18},{"$f":"Tabla13[[#This Row],[Título del contrato]]&Tabla13[[#This Row],[Nº Expediente de la plataforma de contratación]]","v":{"$error":"#VALUE!"}},{"$f":"Tabla13[[#This Row],[Nº Expediente de la plataforma de contratación]]","v":{"$error":"#VALUE!"}},{"$f":"Tabla13[[#This Row],[Importe IVA ]]","v":{"$error":"#VALUE!"}},{"$f":"Tabla13[[#This Row],[Importe de adjudicación (IVA INCLUIDO)]]","v":{"$error":"#VALUE!"}}]
[{"$nulls":18},{"$f":"Tabla13[[#This Row],[Título del contrato]]&Tabla13[[#This Row],[Nº Expediente de la plataforma de contratación]]","v":{"$error":"#VALUE!"}},{"$f":"Tabla13[[#This Row],[Nº Expediente de la plataforma de contratación]]","v":{"$error":"#VALUE!"}},{"$f":"Tabla13[[#This Row],[Importe IVA ]]","v":{"$error":"#VALUE!"}},{"$f":"Tabla13[[#This Row],[Importe de adjudicación (IVA INCLUIDO)]]","v":{"$error":"#VALUE!"}}]
[{"$nulls":18},{"$f":"Tabla13[[#This Row],[Título del contrato]]&Tabla13[[#This Row],[Nº Expediente de la plataforma de contratación]]","v":{"$error":"#VALUE!"}},{"$f":"Tabla13[[#This Row],[Nº Expediente de la plataforma de contratación]]","v":{"$error":"#VALUE!"}},{"$f":"Tabla13[[#This Row],[Importe IVA ]]","v":{"$error":"#VALUE!"}},{"$f":"Tabla13[[#This Row],[Importe de adjudicación (IVA INCLUIDO)]]","v":{"$error":"#VALUE!"}}]
[{"$nulls":18},{"$f":"Tabla13[[#This Row],[Título del contrato]]&Tabla13[[#This Row],[Nº Expediente de la plataforma de contratación]]","v":{"$error":"#VALUE!"}},{"$f":"Tabla13[[#This Row],[Nº Expediente de la plataforma de contratación]]","v":{"$error":"#VALUE!"}},{"$f":"Tabla13[[#This Row],[Importe IVA ]]","v":{"$error":"#VALUE!"}},{"$f":"Tabla13[[#This Row],[Importe de adjudicación (IVA INCLUIDO)]]","v":{"$error":"#VALUE!"}}]
[{"$nulls":18},{"$f":"Tabla13[[#This Row],[Título del contrato]]&Tabla13[[#This Row],[Nº Expediente de la plataforma de contratación]]","v":{"$error":"#VALUE!"}},{"$f":"Tabla13[[#This Row],[Nº Expediente de la plataforma de contratación]]","v":{"$error":"#VALUE!"}},{"$f":"Tabla13[[#This Row],[Importe IVA ]]","v":{"$error":"#VALUE!"}},{"$f":"Tabla13[[#This Row],[Importe de adjudicación (IVA INCLUIDO)]]","v":{"$error":"#VALUE!"}}]
[{"$nulls":18},{"$f":"Tabla13[[#This Row],[Título del contrato]]&Tabla13[[#This Row],[Nº Expediente de la plataforma de contratación]]","v":{"$error":"#VALUE!"}},{"$f":"Tabla13[[#This Row],[Nº Expediente de la plataforma de contratación]]","v":{"$error":"#VALUE!"}},{"$f":"Tabla13[[#This Row],[Importe IVA ]]","v":{"$error":"#VALUE!"}},{"$f":"Tabla13[[#This Row],[Importe de adjudicación (IVA INCLUIDO)]]","v":{"$error":"#VALUE!"}}]
[{"$nulls":18},{"$f":"Tabla13[[#This Row],[Título del contrato]]&Tabla13[[#This Row],[Nº Expediente de la plataforma de contratación]]","v":{"$error":"#VALUE!"}},{"$f":"Tabla13[[#This Row],[Nº Expediente de la plataforma de contratación]]","v":{"$error":"#VALUE!"}},{"$f":"Tabla13[[#This Row],[Importe IVA ]]","v":{"$error":"#VALUE!"}},{"$f":"Tabla13[[#This Row],[Importe de adjudicación (IVA INCLUIDO)]]","v":{"$error":"#VALUE!"}}]
[{"$nulls":18},{"$f":"Tabla13[[#This Row],[Título del contrato]]&Tabla13[[#This Row],[Nº Expediente de la plataforma de contratación]]","v":{"$error":"#VALUE!"}},{"$f":"Tabla13[[#This Row],[Nº Expediente de la plataforma de contratación]]","v":{"$error":"#VALUE!"}},{"$f":"Tabla13[[#This Row],[Importe IVA ]]","v":{"$error":"#VALUE!"}},{"$f":"Tabla13[[#This Row],[Importe de adjudicación (IVA INCLUIDO)]]","v":{"$error":"#VALUE!"}}]
[{"$nulls":18},{"$f":"Tabla13[[#This Row],[Título del contrato]]&Tabla13[[#This Row],[Nº Expediente de la plataforma de contratación]]","v":{"$error":"#VALUE!"}},{"$f":"Tabla13[[#This Row],[Nº Expediente de la plataforma de contratación]]","v":{"$error":"#VALUE!"}},{"$f":"Tabla13[[#This Row],[Importe IVA ]]","v":{"$error":"#VALUE!"}},{"$f":"Tabla13[[#This Row],[Importe de adjudicación (IVA INCLUIDO)]]","v":{"$error":"#VALUE!"}}]
[{"$nulls":18},{"$f":"Tabla13[[#This Row],[Título del contrato]]&Tabla13[[#This Row],[Nº Expediente de la plataforma de contratación]]","v":{"$error":"#VALUE!"}},{"$f":"Tabla13[[#This Row],[Nº Expediente de la plataforma de contratación]]","v":{"$error":"#VALUE!"}},{"$f":"Tabla13[[#This Row],[Importe IVA ]]","v":{"$error":"#VALUE!"}},{"$f":"Tabla13[[#This Row],[Importe de adjudicación (IVA INCLUIDO)]]","v":{"$error":"#VALUE!"}}]
[{"$nulls":18},{"$f":"Tabla13[[#This Row],[Título del contrato]]&Tabla13[[#This Row],[Nº Expediente de la plataforma de contratación]]","v":{"$error":"#VALUE!"}},{"$f":"Tabla13[[#This Row],[Nº Expediente de la plataforma de contratación]]","v":{"$error":"#VALUE!"}},{"$f":"Tabla13[[#This Row],[Importe IVA ]]","v":{"$error":"#VALUE!"}},{"$f":"Tabla13[[#This Row],[Importe de adjudicación (IVA INCLUIDO)]]","v":{"$error":"#VALUE!"}}]
[{"$nulls":18},{"$f":"Tabla13[[#This Row],[Título del contrato]]&Tabla13[[#This Row],[Nº Expediente de la plataforma de contratación]]","v":{"$error":"#VALUE!"}},{"$f":"Tabla13[[#This Row],[Nº Expediente de la plataforma de contratación]]","v":{"$error":"#VALUE!"}},{"$f":"Tabla13[[#This Row],[Importe IVA ]]","v":{"$error":"#VALUE!"}},{"$f":"Tabla13[[#This Row],[Importe de adjudicación (IVA INCLUIDO)]]","v":{"$error":"#VALUE!"}}]
[{"$nulls":18},{"$f":"Tabla13[[#This Row],[Título del contrato]]&Tabla13[[#This Row],[Nº Expediente de la plataforma de contratación]]","v":{"$error":"#VALUE!"}},{"$f":"Tabla13[[#This Row],[Nº Expediente de la plataforma de contratación]]","v":{"$error":"#VALUE!"}},{"$f":"Tabla13[[#This Row],[Importe IVA ]]","v":{"$error":"#VALUE!"}},{"$f":"Tabla13[[#This Row],[Importe de adjudicación (IVA INCLUIDO)]]","v":{"$error":"#VALUE!"}}]
[{"$nulls":18},{"$f":"Tabla13[[#This Row],[Título del contrato]]&Tabla13[[#This Row],[Nº Expediente de la plataforma de contratación]]","v":{"$error":"#VALUE!"}},{"$f":"Tabla13[[#This Row],[Nº Expediente de la plataforma de contratación]]","v":{"$error":"#VALUE!"}},{"$f":"Tabla13[[#This Row],[Importe IVA ]]","v":{"$error":"#VALUE!"}},{"$f":"Tabla13[[#This Row],[Importe de adjudicación (IVA INCLUIDO)]]","v":{"$error":"#VALUE!"}}]
[{"$nulls":18},{"$f":"Tabla13[[#This Row],[Título del contrato]]&Tabla13[[#This Row],[Nº Expediente de la plataforma de contratación]]","v":{"$error":"#VALUE!"}},{"$f":"Tabla13[[#This Row],[Nº Expediente de la plataforma de contratación]]","v":{"$error":"#VALUE!"}},{"$f":"Tabla13[[#This Row],[Importe IVA ]]","v":{"$error":"#VALUE!"}},{"$f":"Tabla13[[#This Row],[Importe de adjudicación (IVA INCLUIDO)]]","v":{"$error":"#VALUE!"}}]
[{"$nulls":18},{"$f":"Tabla13[[#This Row],[Título del contrato]]&Tabla13[[#This Row],[Nº Expediente de la plataforma de contratación]]","v":{"$error":"#VALUE!"}},{"$f":"Tabla13[[#This Row],[Nº Expediente de la plataforma de contratación]]","v":{"$error":"#VALUE!"}},{"$f":"Tabla13[[#This Row],[Importe IVA ]]","v":{"$error":"#VALUE!"}},{"$f":"Tabla13[[#This Row],[Importe de adjudicación (IVA INCLUIDO)]]","v":{"$error":"#VALUE!"}}]
[{"$nulls":18},{"$f":"Tabla13[[#This Row],[Título del contrato]]&Tabla13[[#This Row],[Nº Expediente de la plataforma de contratación]]","v":{"$error":"#VALUE!"}},{"$f":"Tabla13[[#This Row],[Nº Expediente de la plataforma de contratación]]","v":{"$error":"#VALUE!"}},{"$f":"Tabla13[[#This Row],[Importe IVA ]]","v":{"$error":"#VALUE!"}},{"$f":"Tabla13[[#This Row],[Importe de adjudicación (IVA INCLUIDO)]]","v":{"$error":"#VALUE!"}}]
[{"$nulls":18},{"$f":"Tabla13[[#This Row],[Título del contrato]]&Tabla13[[#This Row],[Nº Expediente de la plataforma de contratación]]","v":{"$error":"#VALUE!"}},{"$f":"Tabla13[[#This Row],[Nº Expediente de la plataforma de contratación]]","v":{"$error":"#VALUE!"}},{"$f":"Tabla13[[#This Row],[Importe IVA ]]","v":{"$error":"#VALUE!"}},{"$f":"Tabla13[[#This Row],[Importe de adjudicación (IVA INCLUIDO)]]","v":{"$error":"#VALUE!"}}]
[{"$nulls":18},{"$f":"Tabla13[[#This Row],[Título del contrato]]&Tabla13[[#This Row],[Nº Expediente de la plataforma de contratación]]","v":{"$error":"#VALUE!"}},{"$f":"Tabla13[[#This Row],[Nº Expediente de la plataforma de contratación]]","v":{"$error":"#VALUE!"}},{"$f":"Tabla13[[#This Row],[Importe IVA ]]","v":{"$error":"#VALUE!"}},{"$f":"Tabla13[[#This Row],[Importe de adjudicación (IVA INCLUIDO)]]","v":{"$error":"#VALUE!"}}]
[{"$nulls":18},{"$f":"Tabla13[[#This Row],[Título del contrato]]&Tabla13[[#This Row],[Nº Expediente de la plataforma de contratación]]","v":{"$error":"#VALUE!"}},{"$f":"Tabla13[[#This Row],[Nº Expediente de la plataforma de contratación]]","v":{"$error":"#VALUE!"}},{"$f":"Tabla13[[#This Row],[Importe IVA ]]","v":{"$error":"#VALUE!"}},{"$f":"Tabla13[[#This Row],[Importe de adjudicación (IVA INCLUIDO)]]","v":{"$error":"#VALUE!"}}]
[{"$nulls":18},{"$f":"Tabla13[[#This Row],[Título del contrato]]&Tabla13[[#This Row],[Nº Expediente de la plataforma de contratación]]","v":{"$error":"#VALUE!"}},{"$f":"Tabla13[[#This Row],[Nº Expediente de la plataforma de contratación]]","v":{"$error":"#VALUE!"}},{"$f":"Tabla13[[#This Row],[Importe IVA ]]","v":{"$error":"#VALUE!"}},{"$f":"Tabla13[[#This Row],[Importe de adjudicación (IVA INCLUIDO)]]","v":{"$error":"#VALUE!"}}]
[{"$nulls":18},{"$f":"Tabla13[[#This Row],[Título del contrato]]&Tabla13[[#This Row],[Nº Expediente de la plataforma de contratación]]","v":{"$error":"#VALUE!"}},{"$f":"Tabla13[[#This Row],[Nº Expediente de la plataforma de contratación]]","v":{"$error":"#VALUE!"}},{"$f":"Tabla13[[#This Row],[Importe IVA ]]","v":{"$error":"#VALUE!"}},{"$f":"Tabla13[[#This Row],[Importe de adjudicación (IVA INCLUIDO)]]","v":{"$error":"#VALUE!"}}]
[{"$nulls":18},{"$f":"Tabla13[[#This Row],[Título del contrato]]&Tabla13[[#This Row],[Nº Expediente de la plataforma de contratación]]","v":{"$error":"#VALUE!"}},{"$f":"Tabla13[[#This Row],[Nº Expediente de la plataforma de contratación]]","v":{"$error":"#VALUE!"}},{"$f":"Tabla13[[#This Row],[Importe IVA ]]","v":{"$error":"#VALUE!"}},{"$f":"Tabla13[[#This Row],[Importe de adjudicación (IVA INCLUIDO)]]","v":{"$error":"#VALUE!"}}]
[{"$nulls":18},{"$f":"Tabla13[[#This Row],[Título del contrato]]&Tabla13[[#This Row],[Nº Expediente de la plataforma de contratación]]","v":{"$error":"#VALUE!"}},{"$f":"Tabla13[[#This Row],[Nº Expediente de la plataforma de contratación]]","v":{"$error":"#VALUE!"}},{"$f":"Tabla13[[#This Row],[Importe IVA ]]","v":{"$error":"#VALUE!"}},{"$f":"Tabla13[[#This Row],[Importe de adjudicación (IVA INCLUIDO)]]","v":{"$error":"#VALUE!"}}]
[{"$nulls":18},{"$f":"Tabla13[[#This Row],[Título del contrato]]&Tabla13[[#This Row],[Nº Expediente de la plataforma de contratación]]","v":{"$error":"#VALUE!"}},{"$f":"Tabla13[[#This Row],[Nº Expediente de la plataforma de contratación]]","v":{"$error":"#VALUE!"}},{"$f":"Tabla13[[#This Row],[Importe IVA ]]","v":{"$error":"#VALUE!"}},{"$f":"Tabla13[[#This Row],[Importe de adjudicación (IVA INCLUIDO)]]","v":{"$error":"#VALUE!"}}]
[{"$nulls":18},{"$f":"Tabla13[[#This Row],[Título del contrato]]&Tabla13[[#This Row],[Nº Expediente de la plataforma de contratación]]","v":{"$error":"#VALUE!"}},{"$f":"Tabla13[[#This Row],[Nº Expediente de la plataforma de contratación]]","v":{"$error":"#VALUE!"}},{"$f":"Tabla13[[#This Row],[Importe IVA ]]","v":{"$error":"#VALUE!"}},{"$f":"Tabla13[[#This Row],[Importe de adjudicación (IVA INCLUIDO)]]","v":{"$error":"#VALUE!"}}]
[{"$nulls":18},{"$f":"Tabla13[[#This Row],[Título del contrato]]&Tabla13[[#This Row],[Nº Expediente de la plataforma de contratación]]","v":{"$error":"#VALUE!"}},{"$f":"Tabla13[[#This Row],[Nº Expediente de la plataforma de contratación]]","v":{"$error":"#VALUE!"}},{"$f":"Tabla13[[#This Row],[Importe IVA ]]","v":{"$error":"#VALUE!"}},{"$f":"Tabla13[[#This Row],[Importe de adjudicación (IVA INCLUIDO)]]","v":{"$error":"#VALUE!"}}]
[{"$nulls":18},{"$f":"Tabla13[[#This Row],[Título del contrato]]&Tabla13[[#This Row],[Nº Expediente de la plataforma de contratación]]","v":{"$error":"#VALUE!"}},{"$f":"Tabla13[[#This Row],[Nº Expediente de la plataforma de contratación]]","v":{"$error":"#VALUE!"}},{"$f":"Tabla13[[#This Row],[Importe IVA ]]","v":{"$error":"#VALUE!"}},{"$f":"Tabla13[[#This Row],[Importe de adjudicación (IVA INCLUIDO)]]","v":{"$error":"#VALUE!"}}]
[{"$nulls":18},{"$f":"Tabla13[[#This Row],[Título del contrato]]&Tabla13[[#This Row],[Nº Expediente de la plataforma de contratación]]","v":{"$error":"#VALUE!"}},{"$f":"Tabla13[[#This Row],[Nº Expediente de la plataforma de contratación]]","v":{"$error":"#VALUE!"}},{"$f":"Tabla13[[#This Row],[Importe IVA ]]","v":{"$error":"#VALUE!"}},{"$f":"Tabla13[[#This Row],[Importe de adjudicación (IVA INCLUIDO)]]","v":{"$error":"#VALUE!"}}]
[{"$nulls":18},{"$f":"Tabla13[[#This Row],[Título del contrato]]&Tabla13[[#This Row],[Nº Expediente de la plataforma de contratación]]","v":{"$error":"#VALUE!"}},{"$f":"Tabla13[[#This Row],[Nº Expediente de la plataforma de contratación]]","v":{"$error":"#VALUE!"}},{"$f":"Tabla13[[#This Row],[Importe IVA ]]","v":{"$error":"#VALUE!"}},{"$f":"Tabla13[[#This Row],[Importe de adjudicación (IVA INCLUIDO)]]","v":{"$error":"#VALUE!"}}]
[{"$nulls":18},{"$f":"Tabla13[[#This Row],[Título del contrato]]&Tabla13[[#This Row],[Nº Expediente de la plataforma de contratación]]","v":{"$error":"#VALUE!"}},{"$f":"Tabla13[[#This Row],[Nº Expediente de la plataforma de contratación]]","v":{"$error":"#VALUE!"}},{"$f":"Tabla13[[#This Row],[Importe IVA ]]","v":{"$error":"#VALUE!"}},{"$f":"Tabla13[[#This Row],[Importe de adjudicación (IVA INCLUIDO)]]","v":{"$error":"#VALUE!"}}]
[{"$nulls":18},{"$f":"Tabla13[[#This Row],[Título del contrato]]&Tabla13[[#This Row],[Nº Expediente de la plataforma de contratación]]","v":{"$error":"#VALUE!"}},{"$f":"Tabla13[[#This Row],[Nº Expediente de la plataforma de contratación]]","v":{"$error":"#VALUE!"}},{"$f":"Tabla13[[#This Row],[Importe IVA ]]","v":{"$error":"#VALUE!"}},{"$f":"Tabla13[[#This Row],[Importe de adjudicación (IVA INCLUIDO)]]","v":{"$error":"#VALUE!"}}]
[{"$nulls":18},{"$f":"Tabla13[[#This Row],[Título del contrato]]&Tabla13[[#This Row],[Nº Expediente de la plataforma de contratación]]","v":{"$error":"#VALUE!"}},{"$f":"Tabla13[[#This Row],[Nº Expediente de la plataforma de contratación]]","v":{"$error":"#VALUE!"}},{"$f":"Tabla13[[#This Row],[Importe IVA ]]","v":{"$error":"#VALUE!"}},{"$f":"Tabla13[[#This Row],[Importe de adjudicación (IVA INCLUIDO)]]","v":{"$error":"#VALUE!"}}]
[{"$nulls":18},{"$f":"Tabla13[[#This Row],[Título del contrato]]&Tabla13[[#This Row],[Nº Expediente de la plataforma de contratación]]","v":{"$error":"#VALUE!"}},{"$f":"Tabla13[[#This Row],[Nº Expediente de la plataforma de contratación]]","v":{"$error":"#VALUE!"}},{"$f":"Tabla13[[#This Row],[Importe IVA ]]","v":{"$error":"#VALUE!"}},{"$f":"Tabla13[[#This Row],[Importe de adjudicación (IVA INCLUIDO)]]","v":{"$error":"#VALUE!"}}]
[{"$nulls":18},{"$f":"Tabla13[[#This Row],[Título del contrato]]&Tabla13[[#This Row],[Nº Expediente de la plataforma de contratación]]","v":{"$error":"#VALUE!"}},{"$f":"Tabla13[[#This Row],[Nº Expediente de la plataforma de contratación]]","v":{"$error":"#VALUE!"}},{"$f":"Tabla13[[#This Row],[Importe IVA ]]","v":{"$error":"#VALUE!"}},{"$f":"Tabla13[[#This Row],[Importe de adjudicación (IVA INCLUIDO)]]","v":{"$error":"#VALUE!"}}]
[{"$nulls":18},{"$f":"Tabla13[[#This Row],[Título del contrato]]&Tabla13[[#This Row],[Nº Expediente de la plataforma de contratación]]","v":{"$error":"#VALUE!"}},{"$f":"Tabla13[[#This Row],[Nº Expediente de la plataforma de contratación]]","v":{"$error":"#VALUE!"}},{"$f":"Tabla13[[#This Row],[Importe IVA ]]","v":{"$error":"#VALUE!"}},{"$f":"Tabla13[[#This Row],[Importe de adjudicación (IVA INCLUIDO)]]","v":{"$error":"#VALUE!"}}]
[{"$nulls":18},{"$f":"Tabla13[[#This Row],[Título del contrato]]&Tabla13[[#This Row],[Nº Expediente de la plataforma de contratación]]","v":{"$error":"#VALUE!"}},{"$f":"Tabla13[[#This Row],[Nº Expediente de la plataforma de contratación]]","v":{"$error":"#VALUE!"}},{"$f":"Tabla13[[#This Row],[Importe IVA ]]","v":{"$error":"#VALUE!"}},{"$f":"Tabla13[[#This Row],[Importe de adjudicación (IVA INCLUIDO)]]","v":{"$error":"#VALUE!"}}]
[{"$nulls":18},{"$f":"Tabla13[[#This Row],[Título del contrato]]&Tabla13[[#This Row],[Nº Expediente de la plataforma de contratación]]","v":{"$error":"#VALUE!"}},{"$f":"Tabla13[[#This Row],[Nº Expediente de la plataforma de contratación]]","v":{"$error":"#VALUE!"}},{"$f":"Tabla13[[#This Row],[Importe IVA ]]","v":{"$error":"#VALUE!"}},{"$f":"Tabla13[[#This Row],[Importe de adjudicación (IVA INCLUIDO)]]","v":{"$error":"#VALUE!"}}]
[{"$nulls":18},{"$f":"Tabla13[[#This Row],[Título del contrato]]&Tabla13[[#This Row],[Nº Expediente de la plataforma de contratación]]","v":{"$error":"#VALUE!"}},{"$f":"Tabla13[[#This Row],[Nº Expediente de la plataforma de contratación]]","v":{"$error":"#VALUE!"}},{"$f":"Tabla13[[#This Row],[Importe IVA ]]","v":{"$error":"#VALUE!"}},{"$f":"Tabla13[[#This Row],[Importe de adjudicación (IVA INCLUIDO)]]","v":{"$error":"#VALUE!"}}]
[{"$nulls":18},{"$f":"Tabla13[[#This Row],[Título del contrato]]&Tabla13[[#This Row],[Nº Expediente de la plataforma de contratación]]","v":{"$error":"#VALUE!"}},{"$f":"Tabla13[[#This Row],[Nº Expediente de la plataforma de contratación]]","v":{"$error":"#VALUE!"}},{"$f":"Tabla13[[#This Row],[Importe IVA ]]","v":{"$error":"#VALUE!"}},{"$f":"Tabla13[[#This Row],[Importe de adjudicación (IVA INCLUIDO)]]","v":{"$error":"#VALUE!"}}]
[{"$nulls":18},{"$f":"Tabla13[[#This Row],[Título del contrato]]&Tabla13[[#This Row],[Nº Expediente de la plataforma de contratación]]","v":{"$error":"#VALUE!"}},{"$f":"Tabla13[[#This Row],[Nº Expediente de la plataforma de contratación]]","v":{"$error":"#VALUE!"}},{"$f":"Tabla13[[#This Row],[Importe IVA ]]","v":{"$error":"#VALUE!"}},{"$f":"Tabla13[[#This Row],[Importe de adjudicación (IVA INCLUIDO)]]","v":{"$error":"#VALUE!"}}]
[{"$nulls":18},{"$f":"Tabla13[[#This Row],[Título del contrato]]&Tabla13[[#This Row],[Nº Expediente de la plataforma de contratación]]","v":{"$error":"#VALUE!"}},{"$f":"Tabla13[[#This Row],[Nº Expediente de la plataforma de contratación]]","v":{"$error":"#VALUE!"}},{"$f":"Tabla13[[#This Row],[Importe IVA ]]","v":{"$error":"#VALUE!"}},{"$f":"Tabla13[[#This Row],[Importe de adjudicación (IVA INCLUIDO)]]","v":{"$error":"#VALUE!"}}]
[{"$nulls":18},{"$f":"Tabla13[[#This Row],[Título del contrato]]&Tabla13[[#This Row],[Nº Expediente de la plataforma de contratación]]","v":{"$error":"#VALUE!"}},{"$f":"Tabla13[[#This Row],[Nº Expediente de la plataforma de contratación]]","v":{"$error":"#VALUE!"}},{"$f":"Tabla13[[#This Row],[Importe IVA ]]","v":{"$error":"#VALUE!"}},{"$f":"Tabla13[[#This Row],[Importe de adjudicación (IVA INCLUIDO)]]","v":{"$error":"#VALUE!"}}]
[{"$nulls":18},{"$f":"Tabla13[[#This Row],[Título del contrato]]&Tabla13[[#This Row],[Nº Expediente de la plataforma de contratación]]","v":{"$error":"#VALUE!"}},{"$f":"Tabla13[[#This Row],[Nº Expediente de la plataforma de contratación]]","v":{"$error":"#VALUE!"}},{"$f":"Tabla13[[#This Row],[Importe IVA ]]","v":{"$error":"#VALUE!"}},{"$f":"Tabla13[[#This Row],[Importe de adjudicación (IVA INCLUIDO)]]","v":{"$error":"#VALUE!"}}]
[{"$nulls":18},{"$f":"Tabla13[[#This Row],[Título del contrato]]&Tabla13[[#This Row],[Nº Expediente de la plataforma de contratación]]","v":{"$error":"#VALUE!"}},{"$f":"Tabla13[[#This Row],[Nº Expediente de la plataforma de contratación]]","v":{"$error":"#VALUE!"}},{"$f":"Tabla13[[#This Row],[Importe IVA ]]","v":{"$error":"#VALUE!"}},{"$f":"Tabla13[[#This Row],[Importe de adjudicación (IVA INCLUIDO)]]","v":{"$error":"#VALUE!"}}]
[{"$nulls":18},{"$f":"Tabla13[[#This Row],[Título del contrato]]&Tabla13[[#This Row],[Nº Expediente de la plataforma de contratación]]","v":{"$error":"#VALUE!"}},{"$f":"Tabla13[[#This Row],[Nº Expediente de la plataforma de contratación]]","v":{"$error":"#VALUE!"}},{"$f":"Tabla13[[#This Row],[Importe IVA ]]","v":{"$error":"#VALUE!"}},{"$f":"Tabla13[[#This Row],[Importe de adjudicación (IVA INCLUIDO)]]","v":{"$error":"#VALUE!"}}]
[{"$nulls":18},{"$f":"Tabla13[[#This Row],[Título del contrato]]&Tabla13[[#This Row],[Nº Expediente de la plataforma de contratación]]","v":{"$error":"#VALUE!"}},{"$f":"Tabla13[[#This Row],[Nº Expediente de la plataforma de contratación]]","v":{"$error":"#VALUE!"}},{"$f":"Tabla13[[#This Row],[Importe IVA ]]","v":{"$error":"#VALUE!"}},{"$f":"Tabla13[[#This Row],[Importe de adjudicación (IVA INCLUIDO)]]","v":{"$error":"#VALUE!"}}]
[{"$nulls":18},{"$f":"Tabla13[[#This Row],[Título del contrato]]&Tabla13[[#This Row],[Nº Expediente de la plataforma de contratación]]","v":{"$error":"#VALUE!"}},{"$f":"Tabla13[[#This Row],[Nº Expediente de la plataforma de contratación]]","v":{"$error":"#VALUE!"}},{"$f":"Tabla13[[#This Row],[Importe IVA ]]","v":{"$error":"#VALUE!"}},{"$f":"Tabla13[[#This Row],[Importe de adjudicación (IVA INCLUIDO)]]","v":{"$error":"#VALUE!"}}]
[{"$nulls":18},{"$f":"Tabla13[[#This Row],[Título del contrato]]&Tabla13[[#This Row],[Nº Expediente de la plataforma de contratación]]","v":{"$error":"#VALUE!"}},{"$f":"Tabla13[[#This Row],[Nº Expediente de la plataforma de contratación]]","v":{"$error":"#VALUE!"}},{"$f":"Tabla13[[#This Row],[Importe IVA ]]","v":{"$error":"#VALUE!"}},{"$f":"Tabla13[[#This Row],[Importe de adjudicación (IVA INCLUIDO)]]","v":{"$error":"#VALUE!"}}]
[{"$nulls":18},{"$f":"Tabla13[[#This Row],[Título del contrato]]&Tabla13[[#This Row],[Nº Expediente de la plataforma de contratación]]","v":{"$error":"#VALUE!"}},{"$f":"Tabla13[[#This Row],[Nº Expediente de la plataforma de contratación]]","v":{"$error":"#VALUE!"}},{"$f":"Tabla13[[#This Row],[Importe IVA ]]","v":{"$error":"#VALUE!"}},{"$f":"Tabla13[[#This Row],[Importe de adjudicación (IVA INCLUIDO)]]","v":{"$error":"#VALUE!"}}]
[{"$nulls":18},{"$f":"Tabla13[[#This Row],[Título del contrato]]&Tabla13[[#This Row],[Nº Expediente de la plataforma de contratación]]","v":{"$error":"#VALUE!"}},{"$f":"Tabla13[[#This Row],[Nº Expediente de la plataforma de contratación]]","v":{"$error":"#VALUE!"}},{"$f":"Tabla13[[#This Row],[Importe IVA ]]","v":{"$error":"#VALUE!"}},{"$f":"Tabla13[[#This Row],[Importe de adjudicación (IVA INCLUIDO)]]","v":{"$error":"#VALUE!"}}]
[{"$nulls":18},{"$f":"Tabla13[[#This Row],[Título del contrato]]&Tabla13[[#This Row],[Nº Expediente de la plataforma de contratación]]","v":{"$error":"#VALUE!"}},{"$f":"Tabla13[[#This Row],[Nº Expediente de la plataforma de contratación]]","v":{"$error":"#VALUE!"}},{"$f":"Tabla13[[#This Row],[Importe IVA ]]","v":{"$error":"#VALUE!"}},{"$f":"Tabla13[[#This Row],[Importe de adjudicación (IVA INCLUIDO)]]","v":{"$error":"#VALUE!"}}]
[{"$nulls":18},{"$f":"Tabla13[[#This Row],[Título del contrato]]&Tabla13[[#This Row],[Nº Expediente de la plataforma de contratación]]","v":{"$error":"#VALUE!"}},{"$f":"Tabla13[[#This Row],[Nº Expediente de la plataforma de contratación]]","v":{"$error":"#VALUE!"}},{"$f":"Tabla13[[#This Row],[Importe IVA ]]","v":{"$error":"#VALUE!"}},{"$f":"Tabla13[[#This Row],[Importe de adjudicación (IVA INCLUIDO)]]","v":{"$error":"#VALUE!"}}]
[{"$nulls":18},{"$f":"Tabla13[[#This Row],[Título del contrato]]&Tabla13[[#This Row],[Nº Expediente de la plataforma de contratación]]","v":{"$error":"#VALUE!"}},{"$f":"Tabla13[[#This Row],[Nº Expediente de la plataforma de contratación]]","v":{"$error":"#VALUE!"}},{"$f":"Tabla13[[#This Row],[Importe IVA ]]","v":{"$error":"#VALUE!"}},{"$f":"Tabla13[[#This Row],[Importe de adjudicación (IVA INCLUIDO)]]","v":{"$error":"#VALUE!"}}]
[{"$nulls":18},{"$f":"Tabla13[[#This Row],[Título del contrato]]&Tabla13[[#This Row],[Nº Expediente de la plataforma de contratación]]","v":{"$error":"#VALUE!"}},{"$f":"Tabla13[[#This Row],[Nº Expediente de la plataforma de contratación]]","v":{"$error":"#VALUE!"}},{"$f":"Tabla13[[#This Row],[Importe IVA ]]","v":{"$error":"#VALUE!"}},{"$f":"Tabla13[[#This Row],[Importe de adjudicación (IVA INCLUIDO)]]","v":{"$error":"#VALUE!"}}]
[{"$nulls":18},{"$f":"Tabla13[[#This Row],[Título del contrato]]&Tabla13[[#This Row],[Nº Expediente de la plataforma de contratación]]","v":{"$error":"#VALUE!"}},{"$f":"Tabla13[[#This Row],[Nº Expediente de la plataforma de contratación]]","v":{"$error":"#VALUE!"}},{"$f":"Tabla13[[#This Row],[Importe IVA ]]","v":{"$error":"#VALUE!"}},{"$f":"Tabla13[[#This Row],[Importe de adjudicación (IVA INCLUIDO)]]","v":{"$error":"#VALUE!"}}]
[{"$nulls":18},{"$f":"Tabla13[[#This Row],[Título del contrato]]&Tabla13[[#This Row],[Nº Expediente de la plataforma de contratación]]","v":{"$error":"#VALUE!"}},{"$f":"Tabla13[[#This Row],[Nº Expediente de la plataforma de contratación]]","v":{"$error":"#VALUE!"}},{"$f":"Tabla13[[#This Row],[Importe IVA ]]","v":{"$error":"#VALUE!"}},{"$f":"Tabla13[[#This Row],[Importe de adjudicación (IVA INCLUIDO)]]","v":{"$error":"#VALUE!"}}]
[{"$nulls":18},{"$f":"Tabla13[[#This Row],[Título del contrato]]&Tabla13[[#This Row],[Nº Expediente de la plataforma de contratación]]","v":{"$error":"#VALUE!"}},{"$f":"Tabla13[[#This Row],[Nº Expediente de la plataforma de contratación]]","v":{"$error":"#VALUE!"}},{"$f":"Tabla13[[#This Row],[Importe IVA ]]","v":{"$error":"#VALUE!"}},{"$f":"Tabla13[[#This Row],[Importe de adjudicación (IVA INCLUIDO)]]","v":{"$error":"#VALUE!"}}]
[{"$nulls":18},{"$f":"Tabla13[[#This Row],[Título del contrato]]&Tabla13[[#This Row],[Nº Expediente de la plataforma de contratación]]","v":{"$error":"#VALUE!"}},{"$f":"Tabla13[[#This Row],[Nº Expediente de la plataforma de contratación]]","v":{"$error":"#VALUE!"}},{"$f":"Tabla13[[#This Row],[Importe IVA ]]","v":{"$error":"#VALUE!"}},{"$f":"Tabla13[[#This Row],[Importe de adjudicación (IVA INCLUIDO)]]","v":{"$error":"#VALUE!"}}]
[{"$nulls":18},{"$f":"Tabla13[[#This Row],[Título del contrato]]&Tabla13[[#This Row],[Nº Expediente de la plataforma de contratación]]","v":{"$error":"#VALUE!"}},{"$f":"Tabla13[[#This Row],[Nº Expediente de la plataforma de contratación]]","v":{"$error":"#VALUE!"}},{"$f":"Tabla13[[#This Row],[Importe IVA ]]","v":{"$error":"#VALUE!"}},{"$f":"Tabla13[[#This Row],[Importe de adjudicación (IVA INCLUIDO)]]","v":{"$error":"#VALUE!"}}]
[{"$nulls":18},{"$f":"Tabla13[[#This Row],[Título del contrato]]&Tabla13[[#This Row],[Nº Expediente de la plataforma de contratación]]","v":{"$error":"#VALUE!"}},{"$f":"Tabla13[[#This Row],[Nº Expediente de la plataforma de contratación]]","v":{"$error":"#VALUE!"}},{"$f":"Tabla13[[#This Row],[Importe IVA ]]","v":{"$error":"#VALUE!"}},{"$f":"Tabla13[[#This Row],[Importe de adjudicación (IVA INCLUIDO)]]","v":{"$error":"#VALUE!"}}]
[{"$nulls":18},{"$f":"Tabla13[[#This Row],[Título del contrato]]&Tabla13[[#This Row],[Nº Expediente de la plataforma de contratación]]","v":{"$error":"#VALUE!"}},{"$f":"Tabla13[[#This Row],[Nº Expediente de la plataforma de contratación]]","v":{"$error":"#VALUE!"}},{"$f":"Tabla13[[#This Row],[Importe IVA ]]","v":{"$error":"#VALUE!"}},{"$f":"Tabla13[[#This Row],[Importe de adjudicación (IVA INCLUIDO)]]","v":{"$error":"#VALUE!"}}]
[{"$nulls":18},{"$f":"Tabla13[[#This Row],[Título del contrato]]&Tabla13[[#This Row],[Nº Expediente de la plataforma de contratación]]","v":{"$error":"#VALUE!"}},{"$f":"Tabla13[[#This Row],[Nº Expediente de la plataforma de contratación]]","v":{"$error":"#VALUE!"}},{"$f":"Tabla13[[#This Row],[Importe IVA ]]","v":{"$error":"#VALUE!"}},{"$f":"Tabla13[[#This Row],[Importe de adjudicación (IVA INCLUIDO)]]","v":{"$error":"#VALUE!"}}]
[{"$nulls":18},{"$f":"Tabla13[[#This Row],[Título del contrato]]&Tabla13[[#This Row],[Nº Expediente de la plataforma de contratación]]","v":{"$error":"#VALUE!"}},{"$f":"Tabla13[[#This Row],[Nº Expediente de la plataforma de contratación]]","v":{"$error":"#VALUE!"}},{"$f":"Tabla13[[#This Row],[Importe IVA ]]","v":{"$error":"#VALUE!"}},{"$f":"Tabla13[[#This Row],[Importe de adjudicación (IVA INCLUIDO)]]","v":{"$error":"#VALUE!"}}]
[{"$nulls":18},{"$f":"Tabla13[[#This Row],[Título del contrato]]&Tabla13[[#This Row],[Nº Expediente de la plataforma de contratación]]","v":{"$error":"#VALUE!"}},{"$f":"Tabla13[[#This Row],[Nº Expediente de la plataforma de contratación]]","v":{"$error":"#VALUE!"}},{"$f":"Tabla13[[#This Row],[Importe IVA ]]","v":{"$error":"#VALUE!"}},{"$f":"Tabla13[[#This Row],[Importe de adjudicación (IVA INCLUIDO)]]","v":{"$error":"#VALUE!"}}]
[{"$nulls":18},{"$f":"Tabla13[[#This Row],[Título del contrato]]&Tabla13[[#This Row],[Nº Expediente de la plataforma de contratación]]","v":{"$error":"#VALUE!"}},{"$f":"Tabla13[[#This Row],[Nº Expediente de la plataforma de contratación]]","v":{"$error":"#VALUE!"}},{"$f":"Tabla13[[#This Row],[Importe IVA ]]","v":{"$error":"#VALUE!"}},{"$f":"Tabla13[[#This Row],[Importe de adjudicación (IVA INCLUIDO)]]","v":{"$error":"#VALUE!"}}]
[{"$nulls":18},{"$f":"Tabla13[[#This Row],[Título del contrato]]&Tabla13[[#This Row],[Nº Expediente de la plataforma de contratación]]","v":{"$error":"#VALUE!"}},{"$f":"Tabla13[[#This Row],[Nº Expediente de la plataforma de contratación]]","v":{"$error":"#VALUE!"}},{"$f":"Tabla13[[#This Row],[Importe IVA ]]","v":{"$error":"#VALUE!"}},{"$f":"Tabla13[[#This Row],[Importe de adjudicación (IVA INCLUIDO)]]","v":{"$error":"#VALUE!"}}]
[{"$nulls":18},{"$f":"Tabla13[[#This Row],[Título del contrato]]&Tabla13[[#This Row],[Nº Expediente de la plataforma de contratación]]","v":{"$error":"#VALUE!"}},{"$f":"Tabla13[[#This Row],[Nº Expediente de la plataforma de contratación]]","v":{"$error":"#VALUE!"}},{"$f":"Tabla13[[#This Row],[Importe IVA ]]","v":{"$error":"#VALUE!"}},{"$f":"Tabla13[[#This Row],[Importe de adjudicación (IVA INCLUIDO)]]","v":{"$error":"#VALUE!"}}]
[{"$nulls":18},{"$f":"Tabla13[[#This Row],[Título del contrato]]&Tabla13[[#This Row],[Nº Expediente de la plataforma de contratación]]","v":{"$error":"#VALUE!"}},{"$f":"Tabla13[[#This Row],[Nº Expediente de la plataforma de contratación]]","v":{"$error":"#VALUE!"}},{"$f":"Tabla13[[#This Row],[Importe IVA ]]","v":{"$error":"#VALUE!"}},{"$f":"Tabla13[[#This Row],[Importe de adjudicación (IVA INCLUIDO)]]","v":{"$error":"#VALUE!"}}]
[{"$nulls":18},{"$f":"Tabla13[[#This Row],[Título del contrato]]&Tabla13[[#This Row],[Nº Expediente de la plataforma de contratación]]","v":{"$error":"#VALUE!"}},{"$f":"Tabla13[[#This Row],[Nº Expediente de la plataforma de contratación]]","v":{"$error":"#VALUE!"}},{"$f":"Tabla13[[#This Row],[Importe IVA ]]","v":{"$error":"#VALUE!"}},{"$f":"Tabla13[[#This Row],[Importe de adjudicación (IVA INCLUIDO)]]","v":{"$error":"#VALUE!"}}]
[{"$nulls":18},{"$f":"Tabla13[[#This Row],[Título del contrato]]&Tabla13[[#This Row],[Nº Expediente de la plataforma de contratación]]","v":{"$error":"#VALUE!"}},{"$f":"Tabla13[[#This Row],[Nº Expediente de la plataforma de contratación]]","v":{"$error":"#VALUE!"}},{"$f":"Tabla13[[#This Row],[Importe IVA ]]","v":{"$error":"#VALUE!"}},{"$f":"Tabla13[[#This Row],[Importe de adjudicación (IVA INCLUIDO)]]","v":{"$error":"#VALUE!"}}]
[{"$nulls":18},{"$f":"Tabla13[[#This Row],[Título del contrato]]&Tabla13[[#This Row],[Nº Expediente de la plataforma de contratación]]","v":{"$error":"#VALUE!"}},{"$f":"Tabla13[[#This Row],[Nº Expediente de la plataforma de contratación]]","v":{"$error":"#VALUE!"}},{"$f":"Tabla13[[#This Row],[Importe IVA ]]","v":{"$error":"#VALUE!"}},{"$f":"Tabla13[[#This Row],[Importe de adjudicación (IVA INCLUIDO)]]","v":{"$error":"#VALUE!"}}]
[{"$nulls":18},{"$f":"Tabla13[[#This Row],[Título del contrato]]&Tabla13[[#This Row],[Nº Expediente de la plataforma de contratación]]","v":{"$error":"#VALUE!"}},{"$f":"Tabla13[[#This Row],[Nº Expediente de la plataforma de contratación]]","v":{"$error":"#VALUE!"}},{"$f":"Tabla13[[#This Row],[Importe IVA ]]","v":{"$error":"#VALUE!"}},{"$f":"Tabla13[[#This Row],[Importe de adjudicación (IVA INCLUIDO)]]","v":{"$error":"#VALUE!"}}]
[{"$nulls":18},{"$f":"Tabla13[[#This Row],[Título del contrato]]&Tabla13[[#This Row],[Nº Expediente de la plataforma de contratación]]","v":{"$error":"#VALUE!"}},{"$f":"Tabla13[[#This Row],[Nº Expediente de la plataforma de contratación]]","v":{"$error":"#VALUE!"}},{"$f":"Tabla13[[#This Row],[Importe IVA ]]","v":{"$error":"#VALUE!"}},{"$f":"Tabla13[[#This Row],[Importe de adjudicación (IVA INCLUIDO)]]","v":{"$error":"#VALUE!"}}]
[{"$nulls":18},{"$f":"Tabla13[[#This Row],[Título del contrato]]&Tabla13[[#This Row],[Nº Expediente de la plataforma de contratación]]","v":{"$error":"#VALUE!"}},{"$f":"Tabla13[[#This Row],[Nº Expediente de la plataforma de contratación]]","v":{"$error":"#VALUE!"}},{"$f":"Tabla13[[#This Row],[Importe IVA ]]","v":{"$error":"#VALUE!"}},{"$f":"Tabla13[[#This Row],[Importe de adjudicación (IVA INCLUIDO)]]","v":{"$error":"#VALUE!"}}]
[{"$nulls":18},{"$f":"Tabla13[[#This Row],[Título del contrato]]&Tabla13[[#This Row],[Nº Expediente de la plataforma de contratación]]","v":{"$error":"#VALUE!"}},{"$f":"Tabla13[[#This Row],[Nº Expediente de la plataforma de contratación]]","v":{"$error":"#VALUE!"}},{"$f":"Tabla13[[#This Row],[Importe IVA ]]","v":{"$error":"#VALUE!"}},{"$f":"Tabla13[[#This Row],[Importe de adjudicación (IVA INCLUIDO)]]","v":{"$error":"#VALUE!"}}]
[{"$nulls":18},{"$f":"Tabla13[[#This Row],[Título del contrato]]&Tabla13[[#This Row],[Nº Expediente de la plataforma de contratación]]","v":{"$error":"#VALUE!"}},{"$f":"Tabla13[[#This Row],[Nº Expediente de la plataforma de contratación]]","v":{"$error":"#VALUE!"}},{"$f":"Tabla13[[#This Row],[Importe IVA ]]","v":{"$error":"#VALUE!"}},{"$f":"Tabla13[[#This Row],[Importe de adjudicación (IVA INCLUIDO)]]","v":{"$error":"#VALUE!"}}]
[{"$nulls":18},{"$f":"Tabla13[[#This Row],[Título del contrato]]&Tabla13[[#This Row],[Nº Expediente de la plataforma de contratación]]","v":{"$error":"#VALUE!"}},{"$f":"Tabla13[[#This Row],[Nº Expediente de la plataforma de contratación]]","v":{"$error":"#VALUE!"}},{"$f":"Tabla13[[#This Row],[Importe IVA ]]","v":{"$error":"#VALUE!"}},{"$f":"Tabla13[[#This Row],[Importe de adjudicación (IVA INCLUIDO)]]","v":{"$error":"#VALUE!"}}]
[{"$nulls":18},{"$f":"Tabla13[[#This Row],[Título del contrato]]&Tabla13[[#This Row],[Nº Expediente de la plataforma de contratación]]","v":{"$error":"#VALUE!"}},{"$f":"Tabla13[[#This Row],[Nº Expediente de la plataforma de contratación]]","v":{"$error":"#VALUE!"}},{"$f":"Tabla13[[#This Row],[Importe IVA ]]","v":{"$error":"#VALUE!"}},{"$f":"Tabla13[[#This Row],[Importe de adjudicación (IVA INCLUIDO)]]","v":{"$error":"#VALUE!"}}]
[{"$nulls":18},{"$f":"Tabla13[[#This Row],[Título del contrato]]&Tabla13[[#This Row],[Nº Expediente de la plataforma de contratación]]","v":{"$error":"#VALUE!"}},{"$f":"Tabla13[[#This Row],[Nº Expediente de la plataforma de contratación]]","v":{"$error":"#VALUE!"}},{"$f":"Tabla13[[#This Row],[Importe IVA ]]","v":{"$error":"#VALUE!"}},{"$f":"Tabla13[[#This Row],[Importe de adjudicación (IVA INCLUIDO)]]","v":{"$error":"#VALUE!"}}]
[{"$nulls":18},{"$f":"Tabla13[[#This Row],[Título del contrato]]&Tabla13[[#This Row],[Nº Expediente de la plataforma de contratación]]","v":{"$error":"#VALUE!"}},{"$f":"Tabla13[[#This Row],[Nº Expediente de la plataforma de contratación]]","v":{"$error":"#VALUE!"}},{"$f":"Tabla13[[#This Row],[Importe IVA ]]","v":{"$error":"#VALUE!"}},{"$f":"Tabla13[[#This Row],[Importe de adjudicación (IVA INCLUIDO)]]","v":{"$error":"#VALUE!"}}]
[{"$nulls":18},{"$f":"Tabla13[[#This Row],[Título del contrato]]&Tabla13[[#This Row],[Nº Expediente de la plataforma de contratación]]","v":{"$error":"#VALUE!"}},{"$f":"Tabla13[[#This Row],[Nº Expediente de la plataforma de contratación]]","v":{"$error":"#VALUE!"}},{"$f":"Tabla13[[#This Row],[Importe IVA ]]","v":{"$error":"#VALUE!"}},{"$f":"Tabla13[[#This Row],[Importe de adjudicación (IVA INCLUIDO)]]","v":{"$error":"#VALUE!"}}]
[{"$nulls":18},{"$f":"Tabla13[[#This Row],[Título del contrato]]&Tabla13[[#This Row],[Nº Expediente de la plataforma de contratación]]","v":{"$error":"#VALUE!"}},{"$f":"Tabla13[[#This Row],[Nº Expediente de la plataforma de contratación]]","v":{"$error":"#VALUE!"}},{"$f":"Tabla13[[#This Row],[Importe IVA ]]","v":{"$error":"#VALUE!"}},{"$f":"Tabla13[[#This Row],[Importe de adjudicación (IVA INCLUIDO)]]","v":{"$error":"#VALUE!"}}]
[{"$nulls":18},{"$f":"Tabla13[[#This Row],[Título del contrato]]&Tabla13[[#This Row],[Nº Expediente de la plataforma de contratación]]","v":{"$error":"#VALUE!"}},{"$f":"Tabla13[[#This Row],[Nº Expediente de la plataforma de contratación]]","v":{"$error":"#VALUE!"}},{"$f":"Tabla13[[#This Row],[Importe IVA ]]","v":{"$error":"#VALUE!"}},{"$f":"Tabla13[[#This Row],[Importe de adjudicación (IVA INCLUIDO)]]","v":{"$error":"#VALUE!"}}]
[{"$nulls":18},{"$f":"Tabla13[[#This Row],[Título del contrato]]&Tabla13[[#This Row],[Nº Expediente de la plataforma de contratación]]","v":{"$error":"#VALUE!"}},{"$f":"Tabla13[[#This Row],[Nº Expediente de la plataforma de contratación]]","v":{"$error":"#VALUE!"}},{"$f":"Tabla13[[#This Row],[Importe IVA ]]","v":{"$error":"#VALUE!"}},{"$f":"Tabla13[[#This Row],[Importe de adjudicación (IVA INCLUIDO)]]","v":{"$error":"#VALUE!"}}]
[{"$nulls":18},{"$f":"Tabla13[[#This Row],[Título del contrato]]&Tabla13[[#This Row],[Nº Expediente de la plataforma de contratación]]","v":{"$error":"#VALUE!"}},{"$f":"Tabla13[[#This Row],[Nº Expediente de la plataforma de contratación]]","v":{"$error":"#VALUE!"}},{"$f":"Tabla13[[#This Row],[Importe IVA ]]","v":{"$error":"#VALUE!"}},{"$f":"Tabla13[[#This Row],[Importe de adjudicación (IVA INCLUIDO)]]","v":{"$error":"#VALUE!"}}]
[{"$nulls":18},{"$f":"Tabla13[[#This Row],[Título del contrato]]&Tabla13[[#This Row],[Nº Expediente de la plataforma de contratación]]","v":{"$error":"#VALUE!"}},{"$f":"Tabla13[[#This Row],[Nº Expediente de la plataforma de contratación]]","v":{"$error":"#VALUE!"}},{"$f":"Tabla13[[#This Row],[Importe IVA ]]","v":{"$error":"#VALUE!"}},{"$f":"Tabla13[[#This Row],[Importe de adjudicación (IVA INCLUIDO)]]","v":{"$error":"#VALUE!"}}]
[{"$nulls":18},{"$f":"Tabla13[[#This Row],[Título del contrato]]&Tabla13[[#This Row],[Nº Expediente de la plataforma de contratación]]","v":{"$error":"#VALUE!"}},{"$f":"Tabla13[[#This Row],[Nº Expediente de la plataforma de contratación]]","v":{"$error":"#VALUE!"}},{"$f":"Tabla13[[#This Row],[Importe IVA ]]","v":{"$error":"#VALUE!"}},{"$f":"Tabla13[[#This Row],[Importe de adjudicación (IVA INCLUIDO)]]","v":{"$error":"#VALUE!"}}]
[{"$nulls":18},{"$f":"Tabla13[[#This Row],[Título del contrato]]&Tabla13[[#This Row],[Nº Expediente de la plataforma de contratación]]","v":{"$error":"#VALUE!"}},{"$f":"Tabla13[[#This Row],[Nº Expediente de la plataforma de contratación]]","v":{"$error":"#VALUE!"}},{"$f":"Tabla13[[#This Row],[Importe IVA ]]","v":{"$error":"#VALUE!"}},{"$f":"Tabla13[[#This Row],[Importe de adjudicación (IVA INCLUIDO)]]","v":{"$error":"#VALUE!"}}]
[{"$nulls":18},{"$f":"Tabla13[[#This Row],[Título del contrato]]&Tabla13[[#This Row],[Nº Expediente de la plataforma de contratación]]","v":{"$error":"#VALUE!"}},{"$f":"Tabla13[[#This Row],[Nº Expediente de la plataforma de contratación]]","v":{"$error":"#VALUE!"}},{"$f":"Tabla13[[#This Row],[Importe IVA ]]","v":{"$error":"#VALUE!"}},{"$f":"Tabla13[[#This Row],[Importe de adjudicación (IVA INCLUIDO)]]","v":{"$error":"#VALUE!"}}]
[{"$nulls":18},{"$f":"Tabla13[[#This Row],[Título del contrato]]&Tabla13[[#This Row],[Nº Expediente de la plataforma de contratación]]","v":{"$error":"#VALUE!"}},{"$f":"Tabla13[[#This Row],[Nº Expediente de la plataforma de contratación]]","v":{"$error":"#VALUE!"}},{"$f":"Tabla13[[#This Row],[Importe IVA ]]","v":{"$error":"#VALUE!"}},{"$f":"Tabla13[[#This Row],[Importe de adjudicación (IVA INCLUIDO)]]","v":{"$error":"#VALUE!"}}]
[{"$nulls":18},{"$f":"Tabla13[[#This Row],[Título del contrato]]&Tabla13[[#This Row],[Nº Expediente de la plataforma de contratación]]","v":{"$error":"#VALUE!"}},{"$f":"Tabla13[[#This Row],[Nº Expediente de la plataforma de contratación]]","v":{"$error":"#VALUE!"}},{"$f":"Tabla13[[#This Row],[Importe IVA ]]","v":{"$error":"#VALUE!"}},{"$f":"Tabla13[[#This Row],[Importe de adjudicación (IVA INCLUIDO)]]","v":{"$error":"#VALUE!"}}]
[{"$nulls":18},{"$f":"Tabla13[[#This Row],[Título del contrato]]&Tabla13[[#This Row],[Nº Expediente de la plataforma de contratación]]","v":{"$error":"#VALUE!"}},{"$f":"Tabla13[[#This Row],[Nº Expediente de la plataforma de contratación]]","v":{"$error":"#VALUE!"}},{"$f":"Tabla13[[#This Row],[Importe IVA ]]","v":{"$error":"#VALUE!"}},{"$f":"Tabla13[[#This Row],[Importe de adjudicación (IVA INCLUIDO)]]","v":{"$error":"#VALUE!"}}]
[{"$nulls":18},{"$f":"Tabla13[[#This Row],[Título del contrato]]&Tabla13[[#This Row],[Nº Expediente de la plataforma de contratación]]","v":{"$error":"#VALUE!"}},{"$f":"Tabla13[[#This Row],[Nº Expediente de la plataforma de contratación]]","v":{"$error":"#VALUE!"}},{"$f":"Tabla13[[#This Row],[Importe IVA ]]","v":{"$error":"#VALUE!"}},{"$f":"Tabla13[[#This Row],[Importe de adjudicación (IVA INCLUIDO)]]","v":{"$error":"#VALUE!"}}]
[{"$nulls":18},{"$f":"Tabla13[[#This Row],[Título del contrato]]&Tabla13[[#This Row],[Nº Expediente de la plataforma de contratación]]","v":{"$error":"#VALUE!"}},{"$f":"Tabla13[[#This Row],[Nº Expediente de la plataforma de contratación]]","v":{"$error":"#VALUE!"}},{"$f":"Tabla13[[#This Row],[Importe IVA ]]","v":{"$error":"#VALUE!"}},{"$f":"Tabla13[[#This Row],[Importe de adjudicación (IVA INCLUIDO)]]","v":{"$error":"#VALUE!"}}]
[{"$nulls":18},{"$f":"Tabla13[[#This Row],[Título del contrato]]&Tabla13[[#This Row],[Nº Expediente de la plataforma de contratación]]","v":{"$error":"#VALUE!"}},{"$f":"Tabla13[[#This Row],[Nº Expediente de la plataforma de contratación]]","v":{"$error":"#VALUE!"}},{"$f":"Tabla13[[#This Row],[Importe IVA ]]","v":{"$error":"#VALUE!"}},{"$f":"Tabla13[[#This Row],[Importe de adjudicación (IVA INCLUIDO)]]","v":{"$error":"#VALUE!"}}]
[{"$nulls":18},{"$f":"Tabla13[[#This Row],[Título del contrato]]&Tabla13[[#This Row],[Nº Expediente de la plataforma de contratación]]","v":{"$error":"#VALUE!"}},{"$f":"Tabla13[[#This Row],[Nº Expediente de la plataforma de contratación]]","v":{"$error":"#VALUE!"}},{"$f":"Tabla13[[#This Row],[Importe IVA ]]","v":{"$error":"#VALUE!"}},{"$f":"Tabla13[[#This Row],[Importe de adjudicación (IVA INCLUIDO)]]","v":{"$error":"#VALUE!"}}]
[{"$nulls":18},{"$f":"Tabla13[[#This Row],[Título del contrato]]&Tabla13[[#This Row],[Nº Expediente de la plataforma de contratación]]","v":{"$error":"#VALUE!"}},{"$f":"Tabla13[[#This Row],[Nº Expediente de la plataforma de contratación]]","v":{"$error":"#VALUE!"}},{"$f":"Tabla13[[#This Row],[Importe IVA ]]","v":{"$error":"#VALUE!"}},{"$f":"Tabla13[[#This Row],[Importe de adjudicación (IVA INCLUIDO)]]","v":{"$error":"#VALUE!"}}]
[{"$nulls":18},{"$f":"Tabla13[[#This Row],[Título del contrato]]&Tabla13[[#This Row],[Nº Expediente de la plataforma de contratación]]","v":{"$error":"#VALUE!"}},{"$f":"Tabla13[[#This Row],[Nº Expediente de la plataforma de contratación]]","v":{"$error":"#VALUE!"}},{"$f":"Tabla13[[#This Row],[Importe IVA ]]","v":{"$error":"#VALUE!"}},{"$f":"Tabla13[[#This Row],[Importe de adjudicación (IVA INCLUIDO)]]","v":{"$error":"#VALUE!"}}]
[{"$nulls":18},{"$f":"Tabla13[[#This Row],[Título del contrato]]&Tabla13[[#This Row],[Nº Expediente de la plataforma de contratación]]","v":{"$error":"#VALUE!"}},{"$f":"Tabla13[[#This Row],[Nº Expediente de la plataforma de contratación]]","v":{"$error":"#VALUE!"}},{"$f":"Tabla13[[#This Row],[Importe IVA ]]","v":{"$error":"#VALUE!"}},{"$f":"Tabla13[[#This Row],[Importe de adjudicación (IVA INCLUIDO)]]","v":{"$error":"#VALUE!"}}]
[{"$nulls":18},{"$f":"Tabla13[[#This Row],[Título del contrato]]&Tabla13[[#This Row],[Nº Expediente de la plataforma de contratación]]","v":{"$error":"#VALUE!"}},{"$f":"Tabla13[[#This Row],[Nº Expediente de la plataforma de contratación]]","v":{"$error":"#VALUE!"}},{"$f":"Tabla13[[#This Row],[Importe IVA ]]","v":{"$error":"#VALUE!"}},{"$f":"Tabla13[[#This Row],[Importe de adjudicación (IVA INCLUIDO)]]","v":{"$error":"#VALUE!"}}]
[{"$nulls":18},{"$f":"Tabla13[[#This Row],[Título del contrato]]&Tabla13[[#This Row],[Nº Expediente de la plataforma de contratación]]","v":{"$error":"#VALUE!"}},{"$f":"Tabla13[[#This Row],[Nº Expediente de la plataforma de contratación]]","v":{"$error":"#VALUE!"}},{"$f":"Tabla13[[#This Row],[Importe IVA ]]","v":{"$error":"#VALUE!"}},{"$f":"Tabla13[[#This Row],[Importe de adjudicación (IVA INCLUIDO)]]","v":{"$error":"#VALUE!"}}]
[{"$nulls":18},{"$f":"Tabla13[[#This Row],[Título del contrato]]&Tabla13[[#This Row],[Nº Expediente de la plataforma de contratación]]","v":{"$error":"#VALUE!"}},{"$f":"Tabla13[[#This Row],[Nº Expediente de la plataforma de contratación]]","v":{"$error":"#VALUE!"}},{"$f":"Tabla13[[#This Row],[Importe IVA ]]","v":{"$error":"#VALUE!"}},{"$f":"Tabla13[[#This Row],[Importe de adjudicación (IVA INCLUIDO)]]","v":{"$error":"#VALUE!"}}]
[{"$nulls":18},{"$f":"Tabla13[[#This Row],[Título del contrato]]&Tabla13[[#This Row],[Nº Expediente de la plataforma de contratación]]","v":{"$error":"#VALUE!"}},{"$f":"Tabla13[[#This Row],[Nº Expediente de la plataforma de contratación]]","v":{"$error":"#VALUE!"}},{"$f":"Tabla13[[#This Row],[Importe IVA ]]","v":{"$error":"#VALUE!"}},{"$f":"Tabla13[[#This Row],[Importe de adjudicación (IVA INCLUIDO)]]","v":{"$error":"#VALUE!"}}]
[{"$nulls":18},{"$f":"Tabla13[[#This Row],[Título del contrato]]&Tabla13[[#This Row],[Nº Expediente de la plataforma de contratación]]","v":{"$error":"#VALUE!"}},{"$f":"Tabla13[[#This Row],[Nº Expediente de la plataforma de contratación]]","v":{"$error":"#VALUE!"}},{"$f":"Tabla13[[#This Row],[Importe IVA ]]","v":{"$error":"#VALUE!"}},{"$f":"Tabla13[[#This Row],[Importe de adjudicación (IVA INCLUIDO)]]","v":{"$error":"#VALUE!"}}]
[{"$nulls":18},{"$f":"Tabla13[[#This Row],[Título del contrato]]&Tabla13[[#This Row],[Nº Expediente de la plataforma de contratación]]","v":{"$error":"#VALUE!"}},{"$f":"Tabla13[[#This Row],[Nº Expediente de la plataforma de contratación]]","v":{"$error":"#VALUE!"}},{"$f":"Tabla13[[#This Row],[Importe IVA ]]","v":{"$error":"#VALUE!"}},{"$f":"Tabla13[[#This Row],[Importe de adjudicación (IVA INCLUIDO)]]","v":{"$error":"#VALUE!"}}]
[{"$nulls":18},{"$f":"Tabla13[[#This Row],[Título del contrato]]&Tabla13[[#This Row],[Nº Expediente de la plataforma de contratación]]","v":{"$error":"#VALUE!"}},{"$f":"Tabla13[[#This Row],[Nº Expediente de la plataforma de contratación]]","v":{"$error":"#VALUE!"}},{"$f":"Tabla13[[#This Row],[Importe IVA ]]","v":{"$error":"#VALUE!"}},{"$f":"Tabla13[[#This Row],[Importe de adjudicación (IVA INCLUIDO)]]","v":{"$error":"#VALUE!"}}]
[{"$nulls":18},{"$f":"Tabla13[[#This Row],[Título del contrato]]&Tabla13[[#This Row],[Nº Expediente de la plataforma de contratación]]","v":{"$error":"#VALUE!"}},{"$f":"Tabla13[[#This Row],[Nº Expediente de la plataforma de contratación]]","v":{"$error":"#VALUE!"}},{"$f":"Tabla13[[#This Row],[Importe IVA ]]","v":{"$error":"#VALUE!"}},{"$f":"Tabla13[[#This Row],[Importe de adjudicación (IVA INCLUIDO)]]","v":{"$error":"#VALUE!"}}]
[{"$nulls":18},{"$f":"Tabla13[[#This Row],[Título del contrato]]&Tabla13[[#This Row],[Nº Expediente de la plataforma de contratación]]","v":{"$error":"#VALUE!"}},{"$f":"Tabla13[[#This Row],[Nº Expediente de la plataforma de contratación]]","v":{"$error":"#VALUE!"}},{"$f":"Tabla13[[#This Row],[Importe IVA ]]","v":{"$error":"#VALUE!"}},{"$f":"Tabla13[[#This Row],[Importe de adjudicación (IVA INCLUIDO)]]","v":{"$error":"#VALUE!"}}]
[{"$nulls":18},{"$f":"Tabla13[[#This Row],[Título del contrato]]&Tabla13[[#This Row],[Nº Expediente de la plataforma de contratación]]","v":{"$error":"#VALUE!"}},{"$f":"Tabla13[[#This Row],[Nº Expediente de la plataforma de contratación]]","v":{"$error":"#VALUE!"}},{"$f":"Tabla13[[#This Row],[Importe IVA ]]","v":{"$error":"#VALUE!"}},{"$f":"Tabla13[[#This Row],[Importe de adjudicación (IVA INCLUIDO)]]","v":{"$error":"#VALUE!"}}]
[{"$nulls":18},{"$f":"Tabla13[[#This Row],[Título del contrato]]&Tabla13[[#This Row],[Nº Expediente de la plataforma de contratación]]","v":{"$error":"#VALUE!"}},{"$f":"Tabla13[[#This Row],[Nº Expediente de la plataforma de contratación]]","v":{"$error":"#VALUE!"}},{"$f":"Tabla13[[#This Row],[Importe IVA ]]","v":{"$error":"#VALUE!"}},{"$f":"Tabla13[[#This Row],[Importe de adjudicación (IVA INCLUIDO)]]","v":{"$error":"#VALUE!"}}]
[{"$nulls":18},{"$f":"Tabla13[[#This Row],[Título del contrato]]&Tabla13[[#This Row],[Nº Expediente de la plataforma de contratación]]","v":{"$error":"#VALUE!"}},{"$f":"Tabla13[[#This Row],[Nº Expediente de la plataforma de contratación]]","v":{"$error":"#VALUE!"}},{"$f":"Tabla13[[#This Row],[Importe IVA ]]","v":{"$error":"#VALUE!"}},{"$f":"Tabla13[[#This Row],[Importe de adjudicación (IVA INCLUIDO)]]","v":{"$error":"#VALUE!"}}]
[{"$nulls":18},{"$f":"Tabla13[[#This Row],[Título del contrato]]&Tabla13[[#This Row],[Nº Expediente de la plataforma de contratación]]","v":{"$error":"#VALUE!"}},{"$f":"Tabla13[[#This Row],[Nº Expediente de la plataforma de contratación]]","v":{"$error":"#VALUE!"}},{"$f":"Tabla13[[#This Row],[Importe IVA ]]","v":{"$error":"#VALUE!"}},{"$f":"Tabla13[[#This Row],[Importe de adjudicación (IVA INCLUIDO)]]","v":{"$error":"#VALUE!"}}]
[{"$nulls":18},{"$f":"Tabla13[[#This Row],[Título del contrato]]&Tabla13[[#This Row],[Nº Expediente de la plataforma de contratación]]","v":{"$error":"#VALUE!"}},{"$f":"Tabla13[[#This Row],[Nº Expediente de la plataforma de contratación]]","v":{"$error":"#VALUE!"}},{"$f":"Tabla13[[#This Row],[Importe IVA ]]","v":{"$error":"#VALUE!"}},{"$f":"Tabla13[[#This Row],[Importe de adjudicación (IVA INCLUIDO)]]","v":{"$error":"#VALUE!"}}]
[{"$nulls":18},{"$f":"Tabla13[[#This Row],[Título del contrato]]&Tabla13[[#This Row],[Nº Expediente de la plataforma de contratación]]","v":{"$error":"#VALUE!"}},{"$f":"Tabla13[[#This Row],[Nº Expediente de la plataforma de contratación]]","v":{"$error":"#VALUE!"}},{"$f":"Tabla13[[#This Row],[Importe IVA ]]","v":{"$error":"#VALUE!"}},{"$f":"Tabla13[[#This Row],[Importe de adjudicación (IVA INCLUIDO)]]","v":{"$error":"#VALUE!"}}]
[{"$nulls":18},{"$f":"Tabla13[[#This Row],[Título del contrato]]&Tabla13[[#This Row],[Nº Expediente de la plataforma de contratación]]","v":{"$error":"#VALUE!"}},{"$f":"Tabla13[[#This Row],[Nº Expediente de la plataforma de contratación]]","v":{"$error":"#VALUE!"}},{"$f":"Tabla13[[#This Row],[Importe IVA ]]","v":{"$error":"#VALUE!"}},{"$f":"Tabla13[[#This Row],[Importe de adjudicación (IVA INCLUIDO)]]","v":{"$error":"#VALUE!"}}]
[{"$nulls":18},{"$f":"Tabla13[[#This Row],[Título del contrato]]&Tabla13[[#This Row],[Nº Expediente de la plataforma de contratación]]","v":{"$error":"#VALUE!"}},{"$f":"Tabla13[[#This Row],[Nº Expediente de la plataforma de contratación]]","v":{"$error":"#VALUE!"}},{"$f":"Tabla13[[#This Row],[Importe IVA ]]","v":{"$error":"#VALUE!"}},{"$f":"Tabla13[[#This Row],[Importe de adjudicación (IVA INCLUIDO)]]","v":{"$error":"#VALUE!"}}]
[{"$nulls":18},{"$f":"Tabla13[[#This Row],[Título del contrato]]&Tabla13[[#This Row],[Nº Expediente de la plataforma de contratación]]","v":{"$error":"#VALUE!"}},{"$f":"Tabla13[[#This Row],[Nº Expediente de la plataforma de contratación]]","v":{"$error":"#VALUE!"}},{"$f":"Tabla13[[#This Row],[Importe IVA ]]","v":{"$error":"#VALUE!"}},{"$f":"Tabla13[[#This Row],[Importe de adjudicación (IVA INCLUIDO)]]","v":{"$error":"#VALUE!"}}]
[{"$nulls":18},{"$f":"Tabla13[[#This Row],[Título del contrato]]&Tabla13[[#This Row],[Nº Expediente de la plataforma de contratación]]","v":{"$error":"#VALUE!"}},{"$f":"Tabla13[[#This Row],[Nº Expediente de la plataforma de contratación]]","v":{"$error":"#VALUE!"}},{"$f":"Tabla13[[#This Row],[Importe IVA ]]","v":{"$error":"#VALUE!"}},{"$f":"Tabla13[[#This Row],[Importe de adjudicación (IVA INCLUIDO)]]","v":{"$error":"#VALUE!"}}]
[{"$nulls":18},{"$f":"Tabla13[[#This Row],[Título del contrato]]&Tabla13[[#This Row],[Nº Expediente de la plataforma de contratación]]","v":{"$error":"#VALUE!"}},{"$f":"Tabla13[[#This Row],[Nº Expediente de la plataforma de contratación]]","v":{"$error":"#VALUE!"}},{"$f":"Tabla13[[#This Row],[Importe IVA ]]","v":{"$error":"#VALUE!"}},{"$f":"Tabla13[[#This Row],[Importe de adjudicación (IVA INCLUIDO)]]","v":{"$error":"#VALUE!"}}]
[{"$nulls":18},{"$f":"Tabla13[[#This Row],[Título del contrato]]&Tabla13[[#This Row],[Nº Expediente de la plataforma de contratación]]","v":{"$error":"#VALUE!"}},{"$f":"Tabla13[[#This Row],[Nº Expediente de la plataforma de contratación]]","v":{"$error":"#VALUE!"}},{"$f":"Tabla13[[#This Row],[Importe IVA ]]","v":{"$error":"#VALUE!"}},{"$f":"Tabla13[[#This Row],[Importe de adjudicación (IVA INCLUIDO)]]","v":{"$error":"#VALUE!"}}]
[{"$nulls":18},{"$f":"Tabla13[[#This Row],[Título del contrato]]&Tabla13[[#This Row],[Nº Expediente de la plataforma de contratación]]","v":{"$error":"#VALUE!"}},{"$f":"Tabla13[[#This Row],[Nº Expediente de la plataforma de contratación]]","v":{"$error":"#VALUE!"}},{"$f":"Tabla13[[#This Row],[Importe IVA ]]","v":{"$error":"#VALUE!"}},{"$f":"Tabla13[[#This Row],[Importe de adjudicación (IVA INCLUIDO)]]","v":{"$error":"#VALUE!"}}]
[{"$nulls":18},{"$f":"Tabla13[[#This Row],[Título del contrato]]&Tabla13[[#This Row],[Nº Expediente de la plataforma de contratación]]","v":{"$error":"#VALUE!"}},{"$f":"Tabla13[[#This Row],[Nº Expediente de la plataforma de contratación]]","v":{"$error":"#VALUE!"}},{"$f":"Tabla13[[#This Row],[Importe IVA ]]","v":{"$error":"#VALUE!"}},{"$f":"Tabla13[[#This Row],[Importe de adjudicación (IVA INCLUIDO)]]","v":{"$error":"#VALUE!"}}]
[{"$nulls":18},{"$f":"Tabla13[[#This Row],[Título del contrato]]&Tabla13[[#This Row],[Nº Expediente de la plataforma de contratación]]","v":{"$error":"#VALUE!"}},{"$f":"Tabla13[[#This Row],[Nº Expediente de la plataforma de contratación]]","v":{"$error":"#VALUE!"}},{"$f":"Tabla13[[#This Row],[Importe IVA ]]","v":{"$error":"#VALUE!"}},{"$f":"Tabla13[[#This Row],[Importe de adjudicación (IVA INCLUIDO)]]","v":{"$error":"#VALUE!"}}]
[{"$nulls":18},{"$f":"Tabla13[[#This Row],[Título del contrato]]&Tabla13[[#This Row],[Nº Expediente de la plataforma de contratación]]","v":{"$error":"#VALUE!"}},{"$f":"Tabla13[[#This Row],[Nº Expediente de la plataforma de contratación]]","v":{"$error":"#VALUE!"}},{"$f":"Tabla13[[#This Row],[Importe IVA ]]","v":{"$error":"#VALUE!"}},{"$f":"Tabla13[[#This Row],[Importe de adjudicación (IVA INCLUIDO)]]","v":{"$error":"#VALUE!"}}]
[{"$nulls":18},{"$f":"Tabla13[[#This Row],[Título del contrato]]&Tabla13[[#This Row],[Nº Expediente de la plataforma de contratación]]","v":{"$error":"#VALUE!"}},{"$f":"Tabla13[[#This Row],[Nº Expediente de la plataforma de contratación]]","v":{"$error":"#VALUE!"}},{"$f":"Tabla13[[#This Row],[Importe IVA ]]","v":{"$error":"#VALUE!"}},{"$f":"Tabla13[[#This Row],[Importe de adjudicación (IVA INCLUIDO)]]","v":{"$error":"#VALUE!"}}]
[{"$nulls":18},{"$f":"Tabla13[[#This Row],[Título del contrato]]&Tabla13[[#This Row],[Nº Expediente de la plataforma de contratación]]","v":{"$error":"#VALUE!"}},{"$f":"Tabla13[[#This Row],[Nº Expediente de la plataforma de contratación]]","v":{"$error":"#VALUE!"}},{"$f":"Tabla13[[#This Row],[Importe IVA ]]","v":{"$error":"#VALUE!"}},{"$f":"Tabla13[[#This Row],[Importe de adjudicación (IVA INCLUIDO)]]","v":{"$error":"#VALUE!"}}]
[{"$nulls":18},{"$f":"Tabla13[[#This Row],[Título del contrato]]&Tabla13[[#This Row],[Nº Expediente de la plataforma de contratación]]","v":{"$error":"#VALUE!"}},{"$f":"Tabla13[[#This Row],[Nº Expediente de la plataforma de contratación]]","v":{"$error":"#VALUE!"}},{"$f":"Tabla13[[#This Row],[Importe IVA ]]","v":{"$error":"#VALUE!"}},{"$f":"Tabla13[[#This Row],[Importe de adjudicación (IVA INCLUIDO)]]","v":{"$error":"#VALUE!"}}]
[{"$nulls":18},{"$f":"Tabla13[[#This Row],[Título del contrato]]&Tabla13[[#This Row],[Nº Expediente de la plataforma de contratación]]","v":{"$error":"#VALUE!"}},{"$f":"Tabla13[[#This Row],[Nº Expediente de la plataforma de contratación]]","v":{"$error":"#VALUE!"}},{"$f":"Tabla13[[#This Row],[Importe IVA ]]","v":{"$error":"#VALUE!"}},{"$f":"Tabla13[[#This Row],[Importe de adjudicación (IVA INCLUIDO)]]","v":{"$error":"#VALUE!"}}]
[{"$nulls":18},{"$f":"Tabla13[[#This Row],[Título del contrato]]&Tabla13[[#This Row],[Nº Expediente de la plataforma de contratación]]","v":{"$error":"#VALUE!"}},{"$f":"Tabla13[[#This Row],[Nº Expediente de la plataforma de contratación]]","v":{"$error":"#VALUE!"}},{"$f":"Tabla13[[#This Row],[Importe IVA ]]","v":{"$error":"#VALUE!"}},{"$f":"Tabla13[[#This Row],[Importe de adjudicación (IVA INCLUIDO)]]","v":{"$error":"#VALUE!"}}]
[{"$nulls":18},{"$f":"Tabla13[[#This Row],[Título del contrato]]&Tabla13[[#This Row],[Nº Expediente de la plataforma de contratación]]","v":{"$error":"#VALUE!"}},{"$f":"Tabla13[[#This Row],[Nº Expediente de la plataforma de contratación]]","v":{"$error":"#VALUE!"}},{"$f":"Tabla13[[#This Row],[Importe IVA ]]","v":{"$error":"#VALUE!"}},{"$f":"Tabla13[[#This Row],[Importe de adjudicación (IVA INCLUIDO)]]","v":{"$error":"#VALUE!"}}]
[{"$nulls":18},{"$f":"Tabla13[[#This Row],[Título del contrato]]&Tabla13[[#This Row],[Nº Expediente de la plataforma de contratación]]","v":{"$error":"#VALUE!"}},{"$f":"Tabla13[[#This Row],[Nº Expediente de la plataforma de contratación]]","v":{"$error":"#VALUE!"}},{"$f":"Tabla13[[#This Row],[Importe IVA ]]","v":{"$error":"#VALUE!"}},{"$f":"Tabla13[[#This Row],[Importe de adjudicación (IVA INCLUIDO)]]","v":{"$error":"#VALUE!"}}]
[{"$nulls":18},{"$f":"Tabla13[[#This Row],[Título del contrato]]&Tabla13[[#This Row],[Nº Expediente de la plataforma de contratación]]","v":{"$error":"#VALUE!"}},{"$f":"Tabla13[[#This Row],[Nº Expediente de la plataforma de contratación]]","v":{"$error":"#VALUE!"}},{"$f":"Tabla13[[#This Row],[Importe IVA ]]","v":{"$error":"#VALUE!"}},{"$f":"Tabla13[[#This Row],[Importe de adjudicación (IVA INCLUIDO)]]","v":{"$error":"#VALUE!"}}]
[{"$nulls":18},{"$f":"Tabla13[[#This Row],[Título del contrato]]&Tabla13[[#This Row],[Nº Expediente de la plataforma de contratación]]","v":{"$error":"#VALUE!"}},{"$f":"Tabla13[[#This Row],[Nº Expediente de la plataforma de contratación]]","v":{"$error":"#VALUE!"}},{"$f":"Tabla13[[#This Row],[Importe IVA ]]","v":{"$error":"#VALUE!"}},{"$f":"Tabla13[[#This Row],[Importe de adjudicación (IVA INCLUIDO)]]","v":{"$error":"#VALUE!"}}]
[{"$nulls":18},{"$f":"Tabla13[[#This Row],[Título del contrato]]&Tabla13[[#This Row],[Nº Expediente de la plataforma de contratación]]","v":{"$error":"#VALUE!"}},{"$f":"Tabla13[[#This Row],[Nº Expediente de la plataforma de contratación]]","v":{"$error":"#VALUE!"}},{"$f":"Tabla13[[#This Row],[Importe IVA ]]","v":{"$error":"#VALUE!"}},{"$f":"Tabla13[[#This Row],[Importe de adjudicación (IVA INCLUIDO)]]","v":{"$error":"#VALUE!"}}]
[{"$nulls":18},{"$f":"Tabla13[[#This Row],[Título del contrato]]&Tabla13[[#This Row],[Nº Expediente de la plataforma de contratación]]","v":{"$error":"#VALUE!"}},{"$f":"Tabla13[[#This Row],[Nº Expediente de la plataforma de contratación]]","v":{"$error":"#VALUE!"}},{"$f":"Tabla13[[#This Row],[Importe IVA ]]","v":{"$error":"#VALUE!"}},{"$f":"Tabla13[[#This Row],[Importe de adjudicación (IVA INCLUIDO)]]","v":{"$error":"#VALUE!"}}]
[{"$nulls":18},{"$f":"Tabla13[[#This Row],[Título del contrato]]&Tabla13[[#This Row],[Nº Expediente de la plataforma de contratación]]","v":{"$error":"#VALUE!"}},{"$f":"Tabla13[[#This Row],[Nº Expediente de la plataforma de contratación]]","v":{"$error":"#VALUE!"}},{"$f":"Tabla13[[#This Row],[Importe IVA ]]","v":{"$error":"#VALUE!"}},{"$f":"Tabla13[[#This Row],[Importe de adjudicación (IVA INCLUIDO)]]","v":{"$error":"#VALUE!"}}]
[{"$nulls":18},{"$f":"Tabla13[[#This Row],[Título del contrato]]&Tabla13[[#This Row],[Nº Expediente de la plataforma de contratación]]","v":{"$error":"#VALUE!"}},{"$f":"Tabla13[[#This Row],[Nº Expediente de la plataforma de contratación]]","v":{"$error":"#VALUE!"}},{"$f":"Tabla13[[#This Row],[Importe IVA ]]","v":{"$error":"#VALUE!"}},{"$f":"Tabla13[[#This Row],[Importe de adjudicación (IVA INCLUIDO)]]","v":{"$error":"#VALUE!"}}]
[{"$nulls":18},{"$f":"Tabla13[[#This Row],[Título del contrato]]&Tabla13[[#This Row],[Nº Expediente de la plataforma de contratación]]","v":{"$error":"#VALUE!"}},{"$f":"Tabla13[[#This Row],[Nº Expediente de la plataforma de contratación]]","v":{"$error":"#VALUE!"}},{"$f":"Tabla13[[#This Row],[Importe IVA ]]","v":{"$error":"#VALUE!"}},{"$f":"Tabla13[[#This Row],[Importe de adjudicación (IVA INCLUIDO)]]","v":{"$error":"#VALUE!"}}]
[{"$nulls":18},{"$f":"Tabla13[[#This Row],[Título del contrato]]&Tabla13[[#This Row],[Nº Expediente de la plataforma de contratación]]","v":{"$error":"#VALUE!"}},{"$f":"Tabla13[[#This Row],[Nº Expediente de la plataforma de contratación]]","v":{"$error":"#VALUE!"}},{"$f":"Tabla13[[#This Row],[Importe IVA ]]","v":{"$error":"#VALUE!"}},{"$f":"Tabla13[[#This Row],[Importe de adjudicación (IVA INCLUIDO)]]","v":{"$error":"#VALUE!"}}]
[{"$nulls":18},{"$f":"Tabla13[[#This Row],[Título del contrato]]&Tabla13[[#This Row],[Nº Expediente de la plataforma de contratación]]","v":{"$error":"#VALUE!"}},{"$f":"Tabla13[[#This Row],[Nº Expediente de la plataforma de contratación]]","v":{"$error":"#VALUE!"}},{"$f":"Tabla13[[#This Row],[Importe IVA ]]","v":{"$error":"#VALUE!"}},{"$f":"Tabla13[[#This Row],[Importe de adjudicación (IVA INCLUIDO)]]","v":{"$error":"#VALUE!"}}]
[{"$nulls":18},{"$f":"Tabla13[[#This Row],[Título del contrato]]&Tabla13[[#This Row],[Nº Expediente de la plataforma de contratación]]","v":{"$error":"#VALUE!"}},{"$f":"Tabla13[[#This Row],[Nº Expediente de la plataforma de contratación]]","v":{"$error":"#VALUE!"}},{"$f":"Tabla13[[#This Row],[Importe IVA ]]","v":{"$error":"#VALUE!"}},{"$f":"Tabla13[[#This Row],[Importe de adjudicación (IVA INCLUIDO)]]","v":{"$error":"#VALUE!"}}]
[{"$nulls":18},{"$f":"Tabla13[[#This Row],[Título del contrato]]&Tabla13[[#This Row],[Nº Expediente de la plataforma de contratación]]","v":{"$error":"#VALUE!"}},{"$f":"Tabla13[[#This Row],[Nº Expediente de la plataforma de contratación]]","v":{"$error":"#VALUE!"}},{"$f":"Tabla13[[#This Row],[Importe IVA ]]","v":{"$error":"#VALUE!"}},{"$f":"Tabla13[[#This Row],[Importe de adjudicación (IVA INCLUIDO)]]","v":{"$error":"#VALUE!"}}]
[{"$nulls":18},{"$f":"Tabla13[[#This Row],[Título del contrato]]&Tabla13[[#This Row],[Nº Expediente de la plataforma de contratación]]","v":{"$error":"#VALUE!"}},{"$f":"Tabla13[[#This Row],[Nº Expediente de la plataforma de contratación]]","v":{"$error":"#VALUE!"}},{"$f":"Tabla13[[#This Row],[Importe IVA ]]","v":{"$error":"#VALUE!"}},{"$f":"Tabla13[[#This Row],[Importe de adjudicación (IVA INCLUIDO)]]","v":{"$error":"#VALUE!"}}]
[{"$nulls":18},{"$f":"Tabla13[[#This Row],[Título del contrato]]&Tabla13[[#This Row],[Nº Expediente de la plataforma de contratación]]","v":{"$error":"#VALUE!"}},{"$f":"Tabla13[[#This Row],[Nº Expediente de la plataforma de contratación]]","v":{"$error":"#VALUE!"}},{"$f":"Tabla13[[#This Row],[Importe IVA ]]","v":{"$error":"#VALUE!"}},{"$f":"Tabla13[[#This Row],[Importe de adjudicación (IVA INCLUIDO)]]","v":{"$error":"#VALUE!"}}]
[{"$nulls":18},{"$f":"Tabla13[[#This Row],[Título del contrato]]&Tabla13[[#This Row],[Nº Expediente de la plataforma de contratación]]","v":{"$error":"#VALUE!"}},{"$f":"Tabla13[[#This Row],[Nº Expediente de la plataforma de contratación]]","v":{"$error":"#VALUE!"}},{"$f":"Tabla13[[#This Row],[Importe IVA ]]","v":{"$error":"#VALUE!"}},{"$f":"Tabla13[[#This Row],[Importe de adjudicación (IVA INCLUIDO)]]","v":{"$error":"#VALUE!"}}]
[{"$nulls":18},{"$f":"Tabla13[[#This Row],[Título del contrato]]&Tabla13[[#This Row],[Nº Expediente de la plataforma de contratación]]","v":{"$error":"#VALUE!"}},{"$f":"Tabla13[[#This Row],[Nº Expediente de la plataforma de contratación]]","v":{"$error":"#VALUE!"}},{"$f":"Tabla13[[#This Row],[Importe IVA ]]","v":{"$error":"#VALUE!"}},{"$f":"Tabla13[[#This Row],[Importe de adjudicación (IVA INCLUIDO)]]","v":{"$error":"#VALUE!"}}]
[{"$nulls":18},{"$f":"Tabla13[[#This Row],[Título del contrato]]&Tabla13[[#This Row],[Nº Expediente de la plataforma de contratación]]","v":{"$error":"#VALUE!"}},{"$f":"Tabla13[[#This Row],[Nº Expediente de la plataforma de contratación]]","v":{"$error":"#VALUE!"}},{"$f":"Tabla13[[#This Row],[Importe IVA ]]","v":{"$error":"#VALUE!"}},{"$f":"Tabla13[[#This Row],[Importe de adjudicación (IVA INCLUIDO)]]","v":{"$error":"#VALUE!"}}]
[{"$nulls":18},{"$f":"Tabla13[[#This Row],[Título del contrato]]&Tabla13[[#This Row],[Nº Expediente de la plataforma de contratación]]","v":{"$error":"#VALUE!"}},{"$f":"Tabla13[[#This Row],[Nº Expediente de la plataforma de contratación]]","v":{"$error":"#VALUE!"}},{"$f":"Tabla13[[#This Row],[Importe IVA ]]","v":{"$error":"#VALUE!"}},{"$f":"Tabla13[[#This Row],[Importe de adjudicación (IVA INCLUIDO)]]","v":{"$error":"#VALUE!"}}]
[{"$nulls":18},{"$f":"Tabla13[[#This Row],[Título del contrato]]&Tabla13[[#This Row],[Nº Expediente de la plataforma de contratación]]","v":{"$error":"#VALUE!"}},{"$f":"Tabla13[[#This Row],[Nº Expediente de la plataforma de contratación]]","v":{"$error":"#VALUE!"}},{"$f":"Tabla13[[#This Row],[Importe IVA ]]","v":{"$error":"#VALUE!"}},{"$f":"Tabla13[[#This Row],[Importe de adjudicación (IVA INCLUIDO)]]","v":{"$error":"#VALUE!"}}]
[{"$nulls":18},{"$f":"Tabla13[[#This Row],[Título del contrato]]&Tabla13[[#This Row],[Nº Expediente de la plataforma de contratación]]","v":{"$error":"#VALUE!"}},{"$f":"Tabla13[[#This Row],[Nº Expediente de la plataforma de contratación]]","v":{"$error":"#VALUE!"}},{"$f":"Tabla13[[#This Row],[Importe IVA ]]","v":{"$error":"#VALUE!"}},{"$f":"Tabla13[[#This Row],[Importe de adjudicación (IVA INCLUIDO)]]","v":{"$error":"#VALUE!"}}]
[{"$nulls":18},{"$f":"Tabla13[[#This Row],[Título del contrato]]&Tabla13[[#This Row],[Nº Expediente de la plataforma de contratación]]","v":{"$error":"#VALUE!"}},{"$f":"Tabla13[[#This Row],[Nº Expediente de la plataforma de contratación]]","v":{"$error":"#VALUE!"}},{"$f":"Tabla13[[#This Row],[Importe IVA ]]","v":{"$error":"#VALUE!"}},{"$f":"Tabla13[[#This Row],[Importe de adjudicación (IVA INCLUIDO)]]","v":{"$error":"#VALUE!"}}]
[{"$nulls":18},{"$f":"Tabla13[[#This Row],[Título del contrato]]&Tabla13[[#This Row],[Nº Expediente de la plataforma de contratación]]","v":{"$error":"#VALUE!"}},{"$f":"Tabla13[[#This Row],[Nº Expediente de la plataforma de contratación]]","v":{"$error":"#VALUE!"}},{"$f":"Tabla13[[#This Row],[Importe IVA ]]","v":{"$error":"#VALUE!"}},{"$f":"Tabla13[[#This Row],[Importe de adjudicación (IVA INCLUIDO)]]","v":{"$error":"#VALUE!"}}]
[{"$nulls":18},{"$f":"Tabla13[[#This Row],[Título del contrato]]&Tabla13[[#This Row],[Nº Expediente de la plataforma de contratación]]","v":{"$error":"#VALUE!"}},{"$f":"Tabla13[[#This Row],[Nº Expediente de la plataforma de contratación]]","v":{"$error":"#VALUE!"}},{"$f":"Tabla13[[#This Row],[Importe IVA ]]","v":{"$error":"#VALUE!"}},{"$f":"Tabla13[[#This Row],[Importe de adjudicación (IVA INCLUIDO)]]","v":{"$error":"#VALUE!"}}]
[{"$nulls":18},{"$f":"Tabla13[[#This Row],[Título del contrato]]&Tabla13[[#This Row],[Nº Expediente de la plataforma de contratación]]","v":{"$error":"#VALUE!"}},{"$f":"Tabla13[[#This Row],[Nº Expediente de la plataforma de contratación]]","v":{"$error":"#VALUE!"}},{"$f":"Tabla13[[#This Row],[Importe IVA ]]","v":{"$error":"#VALUE!"}},{"$f":"Tabla13[[#This Row],[Importe de adjudicación (IVA INCLUIDO)]]","v":{"$error":"#VALUE!"}}]
[{"$nulls":18},{"$f":"Tabla13[[#This Row],[Título del contrato]]&Tabla13[[#This Row],[Nº Expediente de la plataforma de contratación]]","v":{"$error":"#VALUE!"}},{"$f":"Tabla13[[#This Row],[Nº Expediente de la plataforma de contratación]]","v":{"$error":"#VALUE!"}},{"$f":"Tabla13[[#This Row],[Importe IVA ]]","v":{"$error":"#VALUE!"}},{"$f":"Tabla13[[#This Row],[Importe de adjudicación (IVA INCLUIDO)]]","v":{"$error":"#VALUE!"}}]
[{"$nulls":18},{"$f":"Tabla13[[#This Row],[Título del contrato]]&Tabla13[[#This Row],[Nº Expediente de la plataforma de contratación]]","v":{"$error":"#VALUE!"}},{"$f":"Tabla13[[#This Row],[Nº Expediente de la plataforma de contratación]]","v":{"$error":"#VALUE!"}},{"$f":"Tabla13[[#This Row],[Importe IVA ]]","v":{"$error":"#VALUE!"}},{"$f":"Tabla13[[#This Row],[Importe de adjudicación (IVA INCLUIDO)]]","v":{"$error":"#VALUE!"}}]
[{"$nulls":18},{"$f":"Tabla13[[#This Row],[Título del contrato]]&Tabla13[[#This Row],[Nº Expediente de la plataforma de contratación]]","v":{"$error":"#VALUE!"}},{"$f":"Tabla13[[#This Row],[Nº Expediente de la plataforma de contratación]]","v":{"$error":"#VALUE!"}},{"$f":"Tabla13[[#This Row],[Importe IVA ]]","v":{"$error":"#VALUE!"}},{"$f":"Tabla13[[#This Row],[Importe de adjudicación (IVA INCLUIDO)]]","v":{"$error":"#VALUE!"}}]
[{"$nulls":18},{"$f":"Tabla13[[#This Row],[Título del contrato]]&Tabla13[[#This Row],[Nº Expediente de la plataforma de contratación]]","v":{"$error":"#VALUE!"}},{"$f":"Tabla13[[#This Row],[Nº Expediente de la plataforma de contratación]]","v":{"$error":"#VALUE!"}},{"$f":"Tabla13[[#This Row],[Importe IVA ]]","v":{"$error":"#VALUE!"}},{"$f":"Tabla13[[#This Row],[Importe de adjudicación (IVA INCLUIDO)]]","v":{"$error":"#VALUE!"}}]
[{"$nulls":18},{"$f":"Tabla13[[#This Row],[Título del contrato]]&Tabla13[[#This Row],[Nº Expediente de la plataforma de contratación]]","v":{"$error":"#VALUE!"}},{"$f":"Tabla13[[#This Row],[Nº Expediente de la plataforma de contratación]]","v":{"$error":"#VALUE!"}},{"$f":"Tabla13[[#This Row],[Importe IVA ]]","v":{"$error":"#VALUE!"}},{"$f":"Tabla13[[#This Row],[Importe de adjudicación (IVA INCLUIDO)]]","v":{"$error":"#VALUE!"}}]
[{"$nulls":18},{"$f":"Tabla13[[#This Row],[Título del contrato]]&Tabla13[[#This Row],[Nº Expediente de la plataforma de contratación]]","v":{"$error":"#VALUE!"}},{"$f":"Tabla13[[#This Row],[Nº Expediente de la plataforma de contratación]]","v":{"$error":"#VALUE!"}},{"$f":"Tabla13[[#This Row],[Importe IVA ]]","v":{"$error":"#VALUE!"}},{"$f":"Tabla13[[#This Row],[Importe de adjudicación (IVA INCLUIDO)]]","v":{"$error":"#VALUE!"}}]
[{"$nulls":18},{"$f":"Tabla13[[#This Row],[Título del contrato]]&Tabla13[[#This Row],[Nº Expediente de la plataforma de contratación]]","v":{"$error":"#VALUE!"}},{"$f":"Tabla13[[#This Row],[Nº Expediente de la plataforma de contratación]]","v":{"$error":"#VALUE!"}},{"$f":"Tabla13[[#This Row],[Importe IVA ]]","v":{"$error":"#VALUE!"}},{"$f":"Tabla13[[#This Row],[Importe de adjudicación (IVA INCLUIDO)]]","v":{"$error":"#VALUE!"}}]
[{"$nulls":18},{"$f":"Tabla13[[#This Row],[Título del contrato]]&Tabla13[[#This Row],[Nº Expediente de la plataforma de contratación]]","v":{"$error":"#VALUE!"}},{"$f":"Tabla13[[#This Row],[Nº Expediente de la plataforma de contratación]]","v":{"$error":"#VALUE!"}},{"$f":"Tabla13[[#This Row],[Importe IVA ]]","v":{"$error":"#VALUE!"}},{"$f":"Tabla13[[#This Row],[Importe de adjudicación (IVA INCLUIDO)]]","v":{"$error":"#VALUE!"}}]
[{"$nulls":18},{"$f":"Tabla13[[#This Row],[Título del contrato]]&Tabla13[[#This Row],[Nº Expediente de la plataforma de contratación]]","v":{"$error":"#VALUE!"}},{"$f":"Tabla13[[#This Row],[Nº Expediente de la plataforma de contratación]]","v":{"$error":"#VALUE!"}},{"$f":"Tabla13[[#This Row],[Importe IVA ]]","v":{"$error":"#VALUE!"}},{"$f":"Tabla13[[#This Row],[Importe de adjudicación (IVA INCLUIDO)]]","v":{"$error":"#VALUE!"}}]
[{"$nulls":18},{"$f":"Tabla13[[#This Row],[Título del contrato]]&Tabla13[[#This Row],[Nº Expediente de la plataforma de contratación]]","v":{"$error":"#VALUE!"}},{"$f":"Tabla13[[#This Row],[Nº Expediente de la plataforma de contratación]]","v":{"$error":"#VALUE!"}},{"$f":"Tabla13[[#This Row],[Importe IVA ]]","v":{"$error":"#VALUE!"}},{"$f":"Tabla13[[#This Row],[Importe de adjudicación (IVA INCLUIDO)]]","v":{"$error":"#VALUE!"}}]
[{"$nulls":18},{"$f":"Tabla13[[#This Row],[Título del contrato]]&Tabla13[[#This Row],[Nº Expediente de la plataforma de contratación]]","v":{"$error":"#VALUE!"}},{"$f":"Tabla13[[#This Row],[Nº Expediente de la plataforma de contratación]]","v":{"$error":"#VALUE!"}},{"$f":"Tabla13[[#This Row],[Importe IVA ]]","v":{"$error":"#VALUE!"}},{"$f":"Tabla13[[#This Row],[Importe de adjudicación (IVA INCLUIDO)]]","v":{"$error":"#VALUE!"}}]
[{"$nulls":18},{"$f":"Tabla13[[#This Row],[Título del contrato]]&Tabla13[[#This Row],[Nº Expediente de la plataforma de contratación]]","v":{"$error":"#VALUE!"}},{"$f":"Tabla13[[#This Row],[Nº Expediente de la plataforma de contratación]]","v":{"$error":"#VALUE!"}},{"$f":"Tabla13[[#This Row],[Importe IVA ]]","v":{"$error":"#VALUE!"}},{"$f":"Tabla13[[#This Row],[Importe de adjudicación (IVA INCLUIDO)]]","v":{"$error":"#VALUE!"}}]
[{"$nulls":18},{"$f":"Tabla13[[#This Row],[Título del contrato]]&Tabla13[[#This Row],[Nº Expediente de la plataforma de contratación]]","v":{"$error":"#VALUE!"}},{"$f":"Tabla13[[#This Row],[Nº Expediente de la plataforma de contratación]]","v":{"$error":"#VALUE!"}},{"$f":"Tabla13[[#This Row],[Importe IVA ]]","v":{"$error":"#VALUE!"}},{"$f":"Tabla13[[#This Row],[Importe de adjudicación (IVA INCLUIDO)]]","v":{"$error":"#VALUE!"}}]
[{"$nulls":18},{"$f":"Tabla13[[#This Row],[Título del contrato]]&Tabla13[[#This Row],[Nº Expediente de la plataforma de contratación]]","v":{"$error":"#VALUE!"}},{"$f":"Tabla13[[#This Row],[Nº Expediente de la plataforma de contratación]]","v":{"$error":"#VALUE!"}},{"$f":"Tabla13[[#This Row],[Importe IVA ]]","v":{"$error":"#VALUE!"}},{"$f":"Tabla13[[#This Row],[Importe de adjudicación (IVA INCLUIDO)]]","v":{"$error":"#VALUE!"}}]
[{"$nulls":18},{"$f":"Tabla13[[#This Row],[Título del contrato]]&Tabla13[[#This Row],[Nº Expediente de la plataforma de contratación]]","v":{"$error":"#VALUE!"}},{"$f":"Tabla13[[#This Row],[Nº Expediente de la plataforma de contratación]]","v":{"$error":"#VALUE!"}},{"$f":"Tabla13[[#This Row],[Importe IVA ]]","v":{"$error":"#VALUE!"}},{"$f":"Tabla13[[#This Row],[Importe de adjudicación (IVA INCLUIDO)]]","v":{"$error":"#VALUE!"}}]
[{"$nulls":18},{"$f":"Tabla13[[#This Row],[Título del contrato]]&Tabla13[[#This Row],[Nº Expediente de la plataforma de contratación]]","v":{"$error":"#VALUE!"}},{"$f":"Tabla13[[#This Row],[Nº Expediente de la plataforma de contratación]]","v":{"$error":"#VALUE!"}},{"$f":"Tabla13[[#This Row],[Importe IVA ]]","v":{"$error":"#VALUE!"}},{"$f":"Tabla13[[#This Row],[Importe de adjudicación (IVA INCLUIDO)]]","v":{"$error":"#VALUE!"}}]
[{"$nulls":18},{"$f":"Tabla13[[#This Row],[Título del contrato]]&Tabla13[[#This Row],[Nº Expediente de la plataforma de contratación]]","v":{"$error":"#VALUE!"}},{"$f":"Tabla13[[#This Row],[Nº Expediente de la plataforma de contratación]]","v":{"$error":"#VALUE!"}},{"$f":"Tabla13[[#This Row],[Importe IVA ]]","v":{"$error":"#VALUE!"}},{"$f":"Tabla13[[#This Row],[Importe de adjudicación (IVA INCLUIDO)]]","v":{"$error":"#VALUE!"}}]
[{"$nulls":18},{"$f":"Tabla13[[#This Row],[Título del contrato]]&Tabla13[[#This Row],[Nº Expediente de la plataforma de contratación]]","v":{"$error":"#VALUE!"}},{"$f":"Tabla13[[#This Row],[Nº Expediente de la plataforma de contratación]]","v":{"$error":"#VALUE!"}},{"$f":"Tabla13[[#This Row],[Importe IVA ]]","v":{"$error":"#VALUE!"}},{"$f":"Tabla13[[#This Row],[Importe de adjudicación (IVA INCLUIDO)]]","v":{"$error":"#VALUE!"}}]
[{"$nulls":18},{"$f":"Tabla13[[#This Row],[Título del contrato]]&Tabla13[[#This Row],[Nº Expediente de la plataforma de contratación]]","v":{"$error":"#VALUE!"}},{"$f":"Tabla13[[#This Row],[Nº Expediente de la plataforma de contratación]]","v":{"$error":"#VALUE!"}},{"$f":"Tabla13[[#This Row],[Importe IVA ]]","v":{"$error":"#VALUE!"}},{"$f":"Tabla13[[#This Row],[Importe de adjudicación (IVA INCLUIDO)]]","v":{"$error":"#VALUE!"}}]
[{"$nulls":18},{"$f":"Tabla13[[#This Row],[Título del contrato]]&Tabla13[[#This Row],[Nº Expediente de la plataforma de contratación]]","v":{"$error":"#VALUE!"}},{"$f":"Tabla13[[#This Row],[Nº Expediente de la plataforma de contratación]]","v":{"$error":"#VALUE!"}},{"$f":"Tabla13[[#This Row],[Importe IVA ]]","v":{"$error":"#VALUE!"}},{"$f":"Tabla13[[#This Row],[Importe de adjudicación (IVA INCLUIDO)]]","v":{"$error":"#VALUE!"}}]
[{"$nulls":18},{"$f":"Tabla13[[#This Row],[Título del contrato]]&Tabla13[[#This Row],[Nº Expediente de la plataforma de contratación]]","v":{"$error":"#VALUE!"}},{"$f":"Tabla13[[#This Row],[Nº Expediente de la plataforma de contratación]]","v":{"$error":"#VALUE!"}},{"$f":"Tabla13[[#This Row],[Importe IVA ]]","v":{"$error":"#VALUE!"}},{"$f":"Tabla13[[#This Row],[Importe de adjudicación (IVA INCLUIDO)]]","v":{"$error":"#VALUE!"}}]
[{"$nulls":18},{"$f":"Tabla13[[#This Row],[Título del contrato]]&Tabla13[[#This Row],[Nº Expediente de la plataforma de contratación]]","v":{"$error":"#VALUE!"}},{"$f":"Tabla13[[#This Row],[Nº Expediente de la plataforma de contratación]]","v":{"$error":"#VALUE!"}},{"$f":"Tabla13[[#This Row],[Importe IVA ]]","v":{"$error":"#VALUE!"}},{"$f":"Tabla13[[#This Row],[Importe de adjudicación (IVA INCLUIDO)]]","v":{"$error":"#VALUE!"}}]
[{"$nulls":18},{"$f":"Tabla13[[#This Row],[Título del contrato]]&Tabla13[[#This Row],[Nº Expediente de la plataforma de contratación]]","v":{"$error":"#VALUE!"}},{"$f":"Tabla13[[#This Row],[Nº Expediente de la plataforma de contratación]]","v":{"$error":"#VALUE!"}},{"$f":"Tabla13[[#This Row],[Importe IVA ]]","v":{"$error":"#VALUE!"}},{"$f":"Tabla13[[#This Row],[Importe de adjudicación (IVA INCLUIDO)]]","v":{"$error":"#VALUE!"}}]
[{"$nulls":18},{"$f":"Tabla13[[#This Row],[Título del contrato]]&Tabla13[[#This Row],[Nº Expediente de la plataforma de contratación]]","v":{"$error":"#VALUE!"}},{"$f":"Tabla13[[#This Row],[Nº Expediente de la plataforma de contratación]]","v":{"$error":"#VALUE!"}},{"$f":"Tabla13[[#This Row],[Importe IVA ]]","v":{"$error":"#VALUE!"}},{"$f":"Tabla13[[#This Row],[Importe de adjudicación (IVA INCLUIDO)]]","v":{"$error":"#VALUE!"}}]
[{"$nulls":18},{"$f":"Tabla13[[#This Row],[Título del contrato]]&Tabla13[[#This Row],[Nº Expediente de la plataforma de contratación]]","v":{"$error":"#VALUE!"}},{"$f":"Tabla13[[#This Row],[Nº Expediente de la plataforma de contratación]]","v":{"$error":"#VALUE!"}},{"$f":"Tabla13[[#This Row],[Importe IVA ]]","v":{"$error":"#VALUE!"}},{"$f":"Tabla13[[#This Row],[Importe de adjudicación (IVA INCLUIDO)]]","v":{"$error":"#VALUE!"}}]
[{"$nulls":18},{"$f":"Tabla13[[#This Row],[Título del contrato]]&Tabla13[[#This Row],[Nº Expediente de la plataforma de contratación]]","v":{"$error":"#VALUE!"}},{"$f":"Tabla13[[#This Row],[Nº Expediente de la plataforma de contratación]]","v":{"$error":"#VALUE!"}},{"$f":"Tabla13[[#This Row],[Importe IVA ]]","v":{"$error":"#VALUE!"}},{"$f":"Tabla13[[#This Row],[Importe de adjudicación (IVA INCLUIDO)]]","v":{"$error":"#VALUE!"}}]
[{"$nulls":18},{"$f":"Tabla13[[#This Row],[Título del contrato]]&Tabla13[[#This Row],[Nº Expediente de la plataforma de contratación]]","v":{"$error":"#VALUE!"}},{"$f":"Tabla13[[#This Row],[Nº Expediente de la plataforma de contratación]]","v":{"$error":"#VALUE!"}},{"$f":"Tabla13[[#This Row],[Importe IVA ]]","v":{"$error":"#VALUE!"}},{"$f":"Tabla13[[#This Row],[Importe de adjudicación (IVA INCLUIDO)]]","v":{"$error":"#VALUE!"}}]
[{"$nulls":18},{"$f":"Tabla13[[#This Row],[Título del contrato]]&Tabla13[[#This Row],[Nº Expediente de la plataforma de contratación]]","v":{"$error":"#VALUE!"}},{"$f":"Tabla13[[#This Row],[Nº Expediente de la plataforma de contratación]]","v":{"$error":"#VALUE!"}},{"$f":"Tabla13[[#This Row],[Importe IVA ]]","v":{"$error":"#VALUE!"}},{"$f":"Tabla13[[#This Row],[Importe de adjudicación (IVA INCLUIDO)]]","v":{"$error":"#VALUE!"}}]
[{"$nulls":18},{"$f":"Tabla13[[#This Row],[Título del contrato]]&Tabla13[[#This Row],[Nº Expediente de la plataforma de contratación]]","v":{"$error":"#VALUE!"}},{"$f":"Tabla13[[#This Row],[Nº Expediente de la plataforma de contratación]]","v":{"$error":"#VALUE!"}},{"$f":"Tabla13[[#This Row],[Importe IVA ]]","v":{"$error":"#VALUE!"}},{"$f":"Tabla13[[#This Row],[Importe de adjudicación (IVA INCLUIDO)]]","v":{"$error":"#VALUE!"}}]
[{"$nulls":18},{"$f":"Tabla13[[#This Row],[Título del contrato]]&Tabla13[[#This Row],[Nº Expediente de la plataforma de contratación]]","v":{"$error":"#VALUE!"}},{"$f":"Tabla13[[#This Row],[Nº Expediente de la plataforma de contratación]]","v":{"$error":"#VALUE!"}},{"$f":"Tabla13[[#This Row],[Importe IVA ]]","v":{"$error":"#VALUE!"}},{"$f":"Tabla13[[#This Row],[Importe de adjudicación (IVA INCLUIDO)]]","v":{"$error":"#VALUE!"}}]
[{"$nulls":18},{"$f":"Tabla13[[#This Row],[Título del contrato]]&Tabla13[[#This Row],[Nº Expediente de la plataforma de contratación]]","v":{"$error":"#VALUE!"}},{"$f":"Tabla13[[#This Row],[Nº Expediente de la plataforma de contratación]]","v":{"$error":"#VALUE!"}},{"$f":"Tabla13[[#This Row],[Importe IVA ]]","v":{"$error":"#VALUE!"}},{"$f":"Tabla13[[#This Row],[Importe de adjudicación (IVA INCLUIDO)]]","v":{"$error":"#VALUE!"}}]
[{"$nulls":18},{"$f":"Tabla13[[#This Row],[Título del contrato]]&Tabla13[[#This Row],[Nº Expediente de la plataforma de contratación]]","v":{"$error":"#VALUE!"}},{"$f":"Tabla13[[#This Row],[Nº Expediente de la plataforma de contratación]]","v":{"$error":"#VALUE!"}},{"$f":"Tabla13[[#This Row],[Importe IVA ]]","v":{"$error":"#VALUE!"}},{"$f":"Tabla13[[#This Row],[Importe de adjudicación (IVA INCLUIDO)]]","v":{"$error":"#VALUE!"}}]
[{"$nulls":18},{"$f":"Tabla13[[#This Row],[Título del contrato]]&Tabla13[[#This Row],[Nº Expediente de la plataforma de contratación]]","v":{"$error":"#VALUE!"}},{"$f":"Tabla13[[#This Row],[Nº Expediente de la plataforma de contratación]]","v":{"$error":"#VALUE!"}},{"$f":"Tabla13[[#This Row],[Importe IVA ]]","v":{"$error":"#VALUE!"}},{"$f":"Tabla13[[#This Row],[Importe de adjudicación (IVA INCLUIDO)]]","v":{"$error":"#VALUE!"}}]
[{"$nulls":18},{"$f":"Tabla13[[#This Row],[Título del contrato]]&Tabla13[[#This Row],[Nº Expediente de la plataforma de contratación]]","v":{"$error":"#VALUE!"}},{"$f":"Tabla13[[#This Row],[Nº Expediente de la plataforma de contratación]]","v":{"$error":"#VALUE!"}},{"$f":"Tabla13[[#This Row],[Importe IVA ]]","v":{"$error":"#VALUE!"}},{"$f":"Tabla13[[#This Row],[Importe de adjudicación (IVA INCLUIDO)]]","v":{"$error":"#VALUE!"}}]
[{"$nulls":18},{"$f":"Tabla13[[#This Row],[Título del contrato]]&Tabla13[[#This Row],[Nº Expediente de la plataforma de contratación]]","v":{"$error":"#VALUE!"}},{"$f":"Tabla13[[#This Row],[Nº Expediente de la plataforma de contratación]]","v":{"$error":"#VALUE!"}},{"$f":"Tabla13[[#This Row],[Importe IVA ]]","v":{"$error":"#VALUE!"}},{"$f":"Tabla13[[#This Row],[Importe de adjudicación (IVA INCLUIDO)]]","v":{"$error":"#VALUE!"}}]
[{"$nulls":18},{"$f":"Tabla13[[#This Row],[Título del contrato]]&Tabla13[[#This Row],[Nº Expediente de la plataforma de contratación]]","v":{"$error":"#VALUE!"}},{"$f":"Tabla13[[#This Row],[Nº Expediente de la plataforma de contratación]]","v":{"$error":"#VALUE!"}},{"$f":"Tabla13[[#This Row],[Importe IVA ]]","v":{"$error":"#VALUE!"}},{"$f":"Tabla13[[#This Row],[Importe de adjudicación (IVA INCLUIDO)]]","v":{"$error":"#VALUE!"}}]
[{"$nulls":18},{"$f":"Tabla13[[#This Row],[Título del contrato]]&Tabla13[[#This Row],[Nº Expediente de la plataforma de contratación]]","v":{"$error":"#VALUE!"}},{"$f":"Tabla13[[#This Row],[Nº Expediente de la plataforma de contratación]]","v":{"$error":"#VALUE!"}},{"$f":"Tabla13[[#This Row],[Importe IVA ]]","v":{"$error":"#VALUE!"}},{"$f":"Tabla13[[#This Row],[Importe de adjudicación (IVA INCLUIDO)]]","v":{"$error":"#VALUE!"}}]
[{"$nulls":18},{"$f":"Tabla13[[#This Row],[Título del contrato]]&Tabla13[[#This Row],[Nº Expediente de la plataforma de contratación]]","v":{"$error":"#VALUE!"}},{"$f":"Tabla13[[#This Row],[Nº Expediente de la plataforma de contratación]]","v":{"$error":"#VALUE!"}},{"$f":"Tabla13[[#This Row],[Importe IVA ]]","v":{"$error":"#VALUE!"}},{"$f":"Tabla13[[#This Row],[Importe de adjudicación (IVA INCLUIDO)]]","v":{"$error":"#VALUE!"}}]
[{"$nulls":18},{"$f":"Tabla13[[#This Row],[Título del contrato]]&Tabla13[[#This Row],[Nº Expediente de la plataforma de contratación]]","v":{"$error":"#VALUE!"}},{"$f":"Tabla13[[#This Row],[Nº Expediente de la plataforma de contratación]]","v":{"$error":"#VALUE!"}},{"$f":"Tabla13[[#This Row],[Importe IVA ]]","v":{"$error":"#VALUE!"}},{"$f":"Tabla13[[#This Row],[Importe de adjudicación (IVA INCLUIDO)]]","v":{"$error":"#VALUE!"}}]
[{"$nulls":18},{"$f":"Tabla13[[#This Row],[Título del contrato]]&Tabla13[[#This Row],[Nº Expediente de la plataforma de contratación]]","v":{"$error":"#VALUE!"}},{"$f":"Tabla13[[#This Row],[Nº Expediente de la plataforma de contratación]]","v":{"$error":"#VALUE!"}},{"$f":"Tabla13[[#This Row],[Importe IVA ]]","v":{"$error":"#VALUE!"}},{"$f":"Tabla13[[#This Row],[Importe de adjudicación (IVA INCLUIDO)]]","v":{"$error":"#VALUE!"}}]
[{"$nulls":18},{"$f":"Tabla13[[#This Row],[Título del contrato]]&Tabla13[[#This Row],[Nº Expediente de la plataforma de contratación]]","v":{"$error":"#VALUE!"}},{"$f":"Tabla13[[#This Row],[Nº Expediente de la plataforma de contratación]]","v":{"$error":"#VALUE!"}},{"$f":"Tabla13[[#This Row],[Importe IVA ]]","v":{"$error":"#VALUE!"}},{"$f":"Tabla13[[#This Row],[Importe de adjudicación (IVA INCLUIDO)]]","v":{"$error":"#VALUE!"}}]
[{"$nulls":18},{"$f":"Tabla13[[#This Row],[Título del contrato]]&Tabla13[[#This Row],[Nº Expediente de la plataforma de contratación]]","v":{"$error":"#VALUE!"}},{"$f":"Tabla13[[#This Row],[Nº Expediente de la plataforma de contratación]]","v":{"$error":"#VALUE!"}},{"$f":"Tabla13[[#This Row],[Importe IVA ]]","v":{"$error":"#VALUE!"}},{"$f":"Tabla13[[#This Row],[Importe de adjudicación (IVA INCLUIDO)]]","v":{"$error":"#VALUE!"}}]
[{"$nulls":18},{"$f":"Tabla13[[#This Row],[Título del contrato]]&Tabla13[[#This Row],[Nº Expediente de la plataforma de contratación]]","v":{"$error":"#VALUE!"}},{"$f":"Tabla13[[#This Row],[Nº Expediente de la plataforma de contratación]]","v":{"$error":"#VALUE!"}},{"$f":"Tabla13[[#This Row],[Importe IVA ]]","v":{"$error":"#VALUE!"}},{"$f":"Tabla13[[#This Row],[Importe de adjudicación (IVA INCLUIDO)]]","v":{"$error":"#VALUE!"}}]
[{"$nulls":18},{"$f":"Tabla13[[#This Row],[Título del contrato]]&Tabla13[[#This Row],[Nº Expediente de la plataforma de contratación]]","v":{"$error":"#VALUE!"}},{"$f":"Tabla13[[#This Row],[Nº Expediente de la plataforma de contratación]]","v":{"$error":"#VALUE!"}},{"$f":"Tabla13[[#This Row],[Importe IVA ]]","v":{"$error":"#VALUE!"}},{"$f":"Tabla13[[#This Row],[Importe de adjudicación (IVA INCLUIDO)]]","v":{"$error":"#VALUE!"}}]
[{"$nulls":18},{"$f":"Tabla13[[#This Row],[Título del contrato]]&Tabla13[[#This Row],[Nº Expediente de la plataforma de contratación]]","v":{"$error":"#VALUE!"}},{"$f":"Tabla13[[#This Row],[Nº Expediente de la plataforma de contratación]]","v":{"$error":"#VALUE!"}},{"$f":"Tabla13[[#This Row],[Importe IVA ]]","v":{"$error":"#VALUE!"}},{"$f":"Tabla13[[#This Row],[Importe de adjudicación (IVA INCLUIDO)]]","v":{"$error":"#VALUE!"}}]
[{"$nulls":18},{"$f":"Tabla13[[#This Row],[Título del contrato]]&Tabla13[[#This Row],[Nº Expediente de la plataforma de contratación]]","v":{"$error":"#VALUE!"}},{"$f":"Tabla13[[#This Row],[Nº Expediente de la plataforma de contratación]]","v":{"$error":"#VALUE!"}},{"$f":"Tabla13[[#This Row],[Importe IVA ]]","v":{"$error":"#VALUE!"}},{"$f":"Tabla13[[#This Row],[Importe de adjudicación (IVA INCLUIDO)]]","v":{"$error":"#VALUE!"}}]
[{"$nulls":18},{"$f":"Tabla13[[#This Row],[Título del contrato]]&Tabla13[[#This Row],[Nº Expediente de la plataforma de contratación]]","v":{"$error":"#VALUE!"}},{"$f":"Tabla13[[#This Row],[Nº Expediente de la plataforma de contratación]]","v":{"$error":"#VALUE!"}},{"$f":"Tabla13[[#This Row],[Importe IVA ]]","v":{"$error":"#VALUE!"}},{"$f":"Tabla13[[#This Row],[Importe de adjudicación (IVA INCLUIDO)]]","v":{"$error":"#VALUE!"}}]
[{"$nulls":18},{"$f":"Tabla13[[#This Row],[Título del contrato]]&Tabla13[[#This Row],[Nº Expediente de la plataforma de contratación]]","v":{"$error":"#VALUE!"}},{"$f":"Tabla13[[#This Row],[Nº Expediente de la plataforma de contratación]]","v":{"$error":"#VALUE!"}},{"$f":"Tabla13[[#This Row],[Importe IVA ]]","v":{"$error":"#VALUE!"}},{"$f":"Tabla13[[#This Row],[Importe de adjudicación (IVA INCLUIDO)]]","v":{"$error":"#VALUE!"}}]
[{"$nulls":18},{"$f":"Tabla13[[#This Row],[Título del contrato]]&Tabla13[[#This Row],[Nº Expediente de la plataforma de contratación]]","v":{"$error":"#VALUE!"}},{"$f":"Tabla13[[#This Row],[Nº Expediente de la plataforma de contratación]]","v":{"$error":"#VALUE!"}},{"$f":"Tabla13[[#This Row],[Importe IVA ]]","v":{"$error":"#VALUE!"}},{"$f":"Tabla13[[#This Row],[Importe de adjudicación (IVA INCLUIDO)]]","v":{"$error":"#VALUE!"}}]
[{"$nulls":18},{"$f":"Tabla13[[#This Row],[Título del contrato]]&Tabla13[[#This Row],[Nº Expediente de la plataforma de contratación]]","v":{"$error":"#VALUE!"}},{"$f":"Tabla13[[#This Row],[Nº Expediente de la plataforma de contratación]]","v":{"$error":"#VALUE!"}},{"$f":"Tabla13[[#This Row],[Importe IVA ]]","v":{"$error":"#VALUE!"}},{"$f":"Tabla13[[#This Row],[Importe de adjudicación (IVA INCLUIDO)]]","v":{"$error":"#VALUE!"}}]
[{"$nulls":18},{"$f":"Tabla13[[#This Row],[Título del contrato]]&Tabla13[[#This Row],[Nº Expediente de la plataforma de contratación]]","v":{"$error":"#VALUE!"}},{"$f":"Tabla13[[#This Row],[Nº Expediente de la plataforma de contratación]]","v":{"$error":"#VALUE!"}},{"$f":"Tabla13[[#This Row],[Importe IVA ]]","v":{"$error":"#VALUE!"}},{"$f":"Tabla13[[#This Row],[Importe de adjudicación (IVA INCLUIDO)]]","v":{"$error":"#VALUE!"}}]
[{"$nulls":18},{"$f":"Tabla13[[#This Row],[Título del contrato]]&Tabla13[[#This Row],[Nº Expediente de la plataforma de contratación]]","v":{"$error":"#VALUE!"}},{"$f":"Tabla13[[#This Row],[Nº Expediente de la plataforma de contratación]]","v":{"$error":"#VALUE!"}},{"$f":"Tabla13[[#This Row],[Importe IVA ]]","v":{"$error":"#VALUE!"}},{"$f":"Tabla13[[#This Row],[Importe de adjudicación (IVA INCLUIDO)]]","v":{"$error":"#VALUE!"}}]
[{"$nulls":18},{"$f":"Tabla13[[#This Row],[Título del contrato]]&Tabla13[[#This Row],[Nº Expediente de la plataforma de contratación]]","v":{"$error":"#VALUE!"}},{"$f":"Tabla13[[#This Row],[Nº Expediente de la plataforma de contratación]]","v":{"$error":"#VALUE!"}},{"$f":"Tabla13[[#This Row],[Importe IVA ]]","v":{"$error":"#VALUE!"}},{"$f":"Tabla13[[#This Row],[Importe de adjudicación (IVA INCLUIDO)]]","v":{"$error":"#VALUE!"}}]
[{"$nulls":18},{"$f":"Tabla13[[#This Row],[Título del contrato]]&Tabla13[[#This Row],[Nº Expediente de la plataforma de contratación]]","v":{"$error":"#VALUE!"}},{"$f":"Tabla13[[#This Row],[Nº Expediente de la plataforma de contratación]]","v":{"$error":"#VALUE!"}},{"$f":"Tabla13[[#This Row],[Importe IVA ]]","v":{"$error":"#VALUE!"}},{"$f":"Tabla13[[#This Row],[Importe de adjudicación (IVA INCLUIDO)]]","v":{"$error":"#VALUE!"}}]
[{"$nulls":18},{"$f":"Tabla13[[#This Row],[Título del contrato]]&Tabla13[[#This Row],[Nº Expediente de la plataforma de contratación]]","v":{"$error":"#VALUE!"}},{"$f":"Tabla13[[#This Row],[Nº Expediente de la plataforma de contratación]]","v":{"$error":"#VALUE!"}},{"$f":"Tabla13[[#This Row],[Importe IVA ]]","v":{"$error":"#VALUE!"}},{"$f":"Tabla13[[#This Row],[Importe de adjudicación (IVA INCLUIDO)]]","v":{"$error":"#VALUE!"}}]
[{"$nulls":18},{"$f":"Tabla13[[#This Row],[Título del contrato]]&Tabla13[[#This Row],[Nº Expediente de la plataforma de contratación]]","v":{"$error":"#VALUE!"}},{"$f":"Tabla13[[#This Row],[Nº Expediente de la plataforma de contratación]]","v":{"$error":"#VALUE!"}},{"$f":"Tabla13[[#This Row],[Importe IVA ]]","v":{"$error":"#VALUE!"}},{"$f":"Tabla13[[#This Row],[Importe de adjudicación (IVA INCLUIDO)]]","v":{"$error":"#VALUE!"}}]
[{"$nulls":18},{"$f":"Tabla13[[#This Row],[Título del contrato]]&Tabla13[[#This Row],[Nº Expediente de la plataforma de contratación]]","v":{"$error":"#VALUE!"}},{"$f":"Tabla13[[#This Row],[Nº Expediente de la plataforma de contratación]]","v":{"$error":"#VALUE!"}},{"$f":"Tabla13[[#This Row],[Importe IVA ]]","v":{"$error":"#VALUE!"}},{"$f":"Tabla13[[#This Row],[Importe de adjudicación (IVA INCLUIDO)]]","v":{"$error":"#VALUE!"}}]
[{"$nulls":18},{"$f":"Tabla13[[#This Row],[Título del contrato]]&Tabla13[[#This Row],[Nº Expediente de la plataforma de contratación]]","v":{"$error":"#VALUE!"}},{"$f":"Tabla13[[#This Row],[Nº Expediente de la plataforma de contratación]]","v":{"$error":"#VALUE!"}},{"$f":"Tabla13[[#This Row],[Importe IVA ]]","v":{"$error":"#VALUE!"}},{"$f":"Tabla13[[#This Row],[Importe de adjudicación (IVA INCLUIDO)]]","v":{"$error":"#VALUE!"}}]
[{"$nulls":18},{"$f":"Tabla13[[#This Row],[Título del contrato]]&Tabla13[[#This Row],[Nº Expediente de la plataforma de contratación]]","v":{"$error":"#VALUE!"}},{"$f":"Tabla13[[#This Row],[Nº Expediente de la plataforma de contratación]]","v":{"$error":"#VALUE!"}},{"$f":"Tabla13[[#This Row],[Importe IVA ]]","v":{"$error":"#VALUE!"}},{"$f":"Tabla13[[#This Row],[Importe de adjudicación (IVA INCLUIDO)]]","v":{"$error":"#VALUE!"}}]
[{"$nulls":18},{"$f":"Tabla13[[#This Row],[Título del contrato]]&Tabla13[[#This Row],[Nº Expediente de la plataforma de contratación]]","v":{"$error":"#VALUE!"}},{"$f":"Tabla13[[#This Row],[Nº Expediente de la plataforma de contratación]]","v":{"$error":"#VALUE!"}},{"$f":"Tabla13[[#This Row],[Importe IVA ]]","v":{"$error":"#VALUE!"}},{"$f":"Tabla13[[#This Row],[Importe de adjudicación (IVA INCLUIDO)]]","v":{"$error":"#VALUE!"}}]
[{"$nulls":18},{"$f":"Tabla13[[#This Row],[Título del contrato]]&Tabla13[[#This Row],[Nº Expediente de la plataforma de contratación]]","v":{"$error":"#VALUE!"}},{"$f":"Tabla13[[#This Row],[Nº Expediente de la plataforma de contratación]]","v":{"$error":"#VALUE!"}},{"$f":"Tabla13[[#This Row],[Importe IVA ]]","v":{"$error":"#VALUE!"}},{"$f":"Tabla13[[#This Row],[Importe de adjudicación (IVA INCLUIDO)]]","v":{"$error":"#VALUE!"}}]
[{"$nulls":18},{"$f":"Tabla13[[#This Row],[Título del contrato]]&Tabla13[[#This Row],[Nº Expediente de la plataforma de contratación]]","v":{"$error":"#VALUE!"}},{"$f":"Tabla13[[#This Row],[Nº Expediente de la plataforma de contratación]]","v":{"$error":"#VALUE!"}},{"$f":"Tabla13[[#This Row],[Importe IVA ]]","v":{"$error":"#VALUE!"}},{"$f":"Tabla13[[#This Row],[Importe de adjudicación (IVA INCLUIDO)]]","v":{"$error":"#VALUE!"}}]
[{"$nulls":18},{"$f":"Tabla13[[#This Row],[Título del contrato]]&Tabla13[[#This Row],[Nº Expediente de la plataforma de contratación]]","v":{"$error":"#VALUE!"}},{"$f":"Tabla13[[#This Row],[Nº Expediente de la plataforma de contratación]]","v":{"$error":"#VALUE!"}},{"$f":"Tabla13[[#This Row],[Importe IVA ]]","v":{"$error":"#VALUE!"}},{"$f":"Tabla13[[#This Row],[Importe de adjudicación (IVA INCLUIDO)]]","v":{"$error":"#VALUE!"}}]
[{"$nulls":18},{"$f":"Tabla13[[#This Row],[Título del contrato]]&Tabla13[[#This Row],[Nº Expediente de la plataforma de contratación]]","v":{"$error":"#VALUE!"}},{"$f":"Tabla13[[#This Row],[Nº Expediente de la plataforma de contratación]]","v":{"$error":"#VALUE!"}},{"$f":"Tabla13[[#This Row],[Importe IVA ]]","v":{"$error":"#VALUE!"}},{"$f":"Tabla13[[#This Row],[Importe de adjudicación (IVA INCLUIDO)]]","v":{"$error":"#VALUE!"}}]
[{"$nulls":18},{"$f":"Tabla13[[#This Row],[Título del contrato]]&Tabla13[[#This Row],[Nº Expediente de la plataforma de contratación]]","v":{"$error":"#VALUE!"}},{"$f":"Tabla13[[#This Row],[Nº Expediente de la plataforma de contratación]]","v":{"$error":"#VALUE!"}},{"$f":"Tabla13[[#This Row],[Importe IVA ]]","v":{"$error":"#VALUE!"}},{"$f":"Tabla13[[#This Row],[Importe de adjudicación (IVA INCLUIDO)]]","v":{"$error":"#VALUE!"}}]
[{"$nulls":18},{"$f":"Tabla13[[#This Row],[Título del contrato]]&Tabla13[[#This Row],[Nº Expediente de la plataforma de contratación]]","v":{"$error":"#VALUE!"}},{"$f":"Tabla13[[#This Row],[Nº Expediente de la plataforma de contratación]]","v":{"$error":"#VALUE!"}},{"$f":"Tabla13[[#This Row],[Importe IVA ]]","v":{"$error":"#VALUE!"}},{"$f":"Tabla13[[#This Row],[Importe de adjudicación (IVA INCLUIDO)]]","v":{"$error":"#VALUE!"}}]
[{"$nulls":18},{"$f":"Tabla13[[#This Row],[Título del contrato]]&Tabla13[[#This Row],[Nº Expediente de la plataforma de contratación]]","v":{"$error":"#VALUE!"}},{"$f":"Tabla13[[#This Row],[Nº Expediente de la plataforma de contratación]]","v":{"$error":"#VALUE!"}},{"$f":"Tabla13[[#This Row],[Importe IVA ]]","v":{"$error":"#VALUE!"}},{"$f":"Tabla13[[#This Row],[Importe de adjudicación (IVA INCLUIDO)]]","v":{"$error":"#VALUE!"}}]
[{"$nulls":18},{"$f":"Tabla13[[#This Row],[Título del contrato]]&Tabla13[[#This Row],[Nº Expediente de la plataforma de contratación]]","v":{"$error":"#VALUE!"}},{"$f":"Tabla13[[#This Row],[Nº Expediente de la plataforma de contratación]]","v":{"$error":"#VALUE!"}},{"$f":"Tabla13[[#This Row],[Importe IVA ]]","v":{"$error":"#VALUE!"}},{"$f":"Tabla13[[#This Row],[Importe de adjudicación (IVA INCLUIDO)]]","v":{"$error":"#VALUE!"}}]
[{"$nulls":18},{"$f":"Tabla13[[#This Row],[Título del contrato]]&Tabla13[[#This Row],[Nº Expediente de la plataforma de contratación]]","v":{"$error":"#VALUE!"}},{"$f":"Tabla13[[#This Row],[Nº Expediente de la plataforma de contratación]]","v":{"$error":"#VALUE!"}},{"$f":"Tabla13[[#This Row],[Importe IVA ]]","v":{"$error":"#VALUE!"}},{"$f":"Tabla13[[#This Row],[Importe de adjudicación (IVA INCLUIDO)]]","v":{"$error":"#VALUE!"}}]
[{"$nulls":18},{"$f":"Tabla13[[#This Row],[Título del contrato]]&Tabla13[[#This Row],[Nº Expediente de la plataforma de contratación]]","v":{"$error":"#VALUE!"}},{"$f":"Tabla13[[#This Row],[Nº Expediente de la plataforma de contratación]]","v":{"$error":"#VALUE!"}},{"$f":"Tabla13[[#This Row],[Importe IVA ]]","v":{"$error":"#VALUE!"}},{"$f":"Tabla13[[#This Row],[Importe de adjudicación (IVA INCLUIDO)]]","v":{"$error":"#VALUE!"}}]
[{"$nulls":18},{"$f":"Tabla13[[#This Row],[Título del contrato]]&Tabla13[[#This Row],[Nº Expediente de la plataforma de contratación]]","v":{"$error":"#VALUE!"}},{"$f":"Tabla13[[#This Row],[Nº Expediente de la plataforma de contratación]]","v":{"$error":"#VALUE!"}},{"$f":"Tabla13[[#This Row],[Importe IVA ]]","v":{"$error":"#VALUE!"}},{"$f":"Tabla13[[#This Row],[Importe de adjudicación (IVA INCLUIDO)]]","v":{"$error":"#VALUE!"}}]
[{"$nulls":18},{"$f":"Tabla13[[#This Row],[Título del contrato]]&Tabla13[[#This Row],[Nº Expediente de la plataforma de contratación]]","v":{"$error":"#VALUE!"}},{"$f":"Tabla13[[#This Row],[Nº Expediente de la plataforma de contratación]]","v":{"$error":"#VALUE!"}},{"$f":"Tabla13[[#This Row],[Importe IVA ]]","v":{"$error":"#VALUE!"}},{"$f":"Tabla13[[#This Row],[Importe de adjudicación (IVA INCLUIDO)]]","v":{"$error":"#VALUE!"}}]
[{"$nulls":18},{"$f":"Tabla13[[#This Row],[Título del contrato]]&Tabla13[[#This Row],[Nº Expediente de la plataforma de contratación]]","v":{"$error":"#VALUE!"}},{"$f":"Tabla13[[#This Row],[Nº Expediente de la plataforma de contratación]]","v":{"$error":"#VALUE!"}},{"$f":"Tabla13[[#This Row],[Importe IVA ]]","v":{"$error":"#VALUE!"}},{"$f":"Tabla13[[#This Row],[Importe de adjudicación (IVA INCLUIDO)]]","v":{"$error":"#VALUE!"}}]
[{"$nulls":18},{"$f":"Tabla13[[#This Row],[Título del contrato]]&Tabla13[[#This Row],[Nº Expediente de la plataforma de contratación]]","v":{"$error":"#VALUE!"}},{"$f":"Tabla13[[#This Row],[Nº Expediente de la plataforma de contratación]]","v":{"$error":"#VALUE!"}},{"$f":"Tabla13[[#This Row],[Importe IVA ]]","v":{"$error":"#VALUE!"}},{"$f":"Tabla13[[#This Row],[Importe de adjudicación (IVA INCLUIDO)]]","v":{"$error":"#VALUE!"}}]
[{"$nulls":18},{"$f":"Tabla13[[#This Row],[Título del contrato]]&Tabla13[[#This Row],[Nº Expediente de la plataforma de contratación]]","v":{"$error":"#VALUE!"}},{"$f":"Tabla13[[#This Row],[Nº Expediente de la plataforma de contratación]]","v":{"$error":"#VALUE!"}},{"$f":"Tabla13[[#This Row],[Importe IVA ]]","v":{"$error":"#VALUE!"}},{"$f":"Tabla13[[#This Row],[Importe de adjudicación (IVA INCLUIDO)]]","v":{"$error":"#VALUE!"}}]
[{"$nulls":18},{"$f":"Tabla13[[#This Row],[Título del contrato]]&Tabla13[[#This Row],[Nº Expediente de la plataforma de contratación]]","v":{"$error":"#VALUE!"}},{"$f":"Tabla13[[#This Row],[Nº Expediente de la plataforma de contratación]]","v":{"$error":"#VALUE!"}},{"$f":"Tabla13[[#This Row],[Importe IVA ]]","v":{"$error":"#VALUE!"}},{"$f":"Tabla13[[#This Row],[Importe de adjudicación (IVA INCLUIDO)]]","v":{"$error":"#VALUE!"}}]
[{"$nulls":18},{"$f":"Tabla13[[#This Row],[Título del contrato]]&Tabla13[[#This Row],[Nº Expediente de la plataforma de contratación]]","v":{"$error":"#VALUE!"}},{"$f":"Tabla13[[#This Row],[Nº Expediente de la plataforma de contratación]]","v":{"$error":"#VALUE!"}},{"$f":"Tabla13[[#This Row],[Importe IVA ]]","v":{"$error":"#VALUE!"}},{"$f":"Tabla13[[#This Row],[Importe de adjudicación (IVA INCLUIDO)]]","v":{"$error":"#VALUE!"}}]
[{"$nulls":18},{"$f":"Tabla13[[#This Row],[Título del contrato]]&Tabla13[[#This Row],[Nº Expediente de la plataforma de contratación]]","v":{"$error":"#VALUE!"}},{"$f":"Tabla13[[#This Row],[Nº Expediente de la plataforma de contratación]]","v":{"$error":"#VALUE!"}},{"$f":"Tabla13[[#This Row],[Importe IVA ]]","v":{"$error":"#VALUE!"}},{"$f":"Tabla13[[#This Row],[Importe de adjudicación (IVA INCLUIDO)]]","v":{"$error":"#VALUE!"}}]
[{"$nulls":18},{"$f":"Tabla13[[#This Row],[Título del contrato]]&Tabla13[[#This Row],[Nº Expediente de la plataforma de contratación]]","v":{"$error":"#VALUE!"}},{"$f":"Tabla13[[#This Row],[Nº Expediente de la plataforma de contratación]]","v":{"$error":"#VALUE!"}},{"$f":"Tabla13[[#This Row],[Importe IVA ]]","v":{"$error":"#VALUE!"}},{"$f":"Tabla13[[#This Row],[Importe de adjudicación (IVA INCLUIDO)]]","v":{"$error":"#VALUE!"}}]
[{"$nulls":18},{"$f":"Tabla13[[#This Row],[Título del contrato]]&Tabla13[[#This Row],[Nº Expediente de la plataforma de contratación]]","v":{"$error":"#VALUE!"}},{"$f":"Tabla13[[#This Row],[Nº Expediente de la plataforma de contratación]]","v":{"$error":"#VALUE!"}},{"$f":"Tabla13[[#This Row],[Importe IVA ]]","v":{"$error":"#VALUE!"}},{"$f":"Tabla13[[#This Row],[Importe de adjudicación (IVA INCLUIDO)]]","v":{"$error":"#VALUE!"}}]
[{"$nulls":18},{"$f":"Tabla13[[#This Row],[Título del contrato]]&Tabla13[[#This Row],[Nº Expediente de la plataforma de contratación]]","v":{"$error":"#VALUE!"}},{"$f":"Tabla13[[#This Row],[Nº Expediente de la plataforma de contratación]]","v":{"$error":"#VALUE!"}},{"$f":"Tabla13[[#This Row],[Importe IVA ]]","v":{"$error":"#VALUE!"}},{"$f":"Tabla13[[#This Row],[Importe de adjudicación (IVA INCLUIDO)]]","v":{"$error":"#VALUE!"}}]
[{"$nulls":18},{"$f":"Tabla13[[#This Row],[Título del contrato]]&Tabla13[[#This Row],[Nº Expediente de la plataforma de contratación]]","v":{"$error":"#VALUE!"}},{"$f":"Tabla13[[#This Row],[Nº Expediente de la plataforma de contratación]]","v":{"$error":"#VALUE!"}},{"$f":"Tabla13[[#This Row],[Importe IVA ]]","v":{"$error":"#VALUE!"}},{"$f":"Tabla13[[#This Row],[Importe de adjudicación (IVA INCLUIDO)]]","v":{"$error":"#VALUE!"}}]
[{"$nulls":18},{"$f":"Tabla13[[#This Row],[Título del contrato]]&Tabla13[[#This Row],[Nº Expediente de la plataforma de contratación]]","v":{"$error":"#VALUE!"}},{"$f":"Tabla13[[#This Row],[Nº Expediente de la plataforma de contratación]]","v":{"$error":"#VALUE!"}},{"$f":"Tabla13[[#This Row],[Importe IVA ]]","v":{"$error":"#VALUE!"}},{"$f":"Tabla13[[#This Row],[Importe de adjudicación (IVA INCLUIDO)]]","v":{"$error":"#VALUE!"}}]
[{"$nulls":18},{"$f":"Tabla13[[#This Row],[Título del contrato]]&Tabla13[[#This Row],[Nº Expediente de la plataforma de contratación]]","v":{"$error":"#VALUE!"}},{"$f":"Tabla13[[#This Row],[Nº Expediente de la plataforma de contratación]]","v":{"$error":"#VALUE!"}},{"$f":"Tabla13[[#This Row],[Importe IVA ]]","v":{"$error":"#VALUE!"}},{"$f":"Tabla13[[#This Row],[Importe de adjudicación (IVA INCLUIDO)]]","v":{"$error":"#VALUE!"}}]
[{"$nulls":18},{"$f":"Tabla13[[#This Row],[Título del contrato]]&Tabla13[[#This Row],[Nº Expediente de la plataforma de contratación]]","v":{"$error":"#VALUE!"}},{"$f":"Tabla13[[#This Row],[Nº Expediente de la plataforma de contratación]]","v":{"$error":"#VALUE!"}},{"$f":"Tabla13[[#This Row],[Importe IVA ]]","v":{"$error":"#VALUE!"}},{"$f":"Tabla13[[#This Row],[Importe de adjudicación (IVA INCLUIDO)]]","v":{"$error":"#VALUE!"}}]
[{"$nulls":18},{"$f":"Tabla13[[#This Row],[Título del contrato]]&Tabla13[[#This Row],[Nº Expediente de la plataforma de contratación]]","v":{"$error":"#VALUE!"}},{"$f":"Tabla13[[#This Row],[Nº Expediente de la plataforma de contratación]]","v":{"$error":"#VALUE!"}},{"$f":"Tabla13[[#This Row],[Importe IVA ]]","v":{"$error":"#VALUE!"}},{"$f":"Tabla13[[#This Row],[Importe de adjudicación (IVA INCLUIDO)]]","v":{"$error":"#VALUE!"}}]
[{"$nulls":18},{"$f":"Tabla13[[#This Row],[Título del contrato]]&Tabla13[[#This Row],[Nº Expediente de la plataforma de contratación]]","v":{"$error":"#VALUE!"}},{"$f":"Tabla13[[#This Row],[Nº Expediente de la plataforma de contratación]]","v":{"$error":"#VALUE!"}},{"$f":"Tabla13[[#This Row],[Importe IVA ]]","v":{"$error":"#VALUE!"}},{"$f":"Tabla13[[#This Row],[Importe de adjudicación (IVA INCLUIDO)]]","v":{"$error":"#VALUE!"}}]
[{"$nulls":18},{"$f":"Tabla13[[#This Row],[Título del contrato]]&Tabla13[[#This Row],[Nº Expediente de la plataforma de contratación]]","v":{"$error":"#VALUE!"}},{"$f":"Tabla13[[#This Row],[Nº Expediente de la plataforma de contratación]]","v":{"$error":"#VALUE!"}},{"$f":"Tabla13[[#This Row],[Importe IVA ]]","v":{"$error":"#VALUE!"}},{"$f":"Tabla13[[#This Row],[Importe de adjudicación (IVA INCLUIDO)]]","v":{"$error":"#VALUE!"}}]
[{"$nulls":18},{"$f":"Tabla13[[#This Row],[Título del contrato]]&Tabla13[[#This Row],[Nº Expediente de la plataforma de contratación]]","v":{"$error":"#VALUE!"}},{"$f":"Tabla13[[#This Row],[Nº Expediente de la plataforma de contratación]]","v":{"$error":"#VALUE!"}},{"$f":"Tabla13[[#This Row],[Importe IVA ]]","v":{"$error":"#VALUE!"}},{"$f":"Tabla13[[#This Row],[Importe de adjudicación (IVA INCLUIDO)]]","v":{"$error":"#VALUE!"}}]
[{"$nulls":18},{"$f":"Tabla13[[#This Row],[Título del contrato]]&Tabla13[[#This Row],[Nº Expediente de la plataforma de contratación]]","v":{"$error":"#VALUE!"}},{"$f":"Tabla13[[#This Row],[Nº Expediente de la plataforma de contratación]]","v":{"$error":"#VALUE!"}},{"$f":"Tabla13[[#This Row],[Importe IVA ]]","v":{"$error":"#VALUE!"}},{"$f":"Tabla13[[#This Row],[Importe de adjudicación (IVA INCLUIDO)]]","v":{"$error":"#VALUE!"}}]
[{"$nulls":18},{"$f":"Tabla13[[#This Row],[Título del contrato]]&Tabla13[[#This Row],[Nº Expediente de la plataforma de contratación]]","v":{"$error":"#VALUE!"}},{"$f":"Tabla13[[#This Row],[Nº Expediente de la plataforma de contratación]]","v":{"$error":"#VALUE!"}},{"$f":"Tabla13[[#This Row],[Importe IVA ]]","v":{"$error":"#VALUE!"}},{"$f":"Tabla13[[#This Row],[Importe de adjudicación (IVA INCLUIDO)]]","v":{"$error":"#VALUE!"}}]
[{"$nulls":18},{"$f":"Tabla13[[#This Row],[Título del contrato]]&Tabla13[[#This Row],[Nº Expediente de la plataforma de contratación]]","v":{"$error":"#VALUE!"}},{"$f":"Tabla13[[#This Row],[Nº Expediente de la plataforma de contratación]]","v":{"$error":"#VALUE!"}},{"$f":"Tabla13[[#This Row],[Importe IVA ]]","v":{"$error":"#VALUE!"}},{"$f":"Tabla13[[#This Row],[Importe de adjudicación (IVA INCLUIDO)]]","v":{"$error":"#VALUE!"}}]
[{"$nulls":18},{"$f":"Tabla13[[#This Row],[Título del contrato]]&Tabla13[[#This Row],[Nº Expediente de la plataforma de contratación]]","v":{"$error":"#VALUE!"}},{"$f":"Tabla13[[#This Row],[Nº Expediente de la plataforma de contratación]]","v":{"$error":"#VALUE!"}},{"$f":"Tabla13[[#This Row],[Importe IVA ]]","v":{"$error":"#VALUE!"}},{"$f":"Tabla13[[#This Row],[Importe de adjudicación (IVA INCLUIDO)]]","v":{"$error":"#VALUE!"}}]
[{"$nulls":18},{"$f":"Tabla13[[#This Row],[Título del contrato]]&Tabla13[[#This Row],[Nº Expediente de la plataforma de contratación]]","v":{"$error":"#VALUE!"}},{"$f":"Tabla13[[#This Row],[Nº Expediente de la plataforma de contratación]]","v":{"$error":"#VALUE!"}},{"$f":"Tabla13[[#This Row],[Importe IVA ]]","v":{"$error":"#VALUE!"}},{"$f":"Tabla13[[#This Row],[Importe de adjudicación (IVA INCLUIDO)]]","v":{"$error":"#VALUE!"}}]
[{"$nulls":18},{"$f":"Tabla13[[#This Row],[Título del contrato]]&Tabla13[[#This Row],[Nº Expediente de la plataforma de contratación]]","v":{"$error":"#VALUE!"}},{"$f":"Tabla13[[#This Row],[Nº Expediente de la plataforma de contratación]]","v":{"$error":"#VALUE!"}},{"$f":"Tabla13[[#This Row],[Importe IVA ]]","v":{"$error":"#VALUE!"}},{"$f":"Tabla13[[#This Row],[Importe de adjudicación (IVA INCLUIDO)]]","v":{"$error":"#VALUE!"}}]
[{"$nulls":18},{"$f":"Tabla13[[#This Row],[Título del contrato]]&Tabla13[[#This Row],[Nº Expediente de la plataforma de contratación]]","v":{"$error":"#VALUE!"}},{"$f":"Tabla13[[#This Row],[Nº Expediente de la plataforma de contratación]]","v":{"$error":"#VALUE!"}},{"$f":"Tabla13[[#This Row],[Importe IVA ]]","v":{"$error":"#VALUE!"}},{"$f":"Tabla13[[#This Row],[Importe de adjudicación (IVA INCLUIDO)]]","v":{"$error":"#VALUE!"}}]
[{"$nulls":18},{"$f":"Tabla13[[#This Row],[Título del contrato]]&Tabla13[[#This Row],[Nº Expediente de la plataforma de contratación]]","v":{"$error":"#VALUE!"}},{"$f":"Tabla13[[#This Row],[Nº Expediente de la plataforma de contratación]]","v":{"$error":"#VALUE!"}},{"$f":"Tabla13[[#This Row],[Importe IVA ]]","v":{"$error":"#VALUE!"}},{"$f":"Tabla13[[#This Row],[Importe de adjudicación (IVA INCLUIDO)]]","v":{"$error":"#VALUE!"}}]
[{"$nulls":18},{"$f":"Tabla13[[#This Row],[Título del contrato]]&Tabla13[[#This Row],[Nº Expediente de la plataforma de contratación]]","v":{"$error":"#VALUE!"}},{"$f":"Tabla13[[#This Row],[Nº Expediente de la plataforma de contratación]]","v":{"$error":"#VALUE!"}},{"$f":"Tabla13[[#This Row],[Importe IVA ]]","v":{"$error":"#VALUE!"}},{"$f":"Tabla13[[#This Row],[Importe de adjudicación (IVA INCLUIDO)]]","v":{"$error":"#VALUE!"}}]
[{"$nulls":18},{"$f":"Tabla13[[#This Row],[Título del contrato]]&Tabla13[[#This Row],[Nº Expediente de la plataforma de contratación]]","v":{"$error":"#VALUE!"}},{"$f":"Tabla13[[#This Row],[Nº Expediente de la plataforma de contratación]]","v":{"$error":"#VALUE!"}},{"$f":"Tabla13[[#This Row],[Importe IVA ]]","v":{"$error":"#VALUE!"}},{"$f":"Tabla13[[#This Row],[Importe de adjudicación (IVA INCLUIDO)]]","v":{"$error":"#VALUE!"}}]
[{"$nulls":18},{"$f":"Tabla13[[#This Row],[Título del contrato]]&Tabla13[[#This Row],[Nº Expediente de la plataforma de contratación]]","v":{"$error":"#VALUE!"}},{"$f":"Tabla13[[#This Row],[Nº Expediente de la plataforma de contratación]]","v":{"$error":"#VALUE!"}},{"$f":"Tabla13[[#This Row],[Importe IVA ]]","v":{"$error":"#VALUE!"}},{"$f":"Tabla13[[#This Row],[Importe de adjudicación (IVA INCLUIDO)]]","v":{"$error":"#VALUE!"}}]
[{"$nulls":18},{"$f":"Tabla13[[#This Row],[Título del contrato]]&Tabla13[[#This Row],[Nº Expediente de la plataforma de contratación]]","v":{"$error":"#VALUE!"}},{"$f":"Tabla13[[#This Row],[Nº Expediente de la plataforma de contratación]]","v":{"$error":"#VALUE!"}},{"$f":"Tabla13[[#This Row],[Importe IVA ]]","v":{"$error":"#VALUE!"}},{"$f":"Tabla13[[#This Row],[Importe de adjudicación (IVA INCLUIDO)]]","v":{"$error":"#VALUE!"}}]
[{"$nulls":18},{"$f":"Tabla13[[#This Row],[Título del contrato]]&Tabla13[[#This Row],[Nº Expediente de la plataforma de contratación]]","v":{"$error":"#VALUE!"}},{"$f":"Tabla13[[#This Row],[Nº Expediente de la plataforma de contratación]]","v":{"$error":"#VALUE!"}},{"$f":"Tabla13[[#This Row],[Importe IVA ]]","v":{"$error":"#VALUE!"}},{"$f":"Tabla13[[#This Row],[Importe de adjudicación (IVA INCLUIDO)]]","v":{"$error":"#VALUE!"}}]
[{"$nulls":18},{"$f":"Tabla13[[#This Row],[Título del contrato]]&Tabla13[[#This Row],[Nº Expediente de la plataforma de contratación]]","v":{"$error":"#VALUE!"}},{"$f":"Tabla13[[#This Row],[Nº Expediente de la plataforma de contratación]]","v":{"$error":"#VALUE!"}},{"$f":"Tabla13[[#This Row],[Importe IVA ]]","v":{"$error":"#VALUE!"}},{"$f":"Tabla13[[#This Row],[Importe de adjudicación (IVA INCLUIDO)]]","v":{"$error":"#VALUE!"}}]
[{"$nulls":18},{"$f":"Tabla13[[#This Row],[Título del contrato]]&Tabla13[[#This Row],[Nº Expediente de la plataforma de contratación]]","v":{"$error":"#VALUE!"}},{"$f":"Tabla13[[#This Row],[Nº Expediente de la plataforma de contratación]]","v":{"$error":"#VALUE!"}},{"$f":"Tabla13[[#This Row],[Importe IVA ]]","v":{"$error":"#VALUE!"}},{"$f":"Tabla13[[#This Row],[Importe de adjudicación (IVA INCLUIDO)]]","v":{"$error":"#VALUE!"}}]
[{"$nulls":18},{"$f":"Tabla13[[#This Row],[Título del contrato]]&Tabla13[[#This Row],[Nº Expediente de la plataforma de contratación]]","v":{"$error":"#VALUE!"}},{"$f":"Tabla13[[#This Row],[Nº Expediente de la plataforma de contratación]]","v":{"$error":"#VALUE!"}},{"$f":"Tabla13[[#This Row],[Importe IVA ]]","v":{"$error":"#VALUE!"}},{"$f":"Tabla13[[#This Row],[Importe de adjudicación (IVA INCLUIDO)]]","v":{"$error":"#VALUE!"}}]
[{"$nulls":18},{"$f":"Tabla13[[#This Row],[Título del contrato]]&Tabla13[[#This Row],[Nº Expediente de la plataforma de contratación]]","v":{"$error":"#VALUE!"}},{"$f":"Tabla13[[#This Row],[Nº Expediente de la plataforma de contratación]]","v":{"$error":"#VALUE!"}},{"$f":"Tabla13[[#This Row],[Importe IVA ]]","v":{"$error":"#VALUE!"}},{"$f":"Tabla13[[#This Row],[Importe de adjudicación (IVA INCLUIDO)]]","v":{"$error":"#VALUE!"}}]
[{"$nulls":18},{"$f":"Tabla13[[#This Row],[Título del contrato]]&Tabla13[[#This Row],[Nº Expediente de la plataforma de contratación]]","v":{"$error":"#VALUE!"}},{"$f":"Tabla13[[#This Row],[Nº Expediente de la plataforma de contratación]]","v":{"$error":"#VALUE!"}},{"$f":"Tabla13[[#This Row],[Importe IVA ]]","v":{"$error":"#VALUE!"}},{"$f":"Tabla13[[#This Row],[Importe de adjudicación (IVA INCLUIDO)]]","v":{"$error":"#VALUE!"}}]
[{"$nulls":18},{"$f":"Tabla13[[#This Row],[Título del contrato]]&Tabla13[[#This Row],[Nº Expediente de la plataforma de contratación]]","v":{"$error":"#VALUE!"}},{"$f":"Tabla13[[#This Row],[Nº Expediente de la plataforma de contratación]]","v":{"$error":"#VALUE!"}},{"$f":"Tabla13[[#This Row],[Importe IVA ]]","v":{"$error":"#VALUE!"}},{"$f":"Tabla13[[#This Row],[Importe de adjudicación (IVA INCLUIDO)]]","v":{"$error":"#VALUE!"}}]
[{"$nulls":18},{"$f":"Tabla13[[#This Row],[Título del contrato]]&Tabla13[[#This Row],[Nº Expediente de la plataforma de contratación]]","v":{"$error":"#VALUE!"}},{"$f":"Tabla13[[#This Row],[Nº Expediente de la plataforma de contratación]]","v":{"$error":"#VALUE!"}},{"$f":"Tabla13[[#This Row],[Importe IVA ]]","v":{"$error":"#VALUE!"}},{"$f":"Tabla13[[#This Row],[Importe de adjudicación (IVA INCLUIDO)]]","v":{"$error":"#VALUE!"}}]
[{"$nulls":18},{"$f":"Tabla13[[#This Row],[Título del contrato]]&Tabla13[[#This Row],[Nº Expediente de la plataforma de contratación]]","v":{"$error":"#VALUE!"}},{"$f":"Tabla13[[#This Row],[Nº Expediente de la plataforma de contratación]]","v":{"$error":"#VALUE!"}},{"$f":"Tabla13[[#This Row],[Importe IVA ]]","v":{"$error":"#VALUE!"}},{"$f":"Tabla13[[#This Row],[Importe de adjudicación (IVA INCLUIDO)]]","v":{"$error":"#VALUE!"}}]
[{"$nulls":18},{"$f":"Tabla13[[#This Row],[Título del contrato]]&Tabla13[[#This Row],[Nº Expediente de la plataforma de contratación]]","v":{"$error":"#VALUE!"}},{"$f":"Tabla13[[#This Row],[Nº Expediente de la plataforma de contratación]]","v":{"$error":"#VALUE!"}},{"$f":"Tabla13[[#This Row],[Importe IVA ]]","v":{"$error":"#VALUE!"}},{"$f":"Tabla13[[#This Row],[Importe de adjudicación (IVA INCLUIDO)]]","v":{"$error":"#VALUE!"}}]
[{"$nulls":18},{"$f":"Tabla13[[#This Row],[Título del contrato]]&Tabla13[[#This Row],[Nº Expediente de la plataforma de contratación]]","v":{"$error":"#VALUE!"}},{"$f":"Tabla13[[#This Row],[Nº Expediente de la plataforma de contratación]]","v":{"$error":"#VALUE!"}},{"$f":"Tabla13[[#This Row],[Importe IVA ]]","v":{"$error":"#VALUE!"}},{"$f":"Tabla13[[#This Row],[Importe de adjudicación (IVA INCLUIDO)]]","v":{"$error":"#VALUE!"}}]
[{"$nulls":18},{"$f":"Tabla13[[#This Row],[Título del contrato]]&Tabla13[[#This Row],[Nº Expediente de la plataforma de contratación]]","v":{"$error":"#VALUE!"}},{"$f":"Tabla13[[#This Row],[Nº Expediente de la plataforma de contratación]]","v":{"$error":"#VALUE!"}},{"$f":"Tabla13[[#This Row],[Importe IVA ]]","v":{"$error":"#VALUE!"}},{"$f":"Tabla13[[#This Row],[Importe de adjudicación (IVA INCLUIDO)]]","v":{"$error":"#VALUE!"}}]
[{"$nulls":18},{"$f":"Tabla13[[#This Row],[Título del contrato]]&Tabla13[[#This Row],[Nº Expediente de la plataforma de contratación]]","v":{"$error":"#VALUE!"}},{"$f":"Tabla13[[#This Row],[Nº Expediente de la plataforma de contratación]]","v":{"$error":"#VALUE!"}},{"$f":"Tabla13[[#This Row],[Importe IVA ]]","v":{"$error":"#VALUE!"}},{"$f":"Tabla13[[#This Row],[Importe de adjudicación (IVA INCLUIDO)]]","v":{"$error":"#VALUE!"}}]
[{"$nulls":18},{"$f":"Tabla13[[#This Row],[Título del contrato]]&Tabla13[[#This Row],[Nº Expediente de la plataforma de contratación]]","v":{"$error":"#VALUE!"}},{"$f":"Tabla13[[#This Row],[Nº Expediente de la plataforma de contratación]]","v":{"$error":"#VALUE!"}},{"$f":"Tabla13[[#This Row],[Importe IVA ]]","v":{"$error":"#VALUE!"}},{"$f":"Tabla13[[#This Row],[Importe de adjudicación (IVA INCLUIDO)]]","v":{"$error":"#VALUE!"}}]
[{"$nulls":18},{"$f":"Tabla13[[#This Row],[Título del contrato]]&Tabla13[[#This Row],[Nº Expediente de la plataforma de contratación]]","v":{"$error":"#VALUE!"}},{"$f":"Tabla13[[#This Row],[Nº Expediente de la plataforma de contratación]]","v":{"$error":"#VALUE!"}},{"$f":"Tabla13[[#This Row],[Importe IVA ]]","v":{"$error":"#VALUE!"}},{"$f":"Tabla13[[#This Row],[Importe de adjudicación (IVA INCLUIDO)]]","v":{"$error":"#VALUE!"}}]
[{"$nulls":18},{"$f":"Tabla13[[#This Row],[Título del contrato]]&Tabla13[[#This Row],[Nº Expediente de la plataforma de contratación]]","v":{"$error":"#VALUE!"}},{"$f":"Tabla13[[#This Row],[Nº Expediente de la plataforma de contratación]]","v":{"$error":"#VALUE!"}},{"$f":"Tabla13[[#This Row],[Importe IVA ]]","v":{"$error":"#VALUE!"}},{"$f":"Tabla13[[#This Row],[Importe de adjudicación (IVA INCLUIDO)]]","v":{"$error":"#VALUE!"}}]
[{"$nulls":18},{"$f":"Tabla13[[#This Row],[Título del contrato]]&Tabla13[[#This Row],[Nº Expediente de la plataforma de contratación]]","v":{"$error":"#VALUE!"}},{"$f":"Tabla13[[#This Row],[Nº Expediente de la plataforma de contratación]]","v":{"$error":"#VALUE!"}},{"$f":"Tabla13[[#This Row],[Importe IVA ]]","v":{"$error":"#VALUE!"}},{"$f":"Tabla13[[#This Row],[Importe de adjudicación (IVA INCLUIDO)]]","v":{"$error":"#VALUE!"}}]
[{"$nulls":18},{"$f":"Tabla13[[#This Row],[Título del contrato]]&Tabla13[[#This Row],[Nº Expediente de la plataforma de contratación]]","v":{"$error":"#VALUE!"}},{"$f":"Tabla13[[#This Row],[Nº Expediente de la plataforma de contratación]]","v":{"$error":"#VALUE!"}},{"$f":"Tabla13[[#This Row],[Importe IVA ]]","v":{"$error":"#VALUE!"}},{"$f":"Tabla13[[#This Row],[Importe de adjudicación (IVA INCLUIDO)]]","v":{"$error":"#VALUE!"}}]
[{"$nulls":18},{"$f":"Tabla13[[#This Row],[Título del contrato]]&Tabla13[[#This Row],[Nº Expediente de la plataforma de contratación]]","v":{"$error":"#VALUE!"}},{"$f":"Tabla13[[#This Row],[Nº Expediente de la plataforma de contratación]]","v":{"$error":"#VALUE!"}},{"$f":"Tabla13[[#This Row],[Importe IVA ]]","v":{"$error":"#VALUE!"}},{"$f":"Tabla13[[#This Row],[Importe de adjudicación (IVA INCLUIDO)]]","v":{"$error":"#VALUE!"}}]
[{"$nulls":18},{"$f":"Tabla13[[#This Row],[Título del contrato]]&Tabla13[[#This Row],[Nº Expediente de la plataforma de contratación]]","v":{"$error":"#VALUE!"}},{"$f":"Tabla13[[#This Row],[Nº Expediente de la plataforma de contratación]]","v":{"$error":"#VALUE!"}},{"$f":"Tabla13[[#This Row],[Importe IVA ]]","v":{"$error":"#VALUE!"}},{"$f":"Tabla13[[#This Row],[Importe de adjudicación (IVA INCLUIDO)]]","v":{"$error":"#VALUE!"}}]
[{"$nulls":18},{"$f":"Tabla13[[#This Row],[Título del contrato]]&Tabla13[[#This Row],[Nº Expediente de la plataforma de contratación]]","v":{"$error":"#VALUE!"}},{"$f":"Tabla13[[#This Row],[Nº Expediente de la plataforma de contratación]]","v":{"$error":"#VALUE!"}},{"$f":"Tabla13[[#This Row],[Importe IVA ]]","v":{"$error":"#VALUE!"}},{"$f":"Tabla13[[#This Row],[Importe de adjudicación (IVA INCLUIDO)]]","v":{"$error":"#VALUE!"}}]
[{"$nulls":18},{"$f":"Tabla13[[#This Row],[Título del contrato]]&Tabla13[[#This Row],[Nº Expediente de la plataforma de contratación]]","v":{"$error":"#VALUE!"}},{"$f":"Tabla13[[#This Row],[Nº Expediente de la plataforma de contratación]]","v":{"$error":"#VALUE!"}},{"$f":"Tabla13[[#This Row],[Importe IVA ]]","v":{"$error":"#VALUE!"}},{"$f":"Tabla13[[#This Row],[Importe de adjudicación (IVA INCLUIDO)]]","v":{"$error":"#VALUE!"}}]
[{"$nulls":18},{"$f":"Tabla13[[#This Row],[Título del contrato]]&Tabla13[[#This Row],[Nº Expediente de la plataforma de contratación]]","v":{"$error":"#VALUE!"}},{"$f":"Tabla13[[#This Row],[Nº Expediente de la plataforma de contratación]]","v":{"$error":"#VALUE!"}},{"$f":"Tabla13[[#This Row],[Importe IVA ]]","v":{"$error":"#VALUE!"}},{"$f":"Tabla13[[#This Row],[Importe de adjudicación (IVA INCLUIDO)]]","v":{"$error":"#VALUE!"}}]
[{"$nulls":18},{"$f":"Tabla13[[#This Row],[Título del contrato]]&Tabla13[[#This Row],[Nº Expediente de la plataforma de contratación]]","v":{"$error":"#VALUE!"}},{"$f":"Tabla13[[#This Row],[Nº Expediente de la plataforma de contratación]]","v":{"$error":"#VALUE!"}},{"$f":"Tabla13[[#This Row],[Importe IVA ]]","v":{"$error":"#VALUE!"}},{"$f":"Tabla13[[#This Row],[Importe de adjudicación (IVA INCLUIDO)]]","v":{"$error":"#VALUE!"}}]
[{"$nulls":18},{"$f":"Tabla13[[#This Row],[Título del contrato]]&Tabla13[[#This Row],[Nº Expediente de la plataforma de contratación]]","v":{"$error":"#VALUE!"}},{"$f":"Tabla13[[#This Row],[Nº Expediente de la plataforma de contratación]]","v":{"$error":"#VALUE!"}},{"$f":"Tabla13[[#This Row],[Importe IVA ]]","v":{"$error":"#VALUE!"}},{"$f":"Tabla13[[#This Row],[Importe de adjudicación (IVA INCLUIDO)]]","v":{"$error":"#VALUE!"}}]
[{"$nulls":18},{"$f":"Tabla13[[#This Row],[Título del contrato]]&Tabla13[[#This Row],[Nº Expediente de la plataforma de contratación]]","v":{"$error":"#VALUE!"}},{"$f":"Tabla13[[#This Row],[Nº Expediente de la plataforma de contratación]]","v":{"$error":"#VALUE!"}},{"$f":"Tabla13[[#This Row],[Importe IVA ]]","v":{"$error":"#VALUE!"}},{"$f":"Tabla13[[#This Row],[Importe de adjudicación (IVA INCLUIDO)]]","v":{"$error":"#VALUE!"}}]
[{"$nulls":18},{"$f":"Tabla13[[#This Row],[Título del contrato]]&Tabla13[[#This Row],[Nº Expediente de la plataforma de contratación]]","v":{"$error":"#VALUE!"}},{"$f":"Tabla13[[#This Row],[Nº Expediente de la plataforma de contratación]]","v":{"$error":"#VALUE!"}},{"$f":"Tabla13[[#This Row],[Importe IVA ]]","v":{"$error":"#VALUE!"}},{"$f":"Tabla13[[#This Row],[Importe de adjudicación (IVA INCLUIDO)]]","v":{"$error":"#VALUE!"}}]
[{"$nulls":18},{"$f":"Tabla13[[#This Row],[Título del contrato]]&Tabla13[[#This Row],[Nº Expediente de la plataforma de contratación]]","v":{"$error":"#VALUE!"}},{"$f":"Tabla13[[#This Row],[Nº Expediente de la plataforma de contratación]]","v":{"$error":"#VALUE!"}},{"$f":"Tabla13[[#This Row],[Importe IVA ]]","v":{"$error":"#VALUE!"}},{"$f":"Tabla13[[#This Row],[Importe de adjudicación (IVA INCLUIDO)]]","v":{"$error":"#VALUE!"}}]
[{"$nulls":18},{"$f":"Tabla13[[#This Row],[Título del contrato]]&Tabla13[[#This Row],[Nº Expediente de la plataforma de contratación]]","v":{"$error":"#VALUE!"}},{"$f":"Tabla13[[#This Row],[Nº Expediente de la plataforma de contratación]]","v":{"$error":"#VALUE!"}},{"$f":"Tabla13[[#This Row],[Importe IVA ]]","v":{"$error":"#VALUE!"}},{"$f":"Tabla13[[#This Row],[Importe de adjudicación (IVA INCLUIDO)]]","v":{"$error":"#VALUE!"}}]
[{"$nulls":18},{"$f":"Tabla13[[#This Row],[Título del contrato]]&Tabla13[[#This Row],[Nº Expediente de la plataforma de contratación]]","v":{"$error":"#VALUE!"}},{"$f":"Tabla13[[#This Row],[Nº Expediente de la plataforma de contratación]]","v":{"$error":"#VALUE!"}},{"$f":"Tabla13[[#This Row],[Importe IVA ]]","v":{"$error":"#VALUE!"}},{"$f":"Tabla13[[#This Row],[Importe de adjudicación (IVA INCLUIDO)]]","v":{"$error":"#VALUE!"}}]
[{"$nulls":18},{"$f":"Tabla13[[#This Row],[Título del contrato]]&Tabla13[[#This Row],[Nº Expediente de la plataforma de contratación]]","v":{"$error":"#VALUE!"}},{"$f":"Tabla13[[#This Row],[Nº Expediente de la plataforma de contratación]]","v":{"$error":"#VALUE!"}},{"$f":"Tabla13[[#This Row],[Importe IVA ]]","v":{"$error":"#VALUE!"}},{"$f":"Tabla13[[#This Row],[Importe de adjudicación (IVA INCLUIDO)]]","v":{"$error":"#VALUE!"}}]
[{"$nulls":18},{"$f":"Tabla13[[#This Row],[Título del contrato]]&Tabla13[[#This Row],[Nº Expediente de la plataforma de contratación]]","v":{"$error":"#VALUE!"}},{"$f":"Tabla13[[#This Row],[Nº Expediente de la plataforma de contratación]]","v":{"$error":"#VALUE!"}},{"$f":"Tabla13[[#This Row],[Importe IVA ]]","v":{"$error":"#VALUE!"}},{"$f":"Tabla13[[#This Row],[Importe de adjudicación (IVA INCLUIDO)]]","v":{"$error":"#VALUE!"}}]
[{"$nulls":18},{"$f":"Tabla13[[#This Row],[Título del contrato]]&Tabla13[[#This Row],[Nº Expediente de la plataforma de contratación]]","v":{"$error":"#VALUE!"}},{"$f":"Tabla13[[#This Row],[Nº Expediente de la plataforma de contratación]]","v":{"$error":"#VALUE!"}},{"$f":"Tabla13[[#This Row],[Importe IVA ]]","v":{"$error":"#VALUE!"}},{"$f":"Tabla13[[#This Row],[Importe de adjudicación (IVA INCLUIDO)]]","v":{"$error":"#VALUE!"}}]
[{"$nulls":18},{"$f":"Tabla13[[#This Row],[Título del contrato]]&Tabla13[[#This Row],[Nº Expediente de la plataforma de contratación]]","v":{"$error":"#VALUE!"}},{"$f":"Tabla13[[#This Row],[Nº Expediente de la plataforma de contratación]]","v":{"$error":"#VALUE!"}},{"$f":"Tabla13[[#This Row],[Importe IVA ]]","v":{"$error":"#VALUE!"}},{"$f":"Tabla13[[#This Row],[Importe de adjudicación (IVA INCLUIDO)]]","v":{"$error":"#VALUE!"}}]
[{"$nulls":18},{"$f":"Tabla13[[#This Row],[Título del contrato]]&Tabla13[[#This Row],[Nº Expediente de la plataforma de contratación]]","v":{"$error":"#VALUE!"}},{"$f":"Tabla13[[#This Row],[Nº Expediente de la plataforma de contratación]]","v":{"$error":"#VALUE!"}},{"$f":"Tabla13[[#This Row],[Importe IVA ]]","v":{"$error":"#VALUE!"}},{"$f":"Tabla13[[#This Row],[Importe de adjudicación (IVA INCLUIDO)]]","v":{"$error":"#VALUE!"}}]
[{"$nulls":18},{"$f":"Tabla13[[#This Row],[Título del contrato]]&Tabla13[[#This Row],[Nº Expediente de la plataforma de contratación]]","v":{"$error":"#VALUE!"}},{"$f":"Tabla13[[#This Row],[Nº Expediente de la plataforma de contratación]]","v":{"$error":"#VALUE!"}},{"$f":"Tabla13[[#This Row],[Importe IVA ]]","v":{"$error":"#VALUE!"}},{"$f":"Tabla13[[#This Row],[Importe de adjudicación (IVA INCLUIDO)]]","v":{"$error":"#VALUE!"}}]
[{"$nulls":18},{"$f":"Tabla13[[#This Row],[Título del contrato]]&Tabla13[[#This Row],[Nº Expediente de la plataforma de contratación]]","v":{"$error":"#VALUE!"}},{"$f":"Tabla13[[#This Row],[Nº Expediente de la plataforma de contratación]]","v":{"$error":"#VALUE!"}},{"$f":"Tabla13[[#This Row],[Importe IVA ]]","v":{"$error":"#VALUE!"}},{"$f":"Tabla13[[#This Row],[Importe de adjudicación (IVA INCLUIDO)]]","v":{"$error":"#VALUE!"}}]
[{"$nulls":18},{"$f":"Tabla13[[#This Row],[Título del contrato]]&Tabla13[[#This Row],[Nº Expediente de la plataforma de contratación]]","v":{"$error":"#VALUE!"}},{"$f":"Tabla13[[#This Row],[Nº Expediente de la plataforma de contratación]]","v":{"$error":"#VALUE!"}},{"$f":"Tabla13[[#This Row],[Importe IVA ]]","v":{"$error":"#VALUE!"}},{"$f":"Tabla13[[#This Row],[Importe de adjudicación (IVA INCLUIDO)]]","v":{"$error":"#VALUE!"}}]
[{"$nulls":18},{"$f":"Tabla13[[#This Row],[Título del contrato]]&Tabla13[[#This Row],[Nº Expediente de la plataforma de contratación]]","v":{"$error":"#VALUE!"}},{"$f":"Tabla13[[#This Row],[Nº Expediente de la plataforma de contratación]]","v":{"$error":"#VALUE!"}},{"$f":"Tabla13[[#This Row],[Importe IVA ]]","v":{"$error":"#VALUE!"}},{"$f":"Tabla13[[#This Row],[Importe de adjudicación (IVA INCLUIDO)]]","v":{"$error":"#VALUE!"}}]
[{"$nulls":18},{"$f":"Tabla13[[#This Row],[Título del contrato]]&Tabla13[[#This Row],[Nº Expediente de la plataforma de contratación]]","v":{"$error":"#VALUE!"}},{"$f":"Tabla13[[#This Row],[Nº Expediente de la plataforma de contratación]]","v":{"$error":"#VALUE!"}},{"$f":"Tabla13[[#This Row],[Importe IVA ]]","v":{"$error":"#VALUE!"}},{"$f":"Tabla13[[#This Row],[Importe de adjudicación (IVA INCLUIDO)]]","v":{"$error":"#VALUE!"}}]
[{"$nulls":18},{"$f":"Tabla13[[#This Row],[Título del contrato]]&Tabla13[[#This Row],[Nº Expediente de la plataforma de contratación]]","v":{"$error":"#VALUE!"}},{"$f":"Tabla13[[#This Row],[Nº Expediente de la plataforma de contratación]]","v":{"$error":"#VALUE!"}},{"$f":"Tabla13[[#This Row],[Importe IVA ]]","v":{"$error":"#VALUE!"}},{"$f":"Tabla13[[#This Row],[Importe de adjudicación (IVA INCLUIDO)]]","v":{"$error":"#VALUE!"}}]
[{"$nulls":18},{"$f":"Tabla13[[#This Row],[Título del contrato]]&Tabla13[[#This Row],[Nº Expediente de la plataforma de contratación]]","v":{"$error":"#VALUE!"}},{"$f":"Tabla13[[#This Row],[Nº Expediente de la plataforma de contratación]]","v":{"$error":"#VALUE!"}},{"$f":"Tabla13[[#This Row],[Importe IVA ]]","v":{"$error":"#VALUE!"}},{"$f":"Tabla13[[#This Row],[Importe de adjudicación (IVA INCLUIDO)]]","v":{"$error":"#VALUE!"}}]
[{"$nulls":18},{"$f":"Tabla13[[#This Row],[Título del contrato]]&Tabla13[[#This Row],[Nº Expediente de la plataforma de contratación]]","v":{"$error":"#VALUE!"}},{"$f":"Tabla13[[#This Row],[Nº Expediente de la plataforma de contratación]]","v":{"$error":"#VALUE!"}},{"$f":"Tabla13[[#This Row],[Importe IVA ]]","v":{"$error":"#VALUE!"}},{"$f":"Tabla13[[#This Row],[Importe de adjudicación (IVA INCLUIDO)]]","v":{"$error":"#VALUE!"}}]
[{"$nulls":18},{"$f":"Tabla13[[#This Row],[Título del contrato]]&Tabla13[[#This Row],[Nº Expediente de la plataforma de contratación]]","v":{"$error":"#VALUE!"}},{"$f":"Tabla13[[#This Row],[Nº Expediente de la plataforma de contratación]]","v":{"$error":"#VALUE!"}},{"$f":"Tabla13[[#This Row],[Importe IVA ]]","v":{"$error":"#VALUE!"}},{"$f":"Tabla13[[#This Row],[Importe de adjudicación (IVA INCLUIDO)]]","v":{"$error":"#VALUE!"}}]
[{"$nulls":18},{"$f":"Tabla13[[#This Row],[Título del contrato]]&Tabla13[[#This Row],[Nº Expediente de la plataforma de contratación]]","v":{"$error":"#VALUE!"}},{"$f":"Tabla13[[#This Row],[Nº Expediente de la plataforma de contratación]]","v":{"$error":"#VALUE!"}},{"$f":"Tabla13[[#This Row],[Importe IVA ]]","v":{"$error":"#VALUE!"}},{"$f":"Tabla13[[#This Row],[Importe de adjudicación (IVA INCLUIDO)]]","v":{"$error":"#VALUE!"}}]
[{"$nulls":18},{"$f":"Tabla13[[#This Row],[Título del contrato]]&Tabla13[[#This Row],[Nº Expediente de la plataforma de contratación]]","v":{"$error":"#VALUE!"}},{"$f":"Tabla13[[#This Row],[Nº Expediente de la plataforma de contratación]]","v":{"$error":"#VALUE!"}},{"$f":"Tabla13[[#This Row],[Importe IVA ]]","v":{"$error":"#VALUE!"}},{"$f":"Tabla13[[#This Row],[Importe de adjudicación (IVA INCLUIDO)]]","v":{"$error":"#VALUE!"}}]
[{"$nulls":18},{"$f":"Tabla13[[#This Row],[Título del contrato]]&Tabla13[[#This Row],[Nº Expediente de la plataforma de contratación]]","v":{"$error":"#VALUE!"}},{"$f":"Tabla13[[#This Row],[Nº Expediente de la plataforma de contratación]]","v":{"$error":"#VALUE!"}},{"$f":"Tabla13[[#This Row],[Importe IVA ]]","v":{"$error":"#VALUE!"}},{"$f":"Tabla13[[#This Row],[Importe de adjudicación (IVA INCLUIDO)]]","v":{"$error":"#VALUE!"}}]
[{"$nulls":18},{"$f":"Tabla13[[#This Row],[Título del contrato]]&Tabla13[[#This Row],[Nº Expediente de la plataforma de contratación]]","v":{"$error":"#VALUE!"}},{"$f":"Tabla13[[#This Row],[Nº Expediente de la plataforma de contratación]]","v":{"$error":"#VALUE!"}},{"$f":"Tabla13[[#This Row],[Importe IVA ]]","v":{"$error":"#VALUE!"}},{"$f":"Tabla13[[#This Row],[Importe de adjudicación (IVA INCLUIDO)]]","v":{"$error":"#VALUE!"}}]
[{"$nulls":18},{"$f":"Tabla13[[#This Row],[Título del contrato]]&Tabla13[[#This Row],[Nº Expediente de la plataforma de contratación]]","v":{"$error":"#VALUE!"}},{"$f":"Tabla13[[#This Row],[Nº Expediente de la plataforma de contratación]]","v":{"$error":"#VALUE!"}},{"$f":"Tabla13[[#This Row],[Importe IVA ]]","v":{"$error":"#VALUE!"}},{"$f":"Tabla13[[#This Row],[Importe de adjudicación (IVA INCLUIDO)]]","v":{"$error":"#VALUE!"}}]
[{"$nulls":18},{"$f":"Tabla13[[#This Row],[Título del contrato]]&Tabla13[[#This Row],[Nº Expediente de la plataforma de contratación]]","v":{"$error":"#VALUE!"}},{"$f":"Tabla13[[#This Row],[Nº Expediente de la plataforma de contratación]]","v":{"$error":"#VALUE!"}},{"$f":"Tabla13[[#This Row],[Importe IVA ]]","v":{"$error":"#VALUE!"}},{"$f":"Tabla13[[#This Row],[Importe de adjudicación (IVA INCLUIDO)]]","v":{"$error":"#VALUE!"}}]
[{"$nulls":18},{"$f":"Tabla13[[#This Row],[Título del contrato]]&Tabla13[[#This Row],[Nº Expediente de la plataforma de contratación]]","v":{"$error":"#VALUE!"}},{"$f":"Tabla13[[#This Row],[Nº Expediente de la plataforma de contratación]]","v":{"$error":"#VALUE!"}},{"$f":"Tabla13[[#This Row],[Importe IVA ]]","v":{"$error":"#VALUE!"}},{"$f":"Tabla13[[#This Row],[Importe de adjudicación (IVA INCLUIDO)]]","v":{"$error":"#VALUE!"}}]
[{"$nulls":18},{"$f":"Tabla13[[#This Row],[Título del contrato]]&Tabla13[[#This Row],[Nº Expediente de la plataforma de contratación]]","v":{"$error":"#VALUE!"}},{"$f":"Tabla13[[#This Row],[Nº Expediente de la plataforma de contratación]]","v":{"$error":"#VALUE!"}},{"$f":"Tabla13[[#This Row],[Importe IVA ]]","v":{"$error":"#VALUE!"}},{"$f":"Tabla13[[#This Row],[Importe de adjudicación (IVA INCLUIDO)]]","v":{"$error":"#VALUE!"}}]
[{"$nulls":18},{"$f":"Tabla13[[#This Row],[Título del contrato]]&Tabla13[[#This Row],[Nº Expediente de la plataforma de contratación]]","v":{"$error":"#VALUE!"}},{"$f":"Tabla13[[#This Row],[Nº Expediente de la plataforma de contratación]]","v":{"$error":"#VALUE!"}},{"$f":"Tabla13[[#This Row],[Importe IVA ]]","v":{"$error":"#VALUE!"}},{"$f":"Tabla13[[#This Row],[Importe de adjudicación (IVA INCLUIDO)]]","v":{"$error":"#VALUE!"}}]
[{"$nulls":18},{"$f":"Tabla13[[#This Row],[Título del contrato]]&Tabla13[[#This Row],[Nº Expediente de la plataforma de contratación]]","v":{"$error":"#VALUE!"}},{"$f":"Tabla13[[#This Row],[Nº Expediente de la plataforma de contratación]]","v":{"$error":"#VALUE!"}},{"$f":"Tabla13[[#This Row],[Importe IVA ]]","v":{"$error":"#VALUE!"}},{"$f":"Tabla13[[#This Row],[Importe de adjudicación (IVA INCLUIDO)]]","v":{"$error":"#VALUE!"}}]
[{"$nulls":18},{"$f":"Tabla13[[#This Row],[Título del contrato]]&Tabla13[[#This Row],[Nº Expediente de la plataforma de contratación]]","v":{"$error":"#VALUE!"}},{"$f":"Tabla13[[#This Row],[Nº Expediente de la plataforma de contratación]]","v":{"$error":"#VALUE!"}},{"$f":"Tabla13[[#This Row],[Importe IVA ]]","v":{"$error":"#VALUE!"}},{"$f":"Tabla13[[#This Row],[Importe de adjudicación (IVA INCLUIDO)]]","v":{"$error":"#VALUE!"}}]
[{"$nulls":18},{"$f":"Tabla13[[#This Row],[Título del contrato]]&Tabla13[[#This Row],[Nº Expediente de la plataforma de contratación]]","v":{"$error":"#VALUE!"}},{"$f":"Tabla13[[#This Row],[Nº Expediente de la plataforma de contratación]]","v":{"$error":"#VALUE!"}},{"$f":"Tabla13[[#This Row],[Importe IVA ]]","v":{"$error":"#VALUE!"}},{"$f":"Tabla13[[#This Row],[Importe de adjudicación (IVA INCLUIDO)]]","v":{"$error":"#VALUE!"}}]
[{"$nulls":18},{"$f":"Tabla13[[#This Row],[Título del contrato]]&Tabla13[[#This Row],[Nº Expediente de la plataforma de contratación]]","v":{"$error":"#VALUE!"}},{"$f":"Tabla13[[#This Row],[Nº Expediente de la plataforma de contratación]]","v":{"$error":"#VALUE!"}},{"$f":"Tabla13[[#This Row],[Importe IVA ]]","v":{"$error":"#VALUE!"}},{"$f":"Tabla13[[#This Row],[Importe de adjudicación (IVA INCLUIDO)]]","v":{"$error":"#VALUE!"}}]
[{"$nulls":18},{"$f":"Tabla13[[#This Row],[Título del contrato]]&Tabla13[[#This Row],[Nº Expediente de la plataforma de contratación]]","v":{"$error":"#VALUE!"}},{"$f":"Tabla13[[#This Row],[Nº Expediente de la plataforma de contratación]]","v":{"$error":"#VALUE!"}},{"$f":"Tabla13[[#This Row],[Importe IVA ]]","v":{"$error":"#VALUE!"}},{"$f":"Tabla13[[#This Row],[Importe de adjudicación (IVA INCLUIDO)]]","v":{"$error":"#VALUE!"}}]
[{"$nulls":18},{"$f":"Tabla13[[#This Row],[Título del contrato]]&Tabla13[[#This Row],[Nº Expediente de la plataforma de contratación]]","v":{"$error":"#VALUE!"}},{"$f":"Tabla13[[#This Row],[Nº Expediente de la plataforma de contratación]]","v":{"$error":"#VALUE!"}},{"$f":"Tabla13[[#This Row],[Importe IVA ]]","v":{"$error":"#VALUE!"}},{"$f":"Tabla13[[#This Row],[Importe de adjudicación (IVA INCLUIDO)]]","v":{"$error":"#VALUE!"}}]
[{"$nulls":18},{"$f":"Tabla13[[#This Row],[Título del contrato]]&Tabla13[[#This Row],[Nº Expediente de la plataforma de contratación]]","v":{"$error":"#VALUE!"}},{"$f":"Tabla13[[#This Row],[Nº Expediente de la plataforma de contratación]]","v":{"$error":"#VALUE!"}},{"$f":"Tabla13[[#This Row],[Importe IVA ]]","v":{"$error":"#VALUE!"}},{"$f":"Tabla13[[#This Row],[Importe de adjudicación (IVA INCLUIDO)]]","v":{"$error":"#VALUE!"}}]
[{"$nulls":18},{"$f":"Tabla13[[#This Row],[Título del contrato]]&Tabla13[[#This Row],[Nº Expediente de la plataforma de contratación]]","v":{"$error":"#VALUE!"}},{"$f":"Tabla13[[#This Row],[Nº Expediente de la plataforma de contratación]]","v":{"$error":"#VALUE!"}},{"$f":"Tabla13[[#This Row],[Importe IVA ]]","v":{"$error":"#VALUE!"}},{"$f":"Tabla13[[#This Row],[Importe de adjudicación (IVA INCLUIDO)]]","v":{"$error":"#VALUE!"}}]
[{"$nulls":18},{"$f":"Tabla13[[#This Row],[Título del contrato]]&Tabla13[[#This Row],[Nº Expediente de la plataforma de contratación]]","v":{"$error":"#VALUE!"}},{"$f":"Tabla13[[#This Row],[Nº Expediente de la plataforma de contratación]]","v":{"$error":"#VALUE!"}},{"$f":"Tabla13[[#This Row],[Importe IVA ]]","v":{"$error":"#VALUE!"}},{"$f":"Tabla13[[#This Row],[Importe de adjudicación (IVA INCLUIDO)]]","v":{"$error":"#VALUE!"}}]
[{"$nulls":18},{"$f":"Tabla13[[#This Row],[Título del contrato]]&Tabla13[[#This Row],[Nº Expediente de la plataforma de contratación]]","v":{"$error":"#VALUE!"}},{"$f":"Tabla13[[#This Row],[Nº Expediente de la plataforma de contratación]]","v":{"$error":"#VALUE!"}},{"$f":"Tabla13[[#This Row],[Importe IVA ]]","v":{"$error":"#VALUE!"}},{"$f":"Tabla13[[#This Row],[Importe de adjudicación (IVA INCLUIDO)]]","v":{"$error":"#VALUE!"}}]
[{"$nulls":18},{"$f":"Tabla13[[#This Row],[Título del contrato]]&Tabla13[[#This Row],[Nº Expediente de la plataforma de contratación]]","v":{"$error":"#VALUE!"}},{"$f":"Tabla13[[#This Row],[Nº Expediente de la plataforma de contratación]]","v":{"$error":"#VALUE!"}},{"$f":"Tabla13[[#This Row],[Importe IVA ]]","v":{"$error":"#VALUE!"}},{"$f":"Tabla13[[#This Row],[Importe de adjudicación (IVA INCLUIDO)]]","v":{"$error":"#VALUE!"}}]
[{"$nulls":18},{"$f":"Tabla13[[#This Row],[Título del contrato]]&Tabla13[[#This Row],[Nº Expediente de la plataforma de contratación]]","v":{"$error":"#VALUE!"}},{"$f":"Tabla13[[#This Row],[Nº Expediente de la plataforma de contratación]]","v":{"$error":"#VALUE!"}},{"$f":"Tabla13[[#This Row],[Importe IVA ]]","v":{"$error":"#VALUE!"}},{"$f":"Tabla13[[#This Row],[Importe de adjudicación (IVA INCLUIDO)]]","v":{"$error":"#VALUE!"}}]
[{"$nulls":18},{"$f":"Tabla13[[#This Row],[Título del contrato]]&Tabla13[[#This Row],[Nº Expediente de la plataforma de contratación]]","v":{"$error":"#VALUE!"}},{"$f":"Tabla13[[#This Row],[Nº Expediente de la plataforma de contratación]]","v":{"$error":"#VALUE!"}},{"$f":"Tabla13[[#This Row],[Importe IVA ]]","v":{"$error":"#VALUE!"}},{"$f":"Tabla13[[#This Row],[Importe de adjudicación (IVA INCLUIDO)]]","v":{"$error":"#VALUE!"}}]
[{"$nulls":18},{"$f":"Tabla13[[#This Row],[Título del contrato]]&Tabla13[[#This Row],[Nº Expediente de la plataforma de contratación]]","v":{"$error":"#VALUE!"}},{"$f":"Tabla13[[#This Row],[Nº Expediente de la plataforma de contratación]]","v":{"$error":"#VALUE!"}},{"$f":"Tabla13[[#This Row],[Importe IVA ]]","v":{"$error":"#VALUE!"}},{"$f":"Tabla13[[#This Row],[Importe de adjudicación (IVA INCLUIDO)]]","v":{"$error":"#VALUE!"}}]
[{"$nulls":18},{"$f":"Tabla13[[#This Row],[Título del contrato]]&Tabla13[[#This Row],[Nº Expediente de la plataforma de contratación]]","v":{"$error":"#VALUE!"}},{"$f":"Tabla13[[#This Row],[Nº Expediente de la plataforma de contratación]]","v":{"$error":"#VALUE!"}},{"$f":"Tabla13[[#This Row],[Importe IVA ]]","v":{"$error":"#VALUE!"}},{"$f":"Tabla13[[#This Row],[Importe de adjudicación (IVA INCLUIDO)]]","v":{"$error":"#VALUE!"}}]
[{"$nulls":18},{"$f":"Tabla13[[#This Row],[Título del contrato]]&Tabla13[[#This Row],[Nº Expediente de la plataforma de contratación]]","v":{"$error":"#VALUE!"}},{"$f":"Tabla13[[#This Row],[Nº Expediente de la plataforma de contratación]]","v":{"$error":"#VALUE!"}},{"$f":"Tabla13[[#This Row],[Importe IVA ]]","v":{"$error":"#VALUE!"}},{"$f":"Tabla13[[#This Row],[Importe de adjudicación (IVA INCLUIDO)]]","v":{"$error":"#VALUE!"}}]
[{"$nulls":18},{"$f":"Tabla13[[#This Row],[Título del contrato]]&Tabla13[[#This Row],[Nº Expediente de la plataforma de contratación]]","v":{"$error":"#VALUE!"}},{"$f":"Tabla13[[#This Row],[Nº Expediente de la plataforma de contratación]]","v":{"$error":"#VALUE!"}},{"$f":"Tabla13[[#This Row],[Importe IVA ]]","v":{"$error":"#VALUE!"}},{"$f":"Tabla13[[#This Row],[Importe de adjudicación (IVA INCLUIDO)]]","v":{"$error":"#VALUE!"}}]
[{"$nulls":18},{"$f":"Tabla13[[#This Row],[Título del contrato]]&Tabla13[[#This Row],[Nº Expediente de la plataforma de contratación]]","v":{"$error":"#VALUE!"}},{"$f":"Tabla13[[#This Row],[Nº Expediente de la plataforma de contratación]]","v":{"$error":"#VALUE!"}},{"$f":"Tabla13[[#This Row],[Importe IVA ]]","v":{"$error":"#VALUE!"}},{"$f":"Tabla13[[#This Row],[Importe de adjudicación (IVA INCLUIDO)]]","v":{"$error":"#VALUE!"}}]
[{"$nulls":18},{"$f":"Tabla13[[#This Row],[Título del contrato]]&Tabla13[[#This Row],[Nº Expediente de la plataforma de contratación]]","v":{"$error":"#VALUE!"}},{"$f":"Tabla13[[#This Row],[Nº Expediente de la plataforma de contratación]]","v":{"$error":"#VALUE!"}},{"$f":"Tabla13[[#This Row],[Importe IVA ]]","v":{"$error":"#VALUE!"}},{"$f":"Tabla13[[#This Row],[Importe de adjudicación (IVA INCLUIDO)]]","v":{"$error":"#VALUE!"}}]
[{"$nulls":18},{"$f":"Tabla13[[#This Row],[Título del contrato]]&Tabla13[[#This Row],[Nº Expediente de la plataforma de contratación]]","v":{"$error":"#VALUE!"}},{"$f":"Tabla13[[#This Row],[Nº Expediente de la plataforma de contratación]]","v":{"$error":"#VALUE!"}},{"$f":"Tabla13[[#This Row],[Importe IVA ]]","v":{"$error":"#VALUE!"}},{"$f":"Tabla13[[#This Row],[Importe de adjudicación (IVA INCLUIDO)]]","v":{"$error":"#VALUE!"}}]
[{"$nulls":18},{"$f":"Tabla13[[#This Row],[Título del contrato]]&Tabla13[[#This Row],[Nº Expediente de la plataforma de contratación]]","v":{"$error":"#VALUE!"}},{"$f":"Tabla13[[#This Row],[Nº Expediente de la plataforma de contratación]]","v":{"$error":"#VALUE!"}},{"$f":"Tabla13[[#This Row],[Importe IVA ]]","v":{"$error":"#VALUE!"}},{"$f":"Tabla13[[#This Row],[Importe de adjudicación (IVA INCLUIDO)]]","v":{"$error":"#VALUE!"}}]
[{"$nulls":18},{"$f":"Tabla13[[#This Row],[Título del contrato]]&Tabla13[[#This Row],[Nº Expediente de la plataforma de contratación]]","v":{"$error":"#VALUE!"}},{"$f":"Tabla13[[#This Row],[Nº Expediente de la plataforma de contratación]]","v":{"$error":"#VALUE!"}},{"$f":"Tabla13[[#This Row],[Importe IVA ]]","v":{"$error":"#VALUE!"}},{"$f":"Tabla13[[#This Row],[Importe de adjudicación (IVA INCLUIDO)]]","v":{"$error":"#VALUE!"}}]
[{"$nulls":18},{"$f":"Tabla13[[#This Row],[Título del contrato]]&Tabla13[[#This Row],[Nº Expediente de la plataforma de contratación]]","v":{"$error":"#VALUE!"}},{"$f":"Tabla13[[#This Row],[Nº Expediente de la plataforma de contratación]]","v":{"$error":"#VALUE!"}},{"$f":"Tabla13[[#This Row],[Importe IVA ]]","v":{"$error":"#VALUE!"}},{"$f":"Tabla13[[#This Row],[Importe de adjudicación (IVA INCLUIDO)]]","v":{"$error":"#VALUE!"}}]
[{"$nulls":18},{"$f":"Tabla13[[#This Row],[Título del contrato]]&Tabla13[[#This Row],[Nº Expediente de la plataforma de contratación]]","v":{"$error":"#VALUE!"}},{"$f":"Tabla13[[#This Row],[Nº Expediente de la plataforma de contratación]]","v":{"$error":"#VALUE!"}},{"$f":"Tabla13[[#This Row],[Importe IVA ]]","v":{"$error":"#VALUE!"}},{"$f":"Tabla13[[#This Row],[Importe de adjudicación (IVA INCLUIDO)]]","v":{"$error":"#VALUE!"}}]
[{"$nulls":18},{"$f":"Tabla13[[#This Row],[Título del contrato]]&Tabla13[[#This Row],[Nº Expediente de la plataforma de contratación]]","v":{"$error":"#VALUE!"}},{"$f":"Tabla13[[#This Row],[Nº Expediente de la plataforma de contratación]]","v":{"$error":"#VALUE!"}},{"$f":"Tabla13[[#This Row],[Importe IVA ]]","v":{"$error":"#VALUE!"}},{"$f":"Tabla13[[#This Row],[Importe de adjudicación (IVA INCLUIDO)]]","v":{"$error":"#VALUE!"}}]
[{"$nulls":18},{"$f":"Tabla13[[#This Row],[Título del contrato]]&Tabla13[[#This Row],[Nº Expediente de la plataforma de contratación]]","v":{"$error":"#VALUE!"}},{"$f":"Tabla13[[#This Row],[Nº Expediente de la plataforma de contratación]]","v":{"$error":"#VALUE!"}},{"$f":"Tabla13[[#This Row],[Importe IVA ]]","v":{"$error":"#VALUE!"}},{"$f":"Tabla13[[#This Row],[Importe de adjudicación (IVA INCLUIDO)]]","v":{"$error":"#VALUE!"}}]
[{"$nulls":18},{"$f":"Tabla13[[#This Row],[Título del contrato]]&Tabla13[[#This Row],[Nº Expediente de la plataforma de contratación]]","v":{"$error":"#VALUE!"}},{"$f":"Tabla13[[#This Row],[Nº Expediente de la plataforma de contratación]]","v":{"$error":"#VALUE!"}},{"$f":"Tabla13[[#This Row],[Importe IVA ]]","v":{"$error":"#VALUE!"}},{"$f":"Tabla13[[#This Row],[Importe de adjudicación (IVA INCLUIDO)]]","v":{"$error":"#VALUE!"}}]
[{"$nulls":18},{"$f":"Tabla13[[#This Row],[Título del contrato]]&Tabla13[[#This Row],[Nº Expediente de la plataforma de contratación]]","v":{"$error":"#VALUE!"}},{"$f":"Tabla13[[#This Row],[Nº Expediente de la plataforma de contratación]]","v":{"$error":"#VALUE!"}},{"$f":"Tabla13[[#This Row],[Importe IVA ]]","v":{"$error":"#VALUE!"}},{"$f":"Tabla13[[#This Row],[Importe de adjudicación (IVA INCLUIDO)]]","v":{"$error":"#VALUE!"}}]
[{"$nulls":18},{"$f":"Tabla13[[#This Row],[Título del contrato]]&Tabla13[[#This Row],[Nº Expediente de la plataforma de contratación]]","v":{"$error":"#VALUE!"}},{"$f":"Tabla13[[#This Row],[Nº Expediente de la plataforma de contratación]]","v":{"$error":"#VALUE!"}},{"$f":"Tabla13[[#This Row],[Importe IVA ]]","v":{"$error":"#VALUE!"}},{"$f":"Tabla13[[#This Row],[Importe de adjudicación (IVA INCLUIDO)]]","v":{"$error":"#VALUE!"}}]
[{"$nulls":18},{"$f":"Tabla13[[#This Row],[Título del contrato]]&Tabla13[[#This Row],[Nº Expediente de la plataforma de contratación]]","v":{"$error":"#VALUE!"}},{"$f":"Tabla13[[#This Row],[Nº Expediente de la plataforma de contratación]]","v":{"$error":"#VALUE!"}},{"$f":"Tabla13[[#This Row],[Importe IVA ]]","v":{"$error":"#VALUE!"}},{"$f":"Tabla13[[#This Row],[Importe de adjudicación (IVA INCLUIDO)]]","v":{"$error":"#VALUE!"}}]
[{"$nulls":18},{"$f":"Tabla13[[#This Row],[Título del contrato]]&Tabla13[[#This Row],[Nº Expediente de la plataforma de contratación]]","v":{"$error":"#VALUE!"}},{"$f":"Tabla13[[#This Row],[Nº Expediente de la plataforma de contratación]]","v":{"$error":"#VALUE!"}},{"$f":"Tabla13[[#This Row],[Importe IVA ]]","v":{"$error":"#VALUE!"}},{"$f":"Tabla13[[#This Row],[Importe de adjudicación (IVA INCLUIDO)]]","v":{"$error":"#VALUE!"}}]
[{"$nulls":18},{"$f":"Tabla13[[#This Row],[Título del contrato]]&Tabla13[[#This Row],[Nº Expediente de la plataforma de contratación]]","v":{"$error":"#VALUE!"}},{"$f":"Tabla13[[#This Row],[Nº Expediente de la plataforma de contratación]]","v":{"$error":"#VALUE!"}},{"$f":"Tabla13[[#This Row],[Importe IVA ]]","v":{"$error":"#VALUE!"}},{"$f":"Tabla13[[#This Row],[Importe de adjudicación (IVA INCLUIDO)]]","v":{"$error":"#VALUE!"}}]
[{"$nulls":18},{"$f":"Tabla13[[#This Row],[Título del contrato]]&Tabla13[[#This Row],[Nº Expediente de la plataforma de contratación]]","v":{"$error":"#VALUE!"}},{"$f":"Tabla13[[#This Row],[Nº Expediente de la plataforma de contratación]]","v":{"$error":"#VALUE!"}},{"$f":"Tabla13[[#This Row],[Importe IVA ]]","v":{"$error":"#VALUE!"}},{"$f":"Tabla13[[#This Row],[Importe de adjudicación (IVA INCLUIDO)]]","v":{"$error":"#VALUE!"}}]
[{"$nulls":18},{"$f":"Tabla13[[#This Row],[Título del contrato]]&Tabla13[[#This Row],[Nº Expediente de la plataforma de contratación]]","v":{"$error":"#VALUE!"}},{"$f":"Tabla13[[#This Row],[Nº Expediente de la plataforma de contratación]]","v":{"$error":"#VALUE!"}},{"$f":"Tabla13[[#This Row],[Importe IVA ]]","v":{"$error":"#VALUE!"}},{"$f":"Tabla13[[#This Row],[Importe de adjudicación (IVA INCLUIDO)]]","v":{"$error":"#VALUE!"}}]
[{"$nulls":18},{"$f":"Tabla13[[#This Row],[Título del contrato]]&Tabla13[[#This Row],[Nº Expediente de la plataforma de contratación]]","v":{"$error":"#VALUE!"}},{"$f":"Tabla13[[#This Row],[Nº Expediente de la plataforma de contratación]]","v":{"$error":"#VALUE!"}},{"$f":"Tabla13[[#This Row],[Importe IVA ]]","v":{"$error":"#VALUE!"}},{"$f":"Tabla13[[#This Row],[Importe de adjudicación (IVA INCLUIDO)]]","v":{"$error":"#VALUE!"}}]
[{"$nulls":18},{"$f":"Tabla13[[#This Row],[Título del contrato]]&Tabla13[[#This Row],[Nº Expediente de la plataforma de contratación]]","v":{"$error":"#VALUE!"}},{"$f":"Tabla13[[#This Row],[Nº Expediente de la plataforma de contratación]]","v":{"$error":"#VALUE!"}},{"$f":"Tabla13[[#This Row],[Importe IVA ]]","v":{"$error":"#VALUE!"}},{"$f":"Tabla13[[#This Row],[Importe de adjudicación (IVA INCLUIDO)]]","v":{"$error":"#VALUE!"}}]
[{"$nulls":18},{"$f":"Tabla13[[#This Row],[Título del contrato]]&Tabla13[[#This Row],[Nº Expediente de la plataforma de contratación]]","v":{"$error":"#VALUE!"}},{"$f":"Tabla13[[#This Row],[Nº Expediente de la plataforma de contratación]]","v":{"$error":"#VALUE!"}},{"$f":"Tabla13[[#This Row],[Importe IVA ]]","v":{"$error":"#VALUE!"}},{"$f":"Tabla13[[#This Row],[Importe de adjudicación (IVA INCLUIDO)]]","v":{"$error":"#VALUE!"}}]
[{"$nulls":18},{"$f":"Tabla13[[#This Row],[Título del contrato]]&Tabla13[[#This Row],[Nº Expediente de la plataforma de contratación]]","v":{"$error":"#VALUE!"}},{"$f":"Tabla13[[#This Row],[Nº Expediente de la plataforma de contratación]]","v":{"$error":"#VALUE!"}},{"$f":"Tabla13[[#This Row],[Importe IVA ]]","v":{"$error":"#VALUE!"}},{"$f":"Tabla13[[#This Row],[Importe de adjudicación (IVA INCLUIDO)]]","v":{"$error":"#VALUE!"}}]
[{"$nulls":18},{"$f":"Tabla13[[#This Row],[Título del contrato]]&Tabla13[[#This Row],[Nº Expediente de la plataforma de contratación]]","v":{"$error":"#VALUE!"}},{"$f":"Tabla13[[#This Row],[Nº Expediente de la plataforma de contratación]]","v":{"$error":"#VALUE!"}},{"$f":"Tabla13[[#This Row],[Importe IVA ]]","v":{"$error":"#VALUE!"}},{"$f":"Tabla13[[#This Row],[Importe de adjudicación (IVA INCLUIDO)]]","v":{"$error":"#VALUE!"}}]
[{"$nulls":18},{"$f":"Tabla13[[#This Row],[Título del contrato]]&Tabla13[[#This Row],[Nº Expediente de la plataforma de contratación]]","v":{"$error":"#VALUE!"}},{"$f":"Tabla13[[#This Row],[Nº Expediente de la plataforma de contratación]]","v":{"$error":"#VALUE!"}},{"$f":"Tabla13[[#This Row],[Importe IVA ]]","v":{"$error":"#VALUE!"}},{"$f":"Tabla13[[#This Row],[Importe de adjudicación (IVA INCLUIDO)]]","v":{"$error":"#VALUE!"}}]
[{"$nulls":18},{"$f":"Tabla13[[#This Row],[Título del contrato]]&Tabla13[[#This Row],[Nº Expediente de la plataforma de contratación]]","v":{"$error":"#VALUE!"}},{"$f":"Tabla13[[#This Row],[Nº Expediente de la plataforma de contratación]]","v":{"$error":"#VALUE!"}},{"$f":"Tabla13[[#This Row],[Importe IVA ]]","v":{"$error":"#VALUE!"}},{"$f":"Tabla13[[#This Row],[Importe de adjudicación (IVA INCLUIDO)]]","v":{"$error":"#VALUE!"}}]
[{"$nulls":18},{"$f":"Tabla13[[#This Row],[Título del contrato]]&Tabla13[[#This Row],[Nº Expediente de la plataforma de contratación]]","v":{"$error":"#VALUE!"}},{"$f":"Tabla13[[#This Row],[Nº Expediente de la plataforma de contratación]]","v":{"$error":"#VALUE!"}},{"$f":"Tabla13[[#This Row],[Importe IVA ]]","v":{"$error":"#VALUE!"}},{"$f":"Tabla13[[#This Row],[Importe de adjudicación (IVA INCLUIDO)]]","v":{"$error":"#VALUE!"}}]
[{"$nulls":18},{"$f":"Tabla13[[#This Row],[Título del contrato]]&Tabla13[[#This Row],[Nº Expediente de la plataforma de contratación]]","v":{"$error":"#VALUE!"}},{"$f":"Tabla13[[#This Row],[Nº Expediente de la plataforma de contratación]]","v":{"$error":"#VALUE!"}},{"$f":"Tabla13[[#This Row],[Importe IVA ]]","v":{"$error":"#VALUE!"}},{"$f":"Tabla13[[#This Row],[Importe de adjudicación (IVA INCLUIDO)]]","v":{"$error":"#VALUE!"}}]
[{"$nulls":18},{"$f":"Tabla13[[#This Row],[Título del contrato]]&Tabla13[[#This Row],[Nº Expediente de la plataforma de contratación]]","v":{"$error":"#VALUE!"}},{"$f":"Tabla13[[#This Row],[Nº Expediente de la plataforma de contratación]]","v":{"$error":"#VALUE!"}},{"$f":"Tabla13[[#This Row],[Importe IVA ]]","v":{"$error":"#VALUE!"}},{"$f":"Tabla13[[#This Row],[Importe de adjudicación (IVA INCLUIDO)]]","v":{"$error":"#VALUE!"}}]
[{"$nulls":18},{"$f":"Tabla13[[#This Row],[Título del contrato]]&Tabla13[[#This Row],[Nº Expediente de la plataforma de contratación]]","v":{"$error":"#VALUE!"}},{"$f":"Tabla13[[#This Row],[Nº Expediente de la plataforma de contratación]]","v":{"$error":"#VALUE!"}},{"$f":"Tabla13[[#This Row],[Importe IVA ]]","v":{"$error":"#VALUE!"}},{"$f":"Tabla13[[#This Row],[Importe de adjudicación (IVA INCLUIDO)]]","v":{"$error":"#VALUE!"}}]
[{"$nulls":18},{"$f":"Tabla13[[#This Row],[Título del contrato]]&Tabla13[[#This Row],[Nº Expediente de la plataforma de contratación]]","v":{"$error":"#VALUE!"}},{"$f":"Tabla13[[#This Row],[Nº Expediente de la plataforma de contratación]]","v":{"$error":"#VALUE!"}},{"$f":"Tabla13[[#This Row],[Importe IVA ]]","v":{"$error":"#VALUE!"}},{"$f":"Tabla13[[#This Row],[Importe de adjudicación (IVA INCLUIDO)]]","v":{"$error":"#VALUE!"}}]
[{"$nulls":18},{"$f":"Tabla13[[#This Row],[Título del contrato]]&Tabla13[[#This Row],[Nº Expediente de la plataforma de contratación]]","v":{"$error":"#VALUE!"}},{"$f":"Tabla13[[#This Row],[Nº Expediente de la plataforma de contratación]]","v":{"$error":"#VALUE!"}},{"$f":"Tabla13[[#This Row],[Importe IVA ]]","v":{"$error":"#VALUE!"}},{"$f":"Tabla13[[#This Row],[Importe de adjudicación (IVA INCLUIDO)]]","v":{"$error":"#VALUE!"}}]
[{"$nulls":18},{"$f":"Tabla13[[#This Row],[Título del contrato]]&Tabla13[[#This Row],[Nº Expediente de la plataforma de contratación]]","v":{"$error":"#VALUE!"}},{"$f":"Tabla13[[#This Row],[Nº Expediente de la plataforma de contratación]]","v":{"$error":"#VALUE!"}},{"$f":"Tabla13[[#This Row],[Importe IVA ]]","v":{"$error":"#VALUE!"}},{"$f":"Tabla13[[#This Row],[Importe de adjudicación (IVA INCLUIDO)]]","v":{"$error":"#VALUE!"}}]
[{"$nulls":18},{"$f":"Tabla13[[#This Row],[Título del contrato]]&Tabla13[[#This Row],[Nº Expediente de la plataforma de contratación]]","v":{"$error":"#VALUE!"}},{"$f":"Tabla13[[#This Row],[Nº Expediente de la plataforma de contratación]]","v":{"$error":"#VALUE!"}},{"$f":"Tabla13[[#This Row],[Importe IVA ]]","v":{"$error":"#VALUE!"}},{"$f":"Tabla13[[#This Row],[Importe de adjudicación (IVA INCLUIDO)]]","v":{"$error":"#VALUE!"}}]
[{"$nulls":18},{"$f":"Tabla13[[#This Row],[Título del contrato]]&Tabla13[[#This Row],[Nº Expediente de la plataforma de contratación]]","v":{"$error":"#VALUE!"}},{"$f":"Tabla13[[#This Row],[Nº Expediente de la plataforma de contratación]]","v":{"$error":"#VALUE!"}},{"$f":"Tabla13[[#This Row],[Importe IVA ]]","v":{"$error":"#VALUE!"}},{"$f":"Tabla13[[#This Row],[Importe de adjudicación (IVA INCLUIDO)]]","v":{"$error":"#VALUE!"}}]
[{"$nulls":18},{"$f":"Tabla13[[#This Row],[Título del contrato]]&Tabla13[[#This Row],[Nº Expediente de la plataforma de contratación]]","v":{"$error":"#VALUE!"}},{"$f":"Tabla13[[#This Row],[Nº Expediente de la plataforma de contratación]]","v":{"$error":"#VALUE!"}},{"$f":"Tabla13[[#This Row],[Importe IVA ]]","v":{"$error":"#VALUE!"}},{"$f":"Tabla13[[#This Row],[Importe de adjudicación (IVA INCLUIDO)]]","v":{"$error":"#VALUE!"}}]
[{"$nulls":18},{"$f":"Tabla13[[#This Row],[Título del contrato]]&Tabla13[[#This Row],[Nº Expediente de la plataforma de contratación]]","v":{"$error":"#VALUE!"}},{"$f":"Tabla13[[#This Row],[Nº Expediente de la plataforma de contratación]]","v":{"$error":"#VALUE!"}},{"$f":"Tabla13[[#This Row],[Importe IVA ]]","v":{"$error":"#VALUE!"}},{"$f":"Tabla13[[#This Row],[Importe de adjudicación (IVA INCLUIDO)]]","v":{"$error":"#VALUE!"}}]
[{"$nulls":18},{"$f":"Tabla13[[#This Row],[Título del contrato]]&Tabla13[[#This Row],[Nº Expediente de la plataforma de contratación]]","v":{"$error":"#VALUE!"}},{"$f":"Tabla13[[#This Row],[Nº Expediente de la plataforma de contratación]]","v":{"$error":"#VALUE!"}},{"$f":"Tabla13[[#This Row],[Importe IVA ]]","v":{"$error":"#VALUE!"}},{"$f":"Tabla13[[#This Row],[Importe de adjudicación (IVA INCLUIDO)]]","v":{"$error":"#VALUE!"}}]
[{"$nulls":18},{"$f":"Tabla13[[#This Row],[Título del contrato]]&Tabla13[[#This Row],[Nº Expediente de la plataforma de contratación]]","v":{"$error":"#VALUE!"}},{"$f":"Tabla13[[#This Row],[Nº Expediente de la plataforma de contratación]]","v":{"$error":"#VALUE!"}},{"$f":"Tabla13[[#This Row],[Importe IVA ]]","v":{"$error":"#VALUE!"}},{"$f":"Tabla13[[#This Row],[Importe de adjudicación (IVA INCLUIDO)]]","v":{"$error":"#VALUE!"}}]
[{"$nulls":18},{"$f":"Tabla13[[#This Row],[Título del contrato]]&Tabla13[[#This Row],[Nº Expediente de la plataforma de contratación]]","v":{"$error":"#VALUE!"}},{"$f":"Tabla13[[#This Row],[Nº Expediente de la plataforma de contratación]]","v":{"$error":"#VALUE!"}},{"$f":"Tabla13[[#This Row],[Importe IVA ]]","v":{"$error":"#VALUE!"}},{"$f":"Tabla13[[#This Row],[Importe de adjudicación (IVA INCLUIDO)]]","v":{"$error":"#VALUE!"}}]
[{"$nulls":18},{"$f":"Tabla13[[#This Row],[Título del contrato]]&Tabla13[[#This Row],[Nº Expediente de la plataforma de contratación]]","v":{"$error":"#VALUE!"}},{"$f":"Tabla13[[#This Row],[Nº Expediente de la plataforma de contratación]]","v":{"$error":"#VALUE!"}},{"$f":"Tabla13[[#This Row],[Importe IVA ]]","v":{"$error":"#VALUE!"}},{"$f":"Tabla13[[#This Row],[Importe de adjudicación (IVA INCLUIDO)]]","v":{"$error":"#VALUE!"}}]
[{"$nulls":18},{"$f":"Tabla13[[#This Row],[Título del contrato]]&Tabla13[[#This Row],[Nº Expediente de la plataforma de contratación]]","v":{"$error":"#VALUE!"}},{"$f":"Tabla13[[#This Row],[Nº Expediente de la plataforma de contratación]]","v":{"$error":"#VALUE!"}},{"$f":"Tabla13[[#This Row],[Importe IVA ]]","v":{"$error":"#VALUE!"}},{"$f":"Tabla13[[#This Row],[Importe de adjudicación (IVA INCLUIDO)]]","v":{"$error":"#VALUE!"}}]
[{"$nulls":18},{"$f":"Tabla13[[#This Row],[Título del contrato]]&Tabla13[[#This Row],[Nº Expediente de la plataforma de contratación]]","v":{"$error":"#VALUE!"}},{"$f":"Tabla13[[#This Row],[Nº Expediente de la plataforma de contratación]]","v":{"$error":"#VALUE!"}},{"$f":"Tabla13[[#This Row],[Importe IVA ]]","v":{"$error":"#VALUE!"}},{"$f":"Tabla13[[#This Row],[Importe de adjudicación (IVA INCLUIDO)]]","v":{"$error":"#VALUE!"}}]
[{"$nulls":18},{"$f":"Tabla13[[#This Row],[Título del contrato]]&Tabla13[[#This Row],[Nº Expediente de la plataforma de contratación]]","v":{"$error":"#VALUE!"}},{"$f":"Tabla13[[#This Row],[Nº Expediente de la plataforma de contratación]]","v":{"$error":"#VALUE!"}},{"$f":"Tabla13[[#This Row],[Importe IVA ]]","v":{"$error":"#VALUE!"}},{"$f":"Tabla13[[#This Row],[Importe de adjudicación (IVA INCLUIDO)]]","v":{"$error":"#VALUE!"}}]
[{"$nulls":18},{"$f":"Tabla13[[#This Row],[Título del contrato]]&Tabla13[[#This Row],[Nº Expediente de la plataforma de contratación]]","v":{"$error":"#VALUE!"}},{"$f":"Tabla13[[#This Row],[Nº Expediente de la plataforma de contratación]]","v":{"$error":"#VALUE!"}},{"$f":"Tabla13[[#This Row],[Importe IVA ]]","v":{"$error":"#VALUE!"}},{"$f":"Tabla13[[#This Row],[Importe de adjudicación (IVA INCLUIDO)]]","v":{"$error":"#VALUE!"}}]
[{"$nulls":18},{"$f":"Tabla13[[#This Row],[Título del contrato]]&Tabla13[[#This Row],[Nº Expediente de la plataforma de contratación]]","v":{"$error":"#VALUE!"}},{"$f":"Tabla13[[#This Row],[Nº Expediente de la plataforma de contratación]]","v":{"$error":"#VALUE!"}},{"$f":"Tabla13[[#This Row],[Importe IVA ]]","v":{"$error":"#VALUE!"}},{"$f":"Tabla13[[#This Row],[Importe de adjudicación (IVA INCLUIDO)]]","v":{"$error":"#VALUE!"}}]
[{"$nulls":18},{"$f":"Tabla13[[#This Row],[Título del contrato]]&Tabla13[[#This Row],[Nº Expediente de la plataforma de contratación]]","v":{"$error":"#VALUE!"}},{"$f":"Tabla13[[#This Row],[Nº Expediente de la plataforma de contratación]]","v":{"$error":"#VALUE!"}},{"$f":"Tabla13[[#This Row],[Importe IVA ]]","v":{"$error":"#VALUE!"}},{"$f":"Tabla13[[#This Row],[Importe de adjudicación (IVA INCLUIDO)]]","v":{"$error":"#VALUE!"}}]
[{"$nulls":18},{"$f":"Tabla13[[#This Row],[Título del contrato]]&Tabla13[[#This Row],[Nº Expediente de la plataforma de contratación]]","v":{"$error":"#VALUE!"}},{"$f":"Tabla13[[#This Row],[Nº Expediente de la plataforma de contratación]]","v":{"$error":"#VALUE!"}},{"$f":"Tabla13[[#This Row],[Importe IVA ]]","v":{"$error":"#VALUE!"}},{"$f":"Tabla13[[#This Row],[Importe de adjudicación (IVA INCLUIDO)]]","v":{"$error":"#VALUE!"}}]
[{"$nulls":18},{"$f":"Tabla13[[#This Row],[Título del contrato]]&Tabla13[[#This Row],[Nº Expediente de la plataforma de contratación]]","v":{"$error":"#VALUE!"}},{"$f":"Tabla13[[#This Row],[Nº Expediente de la plataforma de contratación]]","v":{"$error":"#VALUE!"}},{"$f":"Tabla13[[#This Row],[Importe IVA ]]","v":{"$error":"#VALUE!"}},{"$f":"Tabla13[[#This Row],[Importe de adjudicación (IVA INCLUIDO)]]","v":{"$error":"#VALUE!"}}]
[{"$nulls":18},{"$f":"Tabla13[[#This Row],[Título del contrato]]&Tabla13[[#This Row],[Nº Expediente de la plataforma de contratación]]","v":{"$error":"#VALUE!"}},{"$f":"Tabla13[[#This Row],[Nº Expediente de la plataforma de contratación]]","v":{"$error":"#VALUE!"}},{"$f":"Tabla13[[#This Row],[Importe IVA ]]","v":{"$error":"#VALUE!"}},{"$f":"Tabla13[[#This Row],[Importe de adjudicación (IVA INCLUIDO)]]","v":{"$error":"#VALUE!"}}]
[{"$nulls":18},{"$f":"Tabla13[[#This Row],[Título del contrato]]&Tabla13[[#This Row],[Nº Expediente de la plataforma de contratación]]","v":{"$error":"#VALUE!"}},{"$f":"Tabla13[[#This Row],[Nº Expediente de la plataforma de contratación]]","v":{"$error":"#VALUE!"}},{"$f":"Tabla13[[#This Row],[Importe IVA ]]","v":{"$error":"#VALUE!"}},{"$f":"Tabla13[[#This Row],[Importe de adjudicación (IVA INCLUIDO)]]","v":{"$error":"#VALUE!"}}]
[{"$nulls":18},{"$f":"Tabla13[[#This Row],[Título del contrato]]&Tabla13[[#This Row],[Nº Expediente de la plataforma de contratación]]","v":{"$error":"#VALUE!"}},{"$f":"Tabla13[[#This Row],[Nº Expediente de la plataforma de contratación]]","v":{"$error":"#VALUE!"}},{"$f":"Tabla13[[#This Row],[Importe IVA ]]","v":{"$error":"#VALUE!"}},{"$f":"Tabla13[[#This Row],[Importe de adjudicación (IVA INCLUIDO)]]","v":{"$error":"#VALUE!"}}]
[{"$nulls":18},{"$f":"Tabla13[[#This Row],[Título del contrato]]&Tabla13[[#This Row],[Nº Expediente de la plataforma de contratación]]","v":{"$error":"#VALUE!"}},{"$f":"Tabla13[[#This Row],[Nº Expediente de la plataforma de contratación]]","v":{"$error":"#VALUE!"}},{"$f":"Tabla13[[#This Row],[Importe IVA ]]","v":{"$error":"#VALUE!"}},{"$f":"Tabla13[[#This Row],[Importe de adjudicación (IVA INCLUIDO)]]","v":{"$error":"#VALUE!"}}]
[{"$nulls":18},{"$f":"Tabla13[[#This Row],[Título del contrato]]&Tabla13[[#This Row],[Nº Expediente de la plataforma de contratación]]","v":{"$error":"#VALUE!"}},{"$f":"Tabla13[[#This Row],[Nº Expediente de la plataforma de contratación]]","v":{"$error":"#VALUE!"}},{"$f":"Tabla13[[#This Row],[Importe IVA ]]","v":{"$error":"#VALUE!"}},{"$f":"Tabla13[[#This Row],[Importe de adjudicación (IVA INCLUIDO)]]","v":{"$error":"#VALUE!"}}]
[{"$nulls":18},{"$f":"Tabla13[[#This Row],[Título del contrato]]&Tabla13[[#This Row],[Nº Expediente de la plataforma de contratación]]","v":{"$error":"#VALUE!"}},{"$f":"Tabla13[[#This Row],[Nº Expediente de la plataforma de contratación]]","v":{"$error":"#VALUE!"}},{"$f":"Tabla13[[#This Row],[Importe IVA ]]","v":{"$error":"#VALUE!"}},{"$f":"Tabla13[[#This Row],[Importe de adjudicación (IVA INCLUIDO)]]","v":{"$error":"#VALUE!"}}]
[{"$nulls":18},{"$f":"Tabla13[[#This Row],[Título del contrato]]&Tabla13[[#This Row],[Nº Expediente de la plataforma de contratación]]","v":{"$error":"#VALUE!"}},{"$f":"Tabla13[[#This Row],[Nº Expediente de la plataforma de contratación]]","v":{"$error":"#VALUE!"}},{"$f":"Tabla13[[#This Row],[Importe IVA ]]","v":{"$error":"#VALUE!"}},{"$f":"Tabla13[[#This Row],[Importe de adjudicación (IVA INCLUIDO)]]","v":{"$error":"#VALUE!"}}]
[{"$nulls":18},{"$f":"Tabla13[[#This Row],[Título del contrato]]&Tabla13[[#This Row],[Nº Expediente de la plataforma de contratación]]","v":{"$error":"#VALUE!"}},{"$f":"Tabla13[[#This Row],[Nº Expediente de la plataforma de contratación]]","v":{"$error":"#VALUE!"}},{"$f":"Tabla13[[#This Row],[Importe IVA ]]","v":{"$error":"#VALUE!"}},{"$f":"Tabla13[[#This Row],[Importe de adjudicación (IVA INCLUIDO)]]","v":{"$error":"#VALUE!"}}]
[{"$nulls":18},{"$f":"Tabla13[[#This Row],[Título del contrato]]&Tabla13[[#This Row],[Nº Expediente de la plataforma de contratación]]","v":{"$error":"#VALUE!"}},{"$f":"Tabla13[[#This Row],[Nº Expediente de la plataforma de contratación]]","v":{"$error":"#VALUE!"}},{"$f":"Tabla13[[#This Row],[Importe IVA ]]","v":{"$error":"#VALUE!"}},{"$f":"Tabla13[[#This Row],[Importe de adjudicación (IVA INCLUIDO)]]","v":{"$error":"#VALUE!"}}]
[{"$nulls":18},{"$f":"Tabla13[[#This Row],[Título del contrato]]&Tabla13[[#This Row],[Nº Expediente de la plataforma de contratación]]","v":{"$error":"#VALUE!"}},{"$f":"Tabla13[[#This Row],[Nº Expediente de la plataforma de contratación]]","v":{"$error":"#VALUE!"}},{"$f":"Tabla13[[#This Row],[Importe IVA ]]","v":{"$error":"#VALUE!"}},{"$f":"Tabla13[[#This Row],[Importe de adjudicación (IVA INCLUIDO)]]","v":{"$error":"#VALUE!"}}]
[{"$nulls":18},{"$f":"Tabla13[[#This Row],[Título del contrato]]&Tabla13[[#This Row],[Nº Expediente de la plataforma de contratación]]","v":{"$error":"#VALUE!"}},{"$f":"Tabla13[[#This Row],[Nº Expediente de la plataforma de contratación]]","v":{"$error":"#VALUE!"}},{"$f":"Tabla13[[#This Row],[Importe IVA ]]","v":{"$error":"#VALUE!"}},{"$f":"Tabla13[[#This Row],[Importe de adjudicación (IVA INCLUIDO)]]","v":{"$error":"#VALUE!"}}]
[{"$nulls":18},{"$f":"Tabla13[[#This Row],[Título del contrato]]&Tabla13[[#This Row],[Nº Expediente de la plataforma de contratación]]","v":{"$error":"#VALUE!"}},{"$f":"Tabla13[[#This Row],[Nº Expediente de la plataforma de contratación]]","v":{"$error":"#VALUE!"}},{"$f":"Tabla13[[#This Row],[Importe IVA ]]","v":{"$error":"#VALUE!"}},{"$f":"Tabla13[[#This Row],[Importe de adjudicación (IVA INCLUIDO)]]","v":{"$error":"#VALUE!"}}]
[{"$nulls":18},{"$f":"Tabla13[[#This Row],[Título del contrato]]&Tabla13[[#This Row],[Nº Expediente de la plataforma de contratación]]","v":{"$error":"#VALUE!"}},{"$f":"Tabla13[[#This Row],[Nº Expediente de la plataforma de contratación]]","v":{"$error":"#VALUE!"}},{"$f":"Tabla13[[#This Row],[Importe IVA ]]","v":{"$error":"#VALUE!"}},{"$f":"Tabla13[[#This Row],[Importe de adjudicación (IVA INCLUIDO)]]","v":{"$error":"#VALUE!"}}]
[{"$nulls":18},{"$f":"Tabla13[[#This Row],[Título del contrato]]&Tabla13[[#This Row],[Nº Expediente de la plataforma de contratación]]","v":{"$error":"#VALUE!"}},{"$f":"Tabla13[[#This Row],[Nº Expediente de la plataforma de contratación]]","v":{"$error":"#VALUE!"}},{"$f":"Tabla13[[#This Row],[Importe IVA ]]","v":{"$error":"#VALUE!"}},{"$f":"Tabla13[[#This Row],[Importe de adjudicación (IVA INCLUIDO)]]","v":{"$error":"#VALUE!"}}]
[{"$nulls":18},{"$f":"Tabla13[[#This Row],[Título del contrato]]&Tabla13[[#This Row],[Nº Expediente de la plataforma de contratación]]","v":{"$error":"#VALUE!"}},{"$f":"Tabla13[[#This Row],[Nº Expediente de la plataforma de contratación]]","v":{"$error":"#VALUE!"}},{"$f":"Tabla13[[#This Row],[Importe IVA ]]","v":{"$error":"#VALUE!"}},{"$f":"Tabla13[[#This Row],[Importe de adjudicación (IVA INCLUIDO)]]","v":{"$error":"#VALUE!"}}]
[{"$nulls":18},{"$f":"Tabla13[[#This Row],[Título del contrato]]&Tabla13[[#This Row],[Nº Expediente de la plataforma de contratación]]","v":{"$error":"#VALUE!"}},{"$f":"Tabla13[[#This Row],[Nº Expediente de la plataforma de contratación]]","v":{"$error":"#VALUE!"}},{"$f":"Tabla13[[#This Row],[Importe IVA ]]","v":{"$error":"#VALUE!"}},{"$f":"Tabla13[[#This Row],[Importe de adjudicación (IVA INCLUIDO)]]","v":{"$error":"#VALUE!"}}]
[{"$nulls":18},{"$f":"Tabla13[[#This Row],[Título del contrato]]&Tabla13[[#This Row],[Nº Expediente de la plataforma de contratación]]","v":{"$error":"#VALUE!"}},{"$f":"Tabla13[[#This Row],[Nº Expediente de la plataforma de contratación]]","v":{"$error":"#VALUE!"}},{"$f":"Tabla13[[#This Row],[Importe IVA ]]","v":{"$error":"#VALUE!"}},{"$f":"Tabla13[[#This Row],[Importe de adjudicación (IVA INCLUIDO)]]","v":{"$error":"#VALUE!"}}]
[{"$nulls":18},{"$f":"Tabla13[[#This Row],[Título del contrato]]&Tabla13[[#This Row],[Nº Expediente de la plataforma de contratación]]","v":{"$error":"#VALUE!"}},{"$f":"Tabla13[[#This Row],[Nº Expediente de la plataforma de contratación]]","v":{"$error":"#VALUE!"}},{"$f":"Tabla13[[#This Row],[Importe IVA ]]","v":{"$error":"#VALUE!"}},{"$f":"Tabla13[[#This Row],[Importe de adjudicación (IVA INCLUIDO)]]","v":{"$error":"#VALUE!"}}]
[{"$nulls":18},{"$f":"Tabla13[[#This Row],[Título del contrato]]&Tabla13[[#This Row],[Nº Expediente de la plataforma de contratación]]","v":{"$error":"#VALUE!"}},{"$f":"Tabla13[[#This Row],[Nº Expediente de la plataforma de contratación]]","v":{"$error":"#VALUE!"}},{"$f":"Tabla13[[#This Row],[Importe IVA ]]","v":{"$error":"#VALUE!"}},{"$f":"Tabla13[[#This Row],[Importe de adjudicación (IVA INCLUIDO)]]","v":{"$error":"#VALUE!"}}]
[{"$nulls":18},{"$f":"Tabla13[[#This Row],[Título del contrato]]&Tabla13[[#This Row],[Nº Expediente de la plataforma de contratación]]","v":{"$error":"#VALUE!"}},{"$f":"Tabla13[[#This Row],[Nº Expediente de la plataforma de contratación]]","v":{"$error":"#VALUE!"}},{"$f":"Tabla13[[#This Row],[Importe IVA ]]","v":{"$error":"#VALUE!"}},{"$f":"Tabla13[[#This Row],[Importe de adjudicación (IVA INCLUIDO)]]","v":{"$error":"#VALUE!"}}]
[{"$nulls":18},{"$f":"Tabla13[[#This Row],[Título del contrato]]&Tabla13[[#This Row],[Nº Expediente de la plataforma de contratación]]","v":{"$error":"#VALUE!"}},{"$f":"Tabla13[[#This Row],[Nº Expediente de la plataforma de contratación]]","v":{"$error":"#VALUE!"}},{"$f":"Tabla13[[#This Row],[Importe IVA ]]","v":{"$error":"#VALUE!"}},{"$f":"Tabla13[[#This Row],[Importe de adjudicación (IVA INCLUIDO)]]","v":{"$error":"#VALUE!"}}]
[{"$nulls":18},{"$f":"Tabla13[[#This Row],[Título del contrato]]&Tabla13[[#This Row],[Nº Expediente de la plataforma de contratación]]","v":{"$error":"#VALUE!"}},{"$f":"Tabla13[[#This Row],[Nº Expediente de la plataforma de contratación]]","v":{"$error":"#VALUE!"}},{"$f":"Tabla13[[#This Row],[Importe IVA ]]","v":{"$error":"#VALUE!"}},{"$f":"Tabla13[[#This Row],[Importe de adjudicación (IVA INCLUIDO)]]","v":{"$error":"#VALUE!"}}]
[{"$nulls":18},{"$f":"Tabla13[[#This Row],[Título del contrato]]&Tabla13[[#This Row],[Nº Expediente de la plataforma de contratación]]","v":{"$error":"#VALUE!"}},{"$f":"Tabla13[[#This Row],[Nº Expediente de la plataforma de contratación]]","v":{"$error":"#VALUE!"}},{"$f":"Tabla13[[#This Row],[Importe IVA ]]","v":{"$error":"#VALUE!"}},{"$f":"Tabla13[[#This Row],[Importe de adjudicación (IVA INCLUIDO)]]","v":{"$error":"#VALUE!"}}]
[{"$nulls":18},{"$f":"Tabla13[[#This Row],[Título del contrato]]&Tabla13[[#This Row],[Nº Expediente de la plataforma de contratación]]","v":{"$error":"#VALUE!"}},{"$f":"Tabla13[[#This Row],[Nº Expediente de la plataforma de contratación]]","v":{"$error":"#VALUE!"}},{"$f":"Tabla13[[#This Row],[Importe IVA ]]","v":{"$error":"#VALUE!"}},{"$f":"Tabla13[[#This Row],[Importe de adjudicación (IVA INCLUIDO)]]","v":{"$error":"#VALUE!"}}]
[{"$nulls":18},{"$f":"Tabla13[[#This Row],[Título del contrato]]&Tabla13[[#This Row],[Nº Expediente de la plataforma de contratación]]","v":{"$error":"#VALUE!"}},{"$f":"Tabla13[[#This Row],[Nº Expediente de la plataforma de contratación]]","v":{"$error":"#VALUE!"}},{"$f":"Tabla13[[#This Row],[Importe IVA ]]","v":{"$error":"#VALUE!"}},{"$f":"Tabla13[[#This Row],[Importe de adjudicación (IVA INCLUIDO)]]","v":{"$error":"#VALUE!"}}]
[{"$nulls":18},{"$f":"Tabla13[[#This Row],[Título del contrato]]&Tabla13[[#This Row],[Nº Expediente de la plataforma de contratación]]","v":{"$error":"#VALUE!"}},{"$f":"Tabla13[[#This Row],[Nº Expediente de la plataforma de contratación]]","v":{"$error":"#VALUE!"}},{"$f":"Tabla13[[#This Row],[Importe IVA ]]","v":{"$error":"#VALUE!"}},{"$f":"Tabla13[[#This Row],[Importe de adjudicación (IVA INCLUIDO)]]","v":{"$error":"#VALUE!"}}]
[{"$nulls":18},{"$f":"Tabla13[[#This Row],[Título del contrato]]&Tabla13[[#This Row],[Nº Expediente de la plataforma de contratación]]","v":{"$error":"#VALUE!"}},{"$f":"Tabla13[[#This Row],[Nº Expediente de la plataforma de contratación]]","v":{"$error":"#VALUE!"}},{"$f":"Tabla13[[#This Row],[Importe IVA ]]","v":{"$error":"#VALUE!"}},{"$f":"Tabla13[[#This Row],[Importe de adjudicación (IVA INCLUIDO)]]","v":{"$error":"#VALUE!"}}]
[{"$nulls":18},{"$f":"Tabla13[[#This Row],[Título del contrato]]&Tabla13[[#This Row],[Nº Expediente de la plataforma de contratación]]","v":{"$error":"#VALUE!"}},{"$f":"Tabla13[[#This Row],[Nº Expediente de la plataforma de contratación]]","v":{"$error":"#VALUE!"}},{"$f":"Tabla13[[#This Row],[Importe IVA ]]","v":{"$error":"#VALUE!"}},{"$f":"Tabla13[[#This Row],[Importe de adjudicación (IVA INCLUIDO)]]","v":{"$error":"#VALUE!"}}]
[{"$nulls":18},{"$f":"Tabla13[[#This Row],[Título del contrato]]&Tabla13[[#This Row],[Nº Expediente de la plataforma de contratación]]","v":{"$error":"#VALUE!"}},{"$f":"Tabla13[[#This Row],[Nº Expediente de la plataforma de contratación]]","v":{"$error":"#VALUE!"}},{"$f":"Tabla13[[#This Row],[Importe IVA ]]","v":{"$error":"#VALUE!"}},{"$f":"Tabla13[[#This Row],[Importe de adjudicación (IVA INCLUIDO)]]","v":{"$error":"#VALUE!"}}]
[{"$nulls":18},{"$f":"Tabla13[[#This Row],[Título del contrato]]&Tabla13[[#This Row],[Nº Expediente de la plataforma de contratación]]","v":{"$error":"#VALUE!"}},{"$f":"Tabla13[[#This Row],[Nº Expediente de la plataforma de contratación]]","v":{"$error":"#VALUE!"}},{"$f":"Tabla13[[#This Row],[Importe IVA ]]","v":{"$error":"#VALUE!"}},{"$f":"Tabla13[[#This Row],[Importe de adjudicación (IVA INCLUIDO)]]","v":{"$error":"#VALUE!"}}]
[{"$nulls":18},{"$f":"Tabla13[[#This Row],[Título del contrato]]&Tabla13[[#This Row],[Nº Expediente de la plataforma de contratación]]","v":{"$error":"#VALUE!"}},{"$f":"Tabla13[[#This Row],[Nº Expediente de la plataforma de contratación]]","v":{"$error":"#VALUE!"}},{"$f":"Tabla13[[#This Row],[Importe IVA ]]","v":{"$error":"#VALUE!"}},{"$f":"Tabla13[[#This Row],[Importe de adjudicación (IVA INCLUIDO)]]","v":{"$error":"#VALUE!"}}]
[{"$nulls":18},{"$f":"Tabla13[[#This Row],[Título del contrato]]&Tabla13[[#This Row],[Nº Expediente de la plataforma de contratación]]","v":{"$error":"#VALUE!"}},{"$f":"Tabla13[[#This Row],[Nº Expediente de la plataforma de contratación]]","v":{"$error":"#VALUE!"}},{"$f":"Tabla13[[#This Row],[Importe IVA ]]","v":{"$error":"#VALUE!"}},{"$f":"Tabla13[[#This Row],[Importe de adjudicación (IVA INCLUIDO)]]","v":{"$error":"#VALUE!"}}]
[{"$nulls":18},{"$f":"Tabla13[[#This Row],[Título del contrato]]&Tabla13[[#This Row],[Nº Expediente de la plataforma de contratación]]","v":{"$error":"#VALUE!"}},{"$f":"Tabla13[[#This Row],[Nº Expediente de la plataforma de contratación]]","v":{"$error":"#VALUE!"}},{"$f":"Tabla13[[#This Row],[Importe IVA ]]","v":{"$error":"#VALUE!"}},{"$f":"Tabla13[[#This Row],[Importe de adjudicación (IVA INCLUIDO)]]","v":{"$error":"#VALUE!"}}]
[{"$nulls":18},{"$f":"Tabla13[[#This Row],[Título del contrato]]&Tabla13[[#This Row],[Nº Expediente de la plataforma de contratación]]","v":{"$error":"#VALUE!"}},{"$f":"Tabla13[[#This Row],[Nº Expediente de la plataforma de contratación]]","v":{"$error":"#VALUE!"}},{"$f":"Tabla13[[#This Row],[Importe IVA ]]","v":{"$error":"#VALUE!"}},{"$f":"Tabla13[[#This Row],[Importe de adjudicación (IVA INCLUIDO)]]","v":{"$error":"#VALUE!"}}]
[{"$nulls":18},{"$f":"Tabla13[[#This Row],[Título del contrato]]&Tabla13[[#This Row],[Nº Expediente de la plataforma de contratación]]","v":{"$error":"#VALUE!"}},{"$f":"Tabla13[[#This Row],[Nº Expediente de la plataforma de contratación]]","v":{"$error":"#VALUE!"}},{"$f":"Tabla13[[#This Row],[Importe IVA ]]","v":{"$error":"#VALUE!"}},{"$f":"Tabla13[[#This Row],[Importe de adjudicación (IVA INCLUIDO)]]","v":{"$error":"#VALUE!"}}]
[{"$nulls":18},{"$f":"Tabla13[[#This Row],[Título del contrato]]&Tabla13[[#This Row],[Nº Expediente de la plataforma de contratación]]","v":{"$error":"#VALUE!"}},{"$f":"Tabla13[[#This Row],[Nº Expediente de la plataforma de contratación]]","v":{"$error":"#VALUE!"}},{"$f":"Tabla13[[#This Row],[Importe IVA ]]","v":{"$error":"#VALUE!"}},{"$f":"Tabla13[[#This Row],[Importe de adjudicación (IVA INCLUIDO)]]","v":{"$error":"#VALUE!"}}]
[{"$nulls":18},{"$f":"Tabla13[[#This Row],[Título del contrato]]&Tabla13[[#This Row],[Nº Expediente de la plataforma de contratación]]","v":{"$error":"#VALUE!"}},{"$f":"Tabla13[[#This Row],[Nº Expediente de la plataforma de contratación]]","v":{"$error":"#VALUE!"}},{"$f":"Tabla13[[#This Row],[Importe IVA ]]","v":{"$error":"#VALUE!"}},{"$f":"Tabla13[[#This Row],[Importe de adjudicación (IVA INCLUIDO)]]","v":{"$error":"#VALUE!"}}]
[{"$nulls":18},{"$f":"Tabla13[[#This Row],[Título del contrato]]&Tabla13[[#This Row],[Nº Expediente de la plataforma de contratación]]","v":{"$error":"#VALUE!"}},{"$f":"Tabla13[[#This Row],[Nº Expediente de la plataforma de contratación]]","v":{"$error":"#VALUE!"}},{"$f":"Tabla13[[#This Row],[Importe IVA ]]","v":{"$error":"#VALUE!"}},{"$f":"Tabla13[[#This Row],[Importe de adjudicación (IVA INCLUIDO)]]","v":{"$error":"#VALUE!"}}]
[{"$nulls":18},{"$f":"Tabla13[[#This Row],[Título del contrato]]&Tabla13[[#This Row],[Nº Expediente de la plataforma de contratación]]","v":{"$error":"#VALUE!"}},{"$f":"Tabla13[[#This Row],[Nº Expediente de la plataforma de contratación]]","v":{"$error":"#VALUE!"}},{"$f":"Tabla13[[#This Row],[Importe IVA ]]","v":{"$error":"#VALUE!"}},{"$f":"Tabla13[[#This Row],[Importe de adjudicación (IVA INCLUIDO)]]","v":{"$error":"#VALUE!"}}]
[{"$nulls":18},{"$f":"Tabla13[[#This Row],[Título del contrato]]&Tabla13[[#This Row],[Nº Expediente de la plataforma de contratación]]","v":{"$error":"#VALUE!"}},{"$f":"Tabla13[[#This Row],[Nº Expediente de la plataforma de contratación]]","v":{"$error":"#VALUE!"}},{"$f":"Tabla13[[#This Row],[Importe IVA ]]","v":{"$error":"#VALUE!"}},{"$f":"Tabla13[[#This Row],[Importe de adjudicación (IVA INCLUIDO)]]","v":{"$error":"#VALUE!"}}]
[{"$nulls":18},{"$f":"Tabla13[[#This Row],[Título del contrato]]&Tabla13[[#This Row],[Nº Expediente de la plataforma de contratación]]","v":{"$error":"#VALUE!"}},{"$f":"Tabla13[[#This Row],[Nº Expediente de la plataforma de contratación]]","v":{"$error":"#VALUE!"}},{"$f":"Tabla13[[#This Row],[Importe IVA ]]","v":{"$error":"#VALUE!"}},{"$f":"Tabla13[[#This Row],[Importe de adjudicación (IVA INCLUIDO)]]","v":{"$error":"#VALUE!"}}]
[{"$nulls":18},{"$f":"Tabla13[[#This Row],[Título del contrato]]&Tabla13[[#This Row],[Nº Expediente de la plataforma de contratación]]","v":{"$error":"#VALUE!"}},{"$f":"Tabla13[[#This Row],[Nº Expediente de la plataforma de contratación]]","v":{"$error":"#VALUE!"}},{"$f":"Tabla13[[#This Row],[Importe IVA ]]","v":{"$error":"#VALUE!"}},{"$f":"Tabla13[[#This Row],[Importe de adjudicación (IVA INCLUIDO)]]","v":{"$error":"#VALUE!"}}]
[{"$nulls":18},{"$f":"Tabla13[[#This Row],[Título del contrato]]&Tabla13[[#This Row],[Nº Expediente de la plataforma de contratación]]","v":{"$error":"#VALUE!"}},{"$f":"Tabla13[[#This Row],[Nº Expediente de la plataforma de contratación]]","v":{"$error":"#VALUE!"}},{"$f":"Tabla13[[#This Row],[Importe IVA ]]","v":{"$error":"#VALUE!"}},{"$f":"Tabla13[[#This Row],[Importe de adjudicación (IVA INCLUIDO)]]","v":{"$error":"#VALUE!"}}]
[{"$nulls":18},{"$f":"Tabla13[[#This Row],[Título del contrato]]&Tabla13[[#This Row],[Nº Expediente de la plataforma de contratación]]","v":{"$error":"#VALUE!"}},{"$f":"Tabla13[[#This Row],[Nº Expediente de la plataforma de contratación]]","v":{"$error":"#VALUE!"}},{"$f":"Tabla13[[#This Row],[Importe IVA ]]","v":{"$error":"#VALUE!"}},{"$f":"Tabla13[[#This Row],[Importe de adjudicación (IVA INCLUIDO)]]","v":{"$error":"#VALUE!"}}]
[{"$nulls":18},{"$f":"Tabla13[[#This Row],[Título del contrato]]&Tabla13[[#This Row],[Nº Expediente de la plataforma de contratación]]","v":{"$error":"#VALUE!"}},{"$f":"Tabla13[[#This Row],[Nº Expediente de la plataforma de contratación]]","v":{"$error":"#VALUE!"}},{"$f":"Tabla13[[#This Row],[Importe IVA ]]","v":{"$error":"#VALUE!"}},{"$f":"Tabla13[[#This Row],[Importe de adjudicación (IVA INCLUIDO)]]","v":{"$error":"#VALUE!"}}]
[{"$nulls":18},{"$f":"Tabla13[[#This Row],[Título del contrato]]&Tabla13[[#This Row],[Nº Expediente de la plataforma de contratación]]","v":{"$error":"#VALUE!"}},{"$f":"Tabla13[[#This Row],[Nº Expediente de la plataforma de contratación]]","v":{"$error":"#VALUE!"}},{"$f":"Tabla13[[#This Row],[Importe IVA ]]","v":{"$error":"#VALUE!"}},{"$f":"Tabla13[[#This Row],[Importe de adjudicación (IVA INCLUIDO)]]","v":{"$error":"#VALUE!"}}]
[{"$nulls":18},{"$f":"Tabla13[[#This Row],[Título del contrato]]&Tabla13[[#This Row],[Nº Expediente de la plataforma de contratación]]","v":{"$error":"#VALUE!"}},{"$f":"Tabla13[[#This Row],[Nº Expediente de la plataforma de contratación]]","v":{"$error":"#VALUE!"}},{"$f":"Tabla13[[#This Row],[Importe IVA ]]","v":{"$error":"#VALUE!"}},{"$f":"Tabla13[[#This Row],[Importe de adjudicación (IVA INCLUIDO)]]","v":{"$error":"#VALUE!"}}]
[{"$nulls":18},{"$f":"Tabla13[[#This Row],[Título del contrato]]&Tabla13[[#This Row],[Nº Expediente de la plataforma de contratación]]","v":{"$error":"#VALUE!"}},{"$f":"Tabla13[[#This Row],[Nº Expediente de la plataforma de contratación]]","v":{"$error":"#VALUE!"}},{"$f":"Tabla13[[#This Row],[Importe IVA ]]","v":{"$error":"#VALUE!"}},{"$f":"Tabla13[[#This Row],[Importe de adjudicación (IVA INCLUIDO)]]","v":{"$error":"#VALUE!"}}]
[{"$nulls":18},{"$f":"Tabla13[[#This Row],[Título del contrato]]&Tabla13[[#This Row],[Nº Expediente de la plataforma de contratación]]","v":{"$error":"#VALUE!"}},{"$f":"Tabla13[[#This Row],[Nº Expediente de la plataforma de contratación]]","v":{"$error":"#VALUE!"}},{"$f":"Tabla13[[#This Row],[Importe IVA ]]","v":{"$error":"#VALUE!"}},{"$f":"Tabla13[[#This Row],[Importe de adjudicación (IVA INCLUIDO)]]","v":{"$error":"#VALUE!"}}]
[{"$nulls":18},{"$f":"Tabla13[[#This Row],[Título del contrato]]&Tabla13[[#This Row],[Nº Expediente de la plataforma de contratación]]","v":{"$error":"#VALUE!"}},{"$f":"Tabla13[[#This Row],[Nº Expediente de la plataforma de contratación]]","v":{"$error":"#VALUE!"}},{"$f":"Tabla13[[#This Row],[Importe IVA ]]","v":{"$error":"#VALUE!"}},{"$f":"Tabla13[[#This Row],[Importe de adjudicación (IVA INCLUIDO)]]","v":{"$error":"#VALUE!"}}]
[{"$nulls":18},{"$f":"Tabla13[[#This Row],[Título del contrato]]&Tabla13[[#This Row],[Nº Expediente de la plataforma de contratación]]","v":{"$error":"#VALUE!"}},{"$f":"Tabla13[[#This Row],[Nº Expediente de la plataforma de contratación]]","v":{"$error":"#VALUE!"}},{"$f":"Tabla13[[#This Row],[Importe IVA ]]","v":{"$error":"#VALUE!"}},{"$f":"Tabla13[[#This Row],[Importe de adjudicación (IVA INCLUIDO)]]","v":{"$error":"#VALUE!"}}]
[{"$nulls":18},{"$f":"Tabla13[[#This Row],[Título del contrato]]&Tabla13[[#This Row],[Nº Expediente de la plataforma de contratación]]","v":{"$error":"#VALUE!"}},{"$f":"Tabla13[[#This Row],[Nº Expediente de la plataforma de contratación]]","v":{"$error":"#VALUE!"}},{"$f":"Tabla13[[#This Row],[Importe IVA ]]","v":{"$error":"#VALUE!"}},{"$f":"Tabla13[[#This Row],[Importe de adjudicación (IVA INCLUIDO)]]","v":{"$error":"#VALUE!"}}]
[{"$nulls":18},{"$f":"Tabla13[[#This Row],[Título del contrato]]&Tabla13[[#This Row],[Nº Expediente de la plataforma de contratación]]","v":{"$error":"#VALUE!"}},{"$f":"Tabla13[[#This Row],[Nº Expediente de la plataforma de contratación]]","v":{"$error":"#VALUE!"}},{"$f":"Tabla13[[#This Row],[Importe IVA ]]","v":{"$error":"#VALUE!"}},{"$f":"Tabla13[[#This Row],[Importe de adjudicación (IVA INCLUIDO)]]","v":{"$error":"#VALUE!"}}]
[{"$nulls":18},{"$f":"Tabla13[[#This Row],[Título del contrato]]&Tabla13[[#This Row],[Nº Expediente de la plataforma de contratación]]","v":{"$error":"#VALUE!"}},{"$f":"Tabla13[[#This Row],[Nº Expediente de la plataforma de contratación]]","v":{"$error":"#VALUE!"}},{"$f":"Tabla13[[#This Row],[Importe IVA ]]","v":{"$error":"#VALUE!"}},{"$f":"Tabla13[[#This Row],[Importe de adjudicación (IVA INCLUIDO)]]","v":{"$error":"#VALUE!"}}]
[{"$nulls":18},{"$f":"Tabla13[[#This Row],[Título del contrato]]&Tabla13[[#This Row],[Nº Expediente de la plataforma de contratación]]","v":{"$error":"#VALUE!"}},{"$f":"Tabla13[[#This Row],[Nº Expediente de la plataforma de contratación]]","v":{"$error":"#VALUE!"}},{"$f":"Tabla13[[#This Row],[Importe IVA ]]","v":{"$error":"#VALUE!"}},{"$f":"Tabla13[[#This Row],[Importe de adjudicación (IVA INCLUIDO)]]","v":{"$error":"#VALUE!"}}]
[{"$nulls":18},{"$f":"Tabla13[[#This Row],[Título del contrato]]&Tabla13[[#This Row],[Nº Expediente de la plataforma de contratación]]","v":{"$error":"#VALUE!"}},{"$f":"Tabla13[[#This Row],[Nº Expediente de la plataforma de contratación]]","v":{"$error":"#VALUE!"}},{"$f":"Tabla13[[#This Row],[Importe IVA ]]","v":{"$error":"#VALUE!"}},{"$f":"Tabla13[[#This Row],[Importe de adjudicación (IVA INCLUIDO)]]","v":{"$error":"#VALUE!"}}]
[{"$nulls":18},{"$f":"Tabla13[[#This Row],[Título del contrato]]&Tabla13[[#This Row],[Nº Expediente de la plataforma de contratación]]","v":{"$error":"#VALUE!"}},{"$f":"Tabla13[[#This Row],[Nº Expediente de la plataforma de contratación]]","v":{"$error":"#VALUE!"}},{"$f":"Tabla13[[#This Row],[Importe IVA ]]","v":{"$error":"#VALUE!"}},{"$f":"Tabla13[[#This Row],[Importe de adjudicación (IVA INCLUIDO)]]","v":{"$error":"#VALUE!"}}]
[{"$nulls":18},{"$f":"Tabla13[[#This Row],[Título del contrato]]&Tabla13[[#This Row],[Nº Expediente de la plataforma de contratación]]","v":{"$error":"#VALUE!"}},{"$f":"Tabla13[[#This Row],[Nº Expediente de la plataforma de contratación]]","v":{"$error":"#VALUE!"}},{"$f":"Tabla13[[#This Row],[Importe IVA ]]","v":{"$error":"#VALUE!"}},{"$f":"Tabla13[[#This Row],[Importe de adjudicación (IVA INCLUIDO)]]","v":{"$error":"#VALUE!"}}]
[{"$nulls":18},{"$f":"Tabla13[[#This Row],[Título del contrato]]&Tabla13[[#This Row],[Nº Expediente de la plataforma de contratación]]","v":{"$error":"#VALUE!"}},{"$f":"Tabla13[[#This Row],[Nº Expediente de la plataforma de contratación]]","v":{"$error":"#VALUE!"}},{"$f":"Tabla13[[#This Row],[Importe IVA ]]","v":{"$error":"#VALUE!"}},{"$f":"Tabla13[[#This Row],[Importe de adjudicación (IVA INCLUIDO)]]","v":{"$error":"#VALUE!"}}]
[{"$nulls":18},{"$f":"Tabla13[[#This Row],[Título del contrato]]&Tabla13[[#This Row],[Nº Expediente de la plataforma de contratación]]","v":{"$error":"#VALUE!"}},{"$f":"Tabla13[[#This Row],[Nº Expediente de la plataforma de contratación]]","v":{"$error":"#VALUE!"}},{"$f":"Tabla13[[#This Row],[Importe IVA ]]","v":{"$error":"#VALUE!"}},{"$f":"Tabla13[[#This Row],[Importe de adjudicación (IVA INCLUIDO)]]","v":{"$error":"#VALUE!"}}]
[{"$nulls":18},{"$f":"Tabla13[[#This Row],[Título del contrato]]&Tabla13[[#This Row],[Nº Expediente de la plataforma de contratación]]","v":{"$error":"#VALUE!"}},{"$f":"Tabla13[[#This Row],[Nº Expediente de la plataforma de contratación]]","v":{"$error":"#VALUE!"}},{"$f":"Tabla13[[#This Row],[Importe IVA ]]","v":{"$error":"#VALUE!"}},{"$f":"Tabla13[[#This Row],[Importe de adjudicación (IVA INCLUIDO)]]","v":{"$error":"#VALUE!"}}]
[{"$nulls":18},{"$f":"Tabla13[[#This Row],[Título del contrato]]&Tabla13[[#This Row],[Nº Expediente de la plataforma de contratación]]","v":{"$error":"#VALUE!"}},{"$f":"Tabla13[[#This Row],[Nº Expediente de la plataforma de contratación]]","v":{"$error":"#VALUE!"}},{"$f":"Tabla13[[#This Row],[Importe IVA ]]","v":{"$error":"#VALUE!"}},{"$f":"Tabla13[[#This Row],[Importe de adjudicación (IVA INCLUIDO)]]","v":{"$error":"#VALUE!"}}]
[{"$nulls":18},{"$f":"Tabla13[[#This Row],[Título del contrato]]&Tabla13[[#This Row],[Nº Expediente de la plataforma de contratación]]","v":{"$error":"#VALUE!"}},{"$f":"Tabla13[[#This Row],[Nº Expediente de la plataforma de contratación]]","v":{"$error":"#VALUE!"}},{"$f":"Tabla13[[#This Row],[Importe IVA ]]","v":{"$error":"#VALUE!"}},{"$f":"Tabla13[[#This Row],[Importe de adjudicación (IVA INCLUIDO)]]","v":{"$error":"#VALUE!"}}]
[{"$nulls":18},{"$f":"Tabla13[[#This Row],[Título del contrato]]&Tabla13[[#This Row],[Nº Expediente de la plataforma de contratación]]","v":{"$error":"#VALUE!"}},{"$f":"Tabla13[[#This Row],[Nº Expediente de la plataforma de contratación]]","v":{"$error":"#VALUE!"}},{"$f":"Tabla13[[#This Row],[Importe IVA ]]","v":{"$error":"#VALUE!"}},{"$f":"Tabla13[[#This Row],[Importe de adjudicación (IVA INCLUIDO)]]","v":{"$error":"#VALUE!"}}]

{"sheet":"RELACIÓN DE GASTOS","index":3,"n_rows":164,"n_cols":29,"rows_kept":164,"cut":false,"hidden":false,"merged":[[19,18,19,19],[17,3,18,5],[17,1,18,2],[17,6,17,17],[18,7,18,16],[11,2,11,3],[12,2,12,3],[17,20,18,20],[17,18,18,19],[7,1,7,3],[14,3,15,3],[14,4,15,4],[14,5,15,5],[14,1,15,1],[14,2,15,2],[9,2,9,3],[10,2,10,3]]}
{"$rows_empty":13}
[null,"CÓDIGO EXPEDIENTE","BENEFICIARIO","CIF","IMPORTE TOTAL OTORGADO","CONVOCATORIA"]
[null,{"$f":"IF('Pantalla de control'!H30<>\"\",'Pantalla de control'!H30,\"\")","v":""},{"$f":"IFERROR(VLOOKUP($B$15,Listados2!$K$2:$N$180,2,0),\"\")","v":""},{"$f":"IFERROR(VLOOKUP($B$15,Listados2!$K$2:$N$180,3,0),\"\")","v":""},{"$f":"IFERROR(VLOOKUP($B$15,Listados2!$K$2:$N$180,4,0),\"\")","v":""},{"$f":"IF(B15<>\"\",\"2021\",\"\")","v":""}]
[]
[]
[null,{"$f":"IF(AB22>0,\"El título del contrato no se corresponde con el número de expediente de la plataforma de contratación\",\"A. DATOS DE PROCEDIMIENTO DE ADJUDICACIÓN\")","v":"A. DATOS DE PROCEDIMIENTO DE ADJUDICACIÓN"},null,"B. DATOS ACTUACIÓN",null,null,"C. DOCUMENTO  JUSTIFICANTE DE GASTO",{"$nulls":11},{"$f":"IF(AC22>0,\"RECUERDE: debe identificar todos los documentos de pago:-Número o código de cada comprobante bancario-Modo de pago-Fecha de pago\",\"D. DATOS DEL PAGO\")","v":"D. DATOS DEL PAGO"},null,"E. INFORMACIÓN ADICIONAL"]
[{"$nulls":6},"C.1 DATOS DEL GASTO","C.2 DATOS DE FACTURAS U OTROS JUSTIFICANTES - GASTOS JUSTIFICADOS",{"$nulls":9},"C.3 DATOS DE IMPUTACIÓN"]
[]
[null,"Título del contrato","Nº Expediente de la plataforma de contratación","Tipo de actuación","Código de actuación (TAYS)","Nombre de actuación","Tipología de coste","CIF de la entidad pagadora","Nombre de la entidad pagadora","CIF/NIF Proveedor","Proveedor","Nº de factura","Concepto","Fecha de factura","Base Imponible","Importe IVA","Importe total del gasto","Importe imputado ","Importe total pagado","Identifique el número, modo y fecha de los pagos relacionados","Observaciones sobre cualquier información adicional relevante para la mejora de la comprensión de la justificación"]
[{"$nulls":5},{"$f":"IFERROR(VLOOKUP(E22,Listados2!$R$2:$S$647,2,0),\"\")","v":""},{"$nulls":18},{"$f":"IF(AND(Tabla14[[#This Row],[Identifique el número, modo y fecha de los pagos relacionados]]=\"\",Tabla14[[#This Row],[Nº de factura]]<>\"\"),\"1\",\"2\")","v":"2"},{"$f":"ISERROR(#REF!)","v":true},{"$f":"IFERROR(IF(OR(AND('RELACIÓN DE GASTOS'!$B22=\"\",'RELACIÓN DE GASTOS'!$C22<>\"\"),AND('RELACIÓN DE GASTOS'!$C22=\"\",'RELACIÓN DE GASTOS'!$B22<>\"\")),\"Debe introducir un contrato y número de expediente registrado en la hoja RELACIÓN DE CONTRATOS; revise los datos introducidos\",IF(_xlfn._xlws.FILTER('RELACIÓN DE CONTRATOS'!$N$23:$N$165,'RELACIÓN DE GASTOS'!$B22&'RELACIÓN DE GASTOS'!$C22='RELACIÓN DE CONTRATOS'!$N$23:$N$165)=_xlfn.CONCAT(B22,C22),\"\")),\"revise eleccion\")","v":""},{"$f":"COUNTIF($AA$22:$AA$164,\"revise eleccion\")","v":0},{"$f":"COUNTIF($Y$22:$Y$164,1)","v":0}]
[{"$nulls":5},{"$f":"IFERROR(VLOOKUP(E23,Listados2!$R$2:$S$647,2,0),\"\")","v":""},{"$nulls":18},{"$f":"IF(AND(Tabla14[[#This Row],[Identifique el número, modo y fecha de los pagos relacionados]]=\"\",Tabla14[[#This Row],[Nº de factura]]<>\"\"),\"1\",\"2\")","v":"2"},null,{"$f":"IFERROR(IF(OR(AND('RELACIÓN DE GASTOS'!$B23=\"\",'RELACIÓN DE GASTOS'!$C23<>\"\"),AND('RELACIÓN DE GASTOS'!$C23=\"\",'RELACIÓN DE GASTOS'!$B23<>\"\")),\"Debe introducir un contrato y número de expediente registrado en la hoja RELACIÓN DE CONTRATOS; revise los datos introducidos\",IF(_xlfn._xlws.FILTER('RELACIÓN DE CONTRATOS'!$N$23:$N$165,'RELACIÓN DE GASTOS'!$B23&'RELACIÓN DE GASTOS'!$C23='RELACIÓN DE CONTRATOS'!$N$23:$N$165)=_xlfn.CONCAT(B23,C23),\"\")),\"revise eleccion\")","v":""}]
[{"$nulls":5},{"$f":"IFERROR(VLOOKUP(E24,Listados2!$R$2:$S$647,2,0),\"\")","v":""},{"$nulls":18},{"$f":"IF(AND(Tabla14[[#This Row],[Identifique el número, modo y fecha de los pagos relacionados]]=\"\",Tabla14[[#This Row],[Nº de factura]]<>\"\"),\"1\",\"2\")","v":"2"},null,{"$f":"IFERROR(IF(OR(AND('RELACIÓN DE GASTOS'!$B24=\"\",'RELACIÓN DE GASTOS'!$C24<>\"\"),AND('RELACIÓN DE GASTOS'!$C24=\"\",'RELACIÓN DE GASTOS'!$B24<>\"\")),\"Debe introducir un contrato y número de expediente registrado en la hoja RELACIÓN DE CONTRATOS; revise los datos introducidos\",IF(_xlfn._xlws.FILTER('RELACIÓN DE CONTRATOS'!$N$23:$N$165,'RELACIÓN DE GASTOS'!$B24&'RELACIÓN DE GASTOS'!$C24='RELACIÓN DE CONTRATOS'!$N$23:$N$165)=_xlfn.CONCAT(B24,C24),\"\")),\"revise eleccion\")","v":""}]
[{"$nulls":5},{"$f":"IFERROR(VLOOKUP(E25,Listados2!$R$2:$S$647,2,0),\"\")","v":""},{"$nulls":18},{"$f":"IF(AND(Tabla14[[#This Row],[Identifique el número, modo y fecha de los pagos relacionados]]=\"\",Tabla14[[#This Row],[Nº de factura]]<>\"\"),\"1\",\"2\")","v":"2"},null,{"$f":"IFERROR(IF(OR(AND('RELACIÓN DE GASTOS'!$B25=\"\",'RELACIÓN DE GASTOS'!$C25<>\"\"),AND('RELACIÓN DE GASTOS'!$C25=\"\",'RELACIÓN DE GASTOS'!$B25<>\"\")),\"Debe introducir un contrato y número de expediente registrado en la hoja RELACIÓN DE CONTRATOS; revise los datos introducidos\",IF(_xlfn._xlws.FILTER('RELACIÓN DE CONTRATOS'!$N$23:$N$165,'RELACIÓN DE GASTOS'!$B25&'RELACIÓN DE GASTOS'!$C25='RELACIÓN DE CONTRATOS'!$N$23:$N$165)=_xlfn.CONCAT(B25,C25),\"\")),\"revise eleccion\")","v":""}]
[{"$nulls":5},{"$f":"IFERROR(VLOOKUP(E26,Listados2!$R$2:$S$647,2,0),\"\")","v":""},{"$nulls":18},{"$f":"IF(AND(Tabla14[[#This Row],[Identifique el número, modo y fecha de los pagos relacionados]]=\"\",Tabla14[[#This Row],[Nº de factura]]<>\"\"),\"1\",\"2\")","v":"2"},null,{"$f":"IFERROR(IF(OR(AND('RELACIÓN DE GASTOS'!$B26=\"\",'RELACIÓN DE GASTOS'!$C26<>\"\"),AND('RELACIÓN DE GASTOS'!$C26=\"\",'RELACIÓN DE GASTOS'!$B26<>\"\")),\"Debe introducir un contrato y número de expediente registrado en la hoja RELACIÓN DE CONTRATOS; revise los datos introducidos\",IF(_xlfn._xlws.FILTER('RELACIÓN DE CONTRATOS'!$N$23:$N$165,'RELACIÓN DE GASTOS'!$B26&'RELACIÓN DE GASTOS'!$C26='RELACIÓN DE CONTRATOS'!$N$23:$N$165)=_xlfn.CONCAT(B26,C26),\"\")),\"revise eleccion\")","v":""}]
[{"$nulls":5},{"$f":"IFERROR(VLOOKUP(E27,Listados2!$R$2:$S$647,2,0),\"\")","v":""},{"$nulls":18},{"$f":"IF(AND(Tabla14[[#This Row],[Identifique el número, modo y fecha de los pagos relacionados]]=\"\",Tabla14[[#This Row],[Nº de factura]]<>\"\"),\"1\",\"2\")","v":"2"},null,{"$f":"IFERROR(IF(OR(AND('RELACIÓN DE GASTOS'!$B27=\"\",'RELACIÓN DE GASTOS'!$C27<>\"\"),AND('RELACIÓN DE GASTOS'!$C27=\"\",'RELACIÓN DE GASTOS'!$B27<>\"\")),\"Debe introducir un contrato y número de expediente registrado en la hoja RELACIÓN DE CONTRATOS; revise los datos introducidos\",IF(_xlfn._xlws.FILTER('RELACIÓN DE CONTRATOS'!$N$23:$N$165,'RELACIÓN DE GASTOS'!$B27&'RELACIÓN DE GASTOS'!$C27='RELACIÓN DE CONTRATOS'!$N$23:$N$165)=_xlfn.CONCAT(B27,C27),\"\")),\"revise eleccion\")","v":""}]
[{"$nulls":5},{"$f":"IFERROR(VLOOKUP(E28,Listados2!$R$2:$S$647,2,0),\"\")","v":""},{"$nulls":18},{"$f":"IF(AND(Tabla14[[#This Row],[Identifique el número, modo y fecha de los pagos relacionados]]=\"\",Tabla14[[#This Row],[Nº de factura]]<>\"\"),\"1\",\"2\")","v":"2"},null,{"$f":"IFERROR(IF(OR(AND('RELACIÓN DE GASTOS'!$B28=\"\",'RELACIÓN DE GASTOS'!$C28<>\"\"),AND('RELACIÓN DE GASTOS'!$C28=\"\",'RELACIÓN DE GASTOS'!$B28<>\"\")),\"Debe introducir un contrato y número de expediente registrado en la hoja RELACIÓN DE CONTRATOS; revise los datos introducidos\",IF(_xlfn._xlws.FILTER('RELACIÓN DE CONTRATOS'!$N$23:$N$165,'RELACIÓN DE GASTOS'!$B28&'RELACIÓN DE GASTOS'!$C28='RELACIÓN DE CONTRATOS'!$N$23:$N$165)=_xlfn.CONCAT(B28,C28),\"\")),\"revise eleccion\")","v":""}]
[{"$nulls":5},{"$f":"IFERROR(VLOOKUP(E29,Listados2!$R$2:$S$647,2,0),\"\")","v":""},{"$nulls":18},{"$f":"IF(AND(Tabla14[[#This Row],[Identifique el número, modo y fecha de los pagos relacionados]]=\"\",Tabla14[[#This Row],[Nº de factura]]<>\"\"),\"1\",\"2\")","v":"2"},null,{"$f":"IFERROR(IF(OR(AND('RELACIÓN DE GASTOS'!$B29=\"\",'RELACIÓN DE GASTOS'!$C29<>\"\"),AND('RELACIÓN DE GASTOS'!$C29=\"\",'RELACIÓN DE GASTOS'!$B29<>\"\")),\"Debe introducir un contrato y número de expediente registrado en la hoja RELACIÓN DE CONTRATOS; revise los datos introducidos\",IF(_xlfn._xlws.FILTER('RELACIÓN DE CONTRATOS'!$N$23:$N$165,'RELACIÓN DE GASTOS'!$B29&'RELACIÓN DE GASTOS'!$C29='RELACIÓN DE CONTRATOS'!$N$23:$N$165)=_xlfn.CONCAT(B29,C29),\"\")),\"revise eleccion\")","v":""}]
[{"$nulls":5},{"$f":"IFERROR(VLOOKUP(E30,Listados2!$R$2:$S$647,2,0),\"\")","v":""},{"$nulls":18},{"$f":"IF(AND(Tabla14[[#This Row],[Identifique el número, modo y fecha de los pagos relacionados]]=\"\",Tabla14[[#This Row],[Nº de factura]]<>\"\"),\"1\",\"2\")","v":"2"},null,{"$f":"IFERROR(IF(OR(AND('RELACIÓN DE GASTOS'!$B30=\"\",'RELACIÓN DE GASTOS'!$C30<>\"\"),AND('RELACIÓN DE GASTOS'!$C30=\"\",'RELACIÓN DE GASTOS'!$B30<>\"\")),\"Debe introducir un contrato y número de expediente registrado en la hoja RELACIÓN DE CONTRATOS; revise los datos introducidos\",IF(_xlfn._xlws.FILTER('RELACIÓN DE CONTRATOS'!$N$23:$N$165,'RELACIÓN DE GASTOS'!$B30&'RELACIÓN DE GASTOS'!$C30='RELACIÓN DE CONTRATOS'!$N$23:$N$165)=_xlfn.CONCAT(B30,C30),\"\")),\"revise eleccion\")","v":""}]
[{"$nulls":5},{"$f":"IFERROR(VLOOKUP(E31,Listados2!$R$2:$S$647,2,0),\"\")","v":""},{"$nulls":18},{"$f":"IF(AND(Tabla14[[#This Row],[Identifique el número, modo y fecha de los pagos relacionados]]=\"\",Tabla14[[#This Row],[Nº de factura]]<>\"\"),\"1\",\"2\")","v":"2"},null,{"$f":"IFERROR(IF(OR(AND('RELACIÓN DE GASTOS'!$B31=\"\",'RELACIÓN DE GASTOS'!$C31<>\"\"),AND('RELACIÓN DE GASTOS'!$C31=\"\",'RELACIÓN DE GASTOS'!$B31<>\"\")),\"Debe introducir un contrato y número de expediente registrado en la hoja RELACIÓN DE CONTRATOS; revise los datos introducidos\",IF(_xlfn._xlws.FILTER('RELACIÓN DE CONTRATOS'!$N$23:$N$165,'RELACIÓN DE GASTOS'!$B31&'RELACIÓN DE GASTOS'!$C31='RELACIÓN DE CONTRATOS'!$N$23:$N$165)=_xlfn.CONCAT(B31,C31),\"\")),\"revise eleccion\")","v":""}]
[{"$nulls":5},{"$f":"IFERROR(VLOOKUP(E32,Listados2!$R$2:$S$647,2,0),\"\")","v":""},{"$nulls":18},{"$f":"IF(AND(Tabla14[[#This Row],[Identifique el número, modo y fecha de los pagos relacionados]]=\"\",Tabla14[[#This Row],[Nº de factura]]<>\"\"),\"1\",\"2\")","v":"2"},null,{"$f":"IFERROR(IF(OR(AND('RELACIÓN DE GASTOS'!$B32=\"\",'RELACIÓN DE GASTOS'!$C32<>\"\"),AND('RELACIÓN DE GASTOS'!$C32=\"\",'RELACIÓN DE GASTOS'!$B32<>\"\")),\"Debe introducir un contrato y número de expediente registrado en la hoja RELACIÓN DE CONTRATOS; revise los datos introducidos\",IF(_xlfn._xlws.FILTER('RELACIÓN DE CONTRATOS'!$N$23:$N$165,'RELACIÓN DE GASTOS'!$B32&'RELACIÓN DE GASTOS'!$C32='RELACIÓN DE CONTRATOS'!$N$23:$N$165)=_xlfn.CONCAT(B32,C32),\"\")),\"revise eleccion\")","v":""}]
[{"$nulls":5},{"$f":"IFERROR(VLOOKUP(E33,Listados2!$R$2:$S$647,2,0),\"\")","v":""},{"$nulls":18},{"$f":"IF(AND(Tabla14[[#This Row],[Identifique el número, modo y fecha de los pagos relacionados]]=\"\",Tabla14[[#This Row],[Nº de factura]]<>\"\"),\"1\",\"2\")","v":"2"},null,{"$f":"IFERROR(IF(OR(AND('RELACIÓN DE GASTOS'!$B33=\"\",'RELACIÓN DE GASTOS'!$C33<>\"\"),AND('RELACIÓN DE GASTOS'!$C33=\"\",'RELACIÓN DE GASTOS'!$B33<>\"\")),\"Debe introducir un contrato y número de expediente registrado en la hoja RELACIÓN DE CONTRATOS; revise los datos introducidos\",IF(_xlfn._xlws.FILTER('RELACIÓN DE CONTRATOS'!$N$23:$N$165,'RELACIÓN DE GASTOS'!$B33&'RELACIÓN DE GASTOS'!$C33='RELACIÓN DE CONTRATOS'!$N$23:$N$165)=_xlfn.CONCAT(B33,C33),\"\")),\"revise eleccion\")","v":""}]
[{"$nulls":5},{"$f":"IFERROR(VLOOKUP(E34,Listados2!$R$2:$S$647,2,0),\"\")","v":""},{"$nulls":18},{"$f":"IF(AND(Tabla14[[#This Row],[Identifique el número, modo y fecha de los pagos relacionados]]=\"\",Tabla14[[#This Row],[Nº de factura]]<>\"\"),\"1\",\"2\")","v":"2"},null,{"$f":"IFERROR(IF(OR(AND('RELACIÓN DE GASTOS'!$B34=\"\",'RELACIÓN DE GASTOS'!$C34<>\"\"),AND('RELACIÓN DE GASTOS'!$C34=\"\",'RELACIÓN DE GASTOS'!$B34<>\"\")),\"Debe introducir un contrato y número de expediente registrado en la hoja RELACIÓN DE CONTRATOS; revise los datos introducidos\",IF(_xlfn._xlws.FILTER('RELACIÓN DE CONTRATOS'!$N$23:$N$165,'RELACIÓN DE GASTOS'!$B34&'RELACIÓN DE GASTOS'!$C34='RELACIÓN DE CONTRATOS'!$N$23:$N$165)=_xlfn.CONCAT(B34,C34),\"\")),\"revise eleccion\")","v":""}]
[{"$nulls":5},{"$f":"IFERROR(VLOOKUP(E35,Listados2!$R$2:$S$647,2,0),\"\")","v":""},{"$nulls":18},{"$f":"IF(AND(Tabla14[[#This Row],[Identifique el número, modo y fecha de los pagos relacionados]]=\"\",Tabla14[[#This Row],[Nº de factura]]<>\"\"),\"1\",\"2\")","v":"2"},null,{"$f":"IFERROR(IF(OR(AND('RELACIÓN DE GASTOS'!$B35=\"\",'RELACIÓN DE GASTOS'!$C35<>\"\"),AND('RELACIÓN DE GASTOS'!$C35=\"\",'RELACIÓN DE GASTOS'!$B35<>\"\")),\"Debe introducir un contrato y número de expediente registrado en la hoja RELACIÓN DE CONTRATOS; revise los datos introducidos\",IF(_xlfn._xlws.FILTER('RELACIÓN DE CONTRATOS'!$N$23:$N$165,'RELACIÓN DE GASTOS'!$B35&'RELACIÓN DE GASTOS'!$C35='RELACIÓN DE CONTRATOS'!$N$23:$N$165)=_xlfn.CONCAT(B35,C35),\"\")),\"revise eleccion\")","v":""}]
[{"$nulls":5},{"$f":"IFERROR(VLOOKUP(E36,Listados2!$R$2:$S$647,2,0),\"\")","v":""},{"$nulls":18},{"$f":"IF(AND(Tabla14[[#This Row],[Identifique el número, modo y fecha de los pagos relacionados]]=\"\",Tabla14[[#This Row],[Nº de factura]]<>\"\"),\"1\",\"2\")","v":"2"},null,{"$f":"IFERROR(IF(OR(AND('RELACIÓN DE GASTOS'!$B36=\"\",'RELACIÓN DE GASTOS'!$C36<>\"\"),AND('RELACIÓN DE GASTOS'!$C36=\"\",'RELACIÓN DE GASTOS'!$B36<>\"\")),\"Debe introducir un contrato y número de expediente registrado en la hoja RELACIÓN DE CONTRATOS; revise los datos introducidos\",IF(_xlfn._xlws.FILTER('RELACIÓN DE CONTRATOS'!$N$23:$N$165,'RELACIÓN DE GASTOS'!$B36&'RELACIÓN DE GASTOS'!$C36='RELACIÓN DE CONTRATOS'!$N$23:$N$165)=_xlfn.CONCAT(B36,C36),\"\")),\"revise eleccion\")","v":""}]
[{"$nulls":5},{"$f":"IFERROR(VLOOKUP(E37,Listados2!$R$2:$S$647,2,0),\"\")","v":""},{"$nulls":18},{"$f":"IF(AND(Tabla14[[#This Row],[Identifique el número, modo y fecha de los pagos relacionados]]=\"\",Tabla14[[#This Row],[Nº de factura]]<>\"\"),\"1\",\"2\")","v":"2"},null,{"$f":"IFERROR(IF(OR(AND('RELACIÓN DE GASTOS'!$B37=\"\",'RELACIÓN DE GASTOS'!$C37<>\"\"),AND('RELACIÓN DE GASTOS'!$C37=\"\",'RELACIÓN DE GASTOS'!$B37<>\"\")),\"Debe introducir un contrato y número de expediente registrado en la hoja RELACIÓN DE CONTRATOS; revise los datos introducidos\",IF(_xlfn._xlws.FILTER('RELACIÓN DE CONTRATOS'!$N$23:$N$165,'RELACIÓN DE GASTOS'!$B37&'RELACIÓN DE GASTOS'!$C37='RELACIÓN DE CONTRATOS'!$N$23:$N$165)=_xlfn.CONCAT(B37,C37),\"\")),\"revise eleccion\")","v":""}]
[{"$nulls":5},{"$f":"IFERROR(VLOOKUP(E38,Listados2!$R$2:$S$647,2,0),\"\")","v":""},{"$nulls":18},{"$f":"IF(AND(Tabla14[[#This Row],[Identifique el número, modo y fecha de los pagos relacionados]]=\"\",Tabla14[[#This Row],[Nº de factura]]<>\"\"),\"1\",\"2\")","v":"2"},null,{"$f":"IFERROR(IF(OR(AND('RELACIÓN DE GASTOS'!$B38=\"\",'RELACIÓN DE GASTOS'!$C38<>\"\"),AND('RELACIÓN DE GASTOS'!$C38=\"\",'RELACIÓN DE GASTOS'!$B38<>\"\")),\"Debe introducir un contrato y número de expediente registrado en la hoja RELACIÓN DE CONTRATOS; revise los datos introducidos\",IF(_xlfn._xlws.FILTER('RELACIÓN DE CONTRATOS'!$N$23:$N$165,'RELACIÓN DE GASTOS'!$B38&'RELACIÓN DE GASTOS'!$C38='RELACIÓN DE CONTRATOS'!$N$23:$N$165)=_xlfn.CONCAT(B38,C38),\"\")),\"revise eleccion\")","v":""}]
[{"$nulls":5},{"$f":"IFERROR(VLOOKUP(E39,Listados2!$R$2:$S$647,2,0),\"\")","v":""},{"$nulls":18},{"$f":"IF(AND(Tabla14[[#This Row],[Identifique el número, modo y fecha de los pagos relacionados]]=\"\",Tabla14[[#This Row],[Nº de factura]]<>\"\"),\"1\",\"2\")","v":"2"},null,{"$f":"IFERROR(IF(OR(AND('RELACIÓN DE GASTOS'!$B39=\"\",'RELACIÓN DE GASTOS'!$C39<>\"\"),AND('RELACIÓN DE GASTOS'!$C39=\"\",'RELACIÓN DE GASTOS'!$B39<>\"\")),\"Debe introducir un contrato y número de expediente registrado en la hoja RELACIÓN DE CONTRATOS; revise los datos introducidos\",IF(_xlfn._xlws.FILTER('RELACIÓN DE CONTRATOS'!$N$23:$N$165,'RELACIÓN DE GASTOS'!$B39&'RELACIÓN DE GASTOS'!$C39='RELACIÓN DE CONTRATOS'!$N$23:$N$165)=_xlfn.CONCAT(B39,C39),\"\")),\"revise eleccion\")","v":""}]
[{"$nulls":5},{"$f":"IFERROR(VLOOKUP(E40,Listados2!$R$2:$S$647,2,0),\"\")","v":""},{"$nulls":18},{"$f":"IF(AND(Tabla14[[#This Row],[Identifique el número, modo y fecha de los pagos relacionados]]=\"\",Tabla14[[#This Row],[Nº de factura]]<>\"\"),\"1\",\"2\")","v":"2"},null,{"$f":"IFERROR(IF(OR(AND('RELACIÓN DE GASTOS'!$B40=\"\",'RELACIÓN DE GASTOS'!$C40<>\"\"),AND('RELACIÓN DE GASTOS'!$C40=\"\",'RELACIÓN DE GASTOS'!$B40<>\"\")),\"Debe introducir un contrato y número de expediente registrado en la hoja RELACIÓN DE CONTRATOS; revise los datos introducidos\",IF(_xlfn._xlws.FILTER('RELACIÓN DE CONTRATOS'!$N$23:$N$165,'RELACIÓN DE GASTOS'!$B40&'RELACIÓN DE GASTOS'!$C40='RELACIÓN DE CONTRATOS'!$N$23:$N$165)=_xlfn.CONCAT(B40,C40),\"\")),\"revise eleccion\")","v":""}]
[{"$nulls":5},{"$f":"IFERROR(VLOOKUP(E41,Listados2!$R$2:$S$647,2,0),\"\")","v":""},{"$nulls":18},{"$f":"IF(AND(Tabla14[[#This Row],[Identifique el número, modo y fecha de los pagos relacionados]]=\"\",Tabla14[[#This Row],[Nº de factura]]<>\"\"),\"1\",\"2\")","v":"2"},null,{"$f":"IFERROR(IF(OR(AND('RELACIÓN DE GASTOS'!$B41=\"\",'RELACIÓN DE GASTOS'!$C41<>\"\"),AND('RELACIÓN DE GASTOS'!$C41=\"\",'RELACIÓN DE GASTOS'!$B41<>\"\")),\"Debe introducir un contrato y número de expediente registrado en la hoja RELACIÓN DE CONTRATOS; revise los datos introducidos\",IF(_xlfn._xlws.FILTER('RELACIÓN DE CONTRATOS'!$N$23:$N$165,'RELACIÓN DE GASTOS'!$B41&'RELACIÓN DE GASTOS'!$C41='RELACIÓN DE CONTRATOS'!$N$23:$N$165)=_xlfn.CONCAT(B41,C41),\"\")),\"revise eleccion\")","v":""}]
[{"$nulls":5},{"$f":"IFERROR(VLOOKUP(E42,Listados2!$R$2:$S$647,2,0),\"\")","v":""},{"$nulls":18},{"$f":"IF(AND(Tabla14[[#This Row],[Identifique el número, modo y fecha de los pagos relacionados]]=\"\",Tabla14[[#This Row],[Nº de factura]]<>\"\"),\"1\",\"2\")","v":"2"},null,{"$f":"IFERROR(IF(OR(AND('RELACIÓN DE GASTOS'!$B42=\"\",'RELACIÓN DE GASTOS'!$C42<>\"\"),AND('RELACIÓN DE GASTOS'!$C42=\"\",'RELACIÓN DE GASTOS'!$B42<>\"\")),\"Debe introducir un contrato y número de expediente registrado en la hoja RELACIÓN DE CONTRATOS; revise los datos introducidos\",IF(_xlfn._xlws.FILTER('RELACIÓN DE CONTRATOS'!$N$23:$N$165,'RELACIÓN DE GASTOS'!$B42&'RELACIÓN DE GASTOS'!$C42='RELACIÓN DE CONTRATOS'!$N$23:$N$165)=_xlfn.CONCAT(B42,C42),\"\")),\"revise eleccion\")","v":""}]
[{"$nulls":5},{"$f":"IFERROR(VLOOKUP(E43,Listados2!$R$2:$S$647,2,0),\"\")","v":""},{"$nulls":18},{"$f":"IF(AND(Tabla14[[#This Row],[Identifique el número, modo y fecha de los pagos relacionados]]=\"\",Tabla14[[#This Row],[Nº de factura]]<>\"\"),\"1\",\"2\")","v":"2"},null,{"$f":"IFERROR(IF(OR(AND('RELACIÓN DE GASTOS'!$B43=\"\",'RELACIÓN DE GASTOS'!$C43<>\"\"),AND('RELACIÓN DE GASTOS'!$C43=\"\",'RELACIÓN DE GASTOS'!$B43<>\"\")),\"Debe introducir un contrato y número de expediente registrado en la hoja RELACIÓN DE CONTRATOS; revise los datos introducidos\",IF(_xlfn._xlws.FILTER('RELACIÓN DE CONTRATOS'!$N$23:$N$165,'RELACIÓN DE GASTOS'!$B43&'RELACIÓN DE GASTOS'!$C43='RELACIÓN DE CONTRATOS'!$N$23:$N$165)=_xlfn.CONCAT(B43,C43),\"\")),\"revise eleccion\")","v":""}]
[{"$nulls":5},{"$f":"IFERROR(VLOOKUP(E44,Listados2!$R$2:$S$647,2,0),\"\")","v":""},{"$nulls":18},{"$f":"IF(AND(Tabla14[[#This Row],[Identifique el número, modo y fecha de los pagos relacionados]]=\"\",Tabla14[[#This Row],[Nº de factura]]<>\"\"),\"1\",\"2\")","v":"2"},null,{"$f":"IFERROR(IF(OR(AND('RELACIÓN DE GASTOS'!$B44=\"\",'RELACIÓN DE GASTOS'!$C44<>\"\"),AND('RELACIÓN DE GASTOS'!$C44=\"\",'RELACIÓN DE GASTOS'!$B44<>\"\")),\"Debe introducir un contrato y número de expediente registrado en la hoja RELACIÓN DE CONTRATOS; revise los datos introducidos\",IF(_xlfn._xlws.FILTER('RELACIÓN DE CONTRATOS'!$N$23:$N$165,'RELACIÓN DE GASTOS'!$B44&'RELACIÓN DE GASTOS'!$C44='RELACIÓN DE CONTRATOS'!$N$23:$N$165)=_xlfn.CONCAT(B44,C44),\"\")),\"revise eleccion\")","v":""}]
[{"$nulls":5},{"$f":"IFERROR(VLOOKUP(E45,Listados2!$R$2:$S$647,2,0),\"\")","v":""},{"$nulls":18},{"$f":"IF(AND(Tabla14[[#This Row],[Identifique el número, modo y fecha de los pagos relacionados]]=\"\",Tabla14[[#This Row],[Nº de factura]]<>\"\"),\"1\",\"2\")","v":"2"},null,{"$f":"IFERROR(IF(OR(AND('RELACIÓN DE GASTOS'!$B45=\"\",'RELACIÓN DE GASTOS'!$C45<>\"\"),AND('RELACIÓN DE GASTOS'!$C45=\"\",'RELACIÓN DE GASTOS'!$B45<>\"\")),\"Debe introducir un contrato y número de expediente registrado en la hoja RELACIÓN DE CONTRATOS; revise los datos introducidos\",IF(_xlfn._xlws.FILTER('RELACIÓN DE CONTRATOS'!$N$23:$N$165,'RELACIÓN DE GASTOS'!$B45&'RELACIÓN DE GASTOS'!$C45='RELACIÓN DE CONTRATOS'!$N$23:$N$165)=_xlfn.CONCAT(B45,C45),\"\")),\"revise eleccion\")","v":""}]
[{"$nulls":5},{"$f":"IFERROR(VLOOKUP(E46,Listados2!$R$2:$S$647,2,0),\"\")","v":""},{"$nulls":18},{"$f":"IF(AND(Tabla14[[#This Row],[Identifique el número, modo y fecha de los pagos relacionados]]=\"\",Tabla14[[#This Row],[Nº de factura]]<>\"\"),\"1\",\"2\")","v":"2"},null,{"$f":"IFERROR(IF(OR(AND('RELACIÓN DE GASTOS'!$B46=\"\",'RELACIÓN DE GASTOS'!$C46<>\"\"),AND('RELACIÓN DE GASTOS'!$C46=\"\",'RELACIÓN DE GASTOS'!$B46<>\"\")),\"Debe introducir un contrato y número de expediente registrado en la hoja RELACIÓN DE CONTRATOS; revise los datos introducidos\",IF(_xlfn._xlws.FILTER('RELACIÓN DE CONTRATOS'!$N$23:$N$165,'RELACIÓN DE GASTOS'!$B46&'RELACIÓN DE GASTOS'!$C46='RELACIÓN DE CONTRATOS'!$N$23:$N$165)=_xlfn.CONCAT(B46,C46),\"\")),\"revise eleccion\")","v":""}]
[{"$nulls":5},{"$f":"IFERROR(VLOOKUP(E47,Listados2!$R$2:$S$647,2,0),\"\")","v":""},{"$nulls":18},{"$f":"IF(AND(Tabla14[[#This Row],[Identifique el número, modo y fecha de los pagos relacionados]]=\"\",Tabla14[[#This Row],[Nº de factura]]<>\"\"),\"1\",\"2\")","v":"2"},null,{"$f":"IFERROR(IF(OR(AND('RELACIÓN DE GASTOS'!$B47=\"\",'RELACIÓN DE GASTOS'!$C47<>\"\"),AND('RELACIÓN DE GASTOS'!$C47=\"\",'RELACIÓN DE GASTOS'!$B47<>\"\")),\"Debe introducir un contrato y número de expediente registrado en la hoja RELACIÓN DE CONTRATOS; revise los datos introducidos\",IF(_xlfn._xlws.FILTER('RELACIÓN DE CONTRATOS'!$N$23:$N$165,'RELACIÓN DE GASTOS'!$B47&'RELACIÓN DE GASTOS'!$C47='RELACIÓN DE CONTRATOS'!$N$23:$N$165)=_xlfn.CONCAT(B47,C47),\"\")),\"revise eleccion\")","v":""}]
[{"$nulls":5},{"$f":"IFERROR(VLOOKUP(E48,Listados2!$R$2:$S$647,2,0),\"\")","v":""},{"$nulls":18},{"$f":"IF(AND(Tabla14[[#This Row],[Identifique el número, modo y fecha de los pagos relacionados]]=\"\",Tabla14[[#This Row],[Nº de factura]]<>\"\"),\"1\",\"2\")","v":"2"},null,{"$f":"IFERROR(IF(OR(AND('RELACIÓN DE GASTOS'!$B48=\"\",'RELACIÓN DE GASTOS'!$C48<>\"\"),AND('RELACIÓN DE GASTOS'!$C48=\"\",'RELACIÓN DE GASTOS'!$B48<>\"\")),\"Debe introducir un contrato y número de expediente registrado en la hoja RELACIÓN DE CONTRATOS; revise los datos introducidos\",IF(_xlfn._xlws.FILTER('RELACIÓN DE CONTRATOS'!$N$23:$N$165,'RELACIÓN DE GASTOS'!$B48&'RELACIÓN DE GASTOS'!$C48='RELACIÓN DE CONTRATOS'!$N$23:$N$165)=_xlfn.CONCAT(B48,C48),\"\")),\"revise eleccion\")","v":""}]
[{"$nulls":5},{"$f":"IFERROR(VLOOKUP(E49,Listados2!$R$2:$S$647,2,0),\"\")","v":""},{"$nulls":18},{"$f":"IF(AND(Tabla14[[#This Row],[Identifique el número, modo y fecha de los pagos relacionados]]=\"\",Tabla14[[#This Row],[Nº de factura]]<>\"\"),\"1\",\"2\")","v":"2"},null,{"$f":"IFERROR(IF(OR(AND('RELACIÓN DE GASTOS'!$B49=\"\",'RELACIÓN DE GASTOS'!$C49<>\"\"),AND('RELACIÓN DE GASTOS'!$C49=\"\",'RELACIÓN DE GASTOS'!$B49<>\"\")),\"Debe introducir un contrato y número de expediente registrado en la hoja RELACIÓN DE CONTRATOS; revise los datos introducidos\",IF(_xlfn._xlws.FILTER('RELACIÓN DE CONTRATOS'!$N$23:$N$165,'RELACIÓN DE GASTOS'!$B49&'RELACIÓN DE GASTOS'!$C49='RELACIÓN DE CONTRATOS'!$N$23:$N$165)=_xlfn.CONCAT(B49,C49),\"\")),\"revise eleccion\")","v":""}]
[{"$nulls":5},{"$f":"IFERROR(VLOOKUP(E50,Listados2!$R$2:$S$647,2,0),\"\")","v":""},{"$nulls":18},{"$f":"IF(AND(Tabla14[[#This Row],[Identifique el número, modo y fecha de los pagos relacionados]]=\"\",Tabla14[[#This Row],[Nº de factura]]<>\"\"),\"1\",\"2\")","v":"2"},null,{"$f":"IFERROR(IF(OR(AND('RELACIÓN DE GASTOS'!$B50=\"\",'RELACIÓN DE GASTOS'!$C50<>\"\"),AND('RELACIÓN DE GASTOS'!$C50=\"\",'RELACIÓN DE GASTOS'!$B50<>\"\")),\"Debe introducir un contrato y número de expediente registrado en la hoja RELACIÓN DE CONTRATOS; revise los datos introducidos\",IF(_xlfn._xlws.FILTER('RELACIÓN DE CONTRATOS'!$N$23:$N$165,'RELACIÓN DE GASTOS'!$B50&'RELACIÓN DE GASTOS'!$C50='RELACIÓN DE CONTRATOS'!$N$23:$N$165)=_xlfn.CONCAT(B50,C50),\"\")),\"revise eleccion\")","v":""}]
[{"$nulls":5},{"$f":"IFERROR(VLOOKUP(E51,Listados2!$R$2:$S$647,2,0),\"\")","v":""},{"$nulls":18},{"$f":"IF(AND(Tabla14[[#This Row],[Identifique el número, modo y fecha de los pagos relacionados]]=\"\",Tabla14[[#This Row],[Nº de factura]]<>\"\"),\"1\",\"2\")","v":"2"},null,{"$f":"IFERROR(IF(OR(AND('RELACIÓN DE GASTOS'!$B51=\"\",'RELACIÓN DE GASTOS'!$C51<>\"\"),AND('RELACIÓN DE GASTOS'!$C51=\"\",'RELACIÓN DE GASTOS'!$B51<>\"\")),\"Debe introducir un contrato y número de expediente registrado en la hoja RELACIÓN DE CONTRATOS; revise los datos introducidos\",IF(_xlfn._xlws.FILTER('RELACIÓN DE CONTRATOS'!$N$23:$N$165,'RELACIÓN DE GASTOS'!$B51&'RELACIÓN DE GASTOS'!$C51='RELACIÓN DE CONTRATOS'!$N$23:$N$165)=_xlfn.CONCAT(B51,C51),\"\")),\"revise eleccion\")","v":""}]
[{"$nulls":5},{"$f":"IFERROR(VLOOKUP(E52,Listados2!$R$2:$S$647,2,0),\"\")","v":""},{"$nulls":18},{"$f":"IF(AND(Tabla14[[#This Row],[Identifique el número, modo y fecha de los pagos relacionados]]=\"\",Tabla14[[#This Row],[Nº de factura]]<>\"\"),\"1\",\"2\")","v":"2"},null,{"$f":"IFERROR(IF(OR(AND('RELACIÓN DE GASTOS'!$B52=\"\",'RELACIÓN DE GASTOS'!$C52<>\"\"),AND('RELACIÓN DE GASTOS'!$C52=\"\",'RELACIÓN DE GASTOS'!$B52<>\"\")),\"Debe introducir un contrato y número de expediente registrado en la hoja RELACIÓN DE CONTRATOS; revise los datos introducidos\",IF(_xlfn._xlws.FILTER('RELACIÓN DE CONTRATOS'!$N$23:$N$165,'RELACIÓN DE GASTOS'!$B52&'RELACIÓN DE GASTOS'!$C52='RELACIÓN DE CONTRATOS'!$N$23:$N$165)=_xlfn.CONCAT(B52,C52),\"\")),\"revise eleccion\")","v":""}]
[{"$nulls":5},{"$f":"IFERROR(VLOOKUP(E53,Listados2!$R$2:$S$647,2,0),\"\")","v":""},{"$nulls":18},{"$f":"IF(AND(Tabla14[[#This Row],[Identifique el número, modo y fecha de los pagos relacionados]]=\"\",Tabla14[[#This Row],[Nº de factura]]<>\"\"),\"1\",\"2\")","v":"2"},null,{"$f":"IFERROR(IF(OR(AND('RELACIÓN DE GASTOS'!$B53=\"\",'RELACIÓN DE GASTOS'!$C53<>\"\"),AND('RELACIÓN DE GASTOS'!$C53=\"\",'RELACIÓN DE GASTOS'!$B53<>\"\")),\"Debe introducir un contrato y número de expediente registrado en la hoja RELACIÓN DE CONTRATOS; revise los datos introducidos\",IF(_xlfn._xlws.FILTER('RELACIÓN DE CONTRATOS'!$N$23:$N$165,'RELACIÓN DE GASTOS'!$B53&'RELACIÓN DE GASTOS'!$C53='RELACIÓN DE CONTRATOS'!$N$23:$N$165)=_xlfn.CONCAT(B53,C53),\"\")),\"revise eleccion\")","v":""}]
[{"$nulls":5},{"$f":"IFERROR(VLOOKUP(E54,Listados2!$R$2:$S$647,2,0),\"\")","v":""},{"$nulls":18},{"$f":"IF(AND(Tabla14[[#This Row],[Identifique el número, modo y fecha de los pagos relacionados]]=\"\",Tabla14[[#This Row],[Nº de factura]]<>\"\"),\"1\",\"2\")","v":"2"},null,{"$f":"IFERROR(IF(OR(AND('RELACIÓN DE GASTOS'!$B54=\"\",'RELACIÓN DE GASTOS'!$C54<>\"\"),AND('RELACIÓN DE GASTOS'!$C54=\"\",'RELACIÓN DE GASTOS'!$B54<>\"\")),\"Debe introducir un contrato y número de expediente registrado en la hoja RELACIÓN DE CONTRATOS; revise los datos introducidos\",IF(_xlfn._xlws.FILTER('RELACIÓN DE CONTRATOS'!$N$23:$N$165,'RELACIÓN DE GASTOS'!$B54&'RELACIÓN DE GASTOS'!$C54='RELACIÓN DE CONTRATOS'!$N$23:$N$165)=_xlfn.CONCAT(B54,C54),\"\")),\"revise eleccion\")","v":""}]
[{"$nulls":5},{"$f":"IFERROR(VLOOKUP(E55,Listados2!$R$2:$S$647,2,0),\"\")","v":""},{"$nulls":18},{"$f":"IF(AND(Tabla14[[#This Row],[Identifique el número, modo y fecha de los pagos relacionados]]=\"\",Tabla14[[#This Row],[Nº de factura]]<>\"\"),\"1\",\"2\")","v":"2"},null,{"$f":"IFERROR(IF(OR(AND('RELACIÓN DE GASTOS'!$B55=\"\",'RELACIÓN DE GASTOS'!$C55<>\"\"),AND('RELACIÓN DE GASTOS'!$C55=\"\",'RELACIÓN DE GASTOS'!$B55<>\"\")),\"Debe introducir un contrato y número de expediente registrado en la hoja RELACIÓN DE CONTRATOS; revise los datos introducidos\",IF(_xlfn._xlws.FILTER('RELACIÓN DE CONTRATOS'!$N$23:$N$165,'RELACIÓN DE GASTOS'!$B55&'RELACIÓN DE GASTOS'!$C55='RELACIÓN DE CONTRATOS'!$N$23:$N$165)=_xlfn.CONCAT(B55,C55),\"\")),\"revise eleccion\")","v":""}]
[{"$nulls":5},{"$f":"IFERROR(VLOOKUP(E56,Listados2!$R$2:$S$647,2,0),\"\")","v":""},{"$nulls":18},{"$f":"IF(AND(Tabla14[[#This Row],[Identifique el número, modo y fecha de los pagos relacionados]]=\"\",Tabla14[[#This Row],[Nº de factura]]<>\"\"),\"1\",\"2\")","v":"2"},null,{"$f":"IFERROR(IF(OR(AND('RELACIÓN DE GASTOS'!$B56=\"\",'RELACIÓN DE GASTOS'!$C56<>\"\"),AND('RELACIÓN DE GASTOS'!$C56=\"\",'RELACIÓN DE GASTOS'!$B56<>\"\")),\"Debe introducir un contrato y número de expediente registrado en la hoja RELACIÓN DE CONTRATOS; revise los datos introducidos\",IF(_xlfn._xlws.FILTER('RELACIÓN DE CONTRATOS'!$N$23:$N$165,'RELACIÓN DE GASTOS'!$B56&'RELACIÓN DE GASTOS'!$C56='RELACIÓN DE CONTRATOS'!$N$23:$N$165)=_xlfn.CONCAT(B56,C56),\"\")),\"revise eleccion\")","v":""}]
[{"$nulls":5},{"$f":"IFERROR(VLOOKUP(E57,Listados2!$R$2:$S$647,2,0),\"\")","v":""},{"$nulls":18},{"$f":"IF(AND(Tabla14[[#This Row],[Identifique el número, modo y fecha de los pagos relacionados]]=\"\",Tabla14[[#This Row],[Nº de factura]]<>\"\"),\"1\",\"2\")","v":"2"},null,{"$f":"IFERROR(IF(OR(AND('RELACIÓN DE GASTOS'!$B57=\"\",'RELACIÓN DE GASTOS'!$C57<>\"\"),AND('RELACIÓN DE GASTOS'!$C57=\"\",'RELACIÓN DE GASTOS'!$B57<>\"\")),\"Debe introducir un contrato y número de expediente registrado en la hoja RELACIÓN DE CONTRATOS; revise los datos introducidos\",IF(_xlfn._xlws.FILTER('RELACIÓN DE CONTRATOS'!$N$23:$N$165,'RELACIÓN DE GASTOS'!$B57&'RELACIÓN DE GASTOS'!$C57='RELACIÓN DE CONTRATOS'!$N$23:$N$165)=_xlfn.CONCAT(B57,C57),\"\")),\"revise eleccion\")","v":""}]
[{"$nulls":5},{"$f":"IFERROR(VLOOKUP(E58,Listados2!$R$2:$S$647,2,0),\"\")","v":""},{"$nulls":18},{"$f":"IF(AND(Tabla14[[#This Row],[Identifique el número, modo y fecha de los pagos relacionados]]=\"\",Tabla14[[#This Row],[Nº de factura]]<>\"\"),\"1\",\"2\")","v":"2"},null,{"$f":"IFERROR(IF(OR(AND('RELACIÓN DE GASTOS'!$B58=\"\",'RELACIÓN DE GASTOS'!$C58<>\"\"),AND('RELACIÓN DE GASTOS'!$C58=\"\",'RELACIÓN DE GASTOS'!$B58<>\"\")),\"Debe introducir un contrato y número de expediente registrado en la hoja RELACIÓN DE CONTRATOS; revise los datos introducidos\",IF(_xlfn._xlws.FILTER('RELACIÓN DE CONTRATOS'!$N$23:$N$165,'RELACIÓN DE GASTOS'!$B58&'RELACIÓN DE GASTOS'!$C58='RELACIÓN DE CONTRATOS'!$N$23:$N$165)=_xlfn.CONCAT(B58,C58),\"\")),\"revise eleccion\")","v":""}]
[{"$nulls":5},{"$f":"IFERROR(VLOOKUP(E59,Listados2!$R$2:$S$647,2,0),\"\")","v":""},{"$nulls":18},{"$f":"IF(AND(Tabla14[[#This Row],[Identifique el número, modo y fecha de los pagos relacionados]]=\"\",Tabla14[[#This Row],[Nº de factura]]<>\"\"),\"1\",\"2\")","v":"2"},null,{"$f":"IFERROR(IF(OR(AND('RELACIÓN DE GASTOS'!$B59=\"\",'RELACIÓN DE GASTOS'!$C59<>\"\"),AND('RELACIÓN DE GASTOS'!$C59=\"\",'RELACIÓN DE GASTOS'!$B59<>\"\")),\"Debe introducir un contrato y número de expediente registrado en la hoja RELACIÓN DE CONTRATOS; revise los datos introducidos\",IF(_xlfn._xlws.FILTER('RELACIÓN DE CONTRATOS'!$N$23:$N$165,'RELACIÓN DE GASTOS'!$B59&'RELACIÓN DE GASTOS'!$C59='RELACIÓN DE CONTRATOS'!$N$23:$N$165)=_xlfn.CONCAT(B59,C59),\"\")),\"revise eleccion\")","v":""}]
[{"$nulls":5},{"$f":"IFERROR(VLOOKUP(E60,Listados2!$R$2:$S$647,2,0),\"\")","v":""},{"$nulls":18},{"$f":"IF(AND(Tabla14[[#This Row],[Identifique el número, modo y fecha de los pagos relacionados]]=\"\",Tabla14[[#This Row],[Nº de factura]]<>\"\"),\"1\",\"2\")","v":"2"},null,{"$f":"IFERROR(IF(OR(AND('RELACIÓN DE GASTOS'!$B60=\"\",'RELACIÓN DE GASTOS'!$C60<>\"\"),AND('RELACIÓN DE GASTOS'!$C60=\"\",'RELACIÓN DE GASTOS'!$B60<>\"\")),\"Debe introducir un contrato y número de expediente registrado en la hoja RELACIÓN DE CONTRATOS; revise los datos introducidos\",IF(_xlfn._xlws.FILTER('RELACIÓN DE CONTRATOS'!$N$23:$N$165,'RELACIÓN DE GASTOS'!$B60&'RELACIÓN DE GASTOS'!$C60='RELACIÓN DE CONTRATOS'!$N$23:$N$165)=_xlfn.CONCAT(B60,C60),\"\")),\"revise eleccion\")","v":""}]
[{"$nulls":5},{"$f":"IFERROR(VLOOKUP(E61,Listados2!$R$2:$S$647,2,0),\"\")","v":""},{"$nulls":18},{"$f":"IF(AND(Tabla14[[#This Row],[Identifique el número, modo y fecha de los pagos relacionados]]=\"\",Tabla14[[#This Row],[Nº de factura]]<>\"\"),\"1\",\"2\")","v":"2"},null,{"$f":"IFERROR(IF(OR(AND('RELACIÓN DE GASTOS'!$B61=\"\",'RELACIÓN DE GASTOS'!$C61<>\"\"),AND('RELACIÓN DE GASTOS'!$C61=\"\",'RELACIÓN DE GASTOS'!$B61<>\"\")),\"Debe introducir un contrato y número de expediente registrado en la hoja RELACIÓN DE CONTRATOS; revise los datos introducidos\",IF(_xlfn._xlws.FILTER('RELACIÓN DE CONTRATOS'!$N$23:$N$165,'RELACIÓN DE GASTOS'!$B61&'RELACIÓN DE GASTOS'!$C61='RELACIÓN DE CONTRATOS'!$N$23:$N$165)=_xlfn.CONCAT(B61,C61),\"\")),\"revise eleccion\")","v":""}]
[{"$nulls":5},{"$f":"IFERROR(VLOOKUP(E62,Listados2!$R$2:$S$647,2,0),\"\")","v":""},{"$nulls":18},{"$f":"IF(AND(Tabla14[[#This Row],[Identifique el número, modo y fecha de los pagos relacionados]]=\"\",Tabla14[[#This Row],[Nº de factura]]<>\"\"),\"1\",\"2\")","v":"2"},null,{"$f":"IFERROR(IF(OR(AND('RELACIÓN DE GASTOS'!$B62=\"\",'RELACIÓN DE GASTOS'!$C62<>\"\"),AND('RELACIÓN DE GASTOS'!$C62=\"\",'RELACIÓN DE GASTOS'!$B62<>\"\")),\"Debe introducir un contrato y número de expediente registrado en la hoja RELACIÓN DE CONTRATOS; revise los datos introducidos\",IF(_xlfn._xlws.FILTER('RELACIÓN DE CONTRATOS'!$N$23:$N$165,'RELACIÓN DE GASTOS'!$B62&'RELACIÓN DE GASTOS'!$C62='RELACIÓN DE CONTRATOS'!$N$23:$N$165)=_xlfn.CONCAT(B62,C62),\"\")),\"revise eleccion\")","v":""}]
[{"$nulls":5},{"$f":"IFERROR(VLOOKUP(E63,Listados2!$R$2:$S$647,2,0),\"\")","v":""},{"$nulls":18},{"$f":"IF(AND(Tabla14[[#This Row],[Identifique el número, modo y fecha de los pagos relacionados]]=\"\",Tabla14[[#This Row],[Nº de factura]]<>\"\"),\"1\",\"2\")","v":"2"},null,{"$f":"IFERROR(IF(OR(AND('RELACIÓN DE GASTOS'!$B63=\"\",'RELACIÓN DE GASTOS'!$C63<>\"\"),AND('RELACIÓN DE GASTOS'!$C63=\"\",'RELACIÓN DE GASTOS'!$B63<>\"\")),\"Debe introducir un contrato y número de expediente registrado en la hoja RELACIÓN DE CONTRATOS; revise los datos introducidos\",IF(_xlfn._xlws.FILTER('RELACIÓN DE CONTRATOS'!$N$23:$N$165,'RELACIÓN DE GASTOS'!$B63&'RELACIÓN DE GASTOS'!$C63='RELACIÓN DE CONTRATOS'!$N$23:$N$165)=_xlfn.CONCAT(B63,C63),\"\")),\"revise eleccion\")","v":""}]
[{"$nulls":5},{"$f":"IFERROR(VLOOKUP(E64,Listados2!$R$2:$S$647,2,0),\"\")","v":""},{"$nulls":18},{"$f":"IF(AND(Tabla14[[#This Row],[Identifique el número, modo y fecha de los pagos relacionados]]=\"\",Tabla14[[#This Row],[Nº de factura]]<>\"\"),\"1\",\"2\")","v":"2"},null,{"$f":"IFERROR(IF(OR(AND('RELACIÓN DE GASTOS'!$B64=\"\",'RELACIÓN DE GASTOS'!$C64<>\"\"),AND('RELACIÓN DE GASTOS'!$C64=\"\",'RELACIÓN DE GASTOS'!$B64<>\"\")),\"Debe introducir un contrato y número de expediente registrado en la hoja RELACIÓN DE CONTRATOS; revise los datos introducidos\",IF(_xlfn._xlws.FILTER('RELACIÓN DE CONTRATOS'!$N$23:$N$165,'RELACIÓN DE GASTOS'!$B64&'RELACIÓN DE GASTOS'!$C64='RELACIÓN DE CONTRATOS'!$N$23:$N$165)=_xlfn.CONCAT(B64,C64),\"\")),\"revise eleccion\")","v":""}]
[{"$nulls":5},{"$f":"IFERROR(VLOOKUP(E65,Listados2!$R$2:$S$647,2,0),\"\")","v":""},{"$nulls":18},{"$f":"IF(AND(Tabla14[[#This Row],[Identifique el número, modo y fecha de los pagos relacionados]]=\"\",Tabla14[[#This Row],[Nº de factura]]<>\"\"),\"1\",\"2\")","v":"2"},null,{"$f":"IFERROR(IF(OR(AND('RELACIÓN DE GASTOS'!$B65=\"\",'RELACIÓN DE GASTOS'!$C65<>\"\"),AND('RELACIÓN DE GASTOS'!$C65=\"\",'RELACIÓN DE GASTOS'!$B65<>\"\")),\"Debe introducir un contrato y número de expediente registrado en la hoja RELACIÓN DE CONTRATOS; revise los datos introducidos\",IF(_xlfn._xlws.FILTER('RELACIÓN DE CONTRATOS'!$N$23:$N$165,'RELACIÓN DE GASTOS'!$B65&'RELACIÓN DE GASTOS'!$C65='RELACIÓN DE CONTRATOS'!$N$23:$N$165)=_xlfn.CONCAT(B65,C65),\"\")),\"revise eleccion\")","v":""}]
[{"$nulls":5},{"$f":"IFERROR(VLOOKUP(E66,Listados2!$R$2:$S$647,2,0),\"\")","v":""},{"$nulls":18},{"$f":"IF(AND(Tabla14[[#This Row],[Identifique el número, modo y fecha de los pagos relacionados]]=\"\",Tabla14[[#This Row],[Nº de factura]]<>\"\"),\"1\",\"2\")","v":"2"},null,{"$f":"IFERROR(IF(OR(AND('RELACIÓN DE GASTOS'!$B66=\"\",'RELACIÓN DE GASTOS'!$C66<>\"\"),AND('RELACIÓN DE GASTOS'!$C66=\"\",'RELACIÓN DE GASTOS'!$B66<>\"\")),\"Debe introducir un contrato y número de expediente registrado en la hoja RELACIÓN DE CONTRATOS; revise los datos introducidos\",IF(_xlfn._xlws.FILTER('RELACIÓN DE CONTRATOS'!$N$23:$N$165,'RELACIÓN DE GASTOS'!$B66&'RELACIÓN DE GASTOS'!$C66='RELACIÓN DE CONTRATOS'!$N$23:$N$165)=_xlfn.CONCAT(B66,C66),\"\")),\"revise eleccion\")","v":""}]
[{"$nulls":5},{"$f":"IFERROR(VLOOKUP(E67,Listados2!$R$2:$S$647,2,0),\"\")","v":""},{"$nulls":18},{"$f":"IF(AND(Tabla14[[#This Row],[Identifique el número, modo y fecha de los pagos relacionados]]=\"\",Tabla14[[#This Row],[Nº de factura]]<>\"\"),\"1\",\"2\")","v":"2"},null,{"$f":"IFERROR(IF(OR(AND('RELACIÓN DE GASTOS'!$B67=\"\",'RELACIÓN DE GASTOS'!$C67<>\"\"),AND('RELACIÓN DE GASTOS'!$C67=\"\",'RELACIÓN DE GASTOS'!$B67<>\"\")),\"Debe introducir un contrato y número de expediente registrado en la hoja RELACIÓN DE CONTRATOS; revise los datos introducidos\",IF(_xlfn._xlws.FILTER('RELACIÓN DE CONTRATOS'!$N$23:$N$165,'RELACIÓN DE GASTOS'!$B67&'RELACIÓN DE GASTOS'!$C67='RELACIÓN DE CONTRATOS'!$N$23:$N$165)=_xlfn.CONCAT(B67,C67),\"\")),\"revise eleccion\")","v":""}]
[{"$nulls":5},{"$f":"IFERROR(VLOOKUP(E68,Listados2!$R$2:$S$647,2,0),\"\")","v":""},{"$nulls":18},{"$f":"IF(AND(Tabla14[[#This Row],[Identifique el número, modo y fecha de los pagos relacionados]]=\"\",Tabla14[[#This Row],[Nº de factura]]<>\"\"),\"1\",\"2\")","v":"2"},null,{"$f":"IFERROR(IF(OR(AND('RELACIÓN DE GASTOS'!$B68=\"\",'RELACIÓN DE GASTOS'!$C68<>\"\"),AND('RELACIÓN DE GASTOS'!$C68=\"\",'RELACIÓN DE GASTOS'!$B68<>\"\")),\"Debe introducir un contrato y número de expediente registrado en la hoja RELACIÓN DE CONTRATOS; revise los datos introducidos\",IF(_xlfn._xlws.FILTER('RELACIÓN DE CONTRATOS'!$N$23:$N$165,'RELACIÓN DE GASTOS'!$B68&'RELACIÓN DE GASTOS'!$C68='RELACIÓN DE CONTRATOS'!$N$23:$N$165)=_xlfn.CONCAT(B68,C68),\"\")),\"revise eleccion\")","v":""}]
[{"$nulls":5},{"$f":"IFERROR(VLOOKUP(E69,Listados2!$R$2:$S$647,2,0),\"\")","v":""},{"$nulls":18},{"$f":"IF(AND(Tabla14[[#This Row],[Identifique el número, modo y fecha de los pagos relacionados]]=\"\",Tabla14[[#This Row],[Nº de factura]]<>\"\"),\"1\",\"2\")","v":"2"},null,{"$f":"IFERROR(IF(OR(AND('RELACIÓN DE GASTOS'!$B69=\"\",'RELACIÓN DE GASTOS'!$C69<>\"\"),AND('RELACIÓN DE GASTOS'!$C69=\"\",'RELACIÓN DE GASTOS'!$B69<>\"\")),\"Debe introducir un contrato y número de expediente registrado en la hoja RELACIÓN DE CONTRATOS; revise los datos introducidos\",IF(_xlfn._xlws.FILTER('RELACIÓN DE CONTRATOS'!$N$23:$N$165,'RELACIÓN DE GASTOS'!$B69&'RELACIÓN DE GASTOS'!$C69='RELACIÓN DE CONTRATOS'!$N$23:$N$165)=_xlfn.CONCAT(B69,C69),\"\")),\"revise eleccion\")","v":""}]
[{"$nulls":5},{"$f":"IFERROR(VLOOKUP(E70,Listados2!$R$2:$S$647,2,0),\"\")","v":""},{"$nulls":18},{"$f":"IF(AND(Tabla14[[#This Row],[Identifique el número, modo y fecha de los pagos relacionados]]=\"\",Tabla14[[#This Row],[Nº de factura]]<>\"\"),\"1\",\"2\")","v":"2"},null,{"$f":"IFERROR(IF(OR(AND('RELACIÓN DE GASTOS'!$B70=\"\",'RELACIÓN DE GASTOS'!$C70<>\"\"),AND('RELACIÓN DE GASTOS'!$C70=\"\",'RELACIÓN DE GASTOS'!$B70<>\"\")),\"Debe introducir un contrato y número de expediente registrado en la hoja RELACIÓN DE CONTRATOS; revise los datos introducidos\",IF(_xlfn._xlws.FILTER('RELACIÓN DE CONTRATOS'!$N$23:$N$165,'RELACIÓN DE GASTOS'!$B70&'RELACIÓN DE GASTOS'!$C70='RELACIÓN DE CONTRATOS'!$N$23:$N$165)=_xlfn.CONCAT(B70,C70),\"\")),\"revise eleccion\")","v":""}]
[{"$nulls":5},{"$f":"IFERROR(VLOOKUP(E71,Listados2!$R$2:$S$647,2,0),\"\")","v":""},{"$nulls":18},{"$f":"IF(AND(Tabla14[[#This Row],[Identifique el número, modo y fecha de los pagos relacionados]]=\"\",Tabla14[[#This Row],[Nº de factura]]<>\"\"),\"1\",\"2\")","v":"2"},null,{"$f":"IFERROR(IF(OR(AND('RELACIÓN DE GASTOS'!$B71=\"\",'RELACIÓN DE GASTOS'!$C71<>\"\"),AND('RELACIÓN DE GASTOS'!$C71=\"\",'RELACIÓN DE GASTOS'!$B71<>\"\")),\"Debe introducir un contrato y número de expediente registrado en la hoja RELACIÓN DE CONTRATOS; revise los datos introducidos\",IF(_xlfn._xlws.FILTER('RELACIÓN DE CONTRATOS'!$N$23:$N$165,'RELACIÓN DE GASTOS'!$B71&'RELACIÓN DE GASTOS'!$C71='RELACIÓN DE CONTRATOS'!$N$23:$N$165)=_xlfn.CONCAT(B71,C71),\"\")),\"revise eleccion\")","v":""}]
[{"$nulls":5},{"$f":"IFERROR(VLOOKUP(E72,Listados2!$R$2:$S$647,2,0),\"\")","v":""},{"$nulls":18},{"$f":"IF(AND(Tabla14[[#This Row],[Identifique el número, modo y fecha de los pagos relacionados]]=\"\",Tabla14[[#This Row],[Nº de factura]]<>\"\"),\"1\",\"2\")","v":"2"},null,{"$f":"IFERROR(IF(OR(AND('RELACIÓN DE GASTOS'!$B72=\"\",'RELACIÓN DE GASTOS'!$C72<>\"\"),AND('RELACIÓN DE GASTOS'!$C72=\"\",'RELACIÓN DE GASTOS'!$B72<>\"\")),\"Debe introducir un contrato y número de expediente registrado en la hoja RELACIÓN DE CONTRATOS; revise los datos introducidos\",IF(_xlfn._xlws.FILTER('RELACIÓN DE CONTRATOS'!$N$23:$N$165,'RELACIÓN DE GASTOS'!$B72&'RELACIÓN DE GASTOS'!$C72='RELACIÓN DE CONTRATOS'!$N$23:$N$165)=_xlfn.CONCAT(B72,C72),\"\")),\"revise eleccion\")","v":""}]
[{"$nulls":5},{"$f":"IFERROR(VLOOKUP(E73,Listados2!$R$2:$S$647,2,0),\"\")","v":""},{"$nulls":18},{"$f":"IF(AND(Tabla14[[#This Row],[Identifique el número, modo y fecha de los pagos relacionados]]=\"\",Tabla14[[#This Row],[Nº de factura]]<>\"\"),\"1\",\"2\")","v":"2"},null,{"$f":"IFERROR(IF(OR(AND('RELACIÓN DE GASTOS'!$B73=\"\",'RELACIÓN DE GASTOS'!$C73<>\"\"),AND('RELACIÓN DE GASTOS'!$C73=\"\",'RELACIÓN DE GASTOS'!$B73<>\"\")),\"Debe introducir un contrato y número de expediente registrado en la hoja RELACIÓN DE CONTRATOS; revise los datos introducidos\",IF(_xlfn._xlws.FILTER('RELACIÓN DE CONTRATOS'!$N$23:$N$165,'RELACIÓN DE GASTOS'!$B73&'RELACIÓN DE GASTOS'!$C73='RELACIÓN DE CONTRATOS'!$N$23:$N$165)=_xlfn.CONCAT(B73,C73),\"\")),\"revise eleccion\")","v":""}]
[{"$nulls":5},{"$f":"IFERROR(VLOOKUP(E74,Listados2!$R$2:$S$647,2,0),\"\")","v":""},{"$nulls":18},{"$f":"IF(AND(Tabla14[[#This Row],[Identifique el número, modo y fecha de los pagos relacionados]]=\"\",Tabla14[[#This Row],[Nº de factura]]<>\"\"),\"1\",\"2\")","v":"2"},null,{"$f":"IFERROR(IF(OR(AND('RELACIÓN DE GASTOS'!$B74=\"\",'RELACIÓN DE GASTOS'!$C74<>\"\"),AND('RELACIÓN DE GASTOS'!$C74=\"\",'RELACIÓN DE GASTOS'!$B74<>\"\")),\"Debe introducir un contrato y número de expediente registrado en la hoja RELACIÓN DE CONTRATOS; revise los datos introducidos\",IF(_xlfn._xlws.FILTER('RELACIÓN DE CONTRATOS'!$N$23:$N$165,'RELACIÓN DE GASTOS'!$B74&'RELACIÓN DE GASTOS'!$C74='RELACIÓN DE CONTRATOS'!$N$23:$N$165)=_xlfn.CONCAT(B74,C74),\"\")),\"revise eleccion\")","v":""}]
[{"$nulls":5},{"$f":"IFERROR(VLOOKUP(E75,Listados2!$R$2:$S$647,2,0),\"\")","v":""},{"$nulls":18},{"$f":"IF(AND(Tabla14[[#This Row],[Identifique el número, modo y fecha de los pagos relacionados]]=\"\",Tabla14[[#This Row],[Nº de factura]]<>\"\"),\"1\",\"2\")","v":"2"},null,{"$f":"IFERROR(IF(OR(AND('RELACIÓN DE GASTOS'!$B75=\"\",'RELACIÓN DE GASTOS'!$C75<>\"\"),AND('RELACIÓN DE GASTOS'!$C75=\"\",'RELACIÓN DE GASTOS'!$B75<>\"\")),\"Debe introducir un contrato y número de expediente registrado en la hoja RELACIÓN DE CONTRATOS; revise los datos introducidos\",IF(_xlfn._xlws.FILTER('RELACIÓN DE CONTRATOS'!$N$23:$N$165,'RELACIÓN DE GASTOS'!$B75&'RELACIÓN DE GASTOS'!$C75='RELACIÓN DE CONTRATOS'!$N$23:$N$165)=_xlfn.CONCAT(B75,C75),\"\")),\"revise eleccion\")","v":""}]
[{"$nulls":5},{"$f":"IFERROR(VLOOKUP(E76,Listados2!$R$2:$S$647,2,0),\"\")","v":""},{"$nulls":18},{"$f":"IF(AND(Tabla14[[#This Row],[Identifique el número, modo y fecha de los pagos relacionados]]=\"\",Tabla14[[#This Row],[Nº de factura]]<>\"\"),\"1\",\"2\")","v":"2"},null,{"$f":"IFERROR(IF(OR(AND('RELACIÓN DE GASTOS'!$B76=\"\",'RELACIÓN DE GASTOS'!$C76<>\"\"),AND('RELACIÓN DE GASTOS'!$C76=\"\",'RELACIÓN DE GASTOS'!$B76<>\"\")),\"Debe introducir un contrato y número de expediente registrado en la hoja RELACIÓN DE CONTRATOS; revise los datos introducidos\",IF(_xlfn._xlws.FILTER('RELACIÓN DE CONTRATOS'!$N$23:$N$165,'RELACIÓN DE GASTOS'!$B76&'RELACIÓN DE GASTOS'!$C76='RELACIÓN DE CONTRATOS'!$N$23:$N$165)=_xlfn.CONCAT(B76,C76),\"\")),\"revise eleccion\")","v":""}]
[{"$nulls":5},{"$f":"IFERROR(VLOOKUP(E77,Listados2!$R$2:$S$647,2,0),\"\")","v":""},{"$nulls":18},{"$f":"IF(AND(Tabla14[[#This Row],[Identifique el número, modo y fecha de los pagos relacionados]]=\"\",Tabla14[[#This Row],[Nº de factura]]<>\"\"),\"1\",\"2\")","v":"2"},null,{"$f":"IFERROR(IF(OR(AND('RELACIÓN DE GASTOS'!$B77=\"\",'RELACIÓN DE GASTOS'!$C77<>\"\"),AND('RELACIÓN DE GASTOS'!$C77=\"\",'RELACIÓN DE GASTOS'!$B77<>\"\")),\"Debe introducir un contrato y número de expediente registrado en la hoja RELACIÓN DE CONTRATOS; revise los datos introducidos\",IF(_xlfn._xlws.FILTER('RELACIÓN DE CONTRATOS'!$N$23:$N$165,'RELACIÓN DE GASTOS'!$B77&'RELACIÓN DE GASTOS'!$C77='RELACIÓN DE CONTRATOS'!$N$23:$N$165)=_xlfn.CONCAT(B77,C77),\"\")),\"revise eleccion\")","v":""}]
[{"$nulls":5},{"$f":"IFERROR(VLOOKUP(E78,Listados2!$R$2:$S$647,2,0),\"\")","v":""},{"$nulls":18},{"$f":"IF(AND(Tabla14[[#This Row],[Identifique el número, modo y fecha de los pagos relacionados]]=\"\",Tabla14[[#This Row],[Nº de factura]]<>\"\"),\"1\",\"2\")","v":"2"},null,{"$f":"IFERROR(IF(OR(AND('RELACIÓN DE GASTOS'!$B78=\"\",'RELACIÓN DE GASTOS'!$C78<>\"\"),AND('RELACIÓN DE GASTOS'!$C78=\"\",'RELACIÓN DE GASTOS'!$B78<>\"\")),\"Debe introducir un contrato y número de expediente registrado en la hoja RELACIÓN DE CONTRATOS; revise los datos introducidos\",IF(_xlfn._xlws.FILTER('RELACIÓN DE CONTRATOS'!$N$23:$N$165,'RELACIÓN DE GASTOS'!$B78&'RELACIÓN DE GASTOS'!$C78='RELACIÓN DE CONTRATOS'!$N$23:$N$165)=_xlfn.CONCAT(B78,C78),\"\")),\"revise eleccion\")","v":""}]
[{"$nulls":5},{"$f":"IFERROR(VLOOKUP(E79,Listados2!$R$2:$S$647,2,0),\"\")","v":""},{"$nulls":18},{"$f":"IF(AND(Tabla14[[#This Row],[Identifique el número, modo y fecha de los pagos relacionados]]=\"\",Tabla14[[#This Row],[Nº de factura]]<>\"\"),\"1\",\"2\")","v":"2"},null,{"$f":"IFERROR(IF(OR(AND('RELACIÓN DE GASTOS'!$B79=\"\",'RELACIÓN DE GASTOS'!$C79<>\"\"),AND('RELACIÓN DE GASTOS'!$C79=\"\",'RELACIÓN DE GASTOS'!$B79<>\"\")),\"Debe introducir un contrato y número de expediente registrado en la hoja RELACIÓN DE CONTRATOS; revise los datos introducidos\",IF(_xlfn._xlws.FILTER('RELACIÓN DE CONTRATOS'!$N$23:$N$165,'RELACIÓN DE GASTOS'!$B79&'RELACIÓN DE GASTOS'!$C79='RELACIÓN DE CONTRATOS'!$N$23:$N$165)=_xlfn.CONCAT(B79,C79),\"\")),\"revise eleccion\")","v":""}]
[{"$nulls":5},{"$f":"IFERROR(VLOOKUP(E80,Listados2!$R$2:$S$647,2,0),\"\")","v":""},{"$nulls":18},{"$f":"IF(AND(Tabla14[[#This Row],[Identifique el número, modo y fecha de los pagos relacionados]]=\"\",Tabla14[[#This Row],[Nº de factura]]<>\"\"),\"1\",\"2\")","v":"2"},null,{"$f":"IFERROR(IF(OR(AND('RELACIÓN DE GASTOS'!$B80=\"\",'RELACIÓN DE GASTOS'!$C80<>\"\"),AND('RELACIÓN DE GASTOS'!$C80=\"\",'RELACIÓN DE GASTOS'!$B80<>\"\")),\"Debe introducir un contrato y número de expediente registrado en la hoja RELACIÓN DE CONTRATOS; revise los datos introducidos\",IF(_xlfn._xlws.FILTER('RELACIÓN DE CONTRATOS'!$N$23:$N$165,'RELACIÓN DE GASTOS'!$B80&'RELACIÓN DE GASTOS'!$C80='RELACIÓN DE CONTRATOS'!$N$23:$N$165)=_xlfn.CONCAT(B80,C80),\"\")),\"revise eleccion\")","v":""}]
[{"$nulls":5},{"$f":"IFERROR(VLOOKUP(E81,Listados2!$R$2:$S$647,2,0),\"\")","v":""},{"$nulls":18},{"$f":"IF(AND(Tabla14[[#This Row],[Identifique el número, modo y fecha de los pagos relacionados]]=\"\",Tabla14[[#This Row],[Nº de factura]]<>\"\"),\"1\",\"2\")","v":"2"},null,{"$f":"IFERROR(IF(OR(AND('RELACIÓN DE GASTOS'!$B81=\"\",'RELACIÓN DE GASTOS'!$C81<>\"\"),AND('RELACIÓN DE GASTOS'!$C81=\"\",'RELACIÓN DE GASTOS'!$B81<>\"\")),\"Debe introducir un contrato y número de expediente registrado en la hoja RELACIÓN DE CONTRATOS; revise los datos introducidos\",IF(_xlfn._xlws.FILTER('RELACIÓN DE CONTRATOS'!$N$23:$N$165,'RELACIÓN DE GASTOS'!$B81&'RELACIÓN DE GASTOS'!$C81='RELACIÓN DE CONTRATOS'!$N$23:$N$165)=_xlfn.CONCAT(B81,C81),\"\")),\"revise eleccion\")","v":""}]
[{"$nulls":5},{"$f":"IFERROR(VLOOKUP(E82,Listados2!$R$2:$S$647,2,0),\"\")","v":""},{"$nulls":18},{"$f":"IF(AND(Tabla14[[#This Row],[Identifique el número, modo y fecha de los pagos relacionados]]=\"\",Tabla14[[#This Row],[Nº de factura]]<>\"\"),\"1\",\"2\")","v":"2"},null,{"$f":"IFERROR(IF(OR(AND('RELACIÓN DE GASTOS'!$B82=\"\",'RELACIÓN DE GASTOS'!$C82<>\"\"),AND('RELACIÓN DE GASTOS'!$C82=\"\",'RELACIÓN DE GASTOS'!$B82<>\"\")),\"Debe introducir un contrato y número de expediente registrado en la hoja RELACIÓN DE CONTRATOS; revise los datos introducidos\",IF(_xlfn._xlws.FILTER('RELACIÓN DE CONTRATOS'!$N$23:$N$165,'RELACIÓN DE GASTOS'!$B82&'RELACIÓN DE GASTOS'!$C82='RELACIÓN DE CONTRATOS'!$N$23:$N$165)=_xlfn.CONCAT(B82,C82),\"\")),\"revise eleccion\")","v":""}]
[{"$nulls":5},{"$f":"IFERROR(VLOOKUP(E83,Listados2!$R$2:$S$647,2,0),\"\")","v":""},{"$nulls":18},{"$f":"IF(AND(Tabla14[[#This Row],[Identifique el número, modo y fecha de los pagos relacionados]]=\"\",Tabla14[[#This Row],[Nº de factura]]<>\"\"),\"1\",\"2\")","v":"2"},null,{"$f":"IFERROR(IF(OR(AND('RELACIÓN DE GASTOS'!$B83=\"\",'RELACIÓN DE GASTOS'!$C83<>\"\"),AND('RELACIÓN DE GASTOS'!$C83=\"\",'RELACIÓN DE GASTOS'!$B83<>\"\")),\"Debe introducir un contrato y número de expediente registrado en la hoja RELACIÓN DE CONTRATOS; revise los datos introducidos\",IF(_xlfn._xlws.FILTER('RELACIÓN DE CONTRATOS'!$N$23:$N$165,'RELACIÓN DE GASTOS'!$B83&'RELACIÓN DE GASTOS'!$C83='RELACIÓN DE CONTRATOS'!$N$23:$N$165)=_xlfn.CONCAT(B83,C83),\"\")),\"revise eleccion\")","v":""}]
[{"$nulls":5},{"$f":"IFERROR(VLOOKUP(E84,Listados2!$R$2:$S$647,2,0),\"\")","v":""},{"$nulls":18},{"$f":"IF(AND(Tabla14[[#This Row],[Identifique el número, modo y fecha de los pagos relacionados]]=\"\",Tabla14[[#This Row],[Nº de factura]]<>\"\"),\"1\",\"2\")","v":"2"},null,{"$f":"IFERROR(IF(OR(AND('RELACIÓN DE GASTOS'!$B84=\"\",'RELACIÓN DE GASTOS'!$C84<>\"\"),AND('RELACIÓN DE GASTOS'!$C84=\"\",'RELACIÓN DE GASTOS'!$B84<>\"\")),\"Debe introducir un contrato y número de expediente registrado en la hoja RELACIÓN DE CONTRATOS; revise los datos introducidos\",IF(_xlfn._xlws.FILTER('RELACIÓN DE CONTRATOS'!$N$23:$N$165,'RELACIÓN DE GASTOS'!$B84&'RELACIÓN DE GASTOS'!$C84='RELACIÓN DE CONTRATOS'!$N$23:$N$165)=_xlfn.CONCAT(B84,C84),\"\")),\"revise eleccion\")","v":""}]
[{"$nulls":5},{"$f":"IFERROR(VLOOKUP(E85,Listados2!$R$2:$S$647,2,0),\"\")","v":""},{"$nulls":18},{"$f":"IF(AND(Tabla14[[#This Row],[Identifique el número, modo y fecha de los pagos relacionados]]=\"\",Tabla14[[#This Row],[Nº de factura]]<>\"\"),\"1\",\"2\")","v":"2"},null,{"$f":"IFERROR(IF(OR(AND('RELACIÓN DE GASTOS'!$B85=\"\",'RELACIÓN DE GASTOS'!$C85<>\"\"),AND('RELACIÓN DE GASTOS'!$C85=\"\",'RELACIÓN DE GASTOS'!$B85<>\"\")),\"Debe introducir un contrato y número de expediente registrado en la hoja RELACIÓN DE CONTRATOS; revise los datos introducidos\",IF(_xlfn._xlws.FILTER('RELACIÓN DE CONTRATOS'!$N$23:$N$165,'RELACIÓN DE GASTOS'!$B85&'RELACIÓN DE GASTOS'!$C85='RELACIÓN DE CONTRATOS'!$N$23:$N$165)=_xlfn.CONCAT(B85,C85),\"\")),\"revise eleccion\")","v":""}]
[{"$nulls":5},{"$f":"IFERROR(VLOOKUP(E86,Listados2!$R$2:$S$647,2,0),\"\")","v":""},{"$nulls":18},{"$f":"IF(AND(Tabla14[[#This Row],[Identifique el número, modo y fecha de los pagos relacionados]]=\"\",Tabla14[[#This Row],[Nº de factura]]<>\"\"),\"1\",\"2\")","v":"2"},null,{"$f":"IFERROR(IF(OR(AND('RELACIÓN DE GASTOS'!$B86=\"\",'RELACIÓN DE GASTOS'!$C86<>\"\"),AND('RELACIÓN DE GASTOS'!$C86=\"\",'RELACIÓN DE GASTOS'!$B86<>\"\")),\"Debe introducir un contrato y número de expediente registrado en la hoja RELACIÓN DE CONTRATOS; revise los datos introducidos\",IF(_xlfn._xlws.FILTER('RELACIÓN DE CONTRATOS'!$N$23:$N$165,'RELACIÓN DE GASTOS'!$B86&'RELACIÓN DE GASTOS'!$C86='RELACIÓN DE CONTRATOS'!$N$23:$N$165)=_xlfn.CONCAT(B86,C86),\"\")),\"revise eleccion\")","v":""}]
[{"$nulls":5},{"$f":"IFERROR(VLOOKUP(E87,Listados2!$R$2:$S$647,2,0),\"\")","v":""},{"$nulls":18},{"$f":"IF(AND(Tabla14[[#This Row],[Identifique el número, modo y fecha de los pagos relacionados]]=\"\",Tabla14[[#This Row],[Nº de factura]]<>\"\"),\"1\",\"2\")","v":"2"},null,{"$f":"IFERROR(IF(OR(AND('RELACIÓN DE GASTOS'!$B87=\"\",'RELACIÓN DE GASTOS'!$C87<>\"\"),AND('RELACIÓN DE GASTOS'!$C87=\"\",'RELACIÓN DE GASTOS'!$B87<>\"\")),\"Debe introducir un contrato y número de expediente registrado en la hoja RELACIÓN DE CONTRATOS; revise los datos introducidos\",IF(_xlfn._xlws.FILTER('RELACIÓN DE CONTRATOS'!$N$23:$N$165,'RELACIÓN DE GASTOS'!$B87&'RELACIÓN DE GASTOS'!$C87='RELACIÓN DE CONTRATOS'!$N$23:$N$165)=_xlfn.CONCAT(B87,C87),\"\")),\"revise eleccion\")","v":""}]
[{"$nulls":5},{"$f":"IFERROR(VLOOKUP(E88,Listados2!$R$2:$S$647,2,0),\"\")","v":""},{"$nulls":18},{"$f":"IF(AND(Tabla14[[#This Row],[Identifique el número, modo y fecha de los pagos relacionados]]=\"\",Tabla14[[#This Row],[Nº de factura]]<>\"\"),\"1\",\"2\")","v":"2"},null,{"$f":"IFERROR(IF(OR(AND('RELACIÓN DE GASTOS'!$B88=\"\",'RELACIÓN DE GASTOS'!$C88<>\"\"),AND('RELACIÓN DE GASTOS'!$C88=\"\",'RELACIÓN DE GASTOS'!$B88<>\"\")),\"Debe introducir un contrato y número de expediente registrado en la hoja RELACIÓN DE CONTRATOS; revise los datos introducidos\",IF(_xlfn._xlws.FILTER('RELACIÓN DE CONTRATOS'!$N$23:$N$165,'RELACIÓN DE GASTOS'!$B88&'RELACIÓN DE GASTOS'!$C88='RELACIÓN DE CONTRATOS'!$N$23:$N$165)=_xlfn.CONCAT(B88,C88),\"\")),\"revise eleccion\")","v":""}]
[{"$nulls":5},{"$f":"IFERROR(VLOOKUP(E89,Listados2!$R$2:$S$647,2,0),\"\")","v":""},{"$nulls":18},{"$f":"IF(AND(Tabla14[[#This Row],[Identifique el número, modo y fecha de los pagos relacionados]]=\"\",Tabla14[[#This Row],[Nº de factura]]<>\"\"),\"1\",\"2\")","v":"2"},null,{"$f":"IFERROR(IF(OR(AND('RELACIÓN DE GASTOS'!$B89=\"\",'RELACIÓN DE GASTOS'!$C89<>\"\"),AND('RELACIÓN DE GASTOS'!$C89=\"\",'RELACIÓN DE GASTOS'!$B89<>\"\")),\"Debe introducir un contrato y número de expediente registrado en la hoja RELACIÓN DE CONTRATOS; revise los datos introducidos\",IF(_xlfn._xlws.FILTER('RELACIÓN DE CONTRATOS'!$N$23:$N$165,'RELACIÓN DE GASTOS'!$B89&'RELACIÓN DE GASTOS'!$C89='RELACIÓN DE CONTRATOS'!$N$23:$N$165)=_xlfn.CONCAT(B89,C89),\"\")),\"revise eleccion\")","v":""}]
[{"$nulls":5},{"$f":"IFERROR(VLOOKUP(E90,Listados2!$R$2:$S$647,2,0),\"\")","v":""},{"$nulls":18},{"$f":"IF(AND(Tabla14[[#This Row],[Identifique el número, modo y fecha de los pagos relacionados]]=\"\",Tabla14[[#This Row],[Nº de factura]]<>\"\"),\"1\",\"2\")","v":"2"},null,{"$f":"IFERROR(IF(OR(AND('RELACIÓN DE GASTOS'!$B90=\"\",'RELACIÓN DE GASTOS'!$C90<>\"\"),AND('RELACIÓN DE GASTOS'!$C90=\"\",'RELACIÓN DE GASTOS'!$B90<>\"\")),\"Debe introducir un contrato y número de expediente registrado en la hoja RELACIÓN DE CONTRATOS; revise los datos introducidos\",IF(_xlfn._xlws.FILTER('RELACIÓN DE CONTRATOS'!$N$23:$N$165,'RELACIÓN DE GASTOS'!$B90&'RELACIÓN DE GASTOS'!$C90='RELACIÓN DE CONTRATOS'!$N$23:$N$165)=_xlfn.CONCAT(B90,C90),\"\")),\"revise eleccion\")","v":""}]
[{"$nulls":5},{"$f":"IFERROR(VLOOKUP(E91,Listados2!$R$2:$S$647,2,0),\"\")","v":""},{"$nulls":18},{"$f":"IF(AND(Tabla14[[#This Row],[Identifique el número, modo y fecha de los pagos relacionados]]=\"\",Tabla14[[#This Row],[Nº de factura]]<>\"\"),\"1\",\"2\")","v":"2"},null,{"$f":"IFERROR(IF(OR(AND('RELACIÓN DE GASTOS'!$B91=\"\",'RELACIÓN DE GASTOS'!$C91<>\"\"),AND('RELACIÓN DE GASTOS'!$C91=\"\",'RELACIÓN DE GASTOS'!$B91<>\"\")),\"Debe introducir un contrato y número de expediente registrado en la hoja RELACIÓN DE CONTRATOS; revise los datos introducidos\",IF(_xlfn._xlws.FILTER('RELACIÓN DE CONTRATOS'!$N$23:$N$165,'RELACIÓN DE GASTOS'!$B91&'RELACIÓN DE GASTOS'!$C91='RELACIÓN DE CONTRATOS'!$N$23:$N$165)=_xlfn.CONCAT(B91,C91),\"\")),\"revise eleccion\")","v":""}]
[{"$nulls":5},{"$f":"IFERROR(VLOOKUP(E92,Listados2!$R$2:$S$647,2,0),\"\")","v":""},{"$nulls":18},{"$f":"IF(AND(Tabla14[[#This Row],[Identifique el número, modo y fecha de los pagos relacionados]]=\"\",Tabla14[[#This Row],[Nº de factura]]<>\"\"),\"1\",\"2\")","v":"2"},null,{"$f":"IFERROR(IF(OR(AND('RELACIÓN DE GASTOS'!$B92=\"\",'RELACIÓN DE GASTOS'!$C92<>\"\"),AND('RELACIÓN DE GASTOS'!$C92=\"\",'RELACIÓN DE GASTOS'!$B92<>\"\")),\"Debe introducir un contrato y número de expediente registrado en la hoja RELACIÓN DE CONTRATOS; revise los datos introducidos\",IF(_xlfn._xlws.FILTER('RELACIÓN DE CONTRATOS'!$N$23:$N$165,'RELACIÓN DE GASTOS'!$B92&'RELACIÓN DE GASTOS'!$C92='RELACIÓN DE CONTRATOS'!$N$23:$N$165)=_xlfn.CONCAT(B92,C92),\"\")),\"revise eleccion\")","v":""}]
[{"$nulls":5},{"$f":"IFERROR(VLOOKUP(E93,Listados2!$R$2:$S$647,2,0),\"\")","v":""},{"$nulls":18},{"$f":"IF(AND(Tabla14[[#This Row],[Identifique el número, modo y fecha de los pagos relacionados]]=\"\",Tabla14[[#This Row],[Nº de factura]]<>\"\"),\"1\",\"2\")","v":"2"},null,{"$f":"IFERROR(IF(OR(AND('RELACIÓN DE GASTOS'!$B93=\"\",'RELACIÓN DE GASTOS'!$C93<>\"\"),AND('RELACIÓN DE GASTOS'!$C93=\"\",'RELACIÓN DE GASTOS'!$B93<>\"\")),\"Debe introducir un contrato y número de expediente registrado en la hoja RELACIÓN DE CONTRATOS; revise los datos introducidos\",IF(_xlfn._xlws.FILTER('RELACIÓN DE CONTRATOS'!$N$23:$N$165,'RELACIÓN DE GASTOS'!$B93&'RELACIÓN DE GASTOS'!$C93='RELACIÓN DE CONTRATOS'!$N$23:$N$165)=_xlfn.CONCAT(B93,C93),\"\")),\"revise eleccion\")","v":""}]
[{"$nulls":5},{"$f":"IFERROR(VLOOKUP(E94,Listados2!$R$2:$S$647,2,0),\"\")","v":""},{"$nulls":18},{"$f":"IF(AND(Tabla14[[#This Row],[Identifique el número, modo y fecha de los pagos relacionados]]=\"\",Tabla14[[#This Row],[Nº de factura]]<>\"\"),\"1\",\"2\")","v":"2"},null,{"$f":"IFERROR(IF(OR(AND('RELACIÓN DE GASTOS'!$B94=\"\",'RELACIÓN DE GASTOS'!$C94<>\"\"),AND('RELACIÓN DE GASTOS'!$C94=\"\",'RELACIÓN DE GASTOS'!$B94<>\"\")),\"Debe introducir un contrato y número de expediente registrado en la hoja RELACIÓN DE CONTRATOS; revise los datos introducidos\",IF(_xlfn._xlws.FILTER('RELACIÓN DE CONTRATOS'!$N$23:$N$165,'RELACIÓN DE GASTOS'!$B94&'RELACIÓN DE GASTOS'!$C94='RELACIÓN DE CONTRATOS'!$N$23:$N$165)=_xlfn.CONCAT(B94,C94),\"\")),\"revise eleccion\")","v":""}]
[{"$nulls":5},{"$f":"IFERROR(VLOOKUP(E95,Listados2!$R$2:$S$647,2,0),\"\")","v":""},{"$nulls":18},{"$f":"IF(AND(Tabla14[[#This Row],[Identifique el número, modo y fecha de los pagos relacionados]]=\"\",Tabla14[[#This Row],[Nº de factura]]<>\"\"),\"1\",\"2\")","v":"2"},null,{"$f":"IFERROR(IF(OR(AND('RELACIÓN DE GASTOS'!$B95=\"\",'RELACIÓN DE GASTOS'!$C95<>\"\"),AND('RELACIÓN DE GASTOS'!$C95=\"\",'RELACIÓN DE GASTOS'!$B95<>\"\")),\"Debe introducir un contrato y número de expediente registrado en la hoja RELACIÓN DE CONTRATOS; revise los datos introducidos\",IF(_xlfn._xlws.FILTER('RELACIÓN DE CONTRATOS'!$N$23:$N$165,'RELACIÓN DE GASTOS'!$B95&'RELACIÓN DE GASTOS'!$C95='RELACIÓN DE CONTRATOS'!$N$23:$N$165)=_xlfn.CONCAT(B95,C95),\"\")),\"revise eleccion\")","v":""}]
[{"$nulls":5},{"$f":"IFERROR(VLOOKUP(E96,Listados2!$R$2:$S$647,2,0),\"\")","v":""},{"$nulls":18},{"$f":"IF(AND(Tabla14[[#This Row],[Identifique el número, modo y fecha de los pagos relacionados]]=\"\",Tabla14[[#This Row],[Nº de factura]]<>\"\"),\"1\",\"2\")","v":"2"},null,{"$f":"IFERROR(IF(OR(AND('RELACIÓN DE GASTOS'!$B96=\"\",'RELACIÓN DE GASTOS'!$C96<>\"\"),AND('RELACIÓN DE GASTOS'!$C96=\"\",'RELACIÓN DE GASTOS'!$B96<>\"\")),\"Debe introducir un contrato y número de expediente registrado en la hoja RELACIÓN DE CONTRATOS; revise los datos introducidos\",IF(_xlfn._xlws.FILTER('RELACIÓN DE CONTRATOS'!$N$23:$N$165,'RELACIÓN DE GASTOS'!$B96&'RELACIÓN DE GASTOS'!$C96='RELACIÓN DE CONTRATOS'!$N$23:$N$165)=_xlfn.CONCAT(B96,C96),\"\")),\"revise eleccion\")","v":""}]
[{"$nulls":5},{"$f":"IFERROR(VLOOKUP(E97,Listados2!$R$2:$S$647,2,0),\"\")","v":""},{"$nulls":18},{"$f":"IF(AND(Tabla14[[#This Row],[Identifique el número, modo y fecha de los pagos relacionados]]=\"\",Tabla14[[#This Row],[Nº de factura]]<>\"\"),\"1\",\"2\")","v":"2"},null,{"$f":"IFERROR(IF(OR(AND('RELACIÓN DE GASTOS'!$B97=\"\",'RELACIÓN DE GASTOS'!$C97<>\"\"),AND('RELACIÓN DE GASTOS'!$C97=\"\",'RELACIÓN DE GASTOS'!$B97<>\"\")),\"Debe introducir un contrato y número de expediente registrado en la hoja RELACIÓN DE CONTRATOS; revise los datos introducidos\",IF(_xlfn._xlws.FILTER('RELACIÓN DE CONTRATOS'!$N$23:$N$165,'RELACIÓN DE GASTOS'!$B97&'RELACIÓN DE GASTOS'!$C97='RELACIÓN DE CONTRATOS'!$N$23:$N$165)=_xlfn.CONCAT(B97,C97),\"\")),\"revise eleccion\")","v":""}]
[{"$nulls":5},{"$f":"IFERROR(VLOOKUP(E98,Listados2!$R$2:$S$647,2,0),\"\")","v":""},{"$nulls":18},{"$f":"IF(AND(Tabla14[[#This Row],[Identifique el número, modo y fecha de los pagos relacionados]]=\"\",Tabla14[[#This Row],[Nº de factura]]<>\"\"),\"1\",\"2\")","v":"2"},null,{"$f":"IFERROR(IF(OR(AND('RELACIÓN DE GASTOS'!$B98=\"\",'RELACIÓN DE GASTOS'!$C98<>\"\"),AND('RELACIÓN DE GASTOS'!$C98=\"\",'RELACIÓN DE GASTOS'!$B98<>\"\")),\"Debe introducir un contrato y número de expediente registrado en la hoja RELACIÓN DE CONTRATOS; revise los datos introducidos\",IF(_xlfn._xlws.FILTER('RELACIÓN DE CONTRATOS'!$N$23:$N$165,'RELACIÓN DE GASTOS'!$B98&'RELACIÓN DE GASTOS'!$C98='RELACIÓN DE CONTRATOS'!$N$23:$N$165)=_xlfn.CONCAT(B98,C98),\"\")),\"revise eleccion\")","v":""}]
[{"$nulls":5},{"$f":"IFERROR(VLOOKUP(E99,Listados2!$R$2:$S$647,2,0),\"\")","v":""},{"$nulls":18},{"$f":"IF(AND(Tabla14[[#This Row],[Identifique el número, modo y fecha de los pagos relacionados]]=\"\",Tabla14[[#This Row],[Nº de factura]]<>\"\"),\"1\",\"2\")","v":"2"},null,{"$f":"IFERROR(IF(OR(AND('RELACIÓN DE GASTOS'!$B99=\"\",'RELACIÓN DE GASTOS'!$C99<>\"\"),AND('RELACIÓN DE GASTOS'!$C99=\"\",'RELACIÓN DE GASTOS'!$B99<>\"\")),\"Debe introducir un contrato y número de expediente registrado en la hoja RELACIÓN DE CONTRATOS; revise los datos introducidos\",IF(_xlfn._xlws.FILTER('RELACIÓN DE CONTRATOS'!$N$23:$N$165,'RELACIÓN DE GASTOS'!$B99&'RELACIÓN DE GASTOS'!$C99='RELACIÓN DE CONTRATOS'!$N$23:$N$165)=_xlfn.CONCAT(B99,C99),\"\")),\"revise eleccion\")","v":""}]
[{"$nulls":5},{"$f":"IFERROR(VLOOKUP(E100,Listados2!$R$2:$S$647,2,0),\"\")","v":""},{"$nulls":18},{"$f":"IF(AND(Tabla14[[#This Row],[Identifique el número, modo y fecha de los pagos relacionados]]=\"\",Tabla14[[#This Row],[Nº de factura]]<>\"\"),\"1\",\"2\")","v":"2"},null,{"$f":"IFERROR(IF(OR(AND('RELACIÓN DE GASTOS'!$B100=\"\",'RELACIÓN DE GASTOS'!$C100<>\"\"),AND('RELACIÓN DE GASTOS'!$C100=\"\",'RELACIÓN DE GASTOS'!$B100<>\"\")),\"Debe introducir un contrato y número de expediente registrado en la hoja RELACIÓN DE CONTRATOS; revise los datos introducidos\",IF(_xlfn._xlws.FILTER('RELACIÓN DE CONTRATOS'!$N$23:$N$165,'RELACIÓN DE GASTOS'!$B100&'RELACIÓN DE GASTOS'!$C100='RELACIÓN DE CONTRATOS'!$N$23:$N$165)=_xlfn.CONCAT(B100,C100),\"\")),\"revise eleccion\")","v":""}]
[{"$nulls":5},{"$f":"IFERROR(VLOOKUP(E101,Listados2!$R$2:$S$647,2,0),\"\")","v":""},{"$nulls":18},{"$f":"IF(AND(Tabla14[[#This Row],[Identifique el número, modo y fecha de los pagos relacionados]]=\"\",Tabla14[[#This Row],[Nº de factura]]<>\"\"),\"1\",\"2\")","v":"2"},null,{"$f":"IFERROR(IF(OR(AND('RELACIÓN DE GASTOS'!$B101=\"\",'RELACIÓN DE GASTOS'!$C101<>\"\"),AND('RELACIÓN DE GASTOS'!$C101=\"\",'RELACIÓN DE GASTOS'!$B101<>\"\")),\"Debe introducir un contrato y número de expediente registrado en la hoja RELACIÓN DE CONTRATOS; revise los datos introducidos\",IF(_xlfn._xlws.FILTER('RELACIÓN DE CONTRATOS'!$N$23:$N$165,'RELACIÓN DE GASTOS'!$B101&'RELACIÓN DE GASTOS'!$C101='RELACIÓN DE CONTRATOS'!$N$23:$N$165)=_xlfn.CONCAT(B101,C101),\"\")),\"revise eleccion\")","v":""}]
[{"$nulls":5},{"$f":"IFERROR(VLOOKUP(E102,Listados2!$R$2:$S$647,2,0),\"\")","v":""},{"$nulls":18},{"$f":"IF(AND(Tabla14[[#This Row],[Identifique el número, modo y fecha de los pagos relacionados]]=\"\",Tabla14[[#This Row],[Nº de factura]]<>\"\"),\"1\",\"2\")","v":"2"},null,{"$f":"IFERROR(IF(OR(AND('RELACIÓN DE GASTOS'!$B102=\"\",'RELACIÓN DE GASTOS'!$C102<>\"\"),AND('RELACIÓN DE GASTOS'!$C102=\"\",'RELACIÓN DE GASTOS'!$B102<>\"\")),\"Debe introducir un contrato y número de expediente registrado en la hoja RELACIÓN DE CONTRATOS; revise los datos introducidos\",IF(_xlfn._xlws.FILTER('RELACIÓN DE CONTRATOS'!$N$23:$N$165,'RELACIÓN DE GASTOS'!$B102&'RELACIÓN DE GASTOS'!$C102='RELACIÓN DE CONTRATOS'!$N$23:$N$165)=_xlfn.CONCAT(B102,C102),\"\")),\"revise eleccion\")","v":""}]
[{"$nulls":5},{"$f":"IFERROR(VLOOKUP(E103,Listados2!$R$2:$S$647,2,0),\"\")","v":""},{"$nulls":18},{"$f":"IF(AND(Tabla14[[#This Row],[Identifique el número, modo y fecha de los pagos relacionados]]=\"\",Tabla14[[#This Row],[Nº de factura]]<>\"\"),\"1\",\"2\")","v":"2"},null,{"$f":"IFERROR(IF(OR(AND('RELACIÓN DE GASTOS'!$B103=\"\",'RELACIÓN DE GASTOS'!$C103<>\"\"),AND('RELACIÓN DE GASTOS'!$C103=\"\",'RELACIÓN DE GASTOS'!$B103<>\"\")),\"Debe introducir un contrato y número de expediente registrado en la hoja RELACIÓN DE CONTRATOS; revise los datos introducidos\",IF(_xlfn._xlws.FILTER('RELACIÓN DE CONTRATOS'!$N$23:$N$165,'RELACIÓN DE GASTOS'!$B103&'RELACIÓN DE GASTOS'!$C103='RELACIÓN DE CONTRATOS'!$N$23:$N$165)=_xlfn.CONCAT(B103,C103),\"\")),\"revise eleccion\")","v":""}]
[{"$nulls":5},{"$f":"IFERROR(VLOOKUP(E104,Listados2!$R$2:$S$647,2,0),\"\")","v":""},{"$nulls":18},{"$f":"IF(AND(Tabla14[[#This Row],[Identifique el número, modo y fecha de los pagos relacionados]]=\"\",Tabla14[[#This Row],[Nº de factura]]<>\"\"),\"1\",\"2\")","v":"2"},null,{"$f":"IFERROR(IF(OR(AND('RELACIÓN DE GASTOS'!$B104=\"\",'RELACIÓN DE GASTOS'!$C104<>\"\"),AND('RELACIÓN DE GASTOS'!$C104=\"\",'RELACIÓN DE GASTOS'!$B104<>\"\")),\"Debe introducir un contrato y número de expediente registrado en la hoja RELACIÓN DE CONTRATOS; revise los datos introducidos\",IF(_xlfn._xlws.FILTER('RELACIÓN DE CONTRATOS'!$N$23:$N$165,'RELACIÓN DE GASTOS'!$B104&'RELACIÓN DE GASTOS'!$C104='RELACIÓN DE CONTRATOS'!$N$23:$N$165)=_xlfn.CONCAT(B104,C104),\"\")),\"revise eleccion\")","v":""}]
[{"$nulls":5},{"$f":"IFERROR(VLOOKUP(E105,Listados2!$R$2:$S$647,2,0),\"\")","v":""},{"$nulls":18},{"$f":"IF(AND(Tabla14[[#This Row],[Identifique el número, modo y fecha de los pagos relacionados]]=\"\",Tabla14[[#This Row],[Nº de factura]]<>\"\"),\"1\",\"2\")","v":"2"},null,{"$f":"IFERROR(IF(OR(AND('RELACIÓN DE GASTOS'!$B105=\"\",'RELACIÓN DE GASTOS'!$C105<>\"\"),AND('RELACIÓN DE GASTOS'!$C105=\"\",'RELACIÓN DE GASTOS'!$B105<>\"\")),\"Debe introducir un contrato y número de expediente registrado en la hoja RELACIÓN DE CONTRATOS; revise los datos introducidos\",IF(_xlfn._xlws.FILTER('RELACIÓN DE CONTRATOS'!$N$23:$N$165,'RELACIÓN DE GASTOS'!$B105&'RELACIÓN DE GASTOS'!$C105='RELACIÓN DE CONTRATOS'!$N$23:$N$165)=_xlfn.CONCAT(B105,C105),\"\")),\"revise eleccion\")","v":""}]
[{"$nulls":5},{"$f":"IFERROR(VLOOKUP(E106,Listados2!$R$2:$S$647,2,0),\"\")","v":""},{"$nulls":18},{"$f":"IF(AND(Tabla14[[#This Row],[Identifique el número, modo y fecha de los pagos relacionados]]=\"\",Tabla14[[#This Row],[Nº de factura]]<>\"\"),\"1\",\"2\")","v":"2"},null,{"$f":"IFERROR(IF(OR(AND('RELACIÓN DE GASTOS'!$B106=\"\",'RELACIÓN DE GASTOS'!$C106<>\"\"),AND('RELACIÓN DE GASTOS'!$C106=\"\",'RELACIÓN DE GASTOS'!$B106<>\"\")),\"Debe introducir un contrato y número de expediente registrado en la hoja RELACIÓN DE CONTRATOS; revise los datos introducidos\",IF(_xlfn._xlws.FILTER('RELACIÓN DE CONTRATOS'!$N$23:$N$165,'RELACIÓN DE GASTOS'!$B106&'RELACIÓN DE GASTOS'!$C106='RELACIÓN DE CONTRATOS'!$N$23:$N$165)=_xlfn.CONCAT(B106,C106),\"\")),\"revise eleccion\")","v":""}]
[{"$nulls":5},{"$f":"IFERROR(VLOOKUP(E107,Listados2!$R$2:$S$647,2,0),\"\")","v":""},{"$nulls":18},{"$f":"IF(AND(Tabla14[[#This Row],[Identifique el número, modo y fecha de los pagos relacionados]]=\"\",Tabla14[[#This Row],[Nº de factura]]<>\"\"),\"1\",\"2\")","v":"2"},null,{"$f":"IFERROR(IF(OR(AND('RELACIÓN DE GASTOS'!$B107=\"\",'RELACIÓN DE GASTOS'!$C107<>\"\"),AND('RELACIÓN DE GASTOS'!$C107=\"\",'RELACIÓN DE GASTOS'!$B107<>\"\")),\"Debe introducir un contrato y número de expediente registrado en la hoja RELACIÓN DE CONTRATOS; revise los datos introducidos\",IF(_xlfn._xlws.FILTER('RELACIÓN DE CONTRATOS'!$N$23:$N$165,'RELACIÓN DE GASTOS'!$B107&'RELACIÓN DE GASTOS'!$C107='RELACIÓN DE CONTRATOS'!$N$23:$N$165)=_xlfn.CONCAT(B107,C107),\"\")),\"revise eleccion\")","v":""}]
[{"$nulls":5},{"$f":"IFERROR(VLOOKUP(E108,Listados2!$R$2:$S$647,2,0),\"\")","v":""},{"$nulls":18},{"$f":"IF(AND(Tabla14[[#This Row],[Identifique el número, modo y fecha de los pagos relacionados]]=\"\",Tabla14[[#This Row],[Nº de factura]]<>\"\"),\"1\",\"2\")","v":"2"},null,{"$f":"IFERROR(IF(OR(AND('RELACIÓN DE GASTOS'!$B108=\"\",'RELACIÓN DE GASTOS'!$C108<>\"\"),AND('RELACIÓN DE GASTOS'!$C108=\"\",'RELACIÓN DE GASTOS'!$B108<>\"\")),\"Debe introducir un contrato y número de expediente registrado en la hoja RELACIÓN DE CONTRATOS; revise los datos introducidos\",IF(_xlfn._xlws.FILTER('RELACIÓN DE CONTRATOS'!$N$23:$N$165,'RELACIÓN DE GASTOS'!$B108&'RELACIÓN DE GASTOS'!$C108='RELACIÓN DE CONTRATOS'!$N$23:$N$165)=_xlfn.CONCAT(B108,C108),\"\")),\"revise eleccion\")","v":""}]
[{"$nulls":5},{"$f":"IFERROR(VLOOKUP(E109,Listados2!$R$2:$S$647,2,0),\"\")","v":""},{"$nulls":18},{"$f":"IF(AND(Tabla14[[#This Row],[Identifique el número, modo y fecha de los pagos relacionados]]=\"\",Tabla14[[#This Row],[Nº de factura]]<>\"\"),\"1\",\"2\")","v":"2"},null,{"$f":"IFERROR(IF(OR(AND('RELACIÓN DE GASTOS'!$B109=\"\",'RELACIÓN DE GASTOS'!$C109<>\"\"),AND('RELACIÓN DE GASTOS'!$C109=\"\",'RELACIÓN DE GASTOS'!$B109<>\"\")),\"Debe introducir un contrato y número de expediente registrado en la hoja RELACIÓN DE CONTRATOS; revise los datos introducidos\",IF(_xlfn._xlws.FILTER('RELACIÓN DE CONTRATOS'!$N$23:$N$165,'RELACIÓN DE GASTOS'!$B109&'RELACIÓN DE GASTOS'!$C109='RELACIÓN DE CONTRATOS'!$N$23:$N$165)=_xlfn.CONCAT(B109,C109),\"\")),\"revise eleccion\")","v":""}]
[{"$nulls":5},{"$f":"IFERROR(VLOOKUP(E110,Listados2!$R$2:$S$647,2,0),\"\")","v":""},{"$nulls":18},{"$f":"IF(AND(Tabla14[[#This Row],[Identifique el número, modo y fecha de los pagos relacionados]]=\"\",Tabla14[[#This Row],[Nº de factura]]<>\"\"),\"1\",\"2\")","v":"2"},null,{"$f":"IFERROR(IF(OR(AND('RELACIÓN DE GASTOS'!$B110=\"\",'RELACIÓN DE GASTOS'!$C110<>\"\"),AND('RELACIÓN DE GASTOS'!$C110=\"\",'RELACIÓN DE GASTOS'!$B110<>\"\")),\"Debe introducir un contrato y número de expediente registrado en la hoja RELACIÓN DE CONTRATOS; revise los datos introducidos\",IF(_xlfn._xlws.FILTER('RELACIÓN DE CONTRATOS'!$N$23:$N$165,'RELACIÓN DE GASTOS'!$B110&'RELACIÓN DE GASTOS'!$C110='RELACIÓN DE CONTRATOS'!$N$23:$N$165)=_xlfn.CONCAT(B110,C110),\"\")),\"revise eleccion\")","v":""}]
[{"$nulls":5},{"$f":"IFERROR(VLOOKUP(E111,Listados2!$R$2:$S$647,2,0),\"\")","v":""},{"$nulls":18},{"$f":"IF(AND(Tabla14[[#This Row],[Identifique el número, modo y fecha de los pagos relacionados]]=\"\",Tabla14[[#This Row],[Nº de factura]]<>\"\"),\"1\",\"2\")","v":"2"},null,{"$f":"IFERROR(IF(OR(AND('RELACIÓN DE GASTOS'!$B111=\"\",'RELACIÓN DE GASTOS'!$C111<>\"\"),AND('RELACIÓN DE GASTOS'!$C111=\"\",'RELACIÓN DE GASTOS'!$B111<>\"\")),\"Debe introducir un contrato y número de expediente registrado en la hoja RELACIÓN DE CONTRATOS; revise los datos introducidos\",IF(_xlfn._xlws.FILTER('RELACIÓN DE CONTRATOS'!$N$23:$N$165,'RELACIÓN DE GASTOS'!$B111&'RELACIÓN DE GASTOS'!$C111='RELACIÓN DE CONTRATOS'!$N$23:$N$165)=_xlfn.CONCAT(B111,C111),\"\")),\"revise eleccion\")","v":""}]
[{"$nulls":5},{"$f":"IFERROR(VLOOKUP(E112,Listados2!$R$2:$S$647,2,0),\"\")","v":""},{"$nulls":18},{"$f":"IF(AND(Tabla14[[#This Row],[Identifique el número, modo y fecha de los pagos relacionados]]=\"\",Tabla14[[#This Row],[Nº de factura]]<>\"\"),\"1\",\"2\")","v":"2"},null,{"$f":"IFERROR(IF(OR(AND('RELACIÓN DE GASTOS'!$B112=\"\",'RELACIÓN DE GASTOS'!$C112<>\"\"),AND('RELACIÓN DE GASTOS'!$C112=\"\",'RELACIÓN DE GASTOS'!$B112<>\"\")),\"Debe introducir un contrato y número de expediente registrado en la hoja RELACIÓN DE CONTRATOS; revise los datos introducidos\",IF(_xlfn._xlws.FILTER('RELACIÓN DE CONTRATOS'!$N$23:$N$165,'RELACIÓN DE GASTOS'!$B112&'RELACIÓN DE GASTOS'!$C112='RELACIÓN DE CONTRATOS'!$N$23:$N$165)=_xlfn.CONCAT(B112,C112),\"\")),\"revise eleccion\")","v":""}]
[{"$nulls":5},{"$f":"IFERROR(VLOOKUP(E113,Listados2!$R$2:$S$647,2,0),\"\")","v":""},{"$nulls":18},{"$f":"IF(AND(Tabla14[[#This Row],[Identifique el número, modo y fecha de los pagos relacionados]]=\"\",Tabla14[[#This Row],[Nº de factura]]<>\"\"),\"1\",\"2\")","v":"2"},null,{"$f":"IFERROR(IF(OR(AND('RELACIÓN DE GASTOS'!$B113=\"\",'RELACIÓN DE GASTOS'!$C113<>\"\"),AND('RELACIÓN DE GASTOS'!$C113=\"\",'RELACIÓN DE GASTOS'!$B113<>\"\")),\"Debe introducir un contrato y número de expediente registrado en la hoja RELACIÓN DE CONTRATOS; revise los datos introducidos\",IF(_xlfn._xlws.FILTER('RELACIÓN DE CONTRATOS'!$N$23:$N$165,'RELACIÓN DE GASTOS'!$B113&'RELACIÓN DE GASTOS'!$C113='RELACIÓN DE CONTRATOS'!$N$23:$N$165)=_xlfn.CONCAT(B113,C113),\"\")),\"revise eleccion\")","v":""}]
[{"$nulls":5},{"$f":"IFERROR(VLOOKUP(E114,Listados2!$R$2:$S$647,2,0),\"\")","v":""},{"$nulls":18},{"$f":"IF(AND(Tabla14[[#This Row],[Identifique el número, modo y fecha de los pagos relacionados]]=\"\",Tabla14[[#This Row],[Nº de factura]]<>\"\"),\"1\",\"2\")","v":"2"},null,{"$f":"IFERROR(IF(OR(AND('RELACIÓN DE GASTOS'!$B114=\"\",'RELACIÓN DE GASTOS'!$C114<>\"\"),AND('RELACIÓN DE GASTOS'!$C114=\"\",'RELACIÓN DE GASTOS'!$B114<>\"\")),\"Debe introducir un contrato y número de expediente registrado en la hoja RELACIÓN DE CONTRATOS; revise los datos introducidos\",IF(_xlfn._xlws.FILTER('RELACIÓN DE CONTRATOS'!$N$23:$N$165,'RELACIÓN DE GASTOS'!$B114&'RELACIÓN DE GASTOS'!$C114='RELACIÓN DE CONTRATOS'!$N$23:$N$165)=_xlfn.CONCAT(B114,C114),\"\")),\"revise eleccion\")","v":""}]
[{"$nulls":5},{"$f":"IFERROR(VLOOKUP(E115,Listados2!$R$2:$S$647,2,0),\"\")","v":""},{"$nulls":18},{"$f":"IF(AND(Tabla14[[#This Row],[Identifique el número, modo y fecha de los pagos relacionados]]=\"\",Tabla14[[#This Row],[Nº de factura]]<>\"\"),\"1\",\"2\")","v":"2"},null,{"$f":"IFERROR(IF(OR(AND('RELACIÓN DE GASTOS'!$B115=\"\",'RELACIÓN DE GASTOS'!$C115<>\"\"),AND('RELACIÓN DE GASTOS'!$C115=\"\",'RELACIÓN DE GASTOS'!$B115<>\"\")),\"Debe introducir un contrato y número de expediente registrado en la hoja RELACIÓN DE CONTRATOS; revise los datos introducidos\",IF(_xlfn._xlws.FILTER('RELACIÓN DE CONTRATOS'!$N$23:$N$165,'RELACIÓN DE GASTOS'!$B115&'RELACIÓN DE GASTOS'!$C115='RELACIÓN DE CONTRATOS'!$N$23:$N$165)=_xlfn.CONCAT(B115,C115),\"\")),\"revise eleccion\")","v":""}]
[{"$nulls":5},{"$f":"IFERROR(VLOOKUP(E116,Listados2!$R$2:$S$647,2,0),\"\")","v":""},{"$nulls":18},{"$f":"IF(AND(Tabla14[[#This Row],[Identifique el número, modo y fecha de los pagos relacionados]]=\"\",Tabla14[[#This Row],[Nº de factura]]<>\"\"),\"1\",\"2\")","v":"2"},null,{"$f":"IFERROR(IF(OR(AND('RELACIÓN DE GASTOS'!$B116=\"\",'RELACIÓN DE GASTOS'!$C116<>\"\"),AND('RELACIÓN DE GASTOS'!$C116=\"\",'RELACIÓN DE GASTOS'!$B116<>\"\")),\"Debe introducir un contrato y número de expediente registrado en la hoja RELACIÓN DE CONTRATOS; revise los datos introducidos\",IF(_xlfn._xlws.FILTER('RELACIÓN DE CONTRATOS'!$N$23:$N$165,'RELACIÓN DE GASTOS'!$B116&'RELACIÓN DE GASTOS'!$C116='RELACIÓN DE CONTRATOS'!$N$23:$N$165)=_xlfn.CONCAT(B116,C116),\"\")),\"revise eleccion\")","v":""}]
[{"$nulls":5},{"$f":"IFERROR(VLOOKUP(E117,Listados2!$R$2:$S$647,2,0),\"\")","v":""},{"$nulls":18},{"$f":"IF(AND(Tabla14[[#This Row],[Identifique el número, modo y fecha de los pagos relacionados]]=\"\",Tabla14[[#This Row],[Nº de factura]]<>\"\"),\"1\",\"2\")","v":"2"},null,{"$f":"IFERROR(IF(OR(AND('RELACIÓN DE GASTOS'!$B117=\"\",'RELACIÓN DE GASTOS'!$C117<>\"\"),AND('RELACIÓN DE GASTOS'!$C117=\"\",'RELACIÓN DE GASTOS'!$B117<>\"\")),\"Debe introducir un contrato y número de expediente registrado en la hoja RELACIÓN DE CONTRATOS; revise los datos introducidos\",IF(_xlfn._xlws.FILTER('RELACIÓN DE CONTRATOS'!$N$23:$N$165,'RELACIÓN DE GASTOS'!$B117&'RELACIÓN DE GASTOS'!$C117='RELACIÓN DE CONTRATOS'!$N$23:$N$165)=_xlfn.CONCAT(B117,C117),\"\")),\"revise eleccion\")","v":""}]
[{"$nulls":5},{"$f":"IFERROR(VLOOKUP(E118,Listados2!$R$2:$S$647,2,0),\"\")","v":""},{"$nulls":18},{"$f":"IF(AND(Tabla14[[#This Row],[Identifique el número, modo y fecha de los pagos relacionados]]=\"\",Tabla14[[#This Row],[Nº de factura]]<>\"\"),\"1\",\"2\")","v":"2"},null,{"$f":"IFERROR(IF(OR(AND('RELACIÓN DE GASTOS'!$B118=\"\",'RELACIÓN DE GASTOS'!$C118<>\"\"),AND('RELACIÓN DE GASTOS'!$C118=\"\",'RELACIÓN DE GASTOS'!$B118<>\"\")),\"Debe introducir un contrato y número de expediente registrado en la hoja RELACIÓN DE CONTRATOS; revise los datos introducidos\",IF(_xlfn._xlws.FILTER('RELACIÓN DE CONTRATOS'!$N$23:$N$165,'RELACIÓN DE GASTOS'!$B118&'RELACIÓN DE GASTOS'!$C118='RELACIÓN DE CONTRATOS'!$N$23:$N$165)=_xlfn.CONCAT(B118,C118),\"\")),\"revise eleccion\")","v":""}]
[{"$nulls":5},{"$f":"IFERROR(VLOOKUP(E119,Listados2!$R$2:$S$647,2,0),\"\")","v":""},{"$nulls":18},{"$f":"IF(AND(Tabla14[[#This Row],[Identifique el número, modo y fecha de los pagos relacionados]]=\"\",Tabla14[[#This Row],[Nº de factura]]<>\"\"),\"1\",\"2\")","v":"2"},null,{"$f":"IFERROR(IF(OR(AND('RELACIÓN DE GASTOS'!$B119=\"\",'RELACIÓN DE GASTOS'!$C119<>\"\"),AND('RELACIÓN DE GASTOS'!$C119=\"\",'RELACIÓN DE GASTOS'!$B119<>\"\")),\"Debe introducir un contrato y número de expediente registrado en la hoja RELACIÓN DE CONTRATOS; revise los datos introducidos\",IF(_xlfn._xlws.FILTER('RELACIÓN DE CONTRATOS'!$N$23:$N$165,'RELACIÓN DE GASTOS'!$B119&'RELACIÓN DE GASTOS'!$C119='RELACIÓN DE CONTRATOS'!$N$23:$N$165)=_xlfn.CONCAT(B119,C119),\"\")),\"revise eleccion\")","v":""}]
[{"$nulls":5},{"$f":"IFERROR(VLOOKUP(E120,Listados2!$R$2:$S$647,2,0),\"\")","v":""},{"$nulls":18},{"$f":"IF(AND(Tabla14[[#This Row],[Identifique el número, modo y fecha de los pagos relacionados]]=\"\",Tabla14[[#This Row],[Nº de factura]]<>\"\"),\"1\",\"2\")","v":"2"},null,{"$f":"IFERROR(IF(OR(AND('RELACIÓN DE GASTOS'!$B120=\"\",'RELACIÓN DE GASTOS'!$C120<>\"\"),AND('RELACIÓN DE GASTOS'!$C120=\"\",'RELACIÓN DE GASTOS'!$B120<>\"\")),\"Debe introducir un contrato y número de expediente registrado en la hoja RELACIÓN DE CONTRATOS; revise los datos introducidos\",IF(_xlfn._xlws.FILTER('RELACIÓN DE CONTRATOS'!$N$23:$N$165,'RELACIÓN DE GASTOS'!$B120&'RELACIÓN DE GASTOS'!$C120='RELACIÓN DE CONTRATOS'!$N$23:$N$165)=_xlfn.CONCAT(B120,C120),\"\")),\"revise eleccion\")","v":""}]
[{"$nulls":5},{"$f":"IFERROR(VLOOKUP(E121,Listados2!$R$2:$S$647,2,0),\"\")","v":""},{"$nulls":18},{"$f":"IF(AND(Tabla14[[#This Row],[Identifique el número, modo y fecha de los pagos relacionados]]=\"\",Tabla14[[#This Row],[Nº de factura]]<>\"\"),\"1\",\"2\")","v":"2"},null,{"$f":"IFERROR(IF(OR(AND('RELACIÓN DE GASTOS'!$B121=\"\",'RELACIÓN DE GASTOS'!$C121<>\"\"),AND('RELACIÓN DE GASTOS'!$C121=\"\",'RELACIÓN DE GASTOS'!$B121<>\"\")),\"Debe introducir un contrato y número de expediente registrado en la hoja RELACIÓN DE CONTRATOS; revise los datos introducidos\",IF(_xlfn._xlws.FILTER('RELACIÓN DE CONTRATOS'!$N$23:$N$165,'RELACIÓN DE GASTOS'!$B121&'RELACIÓN DE GASTOS'!$C121='RELACIÓN DE CONTRATOS'!$N$23:$N$165)=_xlfn.CONCAT(B121,C121),\"\")),\"revise eleccion\")","v":""}]
[{"$nulls":5},{"$f":"IFERROR(VLOOKUP(E122,Listados2!$R$2:$S$647,2,0),\"\")","v":""},{"$nulls":18},{"$f":"IF(AND(Tabla14[[#This Row],[Identifique el número, modo y fecha de los pagos relacionados]]=\"\",Tabla14[[#This Row],[Nº de factura]]<>\"\"),\"1\",\"2\")","v":"2"},null,{"$f":"IFERROR(IF(OR(AND('RELACIÓN DE GASTOS'!$B122=\"\",'RELACIÓN DE GASTOS'!$C122<>\"\"),AND('RELACIÓN DE GASTOS'!$C122=\"\",'RELACIÓN DE GASTOS'!$B122<>\"\")),\"Debe introducir un contrato y número de expediente registrado en la hoja RELACIÓN DE CONTRATOS; revise los datos introducidos\",IF(_xlfn._xlws.FILTER('RELACIÓN DE CONTRATOS'!$N$23:$N$165,'RELACIÓN DE GASTOS'!$B122&'RELACIÓN DE GASTOS'!$C122='RELACIÓN DE CONTRATOS'!$N$23:$N$165)=_xlfn.CONCAT(B122,C122),\"\")),\"revise eleccion\")","v":""}]
[{"$nulls":5},{"$f":"IFERROR(VLOOKUP(E123,Listados2!$R$2:$S$647,2,0),\"\")","v":""},{"$nulls":18},{"$f":"IF(AND(Tabla14[[#This Row],[Identifique el número, modo y fecha de los pagos relacionados]]=\"\",Tabla14[[#This Row],[Nº de factura]]<>\"\"),\"1\",\"2\")","v":"2"},null,{"$f":"IFERROR(IF(OR(AND('RELACIÓN DE GASTOS'!$B123=\"\",'RELACIÓN DE GASTOS'!$C123<>\"\"),AND('RELACIÓN DE GASTOS'!$C123=\"\",'RELACIÓN DE GASTOS'!$B123<>\"\")),\"Debe introducir un contrato y número de expediente registrado en la hoja RELACIÓN DE CONTRATOS; revise los datos introducidos\",IF(_xlfn._xlws.FILTER('RELACIÓN DE CONTRATOS'!$N$23:$N$165,'RELACIÓN DE GASTOS'!$B123&'RELACIÓN DE GASTOS'!$C123='RELACIÓN DE CONTRATOS'!$N$23:$N$165)=_xlfn.CONCAT(B123,C123),\"\")),\"revise eleccion\")","v":""}]
[{"$nulls":5},{"$f":"IFERROR(VLOOKUP(E124,Listados2!$R$2:$S$647,2,0),\"\")","v":""},{"$nulls":18},{"$f":"IF(AND(Tabla14[[#This Row],[Identifique el número, modo y fecha de los pagos relacionados]]=\"\",Tabla14[[#This Row],[Nº de factura]]<>\"\"),\"1\",\"2\")","v":"2"},null,{"$f":"IFERROR(IF(OR(AND('RELACIÓN DE GASTOS'!$B124=\"\",'RELACIÓN DE GASTOS'!$C124<>\"\"),AND('RELACIÓN DE GASTOS'!$C124=\"\",'RELACIÓN DE GASTOS'!$B124<>\"\")),\"Debe introducir un contrato y número de expediente registrado en la hoja RELACIÓN DE CONTRATOS; revise los datos introducidos\",IF(_xlfn._xlws.FILTER('RELACIÓN DE CONTRATOS'!$N$23:$N$165,'RELACIÓN DE GASTOS'!$B124&'RELACIÓN DE GASTOS'!$C124='RELACIÓN DE CONTRATOS'!$N$23:$N$165)=_xlfn.CONCAT(B124,C124),\"\")),\"revise eleccion\")","v":""}]
[{"$nulls":5},{"$f":"IFERROR(VLOOKUP(E125,Listados2!$R$2:$S$647,2,0),\"\")","v":""},{"$nulls":18},{"$f":"IF(AND(Tabla14[[#This Row],[Identifique el número, modo y fecha de los pagos relacionados]]=\"\",Tabla14[[#This Row],[Nº de factura]]<>\"\"),\"1\",\"2\")","v":"2"},null,{"$f":"IFERROR(IF(OR(AND('RELACIÓN DE GASTOS'!$B125=\"\",'RELACIÓN DE GASTOS'!$C125<>\"\"),AND('RELACIÓN DE GASTOS'!$C125=\"\",'RELACIÓN DE GASTOS'!$B125<>\"\")),\"Debe introducir un contrato y número de expediente registrado en la hoja RELACIÓN DE CONTRATOS; revise los datos introducidos\",IF(_xlfn._xlws.FILTER('RELACIÓN DE CONTRATOS'!$N$23:$N$165,'RELACIÓN DE GASTOS'!$B125&'RELACIÓN DE GASTOS'!$C125='RELACIÓN DE CONTRATOS'!$N$23:$N$165)=_xlfn.CONCAT(B125,C125),\"\")),\"revise eleccion\")","v":""}]
[{"$nulls":5},{"$f":"IFERROR(VLOOKUP(E126,Listados2!$R$2:$S$647,2,0),\"\")","v":""},{"$nulls":18},{"$f":"IF(AND(Tabla14[[#This Row],[Identifique el número, modo y fecha de los pagos relacionados]]=\"\",Tabla14[[#This Row],[Nº de factura]]<>\"\"),\"1\",\"2\")","v":"2"},null,{"$f":"IFERROR(IF(OR(AND('RELACIÓN DE GASTOS'!$B126=\"\",'RELACIÓN DE GASTOS'!$C126<>\"\"),AND('RELACIÓN DE GASTOS'!$C126=\"\",'RELACIÓN DE GASTOS'!$B126<>\"\")),\"Debe introducir un contrato y número de expediente registrado en la hoja RELACIÓN DE CONTRATOS; revise los datos introducidos\",IF(_xlfn._xlws.FILTER('RELACIÓN DE CONTRATOS'!$N$23:$N$165,'RELACIÓN DE GASTOS'!$B126&'RELACIÓN DE GASTOS'!$C126='RELACIÓN DE CONTRATOS'!$N$23:$N$165)=_xlfn.CONCAT(B126,C126),\"\")),\"revise eleccion\")","v":""}]
[{"$nulls":5},{"$f":"IFERROR(VLOOKUP(E127,Listados2!$R$2:$S$647,2,0),\"\")","v":""},{"$nulls":18},{"$f":"IF(AND(Tabla14[[#This Row],[Identifique el número, modo y fecha de los pagos relacionados]]=\"\",Tabla14[[#This Row],[Nº de factura]]<>\"\"),\"1\",\"2\")","v":"2"},null,{"$f":"IFERROR(IF(OR(AND('RELACIÓN DE GASTOS'!$B127=\"\",'RELACIÓN DE GASTOS'!$C127<>\"\"),AND('RELACIÓN DE GASTOS'!$C127=\"\",'RELACIÓN DE GASTOS'!$B127<>\"\")),\"Debe introducir un contrato y número de expediente registrado en la hoja RELACIÓN DE CONTRATOS; revise los datos introducidos\",IF(_xlfn._xlws.FILTER('RELACIÓN DE CONTRATOS'!$N$23:$N$165,'RELACIÓN DE GASTOS'!$B127&'RELACIÓN DE GASTOS'!$C127='RELACIÓN DE CONTRATOS'!$N$23:$N$165)=_xlfn.CONCAT(B127,C127),\"\")),\"revise eleccion\")","v":""}]
[{"$nulls":5},{"$f":"IFERROR(VLOOKUP(E128,Listados2!$R$2:$S$647,2,0),\"\")","v":""},{"$nulls":18},{"$f":"IF(AND(Tabla14[[#This Row],[Identifique el número, modo y fecha de los pagos relacionados]]=\"\",Tabla14[[#This Row],[Nº de factura]]<>\"\"),\"1\",\"2\")","v":"2"},null,{"$f":"IFERROR(IF(OR(AND('RELACIÓN DE GASTOS'!$B128=\"\",'RELACIÓN DE GASTOS'!$C128<>\"\"),AND('RELACIÓN DE GASTOS'!$C128=\"\",'RELACIÓN DE GASTOS'!$B128<>\"\")),\"Debe introducir un contrato y número de expediente registrado en la hoja RELACIÓN DE CONTRATOS; revise los datos introducidos\",IF(_xlfn._xlws.FILTER('RELACIÓN DE CONTRATOS'!$N$23:$N$165,'RELACIÓN DE GASTOS'!$B128&'RELACIÓN DE GASTOS'!$C128='RELACIÓN DE CONTRATOS'!$N$23:$N$165)=_xlfn.CONCAT(B128,C128),\"\")),\"revise eleccion\")","v":""}]
[{"$nulls":5},{"$f":"IFERROR(VLOOKUP(E129,Listados2!$R$2:$S$647,2,0),\"\")","v":""},{"$nulls":18},{"$f":"IF(AND(Tabla14[[#This Row],[Identifique el número, modo y fecha de los pagos relacionados]]=\"\",Tabla14[[#This Row],[Nº de factura]]<>\"\"),\"1\",\"2\")","v":"2"},null,{"$f":"IFERROR(IF(OR(AND('RELACIÓN DE GASTOS'!$B129=\"\",'RELACIÓN DE GASTOS'!$C129<>\"\"),AND('RELACIÓN DE GASTOS'!$C129=\"\",'RELACIÓN DE GASTOS'!$B129<>\"\")),\"Debe introducir un contrato y número de expediente registrado en la hoja RELACIÓN DE CONTRATOS; revise los datos introducidos\",IF(_xlfn._xlws.FILTER('RELACIÓN DE CONTRATOS'!$N$23:$N$165,'RELACIÓN DE GASTOS'!$B129&'RELACIÓN DE GASTOS'!$C129='RELACIÓN DE CONTRATOS'!$N$23:$N$165)=_xlfn.CONCAT(B129,C129),\"\")),\"revise eleccion\")","v":""}]
[{"$nulls":5},{"$f":"IFERROR(VLOOKUP(E130,Listados2!$R$2:$S$647,2,0),\"\")","v":""},{"$nulls":18},{"$f":"IF(AND(Tabla14[[#This Row],[Identifique el número, modo y fecha de los pagos relacionados]]=\"\",Tabla14[[#This Row],[Nº de factura]]<>\"\"),\"1\",\"2\")","v":"2"},null,{"$f":"IFERROR(IF(OR(AND('RELACIÓN DE GASTOS'!$B130=\"\",'RELACIÓN DE GASTOS'!$C130<>\"\"),AND('RELACIÓN DE GASTOS'!$C130=\"\",'RELACIÓN DE GASTOS'!$B130<>\"\")),\"Debe introducir un contrato y número de expediente registrado en la hoja RELACIÓN DE CONTRATOS; revise los datos introducidos\",IF(_xlfn._xlws.FILTER('RELACIÓN DE CONTRATOS'!$N$23:$N$165,'RELACIÓN DE GASTOS'!$B130&'RELACIÓN DE GASTOS'!$C130='RELACIÓN DE CONTRATOS'!$N$23:$N$165)=_xlfn.CONCAT(B130,C130),\"\")),\"revise eleccion\")","v":""}]
[{"$nulls":5},{"$f":"IFERROR(VLOOKUP(E131,Listados2!$R$2:$S$647,2,0),\"\")","v":""},{"$nulls":18},{"$f":"IF(AND(Tabla14[[#This Row],[Identifique el número, modo y fecha de los pagos relacionados]]=\"\",Tabla14[[#This Row],[Nº de factura]]<>\"\"),\"1\",\"2\")","v":"2"},null,{"$f":"IFERROR(IF(OR(AND('RELACIÓN DE GASTOS'!$B131=\"\",'RELACIÓN DE GASTOS'!$C131<>\"\"),AND('RELACIÓN DE GASTOS'!$C131=\"\",'RELACIÓN DE GASTOS'!$B131<>\"\")),\"Debe introducir un contrato y número de expediente registrado en la hoja RELACIÓN DE CONTRATOS; revise los datos introducidos\",IF(_xlfn._xlws.FILTER('RELACIÓN DE CONTRATOS'!$N$23:$N$165,'RELACIÓN DE GASTOS'!$B131&'RELACIÓN DE GASTOS'!$C131='RELACIÓN DE CONTRATOS'!$N$23:$N$165)=_xlfn.CONCAT(B131,C131),\"\")),\"revise eleccion\")","v":""}]
[{"$nulls":5},{"$f":"IFERROR(VLOOKUP(E132,Listados2!$R$2:$S$647,2,0),\"\")","v":""},{"$nulls":18},{"$f":"IF(AND(Tabla14[[#This Row],[Identifique el número, modo y fecha de los pagos relacionados]]=\"\",Tabla14[[#This Row],[Nº de factura]]<>\"\"),\"1\",\"2\")","v":"2"},null,{"$f":"IFERROR(IF(OR(AND('RELACIÓN DE GASTOS'!$B132=\"\",'RELACIÓN DE GASTOS'!$C132<>\"\"),AND('RELACIÓN DE GASTOS'!$C132=\"\",'RELACIÓN DE GASTOS'!$B132<>\"\")),\"Debe introducir un contrato y número de expediente registrado en la hoja RELACIÓN DE CONTRATOS; revise los datos introducidos\",IF(_xlfn._xlws.FILTER('RELACIÓN DE CONTRATOS'!$N$23:$N$165,'RELACIÓN DE GASTOS'!$B132&'RELACIÓN DE GASTOS'!$C132='RELACIÓN DE CONTRATOS'!$N$23:$N$165)=_xlfn.CONCAT(B132,C132),\"\")),\"revise eleccion\")","v":""}]
[{"$nulls":5},{"$f":"IFERROR(VLOOKUP(E133,Listados2!$R$2:$S$647,2,0),\"\")","v":""},{"$nulls":18},{"$f":"IF(AND(Tabla14[[#This Row],[Identifique el número, modo y fecha de los pagos relacionados]]=\"\",Tabla14[[#This Row],[Nº de factura]]<>\"\"),\"1\",\"2\")","v":"2"},null,{"$f":"IFERROR(IF(OR(AND('RELACIÓN DE GASTOS'!$B133=\"\",'RELACIÓN DE GASTOS'!$C133<>\"\"),AND('RELACIÓN DE GASTOS'!$C133=\"\",'RELACIÓN DE GASTOS'!$B133<>\"\")),\"Debe introducir un contrato y número de expediente registrado en la hoja RELACIÓN DE CONTRATOS; revise los datos introducidos\",IF(_xlfn._xlws.FILTER('RELACIÓN DE CONTRATOS'!$N$23:$N$165,'RELACIÓN DE GASTOS'!$B133&'RELACIÓN DE GASTOS'!$C133='RELACIÓN DE CONTRATOS'!$N$23:$N$165)=_xlfn.CONCAT(B133,C133),\"\")),\"revise eleccion\")","v":""}]
[{"$nulls":5},{"$f":"IFERROR(VLOOKUP(E134,Listados2!$R$2:$S$647,2,0),\"\")","v":""},{"$nulls":18},{"$f":"IF(AND(Tabla14[[#This Row],[Identifique el número, modo y fecha de los pagos relacionados]]=\"\",Tabla14[[#This Row],[Nº de factura]]<>\"\"),\"1\",\"2\")","v":"2"},null,{"$f":"IFERROR(IF(OR(AND('RELACIÓN DE GASTOS'!$B134=\"\",'RELACIÓN DE GASTOS'!$C134<>\"\"),AND('RELACIÓN DE GASTOS'!$C134=\"\",'RELACIÓN DE GASTOS'!$B134<>\"\")),\"Debe introducir un contrato y número de expediente registrado en la hoja RELACIÓN DE CONTRATOS; revise los datos introducidos\",IF(_xlfn._xlws.FILTER('RELACIÓN DE CONTRATOS'!$N$23:$N$165,'RELACIÓN DE GASTOS'!$B134&'RELACIÓN DE GASTOS'!$C134='RELACIÓN DE CONTRATOS'!$N$23:$N$165)=_xlfn.CONCAT(B134,C134),\"\")),\"revise eleccion\")","v":""}]
[{"$nulls":5},{"$f":"IFERROR(VLOOKUP(E135,Listados2!$R$2:$S$647,2,0),\"\")","v":""},{"$nulls":18},{"$f":"IF(AND(Tabla14[[#This Row],[Identifique el número, modo y fecha de los pagos relacionados]]=\"\",Tabla14[[#This Row],[Nº de factura]]<>\"\"),\"1\",\"2\")","v":"2"},null,{"$f":"IFERROR(IF(OR(AND('RELACIÓN DE GASTOS'!$B135=\"\",'RELACIÓN DE GASTOS'!$C135<>\"\"),AND('RELACIÓN DE GASTOS'!$C135=\"\",'RELACIÓN DE GASTOS'!$B135<>\"\")),\"Debe introducir un contrato y número de expediente registrado en la hoja RELACIÓN DE CONTRATOS; revise los datos introducidos\",IF(_xlfn._xlws.FILTER('RELACIÓN DE CONTRATOS'!$N$23:$N$165,'RELACIÓN DE GASTOS'!$B135&'RELACIÓN DE GASTOS'!$C135='RELACIÓN DE CONTRATOS'!$N$23:$N$165)=_xlfn.CONCAT(B135,C135),\"\")),\"revise eleccion\")","v":""}]
[{"$nulls":5},{"$f":"IFERROR(VLOOKUP(E136,Listados2!$R$2:$S$647,2,0),\"\")","v":""},{"$nulls":18},{"$f":"IF(AND(Tabla14[[#This Row],[Identifique el número, modo y fecha de los pagos relacionados]]=\"\",Tabla14[[#This Row],[Nº de factura]]<>\"\"),\"1\",\"2\")","v":"2"},null,{"$f":"IFERROR(IF(OR(AND('RELACIÓN DE GASTOS'!$B136=\"\",'RELACIÓN DE GASTOS'!$C136<>\"\"),AND('RELACIÓN DE GASTOS'!$C136=\"\",'RELACIÓN DE GASTOS'!$B136<>\"\")),\"Debe introducir un contrato y número de expediente registrado en la hoja RELACIÓN DE CONTRATOS; revise los datos introducidos\",IF(_xlfn._xlws.FILTER('RELACIÓN DE CONTRATOS'!$N$23:$N$165,'RELACIÓN DE GASTOS'!$B136&'RELACIÓN DE GASTOS'!$C136='RELACIÓN DE CONTRATOS'!$N$23:$N$165)=_xlfn.CONCAT(B136,C136),\"\")),\"revise eleccion\")","v":""}]
[{"$nulls":5},{"$f":"IFERROR(VLOOKUP(E137,Listados2!$R$2:$S$647,2,0),\"\")","v":""},{"$nulls":18},{"$f":"IF(AND(Tabla14[[#This Row],[Identifique el número, modo y fecha de los pagos relacionados]]=\"\",Tabla14[[#This Row],[Nº de factura]]<>\"\"),\"1\",\"2\")","v":"2"},null,{"$f":"IFERROR(IF(OR(AND('RELACIÓN DE GASTOS'!$B137=\"\",'RELACIÓN DE GASTOS'!$C137<>\"\"),AND('RELACIÓN DE GASTOS'!$C137=\"\",'RELACIÓN DE GASTOS'!$B137<>\"\")),\"Debe introducir un contrato y número de expediente registrado en la hoja RELACIÓN DE CONTRATOS; revise los datos introducidos\",IF(_xlfn._xlws.FILTER('RELACIÓN DE CONTRATOS'!$N$23:$N$165,'RELACIÓN DE GASTOS'!$B137&'RELACIÓN DE GASTOS'!$C137='RELACIÓN DE CONTRATOS'!$N$23:$N$165)=_xlfn.CONCAT(B137,C137),\"\")),\"revise eleccion\")","v":""}]
[{"$nulls":5},{"$f":"IFERROR(VLOOKUP(E138,Listados2!$R$2:$S$647,2,0),\"\")","v":""},{"$nulls":18},{"$f":"IF(AND(Tabla14[[#This Row],[Identifique el número, modo y fecha de los pagos relacionados]]=\"\",Tabla14[[#This Row],[Nº de factura]]<>\"\"),\"1\",\"2\")","v":"2"},null,{"$f":"IFERROR(IF(OR(AND('RELACIÓN DE GASTOS'!$B138=\"\",'RELACIÓN DE GASTOS'!$C138<>\"\"),AND('RELACIÓN DE GASTOS'!$C138=\"\",'RELACIÓN DE GASTOS'!$B138<>\"\")),\"Debe introducir un contrato y número de expediente registrado en la hoja RELACIÓN DE CONTRATOS; revise los datos introducidos\",IF(_xlfn._xlws.FILTER('RELACIÓN DE CONTRATOS'!$N$23:$N$165,'RELACIÓN DE GASTOS'!$B138&'RELACIÓN DE GASTOS'!$C138='RELACIÓN DE CONTRATOS'!$N$23:$N$165)=_xlfn.CONCAT(B138,C138),\"\")),\"revise eleccion\")","v":""}]
[{"$nulls":5},{"$f":"IFERROR(VLOOKUP(E139,Listados2!$R$2:$S$647,2,0),\"\")","v":""},{"$nulls":18},{"$f":"IF(AND(Tabla14[[#This Row],[Identifique el número, modo y fecha de los pagos relacionados]]=\"\",Tabla14[[#This Row],[Nº de factura]]<>\"\"),\"1\",\"2\")","v":"2"},null,{"$f":"IFERROR(IF(OR(AND('RELACIÓN DE GASTOS'!$B139=\"\",'RELACIÓN DE GASTOS'!$C139<>\"\"),AND('RELACIÓN DE GASTOS'!$C139=\"\",'RELACIÓN DE GASTOS'!$B139<>\"\")),\"Debe introducir un contrato y número de expediente registrado en la hoja RELACIÓN DE CONTRATOS; revise los datos introducidos\",IF(_xlfn._xlws.FILTER('RELACIÓN DE CONTRATOS'!$N$23:$N$165,'RELACIÓN DE GASTOS'!$B139&'RELACIÓN DE GASTOS'!$C139='RELACIÓN DE CONTRATOS'!$N$23:$N$165)=_xlfn.CONCAT(B139,C139),\"\")),\"revise eleccion\")","v":""}]
[{"$nulls":5},{"$f":"IFERROR(VLOOKUP(E140,Listados2!$R$2:$S$647,2,0),\"\")","v":""},{"$nulls":18},{"$f":"IF(AND(Tabla14[[#This Row],[Identifique el número, modo y fecha de los pagos relacionados]]=\"\",Tabla14[[#This Row],[Nº de factura]]<>\"\"),\"1\",\"2\")","v":"2"},null,{"$f":"IFERROR(IF(OR(AND('RELACIÓN DE GASTOS'!$B140=\"\",'RELACIÓN DE GASTOS'!$C140<>\"\"),AND('RELACIÓN DE GASTOS'!$C140=\"\",'RELACIÓN DE GASTOS'!$B140<>\"\")),\"Debe introducir un contrato y número de expediente registrado en la hoja RELACIÓN DE CONTRATOS; revise los datos introducidos\",IF(_xlfn._xlws.FILTER('RELACIÓN DE CONTRATOS'!$N$23:$N$165,'RELACIÓN DE GASTOS'!$B140&'RELACIÓN DE GASTOS'!$C140='RELACIÓN DE CONTRATOS'!$N$23:$N$165)=_xlfn.CONCAT(B140,C140),\"\")),\"revise eleccion\")","v":""}]
[{"$nulls":5},{"$f":"IFERROR(VLOOKUP(E141,Listados2!$R$2:$S$647,2,0),\"\")","v":""},{"$nulls":18},{"$f":"IF(AND(Tabla14[[#This Row],[Identifique el número, modo y fecha de los pagos relacionados]]=\"\",Tabla14[[#This Row],[Nº de factura]]<>\"\"),\"1\",\"2\")","v":"2"},null,{"$f":"IFERROR(IF(OR(AND('RELACIÓN DE GASTOS'!$B141=\"\",'RELACIÓN DE GASTOS'!$C141<>\"\"),AND('RELACIÓN DE GASTOS'!$C141=\"\",'RELACIÓN DE GASTOS'!$B141<>\"\")),\"Debe introducir un contrato y número de expediente registrado en la hoja RELACIÓN DE CONTRATOS; revise los datos introducidos\",IF(_xlfn._xlws.FILTER('RELACIÓN DE CONTRATOS'!$N$23:$N$165,'RELACIÓN DE GASTOS'!$B141&'RELACIÓN DE GASTOS'!$C141='RELACIÓN DE CONTRATOS'!$N$23:$N$165)=_xlfn.CONCAT(B141,C141),\"\")),\"revise eleccion\")","v":""}]
[{"$nulls":5},{"$f":"IFERROR(VLOOKUP(E142,Listados2!$R$2:$S$647,2,0),\"\")","v":""},{"$nulls":18},{"$f":"IF(AND(Tabla14[[#This Row],[Identifique el número, modo y fecha de los pagos relacionados]]=\"\",Tabla14[[#This Row],[Nº de factura]]<>\"\"),\"1\",\"2\")","v":"2"},null,{"$f":"IFERROR(IF(OR(AND('RELACIÓN DE GASTOS'!$B142=\"\",'RELACIÓN DE GASTOS'!$C142<>\"\"),AND('RELACIÓN DE GASTOS'!$C142=\"\",'RELACIÓN DE GASTOS'!$B142<>\"\")),\"Debe introducir un contrato y número de expediente registrado en la hoja RELACIÓN DE CONTRATOS; revise los datos introducidos\",IF(_xlfn._xlws.FILTER('RELACIÓN DE CONTRATOS'!$N$23:$N$165,'RELACIÓN DE GASTOS'!$B142&'RELACIÓN DE GASTOS'!$C142='RELACIÓN DE CONTRATOS'!$N$23:$N$165)=_xlfn.CONCAT(B142,C142),\"\")),\"revise eleccion\")","v":""}]
[{"$nulls":5},{"$f":"IFERROR(VLOOKUP(E143,Listados2!$R$2:$S$647,2,0),\"\")","v":""},{"$nulls":18},{"$f":"IF(AND(Tabla14[[#This Row],[Identifique el número, modo y fecha de los pagos relacionados]]=\"\",Tabla14[[#This Row],[Nº de factura]]<>\"\"),\"1\",\"2\")","v":"2"},null,{"$f":"IFERROR(IF(OR(AND('RELACIÓN DE GASTOS'!$B143=\"\",'RELACIÓN DE GASTOS'!$C143<>\"\"),AND('RELACIÓN DE GASTOS'!$C143=\"\",'RELACIÓN DE GASTOS'!$B143<>\"\")),\"Debe introducir un contrato y número de expediente registrado en la hoja RELACIÓN DE CONTRATOS; revise los datos introducidos\",IF(_xlfn._xlws.FILTER('RELACIÓN DE CONTRATOS'!$N$23:$N$165,'RELACIÓN DE GASTOS'!$B143&'RELACIÓN DE GASTOS'!$C143='RELACIÓN DE CONTRATOS'!$N$23:$N$165)=_xlfn.CONCAT(B143,C143),\"\")),\"revise eleccion\")","v":""}]
[{"$nulls":5},{"$f":"IFERROR(VLOOKUP(E144,Listados2!$R$2:$S$647,2,0),\"\")","v":""},{"$nulls":18},{"$f":"IF(AND(Tabla14[[#This Row],[Identifique el número, modo y fecha de los pagos relacionados]]=\"\",Tabla14[[#This Row],[Nº de factura]]<>\"\"),\"1\",\"2\")","v":"2"},null,{"$f":"IFERROR(IF(OR(AND('RELACIÓN DE GASTOS'!$B144=\"\",'RELACIÓN DE GASTOS'!$C144<>\"\"),AND('RELACIÓN DE GASTOS'!$C144=\"\",'RELACIÓN DE GASTOS'!$B144<>\"\")),\"Debe introducir un contrato y número de expediente registrado en la hoja RELACIÓN DE CONTRATOS; revise los datos introducidos\",IF(_xlfn._xlws.FILTER('RELACIÓN DE CONTRATOS'!$N$23:$N$165,'RELACIÓN DE GASTOS'!$B144&'RELACIÓN DE GASTOS'!$C144='RELACIÓN DE CONTRATOS'!$N$23:$N$165)=_xlfn.CONCAT(B144,C144),\"\")),\"revise eleccion\")","v":""}]
[{"$nulls":5},{"$f":"IFERROR(VLOOKUP(E145,Listados2!$R$2:$S$647,2,0),\"\")","v":""},{"$nulls":18},{"$f":"IF(AND(Tabla14[[#This Row],[Identifique el número, modo y fecha de los pagos relacionados]]=\"\",Tabla14[[#This Row],[Nº de factura]]<>\"\"),\"1\",\"2\")","v":"2"},null,{"$f":"IFERROR(IF(OR(AND('RELACIÓN DE GASTOS'!$B145=\"\",'RELACIÓN DE GASTOS'!$C145<>\"\"),AND('RELACIÓN DE GASTOS'!$C145=\"\",'RELACIÓN DE GASTOS'!$B145<>\"\")),\"Debe introducir un contrato y número de expediente registrado en la hoja RELACIÓN DE CONTRATOS; revise los datos introducidos\",IF(_xlfn._xlws.FILTER('RELACIÓN DE CONTRATOS'!$N$23:$N$165,'RELACIÓN DE GASTOS'!$B145&'RELACIÓN DE GASTOS'!$C145='RELACIÓN DE CONTRATOS'!$N$23:$N$165)=_xlfn.CONCAT(B145,C145),\"\")),\"revise eleccion\")","v":""}]
[{"$nulls":5},{"$f":"IFERROR(VLOOKUP(E146,Listados2!$R$2:$S$647,2,0),\"\")","v":""},{"$nulls":18},{"$f":"IF(AND(Tabla14[[#This Row],[Identifique el número, modo y fecha de los pagos relacionados]]=\"\",Tabla14[[#This Row],[Nº de factura]]<>\"\"),\"1\",\"2\")","v":"2"},null,{"$f":"IFERROR(IF(OR(AND('RELACIÓN DE GASTOS'!$B146=\"\",'RELACIÓN DE GASTOS'!$C146<>\"\"),AND('RELACIÓN DE GASTOS'!$C146=\"\",'RELACIÓN DE GASTOS'!$B146<>\"\")),\"Debe introducir un contrato y número de expediente registrado en la hoja RELACIÓN DE CONTRATOS; revise los datos introducidos\",IF(_xlfn._xlws.FILTER('RELACIÓN DE CONTRATOS'!$N$23:$N$165,'RELACIÓN DE GASTOS'!$B146&'RELACIÓN DE GASTOS'!$C146='RELACIÓN DE CONTRATOS'!$N$23:$N$165)=_xlfn.CONCAT(B146,C146),\"\")),\"revise eleccion\")","v":""}]
[{"$nulls":5},{"$f":"IFERROR(VLOOKUP(E147,Listados2!$R$2:$S$647,2,0),\"\")","v":""},{"$nulls":18},{"$f":"IF(AND(Tabla14[[#This Row],[Identifique el número, modo y fecha de los pagos relacionados]]=\"\",Tabla14[[#This Row],[Nº de factura]]<>\"\"),\"1\",\"2\")","v":"2"},null,{"$f":"IFERROR(IF(OR(AND('RELACIÓN DE GASTOS'!$B147=\"\",'RELACIÓN DE GASTOS'!$C147<>\"\"),AND('RELACIÓN DE GASTOS'!$C147=\"\",'RELACIÓN DE GASTOS'!$B147<>\"\")),\"Debe introducir un contrato y número de expediente registrado en la hoja RELACIÓN DE CONTRATOS; revise los datos introducidos\",IF(_xlfn._xlws.FILTER('RELACIÓN DE CONTRATOS'!$N$23:$N$165,'RELACIÓN DE GASTOS'!$B147&'RELACIÓN DE GASTOS'!$C147='RELACIÓN DE CONTRATOS'!$N$23:$N$165)=_xlfn.CONCAT(B147,C147),\"\")),\"revise eleccion\")","v":""}]
[{"$nulls":5},{"$f":"IFERROR(VLOOKUP(E148,Listados2!$R$2:$S$647,2,0),\"\")","v":""},{"$nulls":18},{"$f":"IF(AND(Tabla14[[#This Row],[Identifique el número, modo y fecha de los pagos relacionados]]=\"\",Tabla14[[#This Row],[Nº de factura]]<>\"\"),\"1\",\"2\")","v":"2"},null,{"$f":"IFERROR(IF(OR(AND('RELACIÓN DE GASTOS'!$B148=\"\",'RELACIÓN DE GASTOS'!$C148<>\"\"),AND('RELACIÓN DE GASTOS'!$C148=\"\",'RELACIÓN DE GASTOS'!$B148<>\"\")),\"Debe introducir un contrato y número de expediente registrado en la hoja RELACIÓN DE CONTRATOS; revise los datos introducidos\",IF(_xlfn._xlws.FILTER('RELACIÓN DE CONTRATOS'!$N$23:$N$165,'RELACIÓN DE GASTOS'!$B148&'RELACIÓN DE GASTOS'!$C148='RELACIÓN DE CONTRATOS'!$N$23:$N$165)=_xlfn.CONCAT(B148,C148),\"\")),\"revise eleccion\")","v":""}]
[{"$nulls":5},{"$f":"IFERROR(VLOOKUP(E149,Listados2!$R$2:$S$647,2,0),\"\")","v":""},{"$nulls":18},{"$f":"IF(AND(Tabla14[[#This Row],[Identifique el número, modo y fecha de los pagos relacionados]]=\"\",Tabla14[[#This Row],[Nº de factura]]<>\"\"),\"1\",\"2\")","v":"2"},null,{"$f":"IFERROR(IF(OR(AND('RELACIÓN DE GASTOS'!$B149=\"\",'RELACIÓN DE GASTOS'!$C149<>\"\"),AND('RELACIÓN DE GASTOS'!$C149=\"\",'RELACIÓN DE GASTOS'!$B149<>\"\")),\"Debe introducir un contrato y número de expediente registrado en la hoja RELACIÓN DE CONTRATOS; revise los datos introducidos\",IF(_xlfn._xlws.FILTER('RELACIÓN DE CONTRATOS'!$N$23:$N$165,'RELACIÓN DE GASTOS'!$B149&'RELACIÓN DE GASTOS'!$C149='RELACIÓN DE CONTRATOS'!$N$23:$N$165)=_xlfn.CONCAT(B149,C149),\"\")),\"revise eleccion\")","v":""}]
[{"$nulls":5},{"$f":"IFERROR(VLOOKUP(E150,Listados2!$R$2:$S$647,2,0),\"\")","v":""},{"$nulls":18},{"$f":"IF(AND(Tabla14[[#This Row],[Identifique el número, modo y fecha de los pagos relacionados]]=\"\",Tabla14[[#This Row],[Nº de factura]]<>\"\"),\"1\",\"2\")","v":"2"},null,{"$f":"IFERROR(IF(OR(AND('RELACIÓN DE GASTOS'!$B150=\"\",'RELACIÓN DE GASTOS'!$C150<>\"\"),AND('RELACIÓN DE GASTOS'!$C150=\"\",'RELACIÓN DE GASTOS'!$B150<>\"\")),\"Debe introducir un contrato y número de expediente registrado en la hoja RELACIÓN DE CONTRATOS; revise los datos introducidos\",IF(_xlfn._xlws.FILTER('RELACIÓN DE CONTRATOS'!$N$23:$N$165,'RELACIÓN DE GASTOS'!$B150&'RELACIÓN DE GASTOS'!$C150='RELACIÓN DE CONTRATOS'!$N$23:$N$165)=_xlfn.CONCAT(B150,C150),\"\")),\"revise eleccion\")","v":""}]
[{"$nulls":5},{"$f":"IFERROR(VLOOKUP(E151,Listados2!$R$2:$S$647,2,0),\"\")","v":""},{"$nulls":18},{"$f":"IF(AND(Tabla14[[#This Row],[Identifique el número, modo y fecha de los pagos relacionados]]=\"\",Tabla14[[#This Row],[Nº de factura]]<>\"\"),\"1\",\"2\")","v":"2"},null,{"$f":"IFERROR(IF(OR(AND('RELACIÓN DE GASTOS'!$B151=\"\",'RELACIÓN DE GASTOS'!$C151<>\"\"),AND('RELACIÓN DE GASTOS'!$C151=\"\",'RELACIÓN DE GASTOS'!$B151<>\"\")),\"Debe introducir un contrato y número de expediente registrado en la hoja RELACIÓN DE CONTRATOS; revise los datos introducidos\",IF(_xlfn._xlws.FILTER('RELACIÓN DE CONTRATOS'!$N$23:$N$165,'RELACIÓN DE GASTOS'!$B151&'RELACIÓN DE GASTOS'!$C151='RELACIÓN DE CONTRATOS'!$N$23:$N$165)=_xlfn.CONCAT(B151,C151),\"\")),\"revise eleccion\")","v":""}]
[{"$nulls":5},{"$f":"IFERROR(VLOOKUP(E152,Listados2!$R$2:$S$647,2,0),\"\")","v":""},{"$nulls":18},{"$f":"IF(AND(Tabla14[[#This Row],[Identifique el número, modo y fecha de los pagos relacionados]]=\"\",Tabla14[[#This Row],[Nº de factura]]<>\"\"),\"1\",\"2\")","v":"2"},null,{"$f":"IFERROR(IF(OR(AND('RELACIÓN DE GASTOS'!$B152=\"\",'RELACIÓN DE GASTOS'!$C152<>\"\"),AND('RELACIÓN DE GASTOS'!$C152=\"\",'RELACIÓN DE GASTOS'!$B152<>\"\")),\"Debe introducir un contrato y número de expediente registrado en la hoja RELACIÓN DE CONTRATOS; revise los datos introducidos\",IF(_xlfn._xlws.FILTER('RELACIÓN DE CONTRATOS'!$N$23:$N$165,'RELACIÓN DE GASTOS'!$B152&'RELACIÓN DE GASTOS'!$C152='RELACIÓN DE CONTRATOS'!$N$23:$N$165)=_xlfn.CONCAT(B152,C152),\"\")),\"revise eleccion\")","v":""}]
[{"$nulls":5},{"$f":"IFERROR(VLOOKUP(E153,Listados2!$R$2:$S$647,2,0),\"\")","v":""},{"$nulls":18},{"$f":"IF(AND(Tabla14[[#This Row],[Identifique el número, modo y fecha de los pagos relacionados]]=\"\",Tabla14[[#This Row],[Nº de factura]]<>\"\"),\"1\",\"2\")","v":"2"},null,{"$f":"IFERROR(IF(OR(AND('RELACIÓN DE GASTOS'!$B153=\"\",'RELACIÓN DE GASTOS'!$C153<>\"\"),AND('RELACIÓN DE GASTOS'!$C153=\"\",'RELACIÓN DE GASTOS'!$B153<>\"\")),\"Debe introducir un contrato y número de expediente registrado en la hoja RELACIÓN DE CONTRATOS; revise los datos introducidos\",IF(_xlfn._xlws.FILTER('RELACIÓN DE CONTRATOS'!$N$23:$N$165,'RELACIÓN DE GASTOS'!$B153&'RELACIÓN DE GASTOS'!$C153='RELACIÓN DE CONTRATOS'!$N$23:$N$165)=_xlfn.CONCAT(B153,C153),\"\")),\"revise eleccion\")","v":""}]
[{"$nulls":5},{"$f":"IFERROR(VLOOKUP(E154,Listados2!$R$2:$S$647,2,0),\"\")","v":""},{"$nulls":18},{"$f":"IF(AND(Tabla14[[#This Row],[Identifique el número, modo y fecha de los pagos relacionados]]=\"\",Tabla14[[#This Row],[Nº de factura]]<>\"\"),\"1\",\"2\")","v":"2"},null,{"$f":"IFERROR(IF(OR(AND('RELACIÓN DE GASTOS'!$B154=\"\",'RELACIÓN DE GASTOS'!$C154<>\"\"),AND('RELACIÓN DE GASTOS'!$C154=\"\",'RELACIÓN DE GASTOS'!$B154<>\"\")),\"Debe introducir un contrato y número de expediente registrado en la hoja RELACIÓN DE CONTRATOS; revise los datos introducidos\",IF(_xlfn._xlws.FILTER('RELACIÓN DE CONTRATOS'!$N$23:$N$165,'RELACIÓN DE GASTOS'!$B154&'RELACIÓN DE GASTOS'!$C154='RELACIÓN DE CONTRATOS'!$N$23:$N$165)=_xlfn.CONCAT(B154,C154),\"\")),\"revise eleccion\")","v":""}]
[{"$nulls":5},{"$f":"IFERROR(VLOOKUP(E155,Listados2!$R$2:$S$647,2,0),\"\")","v":""},{"$nulls":18},{"$f":"IF(AND(Tabla14[[#This Row],[Identifique el número, modo y fecha de los pagos relacionados]]=\"\",Tabla14[[#This Row],[Nº de factura]]<>\"\"),\"1\",\"2\")","v":"2"},null,{"$f":"IFERROR(IF(OR(AND('RELACIÓN DE GASTOS'!$B155=\"\",'RELACIÓN DE GASTOS'!$C155<>\"\"),AND('RELACIÓN DE GASTOS'!$C155=\"\",'RELACIÓN DE GASTOS'!$B155<>\"\")),\"Debe introducir un contrato y número de expediente registrado en la hoja RELACIÓN DE CONTRATOS; revise los datos introducidos\",IF(_xlfn._xlws.FILTER('RELACIÓN DE CONTRATOS'!$N$23:$N$165,'RELACIÓN DE GASTOS'!$B155&'RELACIÓN DE GASTOS'!$C155='RELACIÓN DE CONTRATOS'!$N$23:$N$165)=_xlfn.CONCAT(B155,C155),\"\")),\"revise eleccion\")","v":""}]
[{"$nulls":5},{"$f":"IFERROR(VLOOKUP(E156,Listados2!$R$2:$S$647,2,0),\"\")","v":""},{"$nulls":18},{"$f":"IF(AND(Tabla14[[#This Row],[Identifique el número, modo y fecha de los pagos relacionados]]=\"\",Tabla14[[#This Row],[Nº de factura]]<>\"\"),\"1\",\"2\")","v":"2"},null,{"$f":"IFERROR(IF(OR(AND('RELACIÓN DE GASTOS'!$B156=\"\",'RELACIÓN DE GASTOS'!$C156<>\"\"),AND('RELACIÓN DE GASTOS'!$C156=\"\",'RELACIÓN DE GASTOS'!$B156<>\"\")),\"Debe introducir un contrato y número de expediente registrado en la hoja RELACIÓN DE CONTRATOS; revise los datos introducidos\",IF(_xlfn._xlws.FILTER('RELACIÓN DE CONTRATOS'!$N$23:$N$165,'RELACIÓN DE GASTOS'!$B156&'RELACIÓN DE GASTOS'!$C156='RELACIÓN DE CONTRATOS'!$N$23:$N$165)=_xlfn.CONCAT(B156,C156),\"\")),\"revise eleccion\")","v":""}]
[{"$nulls":5},{"$f":"IFERROR(VLOOKUP(E157,Listados2!$R$2:$S$647,2,0),\"\")","v":""},{"$nulls":18},{"$f":"IF(AND(Tabla14[[#This Row],[Identifique el número, modo y fecha de los pagos relacionados]]=\"\",Tabla14[[#This Row],[Nº de factura]]<>\"\"),\"1\",\"2\")","v":"2"},null,{"$f":"IFERROR(IF(OR(AND('RELACIÓN DE GASTOS'!$B157=\"\",'RELACIÓN DE GASTOS'!$C157<>\"\"),AND('RELACIÓN DE GASTOS'!$C157=\"\",'RELACIÓN DE GASTOS'!$B157<>\"\")),\"Debe introducir un contrato y número de expediente registrado en la hoja RELACIÓN DE CONTRATOS; revise los datos introducidos\",IF(_xlfn._xlws.FILTER('RELACIÓN DE CONTRATOS'!$N$23:$N$165,'RELACIÓN DE GASTOS'!$B157&'RELACIÓN DE GASTOS'!$C157='RELACIÓN DE CONTRATOS'!$N$23:$N$165)=_xlfn.CONCAT(B157,C157),\"\")),\"revise eleccion\")","v":""}]
[{"$nulls":5},{"$f":"IFERROR(VLOOKUP(E158,Listados2!$R$2:$S$647,2,0),\"\")","v":""},{"$nulls":18},{"$f":"IF(AND(Tabla14[[#This Row],[Identifique el número, modo y fecha de los pagos relacionados]]=\"\",Tabla14[[#This Row],[Nº de factura]]<>\"\"),\"1\",\"2\")","v":"2"},null,{"$f":"IFERROR(IF(OR(AND('RELACIÓN DE GASTOS'!$B158=\"\",'RELACIÓN DE GASTOS'!$C158<>\"\"),AND('RELACIÓN DE GASTOS'!$C158=\"\",'RELACIÓN DE GASTOS'!$B158<>\"\")),\"Debe introducir un contrato y número de expediente registrado en la hoja RELACIÓN DE CONTRATOS; revise los datos introducidos\",IF(_xlfn._xlws.FILTER('RELACIÓN DE CONTRATOS'!$N$23:$N$165,'RELACIÓN DE GASTOS'!$B158&'RELACIÓN DE GASTOS'!$C158='RELACIÓN DE CONTRATOS'!$N$23:$N$165)=_xlfn.CONCAT(B158,C158),\"\")),\"revise eleccion\")","v":""}]
[{"$nulls":5},{"$f":"IFERROR(VLOOKUP(E159,Listados2!$R$2:$S$647,2,0),\"\")","v":""},{"$nulls":18},{"$f":"IF(AND(Tabla14[[#This Row],[Identifique el número, modo y fecha de los pagos relacionados]]=\"\",Tabla14[[#This Row],[Nº de factura]]<>\"\"),\"1\",\"2\")","v":"2"},null,{"$f":"IFERROR(IF(OR(AND('RELACIÓN DE GASTOS'!$B159=\"\",'RELACIÓN DE GASTOS'!$C159<>\"\"),AND('RELACIÓN DE GASTOS'!$C159=\"\",'RELACIÓN DE GASTOS'!$B159<>\"\")),\"Debe introducir un contrato y número de expediente registrado en la hoja RELACIÓN DE CONTRATOS; revise los datos introducidos\",IF(_xlfn._xlws.FILTER('RELACIÓN DE CONTRATOS'!$N$23:$N$165,'RELACIÓN DE GASTOS'!$B159&'RELACIÓN DE GASTOS'!$C159='RELACIÓN DE CONTRATOS'!$N$23:$N$165)=_xlfn.CONCAT(B159,C159),\"\")),\"revise eleccion\")","v":""}]
[{"$nulls":5},{"$f":"IFERROR(VLOOKUP(E160,Listados2!$R$2:$S$647,2,0),\"\")","v":""},{"$nulls":18},{"$f":"IF(AND(Tabla14[[#This Row],[Identifique el número, modo y fecha de los pagos relacionados]]=\"\",Tabla14[[#This Row],[Nº de factura]]<>\"\"),\"1\",\"2\")","v":"2"},null,{"$f":"IFERROR(IF(OR(AND('RELACIÓN DE GASTOS'!$B160=\"\",'RELACIÓN DE GASTOS'!$C160<>\"\"),AND('RELACIÓN DE GASTOS'!$C160=\"\",'RELACIÓN DE GASTOS'!$B160<>\"\")),\"Debe introducir un contrato y número de expediente registrado en la hoja RELACIÓN DE CONTRATOS; revise los datos introducidos\",IF(_xlfn._xlws.FILTER('RELACIÓN DE CONTRATOS'!$N$23:$N$165,'RELACIÓN DE GASTOS'!$B160&'RELACIÓN DE GASTOS'!$C160='RELACIÓN DE CONTRATOS'!$N$23:$N$165)=_xlfn.CONCAT(B160,C160),\"\")),\"revise eleccion\")","v":""}]
[{"$nulls":5},{"$f":"IFERROR(VLOOKUP(E161,Listados2!$R$2:$S$647,2,0),\"\")","v":""},{"$nulls":18},{"$f":"IF(AND(Tabla14[[#This Row],[Identifique el número, modo y fecha de los pagos relacionados]]=\"\",Tabla14[[#This Row],[Nº de factura]]<>\"\"),\"1\",\"2\")","v":"2"},null,{"$f":"IFERROR(IF(OR(AND('RELACIÓN DE GASTOS'!$B161=\"\",'RELACIÓN DE GASTOS'!$C161<>\"\"),AND('RELACIÓN DE GASTOS'!$C161=\"\",'RELACIÓN DE GASTOS'!$B161<>\"\")),\"Debe introducir un contrato y número de expediente registrado en la hoja RELACIÓN DE CONTRATOS; revise los datos introducidos\",IF(_xlfn._xlws.FILTER('RELACIÓN DE CONTRATOS'!$N$23:$N$165,'RELACIÓN DE GASTOS'!$B161&'RELACIÓN DE GASTOS'!$C161='RELACIÓN DE CONTRATOS'!$N$23:$N$165)=_xlfn.CONCAT(B161,C161),\"\")),\"revise eleccion\")","v":""}]
[{"$nulls":5},{"$f":"IFERROR(VLOOKUP(E162,Listados2!$R$2:$S$647,2,0),\"\")","v":""},{"$nulls":18},{"$f":"IF(AND(Tabla14[[#This Row],[Identifique el número, modo y fecha de los pagos relacionados]]=\"\",Tabla14[[#This Row],[Nº de factura]]<>\"\"),\"1\",\"2\")","v":"2"},null,{"$f":"IFERROR(IF(OR(AND('RELACIÓN DE GASTOS'!$B162=\"\",'RELACIÓN DE GASTOS'!$C162<>\"\"),AND('RELACIÓN DE GASTOS'!$C162=\"\",'RELACIÓN DE GASTOS'!$B162<>\"\")),\"Debe introducir un contrato y número de expediente registrado en la hoja RELACIÓN DE CONTRATOS; revise los datos introducidos\",IF(_xlfn._xlws.FILTER('RELACIÓN DE CONTRATOS'!$N$23:$N$165,'RELACIÓN DE GASTOS'!$B162&'RELACIÓN DE GASTOS'!$C162='RELACIÓN DE CONTRATOS'!$N$23:$N$165)=_xlfn.CONCAT(B162,C162),\"\")),\"revise eleccion\")","v":""}]
[{"$nulls":5},{"$f":"IFERROR(VLOOKUP(E163,Listados2!$R$2:$S$647,2,0),\"\")","v":""},{"$nulls":18},{"$f":"IF(AND(Tabla14[[#This Row],[Identifique el número, modo y fecha de los pagos relacionados]]=\"\",Tabla14[[#This Row],[Nº de factura]]<>\"\"),\"1\",\"2\")","v":"2"},null,{"$f":"IFERROR(IF(OR(AND('RELACIÓN DE GASTOS'!$B163=\"\",'RELACIÓN DE GASTOS'!$C163<>\"\"),AND('RELACIÓN DE GASTOS'!$C163=\"\",'RELACIÓN DE GASTOS'!$B163<>\"\")),\"Debe introducir un contrato y número de expediente registrado en la hoja RELACIÓN DE CONTRATOS; revise los datos introducidos\",IF(_xlfn._xlws.FILTER('RELACIÓN DE CONTRATOS'!$N$23:$N$165,'RELACIÓN DE GASTOS'!$B163&'RELACIÓN DE GASTOS'!$C163='RELACIÓN DE CONTRATOS'!$N$23:$N$165)=_xlfn.CONCAT(B163,C163),\"\")),\"revise eleccion\")","v":""}]
[{"$nulls":5},{"$f":"IFERROR(VLOOKUP(E164,Listados2!$R$2:$S$647,2,0),\"\")","v":""},{"$nulls":18},{"$f":"IF(AND(Tabla14[[#This Row],[Identifique el número, modo y fecha de los pagos relacionados]]=\"\",Tabla14[[#This Row],[Nº de factura]]<>\"\"),\"1\",\"2\")","v":"2"},null,{"$f":"IFERROR(IF(OR(AND('RELACIÓN DE GASTOS'!$B164=\"\",'RELACIÓN DE GASTOS'!$C164<>\"\"),AND('RELACIÓN DE GASTOS'!$C164=\"\",'RELACIÓN DE GASTOS'!$B164<>\"\")),\"Debe introducir un contrato y número de expediente registrado en la hoja RELACIÓN DE CONTRATOS; revise los datos introducidos\",IF(_xlfn._xlws.FILTER('RELACIÓN DE CONTRATOS'!$N$23:$N$165,'RELACIÓN DE GASTOS'!$B164&'RELACIÓN DE GASTOS'!$C164='RELACIÓN DE CONTRATOS'!$N$23:$N$165)=_xlfn.CONCAT(B164,C164),\"\")),\"revise eleccion\")","v":""}]

{"sheet":"ACTUACIONES TIPO 16","index":4,"n_rows":77,"n_cols":13,"rows_kept":77,"cut":false,"hidden":false,"merged":[[22,11,27,12],[21,11,21,12],[15,6,15,8],[17,11,19,12],[7,2,7,4],[7,6,7,7],[24,17,24,20],[25,17,25,20],[17,17,19,17],[17,18,17,20],[18,18,19,18],[22,18,23,18],[22,19,23,19],[22,20,23,20]]}
[{"$nulls":11},"Categoria de vehículo solicitado","Importe unitario de la subvención según categoría de vehículo"]
[{"$nulls":11},"1.Buses eléctricos (BEV) categoría M2 ",80000]
[{"$nulls":11},"2.Buses eléctricos (BEV) categoría M3 Clase I (12 m) ",200000]
[{"$nulls":11},"3.Buses eléctricos (BEV) categoría M3 Clase I (18 m) ",260000]
[{"$nulls":11},"4.Buses impulsados por hidrógeno (FCV, FCHV) categoría M2 ",80000]
[{"$nulls":11},"5.Buses impulsados por hidrógeno (FCV, FCHV) categoría M3 Clase I (12 m) ",200000]
[{"$nulls":11},"6.Buses impulsados por hidrógeno (FCV, FCHV) categoría M3 Clase I (18 m) ",260000]
[null,"CÓDIGO EXPEDIENTE",{"$f":"IF('Pantalla de control'!H30<>\"\",'Pantalla de control'!H30,\"\")","v":""},null,null,"BENEFICIARIO",{"$f":"IF('Pantalla de control'!I30<>\"\",'Pantalla de control'!I30,\"\")","v":""},{"$nulls":4},"7.Vehículos eléctricos (BEV) categoría N2 ",90000]
[{"$nulls":11},"8.Vehículos eléctricos (BEV) categoría N3 (12 a 16 t) ",95000]
[{"$nulls":11},"9.Vehículos eléctricos (BEV) categoría N3 (>16 t) ",100000]
[{"$nulls":11},"10.Vehículos impulsado por hidrógeno (FCV, FCHV) categoría N2 ",90000]
[{"$nulls":11},"11.Vehículos impulsado por hidrógeno (FCV, FCHV) categoría N3 (12 a 16 t)",95000]
[{"$nulls":11},"12.Buses impulsados por hidrógeno (FCV, FCHV) categoría N3 (>16t)",100000]
[]
[]
[null,"Tabla a cumplimentar en caso de imputarse actuaciones de tipo 16",{"$nulls":4},"DATOS JUSTIFICACIÓN"]
[]
[null,"Código de actuación ","Nº de vehículos solicitados","Categoria de vehículos solicitados","Importe máximo subvencionable","¿Se le ha concedido alguna modificación?","Nº de vehículos justificado","Categoria de vehículo justificado","Importe máximo subvencionable","Observaciones para la mejora de la comprensión del número de vehículos y su tipología",null,"El color rojo de la columna I (\"Importe justificado por adquisicion de vehículo\"), indica una especial atención al valor dado ya que esposible que se haya producido una modificación de la solicitud. NO tiene que ser necesariamente un valor erróneo."]
[null,{"$f":"IFERROR(INDEX('Tabla vehículosII'!B:D,SMALL(IF('Tabla vehículosII'!$A$4:$A$62='Pantalla de control'!$H$30,ROW('Tabla vehículosII'!$A$4:$A$62)),ROW('Tabla vehículosII'!$A$4:$A$62)-3),1),\"\")","v":""},{"$f":"IFERROR(INDEX('Tabla vehículosII'!B:D,SMALL(IF('Tabla vehículosII'!$A$4:$A$62='Pantalla de control'!$H$30,ROW('Tabla vehículosII'!$A$4:$A$62)),ROW('Tabla vehículosII'!$A$4:$A$62)-3),2),\"\")","v":""},{"$f":"IFERROR(INDEX('Tabla vehículosII'!B:D,SMALL(IF('Tabla vehículosII'!$A$4:$A$62='Pantalla de control'!$H$30,ROW('Tabla vehículosII'!$A$4:$A$62)),ROW('Tabla vehículosII'!$A$4:$A$62)-3),3),\"\")","v":""},{"$f":"IF(AND(B19<>\"\",ISERROR(VLOOKUP(B19&'Actuaciones-gastos'!$A$24,Tabla14[Código de actuación (TAYS)]&Tabla14[Tipología de coste],1,0))=FALSE),IF(OR(B19=\"PRTRMU-21-00239 - P16_L2-20210928-1\",B19=\"PRTRMU-21-00349 - P16_L2-20211223-1\"),VLOOKUP(B19,'Tabla vehículosII'!$J$4:$L$5,3,0),IFERROR(C19*VLOOKUP(D19,$L$2:$M$13,2,0),\"\")),IF(B19=\"\",\"\",\"Debe introducir la actuación y su tipología en la hoja RELACIÓN DE GASTOS\"))","v":""},null,null,null,{"$f":"IF(AND(B19<>\"\",ISERROR(VLOOKUP(B19&'Actuaciones-gastos'!$A$24,Tabla14[Código de actuación (TAYS)]&Tabla14[Tipología de coste],1,0))=FALSE),IF(AND(H19<>\"\",OR(B19=\"PRTRMU-21-00239 - P16_L2-20210928-1\",B19=\"PRTRMU-21-00349 - P16_L2-20211223-1\")),VLOOKUP(B19,'Tabla vehículosII'!$J$4:$L$5,3,0),IFERROR(IF(AND(OR(F19=\"No\",F19=\"\"),C19=G19,D19=H19),E19,IF(F19=\"Sí\",G19*VLOOKUP(H19,$L$2:$M$13,2,0),\"\")),\"\")),IF(B19=\"\",\"\",\"Debe introducir la actuación y su tipología en la hoja RELACIÓN DE GASTOS\"))","v":""}]
[null,"","","",{"$f":"IF(AND(B20<>\"\",ISERROR(VLOOKUP(B20&'Actuaciones-gastos'!$A$24,Tabla14[Código de actuación (TAYS)]&Tabla14[Tipología de coste],1,0))=FALSE),IF(OR(B20=\"PRTRMU-21-00239 - P16_L2-20210928-1\",B20=\"PRTRMU-21-00349 - P16_L2-20211223-1\"),VLOOKUP(B20,'Tabla vehículosII'!$J$4:$L$5,3,0),IFERROR(C20*VLOOKUP(D20,$L$2:$M$13,2,0),\"\")),IF(B20=\"\",\"\",\"Debe introducir la actuación y su tipología en la hoja RELACIÓN DE GASTOS\"))","v":""},null,null,null,{"$f":"IF(AND(B20<>\"\",ISERROR(VLOOKUP(B20&'Actuaciones-gastos'!$A$24,Tabla14[Código de actuación (TAYS)]&Tabla14[Tipología de coste],1,0))=FALSE),IF(AND(H20<>\"\",OR(B20=\"PRTRMU-21-00239 - P16_L2-20210928-1\",B20=\"PRTRMU-21-00349 - P16_L2-20211223-1\")),VLOOKUP(B20,'Tabla vehículosII'!$J$4:$L$5,3,0),IFERROR(IF(AND(OR(F20=\"No\",F20=\"\"),C20=G20,D20=H20),E20,IF(F20=\"Sí\",G20*VLOOKUP(H20,$L$2:$M$13,2,0),\"\")),\"\")),IF(B20=\"\",\"\",\"Debe introducir la actuación y su tipología en la hoja RELACIÓN DE GASTOS\"))","v":""}]
[null,"","","",{"$f":"IF(AND(B21<>\"\",ISERROR(VLOOKUP(B21&'Actuaciones-gastos'!$A$24,Tabla14[Código de actuación (TAYS)]&Tabla14[Tipología de coste],1,0))=FALSE),IF(OR(B21=\"PRTRMU-21-00239 - P16_L2-20210928-1\",B21=\"PRTRMU-21-00349 - P16_L2-20211223-1\"),VLOOKUP(B21,'Tabla vehículosII'!$J$4:$L$5,3,0),IFERROR(C21*VLOOKUP(D21,$L$2:$M$13,2,0),\"\")),IF(B21=\"\",\"\",\"Debe introducir la actuación y su tipología en la hoja RELACIÓN DE GASTOS\"))","v":""},null,null,null,{"$f":"IF(AND(B21<>\"\",ISERROR(VLOOKUP(B21&'Actuaciones-gastos'!$A$24,Tabla14[Código de actuación (TAYS)]&Tabla14[Tipología de coste],1,0))=FALSE),IF(AND(H21<>\"\",OR(B21=\"PRTRMU-21-00239 - P16_L2-20210928-1\",B21=\"PRTRMU-21-00349 - P16_L2-20211223-1\")),VLOOKUP(B21,'Tabla vehículosII'!$J$4:$L$5,3,0),IFERROR(IF(AND(OR(F21=\"No\",F21=\"\"),C21=G21,D21=H21),E21,IF(F21=\"Sí\",G21*VLOOKUP(H21,$L$2:$M$13,2,0),\"\")),\"\")),IF(B21=\"\",\"\",\"Debe introducir la actuación y su tipología en la hoja RELACIÓN DE GASTOS\"))","v":""}]
[null,"","","",{"$f":"IF(AND(B22<>\"\",ISERROR(VLOOKUP(B22&'Actuaciones-gastos'!$A$24,Tabla14[Código de actuación (TAYS)]&Tabla14[Tipología de coste],1,0))=FALSE),IF(OR(B22=\"PRTRMU-21-00239 - P16_L2-20210928-1\",B22=\"PRTRMU-21-00349 - P16_L2-20211223-1\"),VLOOKUP(B22,'Tabla vehículosII'!$J$4:$L$5,3,0),IFERROR(C22*VLOOKUP(D22,$L$2:$M$13,2,0),\"\")),IF(B22=\"\",\"\",\"Debe introducir la actuación y su tipología en la hoja RELACIÓN DE GASTOS\"))","v":""},null,null,null,{"$f":"IF(AND(B22<>\"\",ISERROR(VLOOKUP(B22&'Actuaciones-gastos'!$A$24,Tabla14[Código de actuación (TAYS)]&Tabla14[Tipología de coste],1,0))=FALSE),IF(AND(H22<>\"\",OR(B22=\"PRTRMU-21-00239 - P16_L2-20210928-1\",B22=\"PRTRMU-21-00349 - P16_L2-20211223-1\")),VLOOKUP(B22,'Tabla vehículosII'!$J$4:$L$5,3,0),IFERROR(IF(AND(OR(F22=\"No\",F22=\"\"),C22=G22,D22=H22),E22,IF(F22=\"Sí\",G22*VLOOKUP(H22,$L$2:$M$13,2,0),\"\")),\"\")),IF(B22=\"\",\"\",\"Debe introducir la actuación y su tipología en la hoja RELACIÓN DE GASTOS\"))","v":""}]
[null,"","","",{"$f":"IF(AND(B23<>\"\",ISERROR(VLOOKUP(B23&'Actuaciones-gastos'!$A$24,Tabla14[Código de actuación (TAYS)]&Tabla14[Tipología de coste],1,0))=FALSE),IF(OR(B23=\"PRTRMU-21-00239 - P16_L2-20210928-1\",B23=\"PRTRMU-21-00349 - P16_L2-20211223-1\"),VLOOKUP(B23,'Tabla vehículosII'!$J$4:$L$5,3,0),IFERROR(C23*VLOOKUP(D23,$L$2:$M$13,2,0),\"\")),IF(B23=\"\",\"\",\"Debe introducir la actuación y su tipología en la hoja RELACIÓN DE GASTOS\"))","v":""},null,null,null,{"$f":"IF(AND(B23<>\"\",ISERROR(VLOOKUP(B23&'Actuaciones-gastos'!$A$24,Tabla14[Código de actuación (TAYS)]&Tabla14[Tipología de coste],1,0))=FALSE),IF(AND(H23<>\"\",OR(B23=\"PRTRMU-21-00239 - P16_L2-20210928-1\",B23=\"PRTRMU-21-00349 - P16_L2-20211223-1\")),VLOOKUP(B23,'Tabla vehículosII'!$J$4:$L$5,3,0),IFERROR(IF(AND(OR(F23=\"No\",F23=\"\"),C23=G23,D23=H23),E23,IF(F23=\"Sí\",G23*VLOOKUP(H23,$L$2:$M$13,2,0),\"\")),\"\")),IF(B23=\"\",\"\",\"Debe introducir la actuación y su tipología en la hoja RELACIÓN DE GASTOS\"))","v":""}]
[null,"","","",{"$f":"IF(AND(B24<>\"\",ISERROR(VLOOKUP(B24&'Actuaciones-gastos'!$A$24,Tabla14[Código de actuación (TAYS)]&Tabla14[Tipología de coste],1,0))=FALSE),IF(OR(B24=\"PRTRMU-21-00239 - P16_L2-20210928-1\",B24=\"PRTRMU-21-00349 - P16_L2-20211223-1\"),VLOOKUP(B24,'Tabla vehículosII'!$J$4:$L$5,3,0),IFERROR(C24*VLOOKUP(D24,$L$2:$M$13,2,0),\"\")),IF(B24=\"\",\"\",\"Debe introducir la actuación y su tipología en la hoja RELACIÓN DE GASTOS\"))","v":""},null,null,null,{"$f":"IF(AND(B24<>\"\",ISERROR(VLOOKUP(B24&'Actuaciones-gastos'!$A$24,Tabla14[Código de actuación (TAYS)]&Tabla14[Tipología de coste],1,0))=FALSE),IF(AND(H24<>\"\",OR(B24=\"PRTRMU-21-00239 - P16_L2-20210928-1\",B24=\"PRTRMU-21-00349 - P16_L2-20211223-1\")),VLOOKUP(B24,'Tabla vehículosII'!$J$4:$L$5,3,0),IFERROR(IF(AND(OR(F24=\"No\",F24=\"\"),C24=G24,D24=H24),E24,IF(F24=\"Sí\",G24*VLOOKUP(H24,$L$2:$M$13,2,0),\"\")),\"\")),IF(B24=\"\",\"\",\"Debe introducir la actuación y su tipología en la hoja RELACIÓN DE GASTOS\"))","v":""}]
[null,"","","",{"$f":"IF(AND(B25<>\"\",ISERROR(VLOOKUP(B25&'Actuaciones-gastos'!$A$24,Tabla14[Código de actuación (TAYS)]&Tabla14[Tipología de coste],1,0))=FALSE),IF(OR(B25=\"PRTRMU-21-00239 - P16_L2-20210928-1\",B25=\"PRTRMU-21-00349 - P16_L2-20211223-1\"),VLOOKUP(B25,'Tabla vehículosII'!$J$4:$L$5,3,0),IFERROR(C25*VLOOKUP(D25,$L$2:$M$13,2,0),\"\")),IF(B25=\"\",\"\",\"Debe introducir la actuación y su tipología en la hoja RELACIÓN DE GASTOS\"))","v":""},null,null,null,{"$f":"IF(AND(B25<>\"\",ISERROR(VLOOKUP(B25&'Actuaciones-gastos'!$A$24,Tabla14[Código de actuación (TAYS)]&Tabla14[Tipología de coste],1,0))=FALSE),IF(AND(H25<>\"\",OR(B25=\"PRTRMU-21-00239 - P16_L2-20210928-1\",B25=\"PRTRMU-21-00349 - P16_L2-20211223-1\")),VLOOKUP(B25,'Tabla vehículosII'!$J$4:$L$5,3,0),IFERROR(IF(AND(OR(F25=\"No\",F25=\"\"),C25=G25,D25=H25),E25,IF(F25=\"Sí\",G25*VLOOKUP(H25,$L$2:$M$13,2,0),\"\")),\"\")),IF(B25=\"\",\"\",\"Debe introducir la actuación y su tipología en la hoja RELACIÓN DE GASTOS\"))","v":""}]
[null,"","","",{"$f":"IF(AND(B26<>\"\",ISERROR(VLOOKUP(B26&'Actuaciones-gastos'!$A$24,Tabla14[Código de actuación (TAYS)]&Tabla14[Tipología de coste],1,0))=FALSE),IF(OR(B26=\"PRTRMU-21-00239 - P16_L2-20210928-1\",B26=\"PRTRMU-21-00349 - P16_L2-20211223-1\"),VLOOKUP(B26,'Tabla vehículosII'!$J$4:$L$5,3,0),IFERROR(C26*VLOOKUP(D26,$L$2:$M$13,2,0),\"\")),IF(B26=\"\",\"\",\"Debe introducir la actuación y su tipología en la hoja RELACIÓN DE GASTOS\"))","v":""},null,null,null,{"$f":"IF(AND(B26<>\"\",ISERROR(VLOOKUP(B26&'Actuaciones-gastos'!$A$24,Tabla14[Código de actuación (TAYS)]&Tabla14[Tipología de coste],1,0))=FALSE),IF(AND(H26<>\"\",OR(B26=\"PRTRMU-21-00239 - P16_L2-20210928-1\",B26=\"PRTRMU-21-00349 - P16_L2-20211223-1\")),VLOOKUP(B26,'Tabla vehículosII'!$J$4:$L$5,3,0),IFERROR(IF(AND(OR(F26=\"No\",F26=\"\"),C26=G26,D26=H26),E26,IF(F26=\"Sí\",G26*VLOOKUP(H26,$L$2:$M$13,2,0),\"\")),\"\")),IF(B26=\"\",\"\",\"Debe introducir la actuación y su tipología en la hoja RELACIÓN DE GASTOS\"))","v":""}]
[null,"","","",{"$f":"IF(AND(B27<>\"\",ISERROR(VLOOKUP(B27&'Actuaciones-gastos'!$A$24,Tabla14[Código de actuación (TAYS)]&Tabla14[Tipología de coste],1,0))=FALSE),IF(OR(B27=\"PRTRMU-21-00239 - P16_L2-20210928-1\",B27=\"PRTRMU-21-00349 - P16_L2-20211223-1\"),VLOOKUP(B27,'Tabla vehículosII'!$J$4:$L$5,3,0),IFERROR(C27*VLOOKUP(D27,$L$2:$M$13,2,0),\"\")),IF(B27=\"\",\"\",\"Debe introducir la actuación y su tipología en la hoja RELACIÓN DE GASTOS\"))","v":""},null,null,null,{"$f":"IF(AND(B27<>\"\",ISERROR(VLOOKUP(B27&'Actuaciones-gastos'!$A$24,Tabla14[Código de actuación (TAYS)]&Tabla14[Tipología de coste],1,0))=FALSE),IF(AND(H27<>\"\",OR(B27=\"PRTRMU-21-00239 - P16_L2-20210928-1\",B27=\"PRTRMU-21-00349 - P16_L2-20211223-1\")),VLOOKUP(B27,'Tabla vehículosII'!$J$4:$L$5,3,0),IFERROR(IF(AND(OR(F27=\"No\",F27=\"\"),C27=G27,D27=H27),E27,IF(F27=\"Sí\",G27*VLOOKUP(H27,$L$2:$M$13,2,0),\"\")),\"\")),IF(B27=\"\",\"\",\"Debe introducir la actuación y su tipología en la hoja RELACIÓN DE GASTOS\"))","v":""}]
[null,"","","",{"$f":"IF(AND(B28<>\"\",ISERROR(VLOOKUP(B28&'Actuaciones-gastos'!$A$24,Tabla14[Código de actuación (TAYS)]&Tabla14[Tipología de coste],1,0))=FALSE),IF(OR(B28=\"PRTRMU-21-00239 - P16_L2-20210928-1\",B28=\"PRTRMU-21-00349 - P16_L2-20211223-1\"),VLOOKUP(B28,'Tabla vehículosII'!$J$4:$L$5,3,0),IFERROR(C28*VLOOKUP(D28,$L$2:$M$13,2,0),\"\")),IF(B28=\"\",\"\",\"Debe introducir la actuación y su tipología en la hoja RELACIÓN DE GASTOS\"))","v":""},null,null,null,{"$f":"IF(AND(B28<>\"\",ISERROR(VLOOKUP(B28&'Actuaciones-gastos'!$A$24,Tabla14[Código de actuación (TAYS)]&Tabla14[Tipología de coste],1,0))=FALSE),IF(AND(H28<>\"\",OR(B28=\"PRTRMU-21-00239 - P16_L2-20210928-1\",B28=\"PRTRMU-21-00349 - P16_L2-20211223-1\")),VLOOKUP(B28,'Tabla vehículosII'!$J$4:$L$5,3,0),IFERROR(IF(AND(OR(F28=\"No\",F28=\"\"),C28=G28,D28=H28),E28,IF(F28=\"Sí\",G28*VLOOKUP(H28,$L$2:$M$13,2,0),\"\")),\"\")),IF(B28=\"\",\"\",\"Debe introducir la actuación y su tipología en la hoja RELACIÓN DE GASTOS\"))","v":""}]
[null,"","","",{"$f":"IF(AND(B29<>\"\",ISERROR(VLOOKUP(B29&'Actuaciones-gastos'!$A$24,Tabla14[Código de actuación (TAYS)]&Tabla14[Tipología de coste],1,0))=FALSE),IF(OR(B29=\"PRTRMU-21-00239 - P16_L2-20210928-1\",B29=\"PRTRMU-21-00349 - P16_L2-20211223-1\"),VLOOKUP(B29,'Tabla vehículosII'!$J$4:$L$5,3,0),IFERROR(C29*VLOOKUP(D29,$L$2:$M$13,2,0),\"\")),IF(B29=\"\",\"\",\"Debe introducir la actuación y su tipología en la hoja RELACIÓN DE GASTOS\"))","v":""},null,null,null,{"$f":"IF(AND(B29<>\"\",ISERROR(VLOOKUP(B29&'Actuaciones-gastos'!$A$24,Tabla14[Código de actuación (TAYS)]&Tabla14[Tipología de coste],1,0))=FALSE),IF(AND(H29<>\"\",OR(B29=\"PRTRMU-21-00239 - P16_L2-20210928-1\",B29=\"PRTRMU-21-00349 - P16_L2-20211223-1\")),VLOOKUP(B29,'Tabla vehículosII'!$J$4:$L$5,3,0),IFERROR(IF(AND(OR(F29=\"No\",F29=\"\"),C29=G29,D29=H29),E29,IF(F29=\"Sí\",G29*VLOOKUP(H29,$L$2:$M$13,2,0),\"\")),\"\")),IF(B29=\"\",\"\",\"Debe introducir la actuación y su tipología en la hoja RELACIÓN DE GASTOS\"))","v":""}]
[null,"","","",{"$f":"IF(AND(B30<>\"\",ISERROR(VLOOKUP(B30&'Actuaciones-gastos'!$A$24,Tabla14[Código de actuación (TAYS)]&Tabla14[Tipología de coste],1,0))=FALSE),IF(OR(B30=\"PRTRMU-21-00239 - P16_L2-20210928-1\",B30=\"PRTRMU-21-00349 - P16_L2-20211223-1\"),VLOOKUP(B30,'Tabla vehículosII'!$J$4:$L$5,3,0),IFERROR(C30*VLOOKUP(D30,$L$2:$M$13,2,0),\"\")),IF(B30=\"\",\"\",\"Debe introducir la actuación y su tipología en la hoja RELACIÓN DE GASTOS\"))","v":""},null,null,null,{"$f":"IF(AND(B30<>\"\",ISERROR(VLOOKUP(B30&'Actuaciones-gastos'!$A$24,Tabla14[Código de actuación (TAYS)]&Tabla14[Tipología de coste],1,0))=FALSE),IF(AND(H30<>\"\",OR(B30=\"PRTRMU-21-00239 - P16_L2-20210928-1\",B30=\"PRTRMU-21-00349 - P16_L2-20211223-1\")),VLOOKUP(B30,'Tabla vehículosII'!$J$4:$L$5,3,0),IFERROR(IF(AND(OR(F30=\"No\",F30=\"\"),C30=G30,D30=H30),E30,IF(F30=\"Sí\",G30*VLOOKUP(H30,$L$2:$M$13,2,0),\"\")),\"\")),IF(B30=\"\",\"\",\"Debe introducir la actuación y su tipología en la hoja RELACIÓN DE GASTOS\"))","v":""}]
[null,"","","",{"$f":"IF(AND(B31<>\"\",ISERROR(VLOOKUP(B31&'Actuaciones-gastos'!$A$24,Tabla14[Código de actuación (TAYS)]&Tabla14[Tipología de coste],1,0))=FALSE),IF(OR(B31=\"PRTRMU-21-00239 - P16_L2-20210928-1\",B31=\"PRTRMU-21-00349 - P16_L2-20211223-1\"),VLOOKUP(B31,'Tabla vehículosII'!$J$4:$L$5,3,0),IFERROR(C31*VLOOKUP(D31,$L$2:$M$13,2,0),\"\")),IF(B31=\"\",\"\",\"Debe introducir la actuación y su tipología en la hoja RELACIÓN DE GASTOS\"))","v":""},null,null,null,{"$f":"IF(AND(B31<>\"\",ISERROR(VLOOKUP(B31&'Actuaciones-gastos'!$A$24,Tabla14[Código de actuación (TAYS)]&Tabla14[Tipología de coste],1,0))=FALSE),IF(AND(H31<>\"\",OR(B31=\"PRTRMU-21-00239 - P16_L2-20210928-1\",B31=\"PRTRMU-21-00349 - P16_L2-20211223-1\")),VLOOKUP(B31,'Tabla vehículosII'!$J$4:$L$5,3,0),IFERROR(IF(AND(OR(F31=\"No\",F31=\"\"),C31=G31,D31=H31),E31,IF(F31=\"Sí\",G31*VLOOKUP(H31,$L$2:$M$13,2,0),\"\")),\"\")),IF(B31=\"\",\"\",\"Debe introducir la actuación y su tipología en la hoja RELACIÓN DE GASTOS\"))","v":""}]
[null,"","","",{"$f":"IF(AND(B32<>\"\",ISERROR(VLOOKUP(B32&'Actuaciones-gastos'!$A$24,Tabla14[Código de actuación (TAYS)]&Tabla14[Tipología de coste],1,0))=FALSE),IF(OR(B32=\"PRTRMU-21-00239 - P16_L2-20210928-1\",B32=\"PRTRMU-21-00349 - P16_L2-20211223-1\"),VLOOKUP(B32,'Tabla vehículosII'!$J$4:$L$5,3,0),IFERROR(C32*VLOOKUP(D32,$L$2:$M$13,2,0),\"\")),IF(B32=\"\",\"\",\"Debe introducir la actuación y su tipología en la hoja RELACIÓN DE GASTOS\"))","v":""},null,null,null,{"$f":"IF(AND(B32<>\"\",ISERROR(VLOOKUP(B32&'Actuaciones-gastos'!$A$24,Tabla14[Código de actuación (TAYS)]&Tabla14[Tipología de coste],1,0))=FALSE),IF(AND(H32<>\"\",OR(B32=\"PRTRMU-21-00239 - P16_L2-20210928-1\",B32=\"PRTRMU-21-00349 - P16_L2-20211223-1\")),VLOOKUP(B32,'Tabla vehículosII'!$J$4:$L$5,3,0),IFERROR(IF(AND(OR(F32=\"No\",F32=\"\"),C32=G32,D32=H32),E32,IF(F32=\"Sí\",G32*VLOOKUP(H32,$L$2:$M$13,2,0),\"\")),\"\")),IF(B32=\"\",\"\",\"Debe introducir la actuación y su tipología en la hoja RELACIÓN DE GASTOS\"))","v":""}]
[null,"","","",{"$f":"IF(AND(B33<>\"\",ISERROR(VLOOKUP(B33&'Actuaciones-gastos'!$A$24,Tabla14[Código de actuación (TAYS)]&Tabla14[Tipología de coste],1,0))=FALSE),IF(OR(B33=\"PRTRMU-21-00239 - P16_L2-20210928-1\",B33=\"PRTRMU-21-00349 - P16_L2-20211223-1\"),VLOOKUP(B33,'Tabla vehículosII'!$J$4:$L$5,3,0),IFERROR(C33*VLOOKUP(D33,$L$2:$M$13,2,0),\"\")),IF(B33=\"\",\"\",\"Debe introducir la actuación y su tipología en la hoja RELACIÓN DE GASTOS\"))","v":""},null,null,null,{"$f":"IF(AND(B33<>\"\",ISERROR(VLOOKUP(B33&'Actuaciones-gastos'!$A$24,Tabla14[Código de actuación (TAYS)]&Tabla14[Tipología de coste],1,0))=FALSE),IF(AND(H33<>\"\",OR(B33=\"PRTRMU-21-00239 - P16_L2-20210928-1\",B33=\"PRTRMU-21-00349 - P16_L2-20211223-1\")),VLOOKUP(B33,'Tabla vehículosII'!$J$4:$L$5,3,0),IFERROR(IF(AND(OR(F33=\"No\",F33=\"\"),C33=G33,D33=H33),E33,IF(F33=\"Sí\",G33*VLOOKUP(H33,$L$2:$M$13,2,0),\"\")),\"\")),IF(B33=\"\",\"\",\"Debe introducir la actuación y su tipología en la hoja RELACIÓN DE GASTOS\"))","v":""}]
[null,"","","",{"$f":"IF(AND(B34<>\"\",ISERROR(VLOOKUP(B34&'Actuaciones-gastos'!$A$24,Tabla14[Código de actuación (TAYS)]&Tabla14[Tipología de coste],1,0))=FALSE),IF(OR(B34=\"PRTRMU-21-00239 - P16_L2-20210928-1\",B34=\"PRTRMU-21-00349 - P16_L2-20211223-1\"),VLOOKUP(B34,'Tabla vehículosII'!$J$4:$L$5,3,0),IFERROR(C34*VLOOKUP(D34,$L$2:$M$13,2,0),\"\")),IF(B34=\"\",\"\",\"Debe introducir la actuación y su tipología en la hoja RELACIÓN DE GASTOS\"))","v":""},null,null,null,{"$f":"IF(AND(B34<>\"\",ISERROR(VLOOKUP(B34&'Actuaciones-gastos'!$A$24,Tabla14[Código de actuación (TAYS)]&Tabla14[Tipología de coste],1,0))=FALSE),IF(AND(H34<>\"\",OR(B34=\"PRTRMU-21-00239 - P16_L2-20210928-1\",B34=\"PRTRMU-21-00349 - P16_L2-20211223-1\")),VLOOKUP(B34,'Tabla vehículosII'!$J$4:$L$5,3,0),IFERROR(IF(AND(OR(F34=\"No\",F34=\"\"),C34=G34,D34=H34),E34,IF(F34=\"Sí\",G34*VLOOKUP(H34,$L$2:$M$13,2,0),\"\")),\"\")),IF(B34=\"\",\"\",\"Debe introducir la actuación y su tipología en la hoja RELACIÓN DE GASTOS\"))","v":""}]
[null,"","","",{"$f":"IF(AND(B35<>\"\",ISERROR(VLOOKUP(B35&'Actuaciones-gastos'!$A$24,Tabla14[Código de actuación (TAYS)]&Tabla14[Tipología de coste],1,0))=FALSE),IF(OR(B35=\"PRTRMU-21-00239 - P16_L2-20210928-1\",B35=\"PRTRMU-21-00349 - P16_L2-20211223-1\"),VLOOKUP(B35,'Tabla vehículosII'!$J$4:$L$5,3,0),IFERROR(C35*VLOOKUP(D35,$L$2:$M$13,2,0),\"\")),IF(B35=\"\",\"\",\"Debe introducir la actuación y su tipología en la hoja RELACIÓN DE GASTOS\"))","v":""},null,null,null,{"$f":"IF(AND(B35<>\"\",ISERROR(VLOOKUP(B35&'Actuaciones-gastos'!$A$24,Tabla14[Código de actuación (TAYS)]&Tabla14[Tipología de coste],1,0))=FALSE),IF(AND(H35<>\"\",OR(B35=\"PRTRMU-21-00239 - P16_L2-20210928-1\",B35=\"PRTRMU-21-00349 - P16_L2-20211223-1\")),VLOOKUP(B35,'Tabla vehículosII'!$J$4:$L$5,3,0),IFERROR(IF(AND(OR(F35=\"No\",F35=\"\"),C35=G35,D35=H35),E35,IF(F35=\"Sí\",G35*VLOOKUP(H35,$L$2:$M$13,2,0),\"\")),\"\")),IF(B35=\"\",\"\",\"Debe introducir la actuación y su tipología en la hoja RELACIÓN DE GASTOS\"))","v":""}]
[null,"","",""]
[null,"","",""]
[null,"","",""]
[null,"","",""]
[null,"","",""]
[null,"","",""]
[null,"","",""]
[null,"","",""]
[null,"","",""]
[null,"","",""]
[null,"","",""]
[null,"","",""]
[null,"","",""]
[null,"","",""]
[null,"","",""]
[null,"","",""]
[null,"","",""]
[null,"","",""]
[null,"","",""]
[null,"","",""]
[null,"","",""]
[null,"","",""]
[null,"","",""]
[null,"","",""]
[null,"","",""]
[null,"","",""]
[null,"","",""]
[null,"","",""]
[null,"","",""]
[null,"","",""]
[null,"","",""]
[null,"","",""]
[null,"","",""]
[null,"","",""]
[null,"","",""]
[null,"","",""]
[null,"","",""]
[null,"","",""]
[null,"","",""]
[null,"","",""]
[null,"","",""]
[null,"","",""]

{"sheet":"TOTAL GASTOS","index":5,"n_rows":195,"n_cols":19,"rows_kept":195,"cut":false,"hidden":false,"merged":[[12,1,13,4],[12,6,13,8],[12,10,13,11],[11,1,11,2],[0,2,1,4],[3,1,3,2],[6,1,7,1],[6,2,7,2],[6,3,7,3],[6,4,7,4],[6,5,7,5]]}
[]
[]
[]
[]
[]
[null,"CÓDIGO EXPEDIENTE","BENEFICIARIO","CIF","IMPORTE TOTAL OTORGADO","CONVOCATORIA"]
[null,{"$f":"IF('Pantalla de control'!H30<>\"\",'Pantalla de control'!H30,\"\")","v":""},{"$f":"IFERROR(VLOOKUP($B$7,Listados2!$K$2:$N$180,2,0),\"\")","v":""},{"$f":"IFERROR(VLOOKUP($B$7,Listados2!$K$2:$N$180,3,0),\"\")","v":""},{"$f":"IFERROR(VLOOKUP($B$7,Listados2!$K$2:$N$180,4,0),\"\")","v":""},{"$f":"IF(B7<>\"\",\"2021\",\"\")","v":""}]
[]
[]
[]
[]
[null,"TOTAL COSTES EXPEDIENTE",null,{"$f":"SUM($D$17:$D$180)","v":0},{"$f":"SUM($E$17:$E$180)","v":0},null,"TOTAL COSTES EXPEDIENTE",{"$f":"SUM(H16:H36)","v":0},{"$f":"SUM(I17:I36)","v":0}]
[null,"Resumen de gastos incurridos por tipología de coste subvencionable por actuación",{"$nulls":4},"Resumen de gastos incurridos por actuación",null,null,null,"Resumen de gastos incurridos por tipología de coste subvencionable"]
[]
[null,"Código de actuación","Tipología de coste","Importe imputado ","Importe máximo a subvencionar",null,"Código de actuación","Importe imputado ","Importe máximo a subvencionar",null,"Tipología de coste por expediente","Importe imputado "]
[{"$nulls":16},{"$f":"'RELACIÓN DE GASTOS'!E22&\"(\"&'RELACIÓN DE GASTOS'!G22","v":"("},null,{"$f":"_xlfn._xlws.SORT(_xlfn.UNIQUE($Q$16:$Q$195))","v":"("}]
[null,{"$f":"IF(AND(LEN(S17)>5,ISERROR(SEARCH(\"PRTR\",S17))=TRUE),\"Ha intoducido una tipología de gasto sin código de actuación asociado en la hoja de RELACIÓN DE GASTOS\",LEFT(S17,35))","v":""},{"$f":"IF(AND(Tabla15[[#This Row],[Código de actuación]]=\"Ha intoducido una tipología de gasto sin código de actuación asociado en la hoja de RELACIÓN DE GASTOS\",LEN(S17)>10),MID(S17,2,10000),IF(AND(Tabla15[[#This Row],[Código de actuación]]<>\"\",LEN(S17)<38),\"Ha introducido un número de actuación sin tipología asociada en la hoja RELACIÓN DE GASTOS\",MID(S17,37,10000)))","v":""},{"$f":"IF(OR(Tabla15[[#This Row],[Código de actuación]]=\"\",Tabla15[[#This Row],[Tipología de coste]]=\"\"),\"\",SUMIFS('RELACIÓN DE GASTOS'!$R$22:$R$164,'RELACIÓN DE GASTOS'!$G$22:$G$164,C17,'RELACIÓN DE GASTOS'!$E$22:$E$164,B17))","v":""},{"$f":"IF(OR(Tabla15[[#This Row],[Código de actuación]]=\"\",Tabla15[[#This Row],[Tipología de coste]]=\"\"),\"\",IF(AND(C17='Actuaciones-gastos'!$A$24,ISERROR(SEARCH(\"P16\", B17))=FALSE),SUM(_xlfn._xlws.FILTER('ACTUACIONES TIPO 16'!$I$19:$I$35,'ACTUACIONES TIPO 16'!$B$19:$B$35='TOTAL GASTOS'!B17,\"\")),(0.9*D17)))","v":""},null,{"$f":"IFERROR(INDEX($B$17:$B$180, MATCH(0, INDEX(COUNTIF($G$15:G16, $B$17:$B$180), 0, 0),0)), \"\")","v":""},{"$f":"IF(Tabla16[[#This Row],[Código de actuación]]=\"\",\"\",SUMIF('TOTAL GASTOS'!$B$17:$B$180,G17,'TOTAL GASTOS'!$D$17:$D$180))","v":""},{"$f":"IF(Tabla16[[#This Row],[Código de actuación]]=\"\",\"\",SUMIF($B$16:$B$180,G17,$E$16:$E$180))","v":""},null,"Contrataciones externas: gestión, ingeniería, implementación, seguimiento y obra civil",{"$f":"SUMIF('RELACIÓN DE GASTOS'!$G$22:$G$164,'TOTAL GASTOS'!K17,'RELACIÓN DE GASTOS'!$R$22:$R$164)","v":0},{"$nulls":4},{"$f":"'RELACIÓN DE GASTOS'!E23&\"(\"&'RELACIÓN DE GASTOS'!G23","v":"("}]
[null,{"$f":"IF(AND(LEN(S18)>5,ISERROR(SEARCH(\"PRTR\",S18))=TRUE),\"Ha intoducido una tipología de gasto sin código de actuación asociado en la hoja de RELACIÓN DE GASTOS\",LEFT(S18,35))","v":""},{"$f":"IF(AND(Tabla15[[#This Row],[Código de actuación]]=\"Ha intoducido una tipología de gasto sin código de actuación asociado en la hoja de RELACIÓN DE GASTOS\",LEN(S18)>10),MID(S18,2,10000),IF(AND(Tabla15[[#This Row],[Código de actuación]]<>\"\",LEN(S18)<38),\"Ha introducido un número de actuación sin tipología asociada en la hoja RELACIÓN DE GASTOS\",MID(S18,37,10000)))","v":""},{"$f":"IF(OR(Tabla15[[#This Row],[Código de actuación]]=\"\",Tabla15[[#This Row],[Tipología de coste]]=\"\"),\"\",SUMIFS('RELACIÓN DE GASTOS'!$R$22:$R$164,'RELACIÓN DE GASTOS'!$G$22:$G$164,C18,'RELACIÓN DE GASTOS'!$E$22:$E$164,B18))","v":""},{"$f":"IF(OR(Tabla15[[#This Row],[Código de actuación]]=\"\",Tabla15[[#This Row],[Tipología de coste]]=\"\"),\"\",IF(AND(C18='Actuaciones-gastos'!$A$24,ISERROR(SEARCH(\"P16\", B18))=FALSE),SUM(_xlfn._xlws.FILTER('ACTUACIONES TIPO 16'!$I$19:$I$35,'ACTUACIONES TIPO 16'!$B$19:$B$35='TOTAL GASTOS'!B18,\"\")),(0.9*D18)))","v":""},null,{"$f":"IFERROR(INDEX($B$17:$B$180, MATCH(0, INDEX(COUNTIF($G$15:G17, $B$17:$B$180), 0, 0),0)), \"\")","v":""},{"$f":"IF(Tabla16[[#This Row],[Código de actuación]]=\"\",\"\",SUMIF('TOTAL GASTOS'!$B$17:$B$180,G18,'TOTAL GASTOS'!$D$17:$D$180))","v":""},{"$f":"IF(Tabla16[[#This Row],[Código de actuación]]=\"\",\"\",SUMIF($B$16:$B$180,G18,$E$16:$E$180))","v":""},null,"Contratos de compra, leasing, renting y adquisición de vehículos",{"$f":"SUMIF('RELACIÓN DE GASTOS'!$G$22:$G$164,'TOTAL GASTOS'!K18,'RELACIÓN DE GASTOS'!$R$22:$R$164)","v":0},{"$nulls":4},{"$f":"'RELACIÓN DE GASTOS'!E24&\"(\"&'RELACIÓN DE GASTOS'!G24","v":"("}]
[null,"",{"$f":"IF(AND(Tabla15[[#This Row],[Código de actuación]]=\"Ha intoducido una tipología de gasto sin código de actuación asociado en la hoja de RELACIÓN DE GASTOS\",LEN(S19)>10),MID(S19,2,10000),IF(AND(Tabla15[[#This Row],[Código de actuación]]<>\"\",LEN(S19)<38),\"Ha introducido un número de actuación sin tipología asociada en la hoja RELACIÓN DE GASTOS\",MID(S19,37,10000)))","v":""},{"$f":"IF(OR(Tabla15[[#This Row],[Código de actuación]]=\"\",Tabla15[[#This Row],[Tipología de coste]]=\"\"),\"\",SUMIFS('RELACIÓN DE GASTOS'!$R$22:$R$164,'RELACIÓN DE GASTOS'!$G$22:$G$164,C19,'RELACIÓN DE GASTOS'!$E$22:$E$164,B19))","v":""},{"$f":"IF(OR(Tabla15[[#This Row],[Código de actuación]]=\"\",Tabla15[[#This Row],[Tipología de coste]]=\"\"),\"\",IF(AND(C19='Actuaciones-gastos'!$A$24,ISERROR(SEARCH(\"P16\", B19))=FALSE),SUM(_xlfn._xlws.FILTER('ACTUACIONES TIPO 16'!$I$19:$I$35,'ACTUACIONES TIPO 16'!$B$19:$B$35='TOTAL GASTOS'!B19,\"\")),(0.9*D19)))","v":""},null,{"$f":"IFERROR(INDEX($B$17:$B$180, MATCH(0, INDEX(COUNTIF($G$15:G18, $B$17:$B$180), 0, 0),0)), \"\")","v":""},{"$f":"IF(Tabla16[[#This Row],[Código de actuación]]=\"\",\"\",SUMIF('TOTAL GASTOS'!$B$17:$B$180,G19,'TOTAL GASTOS'!$D$17:$D$180))","v":""},{"$f":"IF(Tabla16[[#This Row],[Código de actuación]]=\"\",\"\",SUMIF($B$16:$B$180,G19,$E$16:$E$180))","v":""},null,"Contratos de compra de equipos, incluyendo equipamiento tecnológico y equipos informáticos",{"$f":"SUMIF('RELACIÓN DE GASTOS'!$G$22:$G$164,'TOTAL GASTOS'!K19,'RELACIÓN DE GASTOS'!$R$22:$R$164)","v":0},{"$nulls":4},{"$f":"'RELACIÓN DE GASTOS'!E25&\"(\"&'RELACIÓN DE GASTOS'!G25","v":"("}]
[null,"",{"$f":"IF(AND(Tabla15[[#This Row],[Código de actuación]]=\"Ha intoducido una tipología de gasto sin código de actuación asociado en la hoja de RELACIÓN DE GASTOS\",LEN(S20)>10),MID(S20,2,10000),IF(AND(Tabla15[[#This Row],[Código de actuación]]<>\"\",LEN(S20)<38),\"Ha introducido un número de actuación sin tipología asociada en la hoja RELACIÓN DE GASTOS\",MID(S20,37,10000)))","v":""},{"$f":"IF(OR(Tabla15[[#This Row],[Código de actuación]]=\"\",Tabla15[[#This Row],[Tipología de coste]]=\"\"),\"\",SUMIFS('RELACIÓN DE GASTOS'!$R$22:$R$164,'RELACIÓN DE GASTOS'!$G$22:$G$164,C20,'RELACIÓN DE GASTOS'!$E$22:$E$164,B20))","v":""},{"$f":"IF(OR(Tabla15[[#This Row],[Código de actuación]]=\"\",Tabla15[[#This Row],[Tipología de coste]]=\"\"),\"\",IF(AND(C20='Actuaciones-gastos'!$A$24,ISERROR(SEARCH(\"P16\", B20))=FALSE),SUM(_xlfn._xlws.FILTER('ACTUACIONES TIPO 16'!$I$19:$I$35,'ACTUACIONES TIPO 16'!$B$19:$B$35='TOTAL GASTOS'!B20,\"\")),(0.9*D20)))","v":""},null,{"$f":"IFERROR(INDEX($B$17:$B$180, MATCH(0, INDEX(COUNTIF($G$15:G19, $B$17:$B$180), 0, 0),0)), \"\")","v":""},{"$f":"IF(Tabla16[[#This Row],[Código de actuación]]=\"\",\"\",SUMIF('TOTAL GASTOS'!$B$17:$B$180,G20,'TOTAL GASTOS'!$D$17:$D$180))","v":""},{"$f":"IF(Tabla16[[#This Row],[Código de actuación]]=\"\",\"\",SUMIF($B$16:$B$180,G20,$E$16:$E$180))","v":""},null,"Adquisición de licencias de software de carácter especializado",{"$f":"SUMIF('RELACIÓN DE GASTOS'!$G$22:$G$164,'TOTAL GASTOS'!K20,'RELACIÓN DE GASTOS'!$R$22:$R$164)","v":0},{"$nulls":4},{"$f":"'RELACIÓN DE GASTOS'!E26&\"(\"&'RELACIÓN DE GASTOS'!G26","v":"("}]
[null,"",{"$f":"IF(AND(Tabla15[[#This Row],[Código de actuación]]=\"Ha intoducido una tipología de gasto sin código de actuación asociado en la hoja de RELACIÓN DE GASTOS\",LEN(S21)>10),MID(S21,2,10000),IF(AND(Tabla15[[#This Row],[Código de actuación]]<>\"\",LEN(S21)<38),\"Ha introducido un número de actuación sin tipología asociada en la hoja RELACIÓN DE GASTOS\",MID(S21,37,10000)))","v":""},{"$f":"IF(OR(Tabla15[[#This Row],[Código de actuación]]=\"\",Tabla15[[#This Row],[Tipología de coste]]=\"\"),\"\",SUMIFS('RELACIÓN DE GASTOS'!$R$22:$R$164,'RELACIÓN DE GASTOS'!$G$22:$G$164,C21,'RELACIÓN DE GASTOS'!$E$22:$E$164,B21))","v":""},{"$f":"IF(OR(Tabla15[[#This Row],[Código de actuación]]=\"\",Tabla15[[#This Row],[Tipología de coste]]=\"\"),\"\",IF(AND(C21='Actuaciones-gastos'!$A$24,ISERROR(SEARCH(\"P16\", B21))=FALSE),SUM(_xlfn._xlws.FILTER('ACTUACIONES TIPO 16'!$I$19:$I$35,'ACTUACIONES TIPO 16'!$B$19:$B$35='TOTAL GASTOS'!B21,\"\")),(0.9*D21)))","v":""},null,{"$f":"IFERROR(INDEX($B$17:$B$180, MATCH(0, INDEX(COUNTIF($G$15:G20, $B$17:$B$180), 0, 0),0)), \"\")","v":""},{"$f":"IF(Tabla16[[#This Row],[Código de actuación]]=\"\",\"\",SUMIF('TOTAL GASTOS'!$B$17:$B$180,G21,'TOTAL GASTOS'!$D$17:$D$180))","v":""},{"$f":"IF(Tabla16[[#This Row],[Código de actuación]]=\"\",\"\",SUMIF($B$16:$B$180,G21,$E$16:$E$180))","v":""},null,"Contrataciones externas: consultoría dentro de una actuación",{"$f":"SUMIF('RELACIÓN DE GASTOS'!$G$22:$G$164,'TOTAL GASTOS'!K21,'RELACIÓN DE GASTOS'!$R$22:$R$164)","v":0},{"$nulls":4},{"$f":"'RELACIÓN DE GASTOS'!E27&\"(\"&'RELACIÓN DE GASTOS'!G27","v":"("}]
[null,"",{"$f":"IF(AND(Tabla15[[#This Row],[Código de actuación]]=\"Ha intoducido una tipología de gasto sin código de actuación asociado en la hoja de RELACIÓN DE GASTOS\",LEN(S22)>10),MID(S22,2,10000),IF(AND(Tabla15[[#This Row],[Código de actuación]]<>\"\",LEN(S22)<38),\"Ha introducido un número de actuación sin tipología asociada en la hoja RELACIÓN DE GASTOS\",MID(S22,37,10000)))","v":""},{"$f":"IF(OR(Tabla15[[#This Row],[Código de actuación]]=\"\",Tabla15[[#This Row],[Tipología de coste]]=\"\"),\"\",SUMIFS('RELACIÓN DE GASTOS'!$R$22:$R$164,'RELACIÓN DE GASTOS'!$G$22:$G$164,C22,'RELACIÓN DE GASTOS'!$E$22:$E$164,B22))","v":""},{"$f":"IF(OR(Tabla15[[#This Row],[Código de actuación]]=\"\",Tabla15[[#This Row],[Tipología de coste]]=\"\"),\"\",IF(AND(C22='Actuaciones-gastos'!$A$24,ISERROR(SEARCH(\"P16\", B22))=FALSE),SUM(_xlfn._xlws.FILTER('ACTUACIONES TIPO 16'!$I$19:$I$35,'ACTUACIONES TIPO 16'!$B$19:$B$35='TOTAL GASTOS'!B22,\"\")),(0.9*D22)))","v":""},null,{"$f":"IFERROR(INDEX($B$17:$B$180, MATCH(0, INDEX(COUNTIF($G$15:G21, $B$17:$B$180), 0, 0),0)), \"\")","v":""},{"$f":"IF(Tabla16[[#This Row],[Código de actuación]]=\"\",\"\",SUMIF('TOTAL GASTOS'!$B$17:$B$180,G22,'TOTAL GASTOS'!$D$17:$D$180))","v":""},{"$f":"IF(Tabla16[[#This Row],[Código de actuación]]=\"\",\"\",SUMIF($B$16:$B$180,G22,$E$16:$E$180))","v":""},null,"Contrataciones externas: asesoramiento legal, notaría, asesoramiento técnico o financiero, contabilidad o auditoría",{"$f":"SUMIF('RELACIÓN DE GASTOS'!$G$22:$G$164,'TOTAL GASTOS'!K22,'RELACIÓN DE GASTOS'!$R$22:$R$164)","v":0},{"$nulls":4},{"$f":"'RELACIÓN DE GASTOS'!E28&\"(\"&'RELACIÓN DE GASTOS'!G28","v":"("}]
[null,"",{"$f":"IF(AND(Tabla15[[#This Row],[Código de actuación]]=\"Ha intoducido una tipología de gasto sin código de actuación asociado en la hoja de RELACIÓN DE GASTOS\",LEN(S23)>10),MID(S23,2,10000),IF(AND(Tabla15[[#This Row],[Código de actuación]]<>\"\",LEN(S23)<38),\"Ha introducido un número de actuación sin tipología asociada en la hoja RELACIÓN DE GASTOS\",MID(S23,37,10000)))","v":""},{"$f":"IF(OR(Tabla15[[#This Row],[Código de actuación]]=\"\",Tabla15[[#This Row],[Tipología de coste]]=\"\"),\"\",SUMIFS('RELACIÓN DE GASTOS'!$R$22:$R$164,'RELACIÓN DE GASTOS'!$G$22:$G$164,C23,'RELACIÓN DE GASTOS'!$E$22:$E$164,B23))","v":""},{"$f":"IF(OR(Tabla15[[#This Row],[Código de actuación]]=\"\",Tabla15[[#This Row],[Tipología de coste]]=\"\"),\"\",IF(AND(C23='Actuaciones-gastos'!$A$24,ISERROR(SEARCH(\"P16\", B23))=FALSE),SUM(_xlfn._xlws.FILTER('ACTUACIONES TIPO 16'!$I$19:$I$35,'ACTUACIONES TIPO 16'!$B$19:$B$35='TOTAL GASTOS'!B23,\"\")),(0.9*D23)))","v":""},null,{"$f":"IFERROR(INDEX($B$17:$B$180, MATCH(0, INDEX(COUNTIF($G$15:G22, $B$17:$B$180), 0, 0),0)), \"\")","v":""},{"$f":"IF(Tabla16[[#This Row],[Código de actuación]]=\"\",\"\",SUMIF('TOTAL GASTOS'!$B$17:$B$180,G23,'TOTAL GASTOS'!$D$17:$D$180))","v":""},{"$f":"IF(Tabla16[[#This Row],[Código de actuación]]=\"\",\"\",SUMIF($B$16:$B$180,G23,$E$16:$E$180))","v":""},null,"Gastos para actuaciones de comunicación",{"$f":"SUMIF('RELACIÓN DE GASTOS'!$G$22:$G$164,'TOTAL GASTOS'!K23,'RELACIÓN DE GASTOS'!$R$22:$R$164)","v":0},{"$nulls":4},{"$f":"'RELACIÓN DE GASTOS'!E29&\"(\"&'RELACIÓN DE GASTOS'!G29","v":"("}]
[null,"",{"$f":"IF(AND(Tabla15[[#This Row],[Código de actuación]]=\"Ha intoducido una tipología de gasto sin código de actuación asociado en la hoja de RELACIÓN DE GASTOS\",LEN(S24)>10),MID(S24,2,10000),IF(AND(Tabla15[[#This Row],[Código de actuación]]<>\"\",LEN(S24)<38),\"Ha introducido un número de actuación sin tipología asociada en la hoja RELACIÓN DE GASTOS\",MID(S24,37,10000)))","v":""},{"$f":"IF(OR(Tabla15[[#This Row],[Código de actuación]]=\"\",Tabla15[[#This Row],[Tipología de coste]]=\"\"),\"\",SUMIFS('RELACIÓN DE GASTOS'!$R$22:$R$164,'RELACIÓN DE GASTOS'!$G$22:$G$164,C24,'RELACIÓN DE GASTOS'!$E$22:$E$164,B24))","v":""},{"$f":"IF(OR(Tabla15[[#This Row],[Código de actuación]]=\"\",Tabla15[[#This Row],[Tipología de coste]]=\"\"),\"\",IF(AND(C24='Actuaciones-gastos'!$A$24,ISERROR(SEARCH(\"P16\", B24))=FALSE),SUM(_xlfn._xlws.FILTER('ACTUACIONES TIPO 16'!$I$19:$I$35,'ACTUACIONES TIPO 16'!$B$19:$B$35='TOTAL GASTOS'!B24,\"\")),(0.9*D24)))","v":""},null,{"$f":"IFERROR(INDEX($B$17:$B$180, MATCH(0, INDEX(COUNTIF($G$15:G23, $B$17:$B$180), 0, 0),0)), \"\")","v":""},{"$f":"IF(Tabla16[[#This Row],[Código de actuación]]=\"\",\"\",SUMIF('TOTAL GASTOS'!$B$17:$B$180,G24,'TOTAL GASTOS'!$D$17:$D$180))","v":""},{"$f":"IF(Tabla16[[#This Row],[Código de actuación]]=\"\",\"\",SUMIF($B$16:$B$180,G24,$E$16:$E$180))","v":""},null,"TOTAL GASTOS ",{"$f":"SUM($L$17:$L$23)","v":0},{"$nulls":4},{"$f":"'RELACIÓN DE GASTOS'!E30&\"(\"&'RELACIÓN DE GASTOS'!G30","v":"("}]
[null,"",{"$f":"IF(AND(Tabla15[[#This Row],[Código de actuación]]=\"Ha intoducido una tipología de gasto sin código de actuación asociado en la hoja de RELACIÓN DE GASTOS\",LEN(S25)>10),MID(S25,2,10000),IF(AND(Tabla15[[#This Row],[Código de actuación]]<>\"\",LEN(S25)<38),\"Ha introducido un número de actuación sin tipología asociada en la hoja RELACIÓN DE GASTOS\",MID(S25,37,10000)))","v":""},{"$f":"IF(OR(Tabla15[[#This Row],[Código de actuación]]=\"\",Tabla15[[#This Row],[Tipología de coste]]=\"\"),\"\",SUMIFS('RELACIÓN DE GASTOS'!$R$22:$R$164,'RELACIÓN DE GASTOS'!$G$22:$G$164,C25,'RELACIÓN DE GASTOS'!$E$22:$E$164,B25))","v":""},{"$f":"IF(OR(Tabla15[[#This Row],[Código de actuación]]=\"\",Tabla15[[#This Row],[Tipología de coste]]=\"\"),\"\",IF(AND(C25='Actuaciones-gastos'!$A$24,ISERROR(SEARCH(\"P16\", B25))=FALSE),SUM(_xlfn._xlws.FILTER('ACTUACIONES TIPO 16'!$I$19:$I$35,'ACTUACIONES TIPO 16'!$B$19:$B$35='TOTAL GASTOS'!B25,\"\")),(0.9*D25)))","v":""},null,{"$f":"IFERROR(INDEX($B$17:$B$180, MATCH(0, INDEX(COUNTIF($G$15:G24, $B$17:$B$180), 0, 0),0)), \"\")","v":""},{"$f":"IF(Tabla16[[#This Row],[Código de actuación]]=\"\",\"\",SUMIF('TOTAL GASTOS'!$B$17:$B$180,G25,'TOTAL GASTOS'!$D$17:$D$180))","v":""},{"$f":"IF(Tabla16[[#This Row],[Código de actuación]]=\"\",\"\",SUMIF($B$16:$B$180,G25,$E$16:$E$180))","v":""},{"$nulls":7},{"$f":"'RELACIÓN DE GASTOS'!E31&\"(\"&'RELACIÓN DE GASTOS'!G31","v":"("}]
[null,"",{"$f":"IF(AND(Tabla15[[#This Row],[Código de actuación]]=\"Ha intoducido una tipología de gasto sin código de actuación asociado en la hoja de RELACIÓN DE GASTOS\",LEN(S26)>10),MID(S26,2,10000),IF(AND(Tabla15[[#This Row],[Código de actuación]]<>\"\",LEN(S26)<38),\"Ha introducido un número de actuación sin tipología asociada en la hoja RELACIÓN DE GASTOS\",MID(S26,37,10000)))","v":""},{"$f":"IF(OR(Tabla15[[#This Row],[Código de actuación]]=\"\",Tabla15[[#This Row],[Tipología de coste]]=\"\"),\"\",SUMIFS('RELACIÓN DE GASTOS'!$R$22:$R$164,'RELACIÓN DE GASTOS'!$G$22:$G$164,C26,'RELACIÓN DE GASTOS'!$E$22:$E$164,B26))","v":""},{"$f":"IF(OR(Tabla15[[#This Row],[Código de actuación]]=\"\",Tabla15[[#This Row],[Tipología de coste]]=\"\"),\"\",IF(AND(C26='Actuaciones-gastos'!$A$24,ISERROR(SEARCH(\"P16\", B26))=FALSE),SUM(_xlfn._xlws.FILTER('ACTUACIONES TIPO 16'!$I$19:$I$35,'ACTUACIONES TIPO 16'!$B$19:$B$35='TOTAL GASTOS'!B26,\"\")),(0.9*D26)))","v":""},null,{"$f":"IFERROR(INDEX($B$17:$B$180, MATCH(0, INDEX(COUNTIF($G$15:G25, $B$17:$B$180), 0, 0),0)), \"\")","v":""},{"$f":"IF(Tabla16[[#This Row],[Código de actuación]]=\"\",\"\",SUMIF('TOTAL GASTOS'!$B$17:$B$180,G26,'TOTAL GASTOS'!$D$17:$D$180))","v":""},{"$f":"IF(Tabla16[[#This Row],[Código de actuación]]=\"\",\"\",SUMIF($B$16:$B$180,G26,$E$16:$E$180))","v":""},{"$nulls":7},{"$f":"'RELACIÓN DE GASTOS'!E32&\"(\"&'RELACIÓN DE GASTOS'!G32","v":"("}]
[null,"",{"$f":"IF(AND(Tabla15[[#This Row],[Código de actuación]]=\"Ha intoducido una tipología de gasto sin código de actuación asociado en la hoja de RELACIÓN DE GASTOS\",LEN(S27)>10),MID(S27,2,10000),IF(AND(Tabla15[[#This Row],[Código de actuación]]<>\"\",LEN(S27)<38),\"Ha introducido un número de actuación sin tipología asociada en la hoja RELACIÓN DE GASTOS\",MID(S27,37,10000)))","v":""},{"$f":"IF(OR(Tabla15[[#This Row],[Código de actuación]]=\"\",Tabla15[[#This Row],[Tipología de coste]]=\"\"),\"\",SUMIFS('RELACIÓN DE GASTOS'!$R$22:$R$164,'RELACIÓN DE GASTOS'!$G$22:$G$164,C27,'RELACIÓN DE GASTOS'!$E$22:$E$164,B27))","v":""},{"$f":"IF(OR(Tabla15[[#This Row],[Código de actuación]]=\"\",Tabla15[[#This Row],[Tipología de coste]]=\"\"),\"\",IF(AND(C27='Actuaciones-gastos'!$A$24,ISERROR(SEARCH(\"P16\", B27))=FALSE),SUM(_xlfn._xlws.FILTER('ACTUACIONES TIPO 16'!$I$19:$I$35,'ACTUACIONES TIPO 16'!$B$19:$B$35='TOTAL GASTOS'!B27,\"\")),(0.9*D27)))","v":""},null,{"$f":"IFERROR(INDEX($B$17:$B$180, MATCH(0, INDEX(COUNTIF($G$15:G26, $B$17:$B$180), 0, 0),0)), \"\")","v":""},{"$f":"IF(Tabla16[[#This Row],[Código de actuación]]=\"\",\"\",SUMIF('TOTAL GASTOS'!$B$17:$B$180,G27,'TOTAL GASTOS'!$D$17:$D$180))","v":""},{"$f":"IF(Tabla16[[#This Row],[Código de actuación]]=\"\",\"\",SUMIF($B$16:$B$180,G27,$E$16:$E$180))","v":""},{"$nulls":7},{"$f":"'RELACIÓN DE GASTOS'!E33&\"(\"&'RELACIÓN DE GASTOS'!G33","v":"("}]
[null,"",{"$f":"IF(AND(Tabla15[[#This Row],[Código de actuación]]=\"Ha intoducido una tipología de gasto sin código de actuación asociado en la hoja de RELACIÓN DE GASTOS\",LEN(S28)>10),MID(S28,2,10000),IF(AND(Tabla15[[#This Row],[Código de actuación]]<>\"\",LEN(S28)<38),\"Ha introducido un número de actuación sin tipología asociada en la hoja RELACIÓN DE GASTOS\",MID(S28,37,10000)))","v":""},{"$f":"IF(OR(Tabla15[[#This Row],[Código de actuación]]=\"\",Tabla15[[#This Row],[Tipología de coste]]=\"\"),\"\",SUMIFS('RELACIÓN DE GASTOS'!$R$22:$R$164,'RELACIÓN DE GASTOS'!$G$22:$G$164,C28,'RELACIÓN DE GASTOS'!$E$22:$E$164,B28))","v":""},{"$f":"IF(OR(Tabla15[[#This Row],[Código de actuación]]=\"\",Tabla15[[#This Row],[Tipología de coste]]=\"\"),\"\",IF(AND(C28='Actuaciones-gastos'!$A$24,ISERROR(SEARCH(\"P16\", B28))=FALSE),SUM(_xlfn._xlws.FILTER('ACTUACIONES TIPO 16'!$I$19:$I$35,'ACTUACIONES TIPO 16'!$B$19:$B$35='TOTAL GASTOS'!B28,\"\")),(0.9*D28)))","v":""},null,{"$f":"IFERROR(INDEX($B$17:$B$180, MATCH(0, INDEX(COUNTIF($G$15:G27, $B$17:$B$180), 0, 0),0)), \"\")","v":""},{"$f":"IF(Tabla16[[#This Row],[Código de actuación]]=\"\",\"\",SUMIF('TOTAL GASTOS'!$B$17:$B$180,G28,'TOTAL GASTOS'!$D$17:$D$180))","v":""},{"$f":"IF(Tabla16[[#This Row],[Código de actuación]]=\"\",\"\",SUMIF($B$16:$B$180,G28,$E$16:$E$180))","v":""},{"$nulls":7},{"$f":"'RELACIÓN DE GASTOS'!E34&\"(\"&'RELACIÓN DE GASTOS'!G34","v":"("}]
[null,"",{"$f":"IF(AND(Tabla15[[#This Row],[Código de actuación]]=\"Ha intoducido una tipología de gasto sin código de actuación asociado en la hoja de RELACIÓN DE GASTOS\",LEN(S29)>10),MID(S29,2,10000),IF(AND(Tabla15[[#This Row],[Código de actuación]]<>\"\",LEN(S29)<38),\"Ha introducido un número de actuación sin tipología asociada en la hoja RELACIÓN DE GASTOS\",MID(S29,37,10000)))","v":""},{"$f":"IF(OR(Tabla15[[#This Row],[Código de actuación]]=\"\",Tabla15[[#This Row],[Tipología de coste]]=\"\"),\"\",SUMIFS('RELACIÓN DE GASTOS'!$R$22:$R$164,'RELACIÓN DE GASTOS'!$G$22:$G$164,C29,'RELACIÓN DE GASTOS'!$E$22:$E$164,B29))","v":""},{"$f":"IF(OR(Tabla15[[#This Row],[Código de actuación]]=\"\",Tabla15[[#This Row],[Tipología de coste]]=\"\"),\"\",IF(AND(C29='Actuaciones-gastos'!$A$24,ISERROR(SEARCH(\"P16\", B29))=FALSE),SUM(_xlfn._xlws.FILTER('ACTUACIONES TIPO 16'!$I$19:$I$35,'ACTUACIONES TIPO 16'!$B$19:$B$35='TOTAL GASTOS'!B29,\"\")),(0.9*D29)))","v":""},null,{"$f":"IFERROR(INDEX($B$17:$B$180, MATCH(0, INDEX(COUNTIF($G$15:G28, $B$17:$B$180), 0, 0),0)), \"\")","v":""},{"$f":"IF(Tabla16[[#This Row],[Código de actuación]]=\"\",\"\",SUMIF('TOTAL GASTOS'!$B$17:$B$180,G29,'TOTAL GASTOS'!$D$17:$D$180))","v":""},{"$f":"IF(Tabla16[[#This Row],[Código de actuación]]=\"\",\"\",SUMIF($B$16:$B$180,G29,$E$16:$E$180))","v":""},{"$nulls":7},{"$f":"'RELACIÓN DE GASTOS'!E35&\"(\"&'RELACIÓN DE GASTOS'!G35","v":"("}]
[null,"",{"$f":"IF(AND(Tabla15[[#This Row],[Código de actuación]]=\"Ha intoducido una tipología de gasto sin código de actuación asociado en la hoja de RELACIÓN DE GASTOS\",LEN(S30)>10),MID(S30,2,10000),IF(AND(Tabla15[[#This Row],[Código de actuación]]<>\"\",LEN(S30)<38),\"Ha introducido un número de actuación sin tipología asociada en la hoja RELACIÓN DE GASTOS\",MID(S30,37,10000)))","v":""},{"$f":"IF(OR(Tabla15[[#This Row],[Código de actuación]]=\"\",Tabla15[[#This Row],[Tipología de coste]]=\"\"),\"\",SUMIFS('RELACIÓN DE GASTOS'!$R$22:$R$164,'RELACIÓN DE GASTOS'!$G$22:$G$164,C30,'RELACIÓN DE GASTOS'!$E$22:$E$164,B30))","v":""},{"$f":"IF(OR(Tabla15[[#This Row],[Código de actuación]]=\"\",Tabla15[[#This Row],[Tipología de coste]]=\"\"),\"\",IF(AND(C30='Actuaciones-gastos'!$A$24,ISERROR(SEARCH(\"P16\", B30))=FALSE),SUM(_xlfn._xlws.FILTER('ACTUACIONES TIPO 16'!$I$19:$I$35,'ACTUACIONES TIPO 16'!$B$19:$B$35='TOTAL GASTOS'!B30,\"\")),(0.9*D30)))","v":""},null,{"$f":"IFERROR(INDEX($B$17:$B$180, MATCH(0, INDEX(COUNTIF($G$15:G29, $B$17:$B$180), 0, 0),0)), \"\")","v":""},{"$f":"IF(Tabla16[[#This Row],[Código de actuación]]=\"\",\"\",SUMIF('TOTAL GASTOS'!$B$17:$B$180,G30,'TOTAL GASTOS'!$D$17:$D$180))","v":""},{"$f":"IF(Tabla16[[#This Row],[Código de actuación]]=\"\",\"\",SUMIF($B$16:$B$180,G30,$E$16:$E$180))","v":""},{"$nulls":7},{"$f":"'RELACIÓN DE GASTOS'!E36&\"(\"&'RELACIÓN DE GASTOS'!G36","v":"("}]
[null,"",{"$f":"IF(AND(Tabla15[[#This Row],[Código de actuación]]=\"Ha intoducido una tipología de gasto sin código de actuación asociado en la hoja de RELACIÓN DE GASTOS\",LEN(S31)>10),MID(S31,2,10000),IF(AND(Tabla15[[#This Row],[Código de actuación]]<>\"\",LEN(S31)<38),\"Ha introducido un número de actuación sin tipología asociada en la hoja RELACIÓN DE GASTOS\",MID(S31,37,10000)))","v":""},{"$f":"IF(OR(Tabla15[[#This Row],[Código de actuación]]=\"\",Tabla15[[#This Row],[Tipología de coste]]=\"\"),\"\",SUMIFS('RELACIÓN DE GASTOS'!$R$22:$R$164,'RELACIÓN DE GASTOS'!$G$22:$G$164,C31,'RELACIÓN DE GASTOS'!$E$22:$E$164,B31))","v":""},{"$f":"IF(OR(Tabla15[[#This Row],[Código de actuación]]=\"\",Tabla15[[#This Row],[Tipología de coste]]=\"\"),\"\",IF(AND(C31='Actuaciones-gastos'!$A$24,ISERROR(SEARCH(\"P16\", B31))=FALSE),SUM(_xlfn._xlws.FILTER('ACTUACIONES TIPO 16'!$I$19:$I$35,'ACTUACIONES TIPO 16'!$B$19:$B$35='TOTAL GASTOS'!B31,\"\")),(0.9*D31)))","v":""},null,{"$f":"IFERROR(INDEX($B$17:$B$180, MATCH(0, INDEX(COUNTIF($G$15:G30, $B$17:$B$180), 0, 0),0)), \"\")","v":""},{"$f":"IF(Tabla16[[#This Row],[Código de actuación]]=\"\",\"\",SUMIF('TOTAL GASTOS'!$B$17:$B$180,G31,'TOTAL GASTOS'!$D$17:$D$180))","v":""},{"$f":"IF(Tabla16[[#This Row],[Código de actuación]]=\"\",\"\",SUMIF($B$16:$B$180,G31,$E$16:$E$180))","v":""},{"$nulls":7},{"$f":"'RELACIÓN DE GASTOS'!E37&\"(\"&'RELACIÓN DE GASTOS'!G37","v":"("}]
[null,"",{"$f":"IF(AND(Tabla15[[#This Row],[Código de actuación]]=\"Ha intoducido una tipología de gasto sin código de actuación asociado en la hoja de RELACIÓN DE GASTOS\",LEN(S32)>10),MID(S32,2,10000),IF(AND(Tabla15[[#This Row],[Código de actuación]]<>\"\",LEN(S32)<38),\"Ha introducido un número de actuación sin tipología asociada en la hoja RELACIÓN DE GASTOS\",MID(S32,37,10000)))","v":""},{"$f":"IF(OR(Tabla15[[#This Row],[Código de actuación]]=\"\",Tabla15[[#This Row],[Tipología de coste]]=\"\"),\"\",SUMIFS('RELACIÓN DE GASTOS'!$R$22:$R$164,'RELACIÓN DE GASTOS'!$G$22:$G$164,C32,'RELACIÓN DE GASTOS'!$E$22:$E$164,B32))","v":""},{"$f":"IF(OR(Tabla15[[#This Row],[Código de actuación]]=\"\",Tabla15[[#This Row],[Tipología de coste]]=\"\"),\"\",IF(AND(C32='Actuaciones-gastos'!$A$24,ISERROR(SEARCH(\"P16\", B32))=FALSE),SUM(_xlfn._xlws.FILTER('ACTUACIONES TIPO 16'!$I$19:$I$35,'ACTUACIONES TIPO 16'!$B$19:$B$35='TOTAL GASTOS'!B32,\"\")),(0.9*D32)))","v":""},null,{"$f":"IFERROR(INDEX($B$17:$B$180, MATCH(0, INDEX(COUNTIF($G$15:G31, $B$17:$B$180), 0, 0),0)), \"\")","v":""},{"$f":"IF(Tabla16[[#This Row],[Código de actuación]]=\"\",\"\",SUMIF('TOTAL GASTOS'!$B$17:$B$180,G32,'TOTAL GASTOS'!$D$17:$D$180))","v":""},{"$f":"IF(Tabla16[[#This Row],[Código de actuación]]=\"\",\"\",SUMIF($B$16:$B$180,G32,$E$16:$E$180))","v":""},{"$nulls":7},{"$f":"'RELACIÓN DE GASTOS'!E38&\"(\"&'RELACIÓN DE GASTOS'!G38","v":"("}]
[null,"",{"$f":"IF(AND(Tabla15[[#This Row],[Código de actuación]]=\"Ha intoducido una tipología de gasto sin código de actuación asociado en la hoja de RELACIÓN DE GASTOS\",LEN(S33)>10),MID(S33,2,10000),IF(AND(Tabla15[[#This Row],[Código de actuación]]<>\"\",LEN(S33)<38),\"Ha introducido un número de actuación sin tipología asociada en la hoja RELACIÓN DE GASTOS\",MID(S33,37,10000)))","v":""},{"$f":"IF(OR(Tabla15[[#This Row],[Código de actuación]]=\"\",Tabla15[[#This Row],[Tipología de coste]]=\"\"),\"\",SUMIFS('RELACIÓN DE GASTOS'!$R$22:$R$164,'RELACIÓN DE GASTOS'!$G$22:$G$164,C33,'RELACIÓN DE GASTOS'!$E$22:$E$164,B33))","v":""},{"$f":"IF(OR(Tabla15[[#This Row],[Código de actuación]]=\"\",Tabla15[[#This Row],[Tipología de coste]]=\"\"),\"\",IF(AND(C33='Actuaciones-gastos'!$A$24,ISERROR(SEARCH(\"P16\", B33))=FALSE),SUM(_xlfn._xlws.FILTER('ACTUACIONES TIPO 16'!$I$19:$I$35,'ACTUACIONES TIPO 16'!$B$19:$B$35='TOTAL GASTOS'!B33,\"\")),(0.9*D33)))","v":""},null,{"$f":"IFERROR(INDEX($B$17:$B$180, MATCH(0, INDEX(COUNTIF($G$15:G32, $B$17:$B$180), 0, 0),0)), \"\")","v":""},{"$f":"IF(Tabla16[[#This Row],[Código de actuación]]=\"\",\"\",SUMIF('TOTAL GASTOS'!$B$17:$B$180,G33,'TOTAL GASTOS'!$D$17:$D$180))","v":""},{"$f":"IF(Tabla16[[#This Row],[Código de actuación]]=\"\",\"\",SUMIF($B$16:$B$180,G33,$E$16:$E$180))","v":""},{"$nulls":7},{"$f":"'RELACIÓN DE GASTOS'!E39&\"(\"&'RELACIÓN DE GASTOS'!G39","v":"("}]
[null,"",{"$f":"IF(AND(Tabla15[[#This Row],[Código de actuación]]=\"Ha intoducido una tipología de gasto sin código de actuación asociado en la hoja de RELACIÓN DE GASTOS\",LEN(S34)>10),MID(S34,2,10000),IF(AND(Tabla15[[#This Row],[Código de actuación]]<>\"\",LEN(S34)<38),\"Ha introducido un número de actuación sin tipología asociada en la hoja RELACIÓN DE GASTOS\",MID(S34,37,10000)))","v":""},{"$f":"IF(OR(Tabla15[[#This Row],[Código de actuación]]=\"\",Tabla15[[#This Row],[Tipología de coste]]=\"\"),\"\",SUMIFS('RELACIÓN DE GASTOS'!$R$22:$R$164,'RELACIÓN DE GASTOS'!$G$22:$G$164,C34,'RELACIÓN DE GASTOS'!$E$22:$E$164,B34))","v":""},{"$f":"IF(OR(Tabla15[[#This Row],[Código de actuación]]=\"\",Tabla15[[#This Row],[Tipología de coste]]=\"\"),\"\",IF(AND(C34='Actuaciones-gastos'!$A$24,ISERROR(SEARCH(\"P16\", B34))=FALSE),SUM(_xlfn._xlws.FILTER('ACTUACIONES TIPO 16'!$I$19:$I$35,'ACTUACIONES TIPO 16'!$B$19:$B$35='TOTAL GASTOS'!B34,\"\")),(0.9*D34)))","v":""},null,{"$f":"IFERROR(INDEX($B$17:$B$180, MATCH(0, INDEX(COUNTIF($G$15:G33, $B$17:$B$180), 0, 0),0)), \"\")","v":""},{"$f":"IF(Tabla16[[#This Row],[Código de actuación]]=\"\",\"\",SUMIF('TOTAL GASTOS'!$B$17:$B$180,G34,'TOTAL GASTOS'!$D$17:$D$180))","v":""},{"$f":"IF(Tabla16[[#This Row],[Código de actuación]]=\"\",\"\",SUMIF($B$16:$B$180,G34,$E$16:$E$180))","v":""},{"$nulls":7},{"$f":"'RELACIÓN DE GASTOS'!E40&\"(\"&'RELACIÓN DE GASTOS'!G40","v":"("}]
[null,"",{"$f":"IF(AND(Tabla15[[#This Row],[Código de actuación]]=\"Ha intoducido una tipología de gasto sin código de actuación asociado en la hoja de RELACIÓN DE GASTOS\",LEN(S35)>10),MID(S35,2,10000),IF(AND(Tabla15[[#This Row],[Código de actuación]]<>\"\",LEN(S35)<38),\"Ha introducido un número de actuación sin tipología asociada en la hoja RELACIÓN DE GASTOS\",MID(S35,37,10000)))","v":""},{"$f":"IF(OR(Tabla15[[#This Row],[Código de actuación]]=\"\",Tabla15[[#This Row],[Tipología de coste]]=\"\"),\"\",SUMIFS('RELACIÓN DE GASTOS'!$R$22:$R$164,'RELACIÓN DE GASTOS'!$G$22:$G$164,C35,'RELACIÓN DE GASTOS'!$E$22:$E$164,B35))","v":""},{"$f":"IF(OR(Tabla15[[#This Row],[Código de actuación]]=\"\",Tabla15[[#This Row],[Tipología de coste]]=\"\"),\"\",IF(AND(C35='Actuaciones-gastos'!$A$24,ISERROR(SEARCH(\"P16\", B35))=FALSE),SUM(_xlfn._xlws.FILTER('ACTUACIONES TIPO 16'!$I$19:$I$35,'ACTUACIONES TIPO 16'!$B$19:$B$35='TOTAL GASTOS'!B35,\"\")),(0.9*D35)))","v":""},null,{"$f":"IFERROR(INDEX($B$17:$B$180, MATCH(0, INDEX(COUNTIF($G$15:G34, $B$17:$B$180), 0, 0),0)), \"\")","v":""},{"$f":"IF(Tabla16[[#This Row],[Código de actuación]]=\"\",\"\",SUMIF('TOTAL GASTOS'!$B$17:$B$180,G35,'TOTAL GASTOS'!$D$17:$D$180))","v":""},{"$f":"IF(Tabla16[[#This Row],[Código de actuación]]=\"\",\"\",SUMIF($B$16:$B$180,G35,$E$16:$E$180))","v":""},{"$nulls":7},{"$f":"'RELACIÓN DE GASTOS'!E41&\"(\"&'RELACIÓN DE GASTOS'!G41","v":"("}]
[null,"",{"$f":"IF(AND(Tabla15[[#This Row],[Código de actuación]]=\"Ha intoducido una tipología de gasto sin código de actuación asociado en la hoja de RELACIÓN DE GASTOS\",LEN(S36)>10),MID(S36,2,10000),IF(AND(Tabla15[[#This Row],[Código de actuación]]<>\"\",LEN(S36)<38),\"Ha introducido un número de actuación sin tipología asociada en la hoja RELACIÓN DE GASTOS\",MID(S36,37,10000)))","v":""},{"$f":"IF(OR(Tabla15[[#This Row],[Código de actuación]]=\"\",Tabla15[[#This Row],[Tipología de coste]]=\"\"),\"\",SUMIFS('RELACIÓN DE GASTOS'!$R$22:$R$164,'RELACIÓN DE GASTOS'!$G$22:$G$164,C36,'RELACIÓN DE GASTOS'!$E$22:$E$164,B36))","v":""},{"$f":"IF(OR(Tabla15[[#This Row],[Código de actuación]]=\"\",Tabla15[[#This Row],[Tipología de coste]]=\"\"),\"\",IF(AND(C36='Actuaciones-gastos'!$A$24,ISERROR(SEARCH(\"P16\", B36))=FALSE),SUM(_xlfn._xlws.FILTER('ACTUACIONES TIPO 16'!$I$19:$I$35,'ACTUACIONES TIPO 16'!$B$19:$B$35='TOTAL GASTOS'!B36,\"\")),(0.9*D36)))","v":""},null,{"$f":"IFERROR(INDEX($B$17:$B$180, MATCH(0, INDEX(COUNTIF($G$15:G35, $B$17:$B$180), 0, 0),0)), \"\")","v":""},{"$f":"IF(Tabla16[[#This Row],[Código de actuación]]=\"\",\"\",SUMIF('TOTAL GASTOS'!$B$17:$B$180,G36,'TOTAL GASTOS'!$D$17:$D$180))","v":""},{"$f":"IF(Tabla16[[#This Row],[Código de actuación]]=\"\",\"\",SUMIF($B$16:$B$180,G36,$E$16:$E$180))","v":""},{"$nulls":7},{"$f":"'RELACIÓN DE GASTOS'!E42&\"(\"&'RELACIÓN DE GASTOS'!G42","v":"("}]
[null,"",{"$f":"IF(AND(Tabla15[[#This Row],[Código de actuación]]=\"Ha intoducido una tipología de gasto sin código de actuación asociado en la hoja de RELACIÓN DE GASTOS\",LEN(S37)>10),MID(S37,2,10000),IF(AND(Tabla15[[#This Row],[Código de actuación]]<>\"\",LEN(S37)<38),\"Ha introducido un número de actuación sin tipología asociada en la hoja RELACIÓN DE GASTOS\",MID(S37,37,10000)))","v":""},{"$f":"IF(OR(Tabla15[[#This Row],[Código de actuación]]=\"\",Tabla15[[#This Row],[Tipología de coste]]=\"\"),\"\",SUMIFS('RELACIÓN DE GASTOS'!$R$22:$R$164,'RELACIÓN DE GASTOS'!$G$22:$G$164,C37,'RELACIÓN DE GASTOS'!$E$22:$E$164,B37))","v":""},{"$f":"IF(OR(Tabla15[[#This Row],[Código de actuación]]=\"\",Tabla15[[#This Row],[Tipología de coste]]=\"\"),\"\",IF(AND(C37='Actuaciones-gastos'!$A$24,ISERROR(SEARCH(\"P16\", B37))=FALSE),SUM(_xlfn._xlws.FILTER('ACTUACIONES TIPO 16'!$I$19:$I$35,'ACTUACIONES TIPO 16'!$B$19:$B$35='TOTAL GASTOS'!B37,\"\")),(0.9*D37)))","v":""},{"$nulls":11},{"$f":"'RELACIÓN DE GASTOS'!E43&\"(\"&'RELACIÓN DE GASTOS'!G43","v":"("}]
[null,"",{"$f":"IF(AND(Tabla15[[#This Row],[Código de actuación]]=\"Ha intoducido una tipología de gasto sin código de actuación asociado en la hoja de RELACIÓN DE GASTOS\",LEN(S38)>10),MID(S38,2,10000),IF(AND(Tabla15[[#This Row],[Código de actuación]]<>\"\",LEN(S38)<38),\"Ha introducido un número de actuación sin tipología asociada en la hoja RELACIÓN DE GASTOS\",MID(S38,37,10000)))","v":""},{"$f":"IF(OR(Tabla15[[#This Row],[Código de actuación]]=\"\",Tabla15[[#This Row],[Tipología de coste]]=\"\"),\"\",SUMIFS('RELACIÓN DE GASTOS'!$R$22:$R$164,'RELACIÓN DE GASTOS'!$G$22:$G$164,C38,'RELACIÓN DE GASTOS'!$E$22:$E$164,B38))","v":""},{"$f":"IF(OR(Tabla15[[#This Row],[Código de actuación]]=\"\",Tabla15[[#This Row],[Tipología de coste]]=\"\"),\"\",IF(AND(C38='Actuaciones-gastos'!$A$24,ISERROR(SEARCH(\"P16\", B38))=FALSE),SUM(_xlfn._xlws.FILTER('ACTUACIONES TIPO 16'!$I$19:$I$35,'ACTUACIONES TIPO 16'!$B$19:$B$35='TOTAL GASTOS'!B38,\"\")),(0.9*D38)))","v":""},{"$nulls":11},{"$f":"'RELACIÓN DE GASTOS'!E44&\"(\"&'RELACIÓN DE GASTOS'!G44","v":"("}]
[null,"",{"$f":"IF(AND(Tabla15[[#This Row],[Código de actuación]]=\"Ha intoducido una tipología de gasto sin código de actuación asociado en la hoja de RELACIÓN DE GASTOS\",LEN(S39)>10),MID(S39,2,10000),IF(AND(Tabla15[[#This Row],[Código de actuación]]<>\"\",LEN(S39)<38),\"Ha introducido un número de actuación sin tipología asociada en la hoja RELACIÓN DE GASTOS\",MID(S39,37,10000)))","v":""},{"$f":"IF(OR(Tabla15[[#This Row],[Código de actuación]]=\"\",Tabla15[[#This Row],[Tipología de coste]]=\"\"),\"\",SUMIFS('RELACIÓN DE GASTOS'!$R$22:$R$164,'RELACIÓN DE GASTOS'!$G$22:$G$164,C39,'RELACIÓN DE GASTOS'!$E$22:$E$164,B39))","v":""},{"$f":"IF(OR(Tabla15[[#This Row],[Código de actuación]]=\"\",Tabla15[[#This Row],[Tipología de coste]]=\"\"),\"\",IF(AND(C39='Actuaciones-gastos'!$A$24,ISERROR(SEARCH(\"P16\", B39))=FALSE),SUM(_xlfn._xlws.FILTER('ACTUACIONES TIPO 16'!$I$19:$I$35,'ACTUACIONES TIPO 16'!$B$19:$B$35='TOTAL GASTOS'!B39,\"\")),(0.9*D39)))","v":""},{"$nulls":11},{"$f":"'RELACIÓN DE GASTOS'!E45&\"(\"&'RELACIÓN DE GASTOS'!G45","v":"("}]
[null,"",{"$f":"IF(AND(Tabla15[[#This Row],[Código de actuación]]=\"Ha intoducido una tipología de gasto sin código de actuación asociado en la hoja de RELACIÓN DE GASTOS\",LEN(S40)>10),MID(S40,2,10000),IF(AND(Tabla15[[#This Row],[Código de actuación]]<>\"\",LEN(S40)<38),\"Ha introducido un número de actuación sin tipología asociada en la hoja RELACIÓN DE GASTOS\",MID(S40,37,10000)))","v":""},{"$f":"IF(OR(Tabla15[[#This Row],[Código de actuación]]=\"\",Tabla15[[#This Row],[Tipología de coste]]=\"\"),\"\",SUMIFS('RELACIÓN DE GASTOS'!$R$22:$R$164,'RELACIÓN DE GASTOS'!$G$22:$G$164,C40,'RELACIÓN DE GASTOS'!$E$22:$E$164,B40))","v":""},{"$f":"IF(OR(Tabla15[[#This Row],[Código de actuación]]=\"\",Tabla15[[#This Row],[Tipología de coste]]=\"\"),\"\",IF(AND(C40='Actuaciones-gastos'!$A$24,ISERROR(SEARCH(\"P16\", B40))=FALSE),SUM(_xlfn._xlws.FILTER('ACTUACIONES TIPO 16'!$I$19:$I$35,'ACTUACIONES TIPO 16'!$B$19:$B$35='TOTAL GASTOS'!B40,\"\")),(0.9*D40)))","v":""},{"$nulls":11},{"$f":"'RELACIÓN DE GASTOS'!E46&\"(\"&'RELACIÓN DE GASTOS'!G46","v":"("}]
[null,"",{"$f":"IF(AND(Tabla15[[#This Row],[Código de actuación]]=\"Ha intoducido una tipología de gasto sin código de actuación asociado en la hoja de RELACIÓN DE GASTOS\",LEN(S41)>10),MID(S41,2,10000),IF(AND(Tabla15[[#This Row],[Código de actuación]]<>\"\",LEN(S41)<38),\"Ha introducido un número de actuación sin tipología asociada en la hoja RELACIÓN DE GASTOS\",MID(S41,37,10000)))","v":""},{"$f":"IF(OR(Tabla15[[#This Row],[Código de actuación]]=\"\",Tabla15[[#This Row],[Tipología de coste]]=\"\"),\"\",SUMIFS('RELACIÓN DE GASTOS'!$R$22:$R$164,'RELACIÓN DE GASTOS'!$G$22:$G$164,C41,'RELACIÓN DE GASTOS'!$E$22:$E$164,B41))","v":""},{"$f":"IF(OR(Tabla15[[#This Row],[Código de actuación]]=\"\",Tabla15[[#This Row],[Tipología de coste]]=\"\"),\"\",IF(AND(C41='Actuaciones-gastos'!$A$24,ISERROR(SEARCH(\"P16\", B41))=FALSE),SUM(_xlfn._xlws.FILTER('ACTUACIONES TIPO 16'!$I$19:$I$35,'ACTUACIONES TIPO 16'!$B$19:$B$35='TOTAL GASTOS'!B41,\"\")),(0.9*D41)))","v":""},{"$nulls":11},{"$f":"'RELACIÓN DE GASTOS'!E47&\"(\"&'RELACIÓN DE GASTOS'!G47","v":"("}]
[null,"",{"$f":"IF(AND(Tabla15[[#This Row],[Código de actuación]]=\"Ha intoducido una tipología de gasto sin código de actuación asociado en la hoja de RELACIÓN DE GASTOS\",LEN(S42)>10),MID(S42,2,10000),IF(AND(Tabla15[[#This Row],[Código de actuación]]<>\"\",LEN(S42)<38),\"Ha introducido un número de actuación sin tipología asociada en la hoja RELACIÓN DE GASTOS\",MID(S42,37,10000)))","v":""},{"$f":"IF(OR(Tabla15[[#This Row],[Código de actuación]]=\"\",Tabla15[[#This Row],[Tipología de coste]]=\"\"),\"\",SUMIFS('RELACIÓN DE GASTOS'!$R$22:$R$164,'RELACIÓN DE GASTOS'!$G$22:$G$164,C42,'RELACIÓN DE GASTOS'!$E$22:$E$164,B42))","v":""},{"$f":"IF(OR(Tabla15[[#This Row],[Código de actuación]]=\"\",Tabla15[[#This Row],[Tipología de coste]]=\"\"),\"\",IF(AND(C42='Actuaciones-gastos'!$A$24,ISERROR(SEARCH(\"P16\", B42))=FALSE),SUM(_xlfn._xlws.FILTER('ACTUACIONES TIPO 16'!$I$19:$I$35,'ACTUACIONES TIPO 16'!$B$19:$B$35='TOTAL GASTOS'!B42,\"\")),(0.9*D42)))","v":""},{"$nulls":11},{"$f":"'RELACIÓN DE GASTOS'!E48&\"(\"&'RELACIÓN DE GASTOS'!G48","v":"("}]
[null,"",{"$f":"IF(AND(Tabla15[[#This Row],[Código de actuación]]=\"Ha intoducido una tipología de gasto sin código de actuación asociado en la hoja de RELACIÓN DE GASTOS\",LEN(S43)>10),MID(S43,2,10000),IF(AND(Tabla15[[#This Row],[Código de actuación]]<>\"\",LEN(S43)<38),\"Ha introducido un número de actuación sin tipología asociada en la hoja RELACIÓN DE GASTOS\",MID(S43,37,10000)))","v":""},{"$f":"IF(OR(Tabla15[[#This Row],[Código de actuación]]=\"\",Tabla15[[#This Row],[Tipología de coste]]=\"\"),\"\",SUMIFS('RELACIÓN DE GASTOS'!$R$22:$R$164,'RELACIÓN DE GASTOS'!$G$22:$G$164,C43,'RELACIÓN DE GASTOS'!$E$22:$E$164,B43))","v":""},{"$f":"IF(OR(Tabla15[[#This Row],[Código de actuación]]=\"\",Tabla15[[#This Row],[Tipología de coste]]=\"\"),\"\",IF(AND(C43='Actuaciones-gastos'!$A$24,ISERROR(SEARCH(\"P16\", B43))=FALSE),SUM(_xlfn._xlws.FILTER('ACTUACIONES TIPO 16'!$I$19:$I$35,'ACTUACIONES TIPO 16'!$B$19:$B$35='TOTAL GASTOS'!B43,\"\")),(0.9*D43)))","v":""},{"$nulls":11},{"$f":"'RELACIÓN DE GASTOS'!E49&\"(\"&'RELACIÓN DE GASTOS'!G49","v":"("}]
[null,"",{"$f":"IF(AND(Tabla15[[#This Row],[Código de actuación]]=\"Ha intoducido una tipología de gasto sin código de actuación asociado en la hoja de RELACIÓN DE GASTOS\",LEN(S44)>10),MID(S44,2,10000),IF(AND(Tabla15[[#This Row],[Código de actuación]]<>\"\",LEN(S44)<38),\"Ha introducido un número de actuación sin tipología asociada en la hoja RELACIÓN DE GASTOS\",MID(S44,37,10000)))","v":""},{"$f":"IF(OR(Tabla15[[#This Row],[Código de actuación]]=\"\",Tabla15[[#This Row],[Tipología de coste]]=\"\"),\"\",SUMIFS('RELACIÓN DE GASTOS'!$R$22:$R$164,'RELACIÓN DE GASTOS'!$G$22:$G$164,C44,'RELACIÓN DE GASTOS'!$E$22:$E$164,B44))","v":""},{"$f":"IF(OR(Tabla15[[#This Row],[Código de actuación]]=\"\",Tabla15[[#This Row],[Tipología de coste]]=\"\"),\"\",IF(AND(C44='Actuaciones-gastos'!$A$24,ISERROR(SEARCH(\"P16\", B44))=FALSE),SUM(_xlfn._xlws.FILTER('ACTUACIONES TIPO 16'!$I$19:$I$35,'ACTUACIONES TIPO 16'!$B$19:$B$35='TOTAL GASTOS'!B44,\"\")),(0.9*D44)))","v":""},{"$nulls":11},{"$f":"'RELACIÓN DE GASTOS'!E50&\"(\"&'RELACIÓN DE GASTOS'!G50","v":"("}]
[null,"",{"$f":"IF(AND(Tabla15[[#This Row],[Código de actuación]]=\"Ha intoducido una tipología de gasto sin código de actuación asociado en la hoja de RELACIÓN DE GASTOS\",LEN(S45)>10),MID(S45,2,10000),IF(AND(Tabla15[[#This Row],[Código de actuación]]<>\"\",LEN(S45)<38),\"Ha introducido un número de actuación sin tipología asociada en la hoja RELACIÓN DE GASTOS\",MID(S45,37,10000)))","v":""},{"$f":"IF(OR(Tabla15[[#This Row],[Código de actuación]]=\"\",Tabla15[[#This Row],[Tipología de coste]]=\"\"),\"\",SUMIFS('RELACIÓN DE GASTOS'!$R$22:$R$164,'RELACIÓN DE GASTOS'!$G$22:$G$164,C45,'RELACIÓN DE GASTOS'!$E$22:$E$164,B45))","v":""},{"$f":"IF(OR(Tabla15[[#This Row],[Código de actuación]]=\"\",Tabla15[[#This Row],[Tipología de coste]]=\"\"),\"\",IF(AND(C45='Actuaciones-gastos'!$A$24,ISERROR(SEARCH(\"P16\", B45))=FALSE),SUM(_xlfn._xlws.FILTER('ACTUACIONES TIPO 16'!$I$19:$I$35,'ACTUACIONES TIPO 16'!$B$19:$B$35='TOTAL GASTOS'!B45,\"\")),(0.9*D45)))","v":""},{"$nulls":11},{"$f":"'RELACIÓN DE GASTOS'!E51&\"(\"&'RELACIÓN DE GASTOS'!G51","v":"("}]
[null,"",{"$f":"IF(AND(Tabla15[[#This Row],[Código de actuación]]=\"Ha intoducido una tipología de gasto sin código de actuación asociado en la hoja de RELACIÓN DE GASTOS\",LEN(S46)>10),MID(S46,2,10000),IF(AND(Tabla15[[#This Row],[Código de actuación]]<>\"\",LEN(S46)<38),\"Ha introducido un número de actuación sin tipología asociada en la hoja RELACIÓN DE GASTOS\",MID(S46,37,10000)))","v":""},{"$f":"IF(OR(Tabla15[[#This Row],[Código de actuación]]=\"\",Tabla15[[#This Row],[Tipología de coste]]=\"\"),\"\",SUMIFS('RELACIÓN DE GASTOS'!$R$22:$R$164,'RELACIÓN DE GASTOS'!$G$22:$G$164,C46,'RELACIÓN DE GASTOS'!$E$22:$E$164,B46))","v":""},{"$f":"IF(OR(Tabla15[[#This Row],[Código de actuación]]=\"\",Tabla15[[#This Row],[Tipología de coste]]=\"\"),\"\",IF(AND(C46='Actuaciones-gastos'!$A$24,ISERROR(SEARCH(\"P16\", B46))=FALSE),SUM(_xlfn._xlws.FILTER('ACTUACIONES TIPO 16'!$I$19:$I$35,'ACTUACIONES TIPO 16'!$B$19:$B$35='TOTAL GASTOS'!B46,\"\")),(0.9*D46)))","v":""},{"$nulls":11},{"$f":"'RELACIÓN DE GASTOS'!E52&\"(\"&'RELACIÓN DE GASTOS'!G52","v":"("}]
[null,"",{"$f":"IF(AND(Tabla15[[#This Row],[Código de actuación]]=\"Ha intoducido una tipología de gasto sin código de actuación asociado en la hoja de RELACIÓN DE GASTOS\",LEN(S47)>10),MID(S47,2,10000),IF(AND(Tabla15[[#This Row],[Código de actuación]]<>\"\",LEN(S47)<38),\"Ha introducido un número de actuación sin tipología asociada en la hoja RELACIÓN DE GASTOS\",MID(S47,37,10000)))","v":""},{"$f":"IF(OR(Tabla15[[#This Row],[Código de actuación]]=\"\",Tabla15[[#This Row],[Tipología de coste]]=\"\"),\"\",SUMIFS('RELACIÓN DE GASTOS'!$R$22:$R$164,'RELACIÓN DE GASTOS'!$G$22:$G$164,C47,'RELACIÓN DE GASTOS'!$E$22:$E$164,B47))","v":""},{"$f":"IF(OR(Tabla15[[#This Row],[Código de actuación]]=\"\",Tabla15[[#This Row],[Tipología de coste]]=\"\"),\"\",IF(AND(C47='Actuaciones-gastos'!$A$24,ISERROR(SEARCH(\"P16\", B47))=FALSE),SUM(_xlfn._xlws.FILTER('ACTUACIONES TIPO 16'!$I$19:$I$35,'ACTUACIONES TIPO 16'!$B$19:$B$35='TOTAL GASTOS'!B47,\"\")),(0.9*D47)))","v":""},{"$nulls":11},{"$f":"'RELACIÓN DE GASTOS'!E53&\"(\"&'RELACIÓN DE GASTOS'!G53","v":"("}]
[null,"",{"$f":"IF(AND(Tabla15[[#This Row],[Código de actuación]]=\"Ha intoducido una tipología de gasto sin código de actuación asociado en la hoja de RELACIÓN DE GASTOS\",LEN(S48)>10),MID(S48,2,10000),IF(AND(Tabla15[[#This Row],[Código de actuación]]<>\"\",LEN(S48)<38),\"Ha introducido un número de actuación sin tipología asociada en la hoja RELACIÓN DE GASTOS\",MID(S48,37,10000)))","v":""},{"$f":"IF(OR(Tabla15[[#This Row],[Código de actuación]]=\"\",Tabla15[[#This Row],[Tipología de coste]]=\"\"),\"\",SUMIFS('RELACIÓN DE GASTOS'!$R$22:$R$164,'RELACIÓN DE GASTOS'!$G$22:$G$164,C48,'RELACIÓN DE GASTOS'!$E$22:$E$164,B48))","v":""},{"$f":"IF(OR(Tabla15[[#This Row],[Código de actuación]]=\"\",Tabla15[[#This Row],[Tipología de coste]]=\"\"),\"\",IF(AND(C48='Actuaciones-gastos'!$A$24,ISERROR(SEARCH(\"P16\", B48))=FALSE),SUM(_xlfn._xlws.FILTER('ACTUACIONES TIPO 16'!$I$19:$I$35,'ACTUACIONES TIPO 16'!$B$19:$B$35='TOTAL GASTOS'!B48,\"\")),(0.9*D48)))","v":""},{"$nulls":11},{"$f":"'RELACIÓN DE GASTOS'!E54&\"(\"&'RELACIÓN DE GASTOS'!G54","v":"("}]
[null,"",{"$f":"IF(AND(Tabla15[[#This Row],[Código de actuación]]=\"Ha intoducido una tipología de gasto sin código de actuación asociado en la hoja de RELACIÓN DE GASTOS\",LEN(S49)>10),MID(S49,2,10000),IF(AND(Tabla15[[#This Row],[Código de actuación]]<>\"\",LEN(S49)<38),\"Ha introducido un número de actuación sin tipología asociada en la hoja RELACIÓN DE GASTOS\",MID(S49,37,10000)))","v":""},{"$f":"IF(OR(Tabla15[[#This Row],[Código de actuación]]=\"\",Tabla15[[#This Row],[Tipología de coste]]=\"\"),\"\",SUMIFS('RELACIÓN DE GASTOS'!$R$22:$R$164,'RELACIÓN DE GASTOS'!$G$22:$G$164,C49,'RELACIÓN DE GASTOS'!$E$22:$E$164,B49))","v":""},{"$f":"IF(OR(Tabla15[[#This Row],[Código de actuación]]=\"\",Tabla15[[#This Row],[Tipología de coste]]=\"\"),\"\",IF(AND(C49='Actuaciones-gastos'!$A$24,ISERROR(SEARCH(\"P16\", B49))=FALSE),SUM(_xlfn._xlws.FILTER('ACTUACIONES TIPO 16'!$I$19:$I$35,'ACTUACIONES TIPO 16'!$B$19:$B$35='TOTAL GASTOS'!B49,\"\")),(0.9*D49)))","v":""},{"$nulls":11},{"$f":"'RELACIÓN DE GASTOS'!E55&\"(\"&'RELACIÓN DE GASTOS'!G55","v":"("}]
[null,"",{"$f":"IF(AND(Tabla15[[#This Row],[Código de actuación]]=\"Ha intoducido una tipología de gasto sin código de actuación asociado en la hoja de RELACIÓN DE GASTOS\",LEN(S50)>10),MID(S50,2,10000),IF(AND(Tabla15[[#This Row],[Código de actuación]]<>\"\",LEN(S50)<38),\"Ha introducido un número de actuación sin tipología asociada en la hoja RELACIÓN DE GASTOS\",MID(S50,37,10000)))","v":""},{"$f":"IF(OR(Tabla15[[#This Row],[Código de actuación]]=\"\",Tabla15[[#This Row],[Tipología de coste]]=\"\"),\"\",SUMIFS('RELACIÓN DE GASTOS'!$R$22:$R$164,'RELACIÓN DE GASTOS'!$G$22:$G$164,C50,'RELACIÓN DE GASTOS'!$E$22:$E$164,B50))","v":""},{"$f":"IF(OR(Tabla15[[#This Row],[Código de actuación]]=\"\",Tabla15[[#This Row],[Tipología de coste]]=\"\"),\"\",IF(AND(C50='Actuaciones-gastos'!$A$24,ISERROR(SEARCH(\"P16\", B50))=FALSE),SUM(_xlfn._xlws.FILTER('ACTUACIONES TIPO 16'!$I$19:$I$35,'ACTUACIONES TIPO 16'!$B$19:$B$35='TOTAL GASTOS'!B50,\"\")),(0.9*D50)))","v":""},{"$nulls":11},{"$f":"'RELACIÓN DE GASTOS'!E56&\"(\"&'RELACIÓN DE GASTOS'!G56","v":"("}]
[null,"",{"$f":"IF(AND(Tabla15[[#This Row],[Código de actuación]]=\"Ha intoducido una tipología de gasto sin código de actuación asociado en la hoja de RELACIÓN DE GASTOS\",LEN(S51)>10),MID(S51,2,10000),IF(AND(Tabla15[[#This Row],[Código de actuación]]<>\"\",LEN(S51)<38),\"Ha introducido un número de actuación sin tipología asociada en la hoja RELACIÓN DE GASTOS\",MID(S51,37,10000)))","v":""},{"$f":"IF(OR(Tabla15[[#This Row],[Código de actuación]]=\"\",Tabla15[[#This Row],[Tipología de coste]]=\"\"),\"\",SUMIFS('RELACIÓN DE GASTOS'!$R$22:$R$164,'RELACIÓN DE GASTOS'!$G$22:$G$164,C51,'RELACIÓN DE GASTOS'!$E$22:$E$164,B51))","v":""},{"$f":"IF(OR(Tabla15[[#This Row],[Código de actuación]]=\"\",Tabla15[[#This Row],[Tipología de coste]]=\"\"),\"\",IF(AND(C51='Actuaciones-gastos'!$A$24,ISERROR(SEARCH(\"P16\", B51))=FALSE),SUM(_xlfn._xlws.FILTER('ACTUACIONES TIPO 16'!$I$19:$I$35,'ACTUACIONES TIPO 16'!$B$19:$B$35='TOTAL GASTOS'!B51,\"\")),(0.9*D51)))","v":""},{"$nulls":11},{"$f":"'RELACIÓN DE GASTOS'!E57&\"(\"&'RELACIÓN DE GASTOS'!G57","v":"("}]
[null,"",{"$f":"IF(AND(Tabla15[[#This Row],[Código de actuación]]=\"Ha intoducido una tipología de gasto sin código de actuación asociado en la hoja de RELACIÓN DE GASTOS\",LEN(S52)>10),MID(S52,2,10000),IF(AND(Tabla15[[#This Row],[Código de actuación]]<>\"\",LEN(S52)<38),\"Ha introducido un número de actuación sin tipología asociada en la hoja RELACIÓN DE GASTOS\",MID(S52,37,10000)))","v":""},{"$f":"IF(OR(Tabla15[[#This Row],[Código de actuación]]=\"\",Tabla15[[#This Row],[Tipología de coste]]=\"\"),\"\",SUMIFS('RELACIÓN DE GASTOS'!$R$22:$R$164,'RELACIÓN DE GASTOS'!$G$22:$G$164,C52,'RELACIÓN DE GASTOS'!$E$22:$E$164,B52))","v":""},{"$f":"IF(OR(Tabla15[[#This Row],[Código de actuación]]=\"\",Tabla15[[#This Row],[Tipología de coste]]=\"\"),\"\",IF(AND(C52='Actuaciones-gastos'!$A$24,ISERROR(SEARCH(\"P16\", B52))=FALSE),SUM(_xlfn._xlws.FILTER('ACTUACIONES TIPO 16'!$I$19:$I$35,'ACTUACIONES TIPO 16'!$B$19:$B$35='TOTAL GASTOS'!B52,\"\")),(0.9*D52)))","v":""},{"$nulls":11},{"$f":"'RELACIÓN DE GASTOS'!E58&\"(\"&'RELACIÓN DE GASTOS'!G58","v":"("}]
[null,"",{"$f":"IF(AND(Tabla15[[#This Row],[Código de actuación]]=\"Ha intoducido una tipología de gasto sin código de actuación asociado en la hoja de RELACIÓN DE GASTOS\",LEN(S53)>10),MID(S53,2,10000),IF(AND(Tabla15[[#This Row],[Código de actuación]]<>\"\",LEN(S53)<38),\"Ha introducido un número de actuación sin tipología asociada en la hoja RELACIÓN DE GASTOS\",MID(S53,37,10000)))","v":""},{"$f":"IF(OR(Tabla15[[#This Row],[Código de actuación]]=\"\",Tabla15[[#This Row],[Tipología de coste]]=\"\"),\"\",SUMIFS('RELACIÓN DE GASTOS'!$R$22:$R$164,'RELACIÓN DE GASTOS'!$G$22:$G$164,C53,'RELACIÓN DE GASTOS'!$E$22:$E$164,B53))","v":""},{"$f":"IF(OR(Tabla15[[#This Row],[Código de actuación]]=\"\",Tabla15[[#This Row],[Tipología de coste]]=\"\"),\"\",IF(AND(C53='Actuaciones-gastos'!$A$24,ISERROR(SEARCH(\"P16\", B53))=FALSE),SUM(_xlfn._xlws.FILTER('ACTUACIONES TIPO 16'!$I$19:$I$35,'ACTUACIONES TIPO 16'!$B$19:$B$35='TOTAL GASTOS'!B53,\"\")),(0.9*D53)))","v":""},{"$nulls":11},{"$f":"'RELACIÓN DE GASTOS'!E59&\"(\"&'RELACIÓN DE GASTOS'!G59","v":"("}]
[null,"",{"$f":"IF(AND(Tabla15[[#This Row],[Código de actuación]]=\"Ha intoducido una tipología de gasto sin código de actuación asociado en la hoja de RELACIÓN DE GASTOS\",LEN(S54)>10),MID(S54,2,10000),IF(AND(Tabla15[[#This Row],[Código de actuación]]<>\"\",LEN(S54)<38),\"Ha introducido un número de actuación sin tipología asociada en la hoja RELACIÓN DE GASTOS\",MID(S54,37,10000)))","v":""},{"$f":"IF(OR(Tabla15[[#This Row],[Código de actuación]]=\"\",Tabla15[[#This Row],[Tipología de coste]]=\"\"),\"\",SUMIFS('RELACIÓN DE GASTOS'!$R$22:$R$164,'RELACIÓN DE GASTOS'!$G$22:$G$164,C54,'RELACIÓN DE GASTOS'!$E$22:$E$164,B54))","v":""},{"$f":"IF(OR(Tabla15[[#This Row],[Código de actuación]]=\"\",Tabla15[[#This Row],[Tipología de coste]]=\"\"),\"\",IF(AND(C54='Actuaciones-gastos'!$A$24,ISERROR(SEARCH(\"P16\", B54))=FALSE),SUM(_xlfn._xlws.FILTER('ACTUACIONES TIPO 16'!$I$19:$I$35,'ACTUACIONES TIPO 16'!$B$19:$B$35='TOTAL GASTOS'!B54,\"\")),(0.9*D54)))","v":""},{"$nulls":11},{"$f":"'RELACIÓN DE GASTOS'!E60&\"(\"&'RELACIÓN DE GASTOS'!G60","v":"("}]
[null,"",{"$f":"IF(AND(Tabla15[[#This Row],[Código de actuación]]=\"Ha intoducido una tipología de gasto sin código de actuación asociado en la hoja de RELACIÓN DE GASTOS\",LEN(S55)>10),MID(S55,2,10000),IF(AND(Tabla15[[#This Row],[Código de actuación]]<>\"\",LEN(S55)<38),\"Ha introducido un número de actuación sin tipología asociada en la hoja RELACIÓN DE GASTOS\",MID(S55,37,10000)))","v":""},{"$f":"IF(OR(Tabla15[[#This Row],[Código de actuación]]=\"\",Tabla15[[#This Row],[Tipología de coste]]=\"\"),\"\",SUMIFS('RELACIÓN DE GASTOS'!$R$22:$R$164,'RELACIÓN DE GASTOS'!$G$22:$G$164,C55,'RELACIÓN DE GASTOS'!$E$22:$E$164,B55))","v":""},{"$f":"IF(OR(Tabla15[[#This Row],[Código de actuación]]=\"\",Tabla15[[#This Row],[Tipología de coste]]=\"\"),\"\",IF(AND(C55='Actuaciones-gastos'!$A$24,ISERROR(SEARCH(\"P16\", B55))=FALSE),SUM(_xlfn._xlws.FILTER('ACTUACIONES TIPO 16'!$I$19:$I$35,'ACTUACIONES TIPO 16'!$B$19:$B$35='TOTAL GASTOS'!B55,\"\")),(0.9*D55)))","v":""},{"$nulls":11},{"$f":"'RELACIÓN DE GASTOS'!E61&\"(\"&'RELACIÓN DE GASTOS'!G61","v":"("}]
[null,"",{"$f":"IF(AND(Tabla15[[#This Row],[Código de actuación]]=\"Ha intoducido una tipología de gasto sin código de actuación asociado en la hoja de RELACIÓN DE GASTOS\",LEN(S56)>10),MID(S56,2,10000),IF(AND(Tabla15[[#This Row],[Código de actuación]]<>\"\",LEN(S56)<38),\"Ha introducido un número de actuación sin tipología asociada en la hoja RELACIÓN DE GASTOS\",MID(S56,37,10000)))","v":""},{"$f":"IF(OR(Tabla15[[#This Row],[Código de actuación]]=\"\",Tabla15[[#This Row],[Tipología de coste]]=\"\"),\"\",SUMIFS('RELACIÓN DE GASTOS'!$R$22:$R$164,'RELACIÓN DE GASTOS'!$G$22:$G$164,C56,'RELACIÓN DE GASTOS'!$E$22:$E$164,B56))","v":""},{"$f":"IF(OR(Tabla15[[#This Row],[Código de actuación]]=\"\",Tabla15[[#This Row],[Tipología de coste]]=\"\"),\"\",IF(AND(C56='Actuaciones-gastos'!$A$24,ISERROR(SEARCH(\"P16\", B56))=FALSE),SUM(_xlfn._xlws.FILTER('ACTUACIONES TIPO 16'!$I$19:$I$35,'ACTUACIONES TIPO 16'!$B$19:$B$35='TOTAL GASTOS'!B56,\"\")),(0.9*D56)))","v":""},{"$nulls":11},{"$f":"'RELACIÓN DE GASTOS'!E62&\"(\"&'RELACIÓN DE GASTOS'!G62","v":"("}]
[null,"",{"$f":"IF(AND(Tabla15[[#This Row],[Código de actuación]]=\"Ha intoducido una tipología de gasto sin código de actuación asociado en la hoja de RELACIÓN DE GASTOS\",LEN(S57)>10),MID(S57,2,10000),IF(AND(Tabla15[[#This Row],[Código de actuación]]<>\"\",LEN(S57)<38),\"Ha introducido un número de actuación sin tipología asociada en la hoja RELACIÓN DE GASTOS\",MID(S57,37,10000)))","v":""},{"$f":"IF(OR(Tabla15[[#This Row],[Código de actuación]]=\"\",Tabla15[[#This Row],[Tipología de coste]]=\"\"),\"\",SUMIFS('RELACIÓN DE GASTOS'!$R$22:$R$164,'RELACIÓN DE GASTOS'!$G$22:$G$164,C57,'RELACIÓN DE GASTOS'!$E$22:$E$164,B57))","v":""},{"$f":"IF(OR(Tabla15[[#This Row],[Código de actuación]]=\"\",Tabla15[[#This Row],[Tipología de coste]]=\"\"),\"\",IF(AND(C57='Actuaciones-gastos'!$A$24,ISERROR(SEARCH(\"P16\", B57))=FALSE),SUM(_xlfn._xlws.FILTER('ACTUACIONES TIPO 16'!$I$19:$I$35,'ACTUACIONES TIPO 16'!$B$19:$B$35='TOTAL GASTOS'!B57,\"\")),(0.9*D57)))","v":""},{"$nulls":11},{"$f":"'RELACIÓN DE GASTOS'!E63&\"(\"&'RELACIÓN DE GASTOS'!G63","v":"("}]
[null,"",{"$f":"IF(AND(Tabla15[[#This Row],[Código de actuación]]=\"Ha intoducido una tipología de gasto sin código de actuación asociado en la hoja de RELACIÓN DE GASTOS\",LEN(S58)>10),MID(S58,2,10000),IF(AND(Tabla15[[#This Row],[Código de actuación]]<>\"\",LEN(S58)<38),\"Ha introducido un número de actuación sin tipología asociada en la hoja RELACIÓN DE GASTOS\",MID(S58,37,10000)))","v":""},{"$f":"IF(OR(Tabla15[[#This Row],[Código de actuación]]=\"\",Tabla15[[#This Row],[Tipología de coste]]=\"\"),\"\",SUMIFS('RELACIÓN DE GASTOS'!$R$22:$R$164,'RELACIÓN DE GASTOS'!$G$22:$G$164,C58,'RELACIÓN DE GASTOS'!$E$22:$E$164,B58))","v":""},{"$f":"IF(OR(Tabla15[[#This Row],[Código de actuación]]=\"\",Tabla15[[#This Row],[Tipología de coste]]=\"\"),\"\",IF(AND(C58='Actuaciones-gastos'!$A$24,ISERROR(SEARCH(\"P16\", B58))=FALSE),SUM(_xlfn._xlws.FILTER('ACTUACIONES TIPO 16'!$I$19:$I$35,'ACTUACIONES TIPO 16'!$B$19:$B$35='TOTAL GASTOS'!B58,\"\")),(0.9*D58)))","v":""},{"$nulls":11},{"$f":"'RELACIÓN DE GASTOS'!E64&\"(\"&'RELACIÓN DE GASTOS'!G64","v":"("}]
[null,"",{"$f":"IF(AND(Tabla15[[#This Row],[Código de actuación]]=\"Ha intoducido una tipología de gasto sin código de actuación asociado en la hoja de RELACIÓN DE GASTOS\",LEN(S59)>10),MID(S59,2,10000),IF(AND(Tabla15[[#This Row],[Código de actuación]]<>\"\",LEN(S59)<38),\"Ha introducido un número de actuación sin tipología asociada en la hoja RELACIÓN DE GASTOS\",MID(S59,37,10000)))","v":""},{"$f":"IF(OR(Tabla15[[#This Row],[Código de actuación]]=\"\",Tabla15[[#This Row],[Tipología de coste]]=\"\"),\"\",SUMIFS('RELACIÓN DE GASTOS'!$R$22:$R$164,'RELACIÓN DE GASTOS'!$G$22:$G$164,C59,'RELACIÓN DE GASTOS'!$E$22:$E$164,B59))","v":""},{"$f":"IF(OR(Tabla15[[#This Row],[Código de actuación]]=\"\",Tabla15[[#This Row],[Tipología de coste]]=\"\"),\"\",IF(AND(C59='Actuaciones-gastos'!$A$24,ISERROR(SEARCH(\"P16\", B59))=FALSE),SUM(_xlfn._xlws.FILTER('ACTUACIONES TIPO 16'!$I$19:$I$35,'ACTUACIONES TIPO 16'!$B$19:$B$35='TOTAL GASTOS'!B59,\"\")),(0.9*D59)))","v":""},{"$nulls":11},{"$f":"'RELACIÓN DE GASTOS'!E65&\"(\"&'RELACIÓN DE GASTOS'!G65","v":"("}]
[null,"",{"$f":"IF(AND(Tabla15[[#This Row],[Código de actuación]]=\"Ha intoducido una tipología de gasto sin código de actuación asociado en la hoja de RELACIÓN DE GASTOS\",LEN(S60)>10),MID(S60,2,10000),IF(AND(Tabla15[[#This Row],[Código de actuación]]<>\"\",LEN(S60)<38),\"Ha introducido un número de actuación sin tipología asociada en la hoja RELACIÓN DE GASTOS\",MID(S60,37,10000)))","v":""},{"$f":"IF(OR(Tabla15[[#This Row],[Código de actuación]]=\"\",Tabla15[[#This Row],[Tipología de coste]]=\"\"),\"\",SUMIFS('RELACIÓN DE GASTOS'!$R$22:$R$164,'RELACIÓN DE GASTOS'!$G$22:$G$164,C60,'RELACIÓN DE GASTOS'!$E$22:$E$164,B60))","v":""},{"$f":"IF(OR(Tabla15[[#This Row],[Código de actuación]]=\"\",Tabla15[[#This Row],[Tipología de coste]]=\"\"),\"\",IF(AND(C60='Actuaciones-gastos'!$A$24,ISERROR(SEARCH(\"P16\", B60))=FALSE),SUM(_xlfn._xlws.FILTER('ACTUACIONES TIPO 16'!$I$19:$I$35,'ACTUACIONES TIPO 16'!$B$19:$B$35='TOTAL GASTOS'!B60,\"\")),(0.9*D60)))","v":""},{"$nulls":11},{"$f":"'RELACIÓN DE GASTOS'!E66&\"(\"&'RELACIÓN DE GASTOS'!G66","v":"("}]
[null,"",{"$f":"IF(AND(Tabla15[[#This Row],[Código de actuación]]=\"Ha intoducido una tipología de gasto sin código de actuación asociado en la hoja de RELACIÓN DE GASTOS\",LEN(S61)>10),MID(S61,2,10000),IF(AND(Tabla15[[#This Row],[Código de actuación]]<>\"\",LEN(S61)<38),\"Ha introducido un número de actuación sin tipología asociada en la hoja RELACIÓN DE GASTOS\",MID(S61,37,10000)))","v":""},{"$f":"IF(OR(Tabla15[[#This Row],[Código de actuación]]=\"\",Tabla15[[#This Row],[Tipología de coste]]=\"\"),\"\",SUMIFS('RELACIÓN DE GASTOS'!$R$22:$R$164,'RELACIÓN DE GASTOS'!$G$22:$G$164,C61,'RELACIÓN DE GASTOS'!$E$22:$E$164,B61))","v":""},{"$f":"IF(OR(Tabla15[[#This Row],[Código de actuación]]=\"\",Tabla15[[#This Row],[Tipología de coste]]=\"\"),\"\",IF(AND(C61='Actuaciones-gastos'!$A$24,ISERROR(SEARCH(\"P16\", B61))=FALSE),SUM(_xlfn._xlws.FILTER('ACTUACIONES TIPO 16'!$I$19:$I$35,'ACTUACIONES TIPO 16'!$B$19:$B$35='TOTAL GASTOS'!B61,\"\")),(0.9*D61)))","v":""},{"$nulls":11},{"$f":"'RELACIÓN DE GASTOS'!E67&\"(\"&'RELACIÓN DE GASTOS'!G67","v":"("}]
[null,"",{"$f":"IF(AND(Tabla15[[#This Row],[Código de actuación]]=\"Ha intoducido una tipología de gasto sin código de actuación asociado en la hoja de RELACIÓN DE GASTOS\",LEN(S62)>10),MID(S62,2,10000),IF(AND(Tabla15[[#This Row],[Código de actuación]]<>\"\",LEN(S62)<38),\"Ha introducido un número de actuación sin tipología asociada en la hoja RELACIÓN DE GASTOS\",MID(S62,37,10000)))","v":""},{"$f":"IF(OR(Tabla15[[#This Row],[Código de actuación]]=\"\",Tabla15[[#This Row],[Tipología de coste]]=\"\"),\"\",SUMIFS('RELACIÓN DE GASTOS'!$R$22:$R$164,'RELACIÓN DE GASTOS'!$G$22:$G$164,C62,'RELACIÓN DE GASTOS'!$E$22:$E$164,B62))","v":""},{"$f":"IF(OR(Tabla15[[#This Row],[Código de actuación]]=\"\",Tabla15[[#This Row],[Tipología de coste]]=\"\"),\"\",IF(AND(C62='Actuaciones-gastos'!$A$24,ISERROR(SEARCH(\"P16\", B62))=FALSE),SUM(_xlfn._xlws.FILTER('ACTUACIONES TIPO 16'!$I$19:$I$35,'ACTUACIONES TIPO 16'!$B$19:$B$35='TOTAL GASTOS'!B62,\"\")),(0.9*D62)))","v":""},{"$nulls":11},{"$f":"'RELACIÓN DE GASTOS'!E68&\"(\"&'RELACIÓN DE GASTOS'!G68","v":"("}]
[null,"",{"$f":"IF(AND(Tabla15[[#This Row],[Código de actuación]]=\"Ha intoducido una tipología de gasto sin código de actuación asociado en la hoja de RELACIÓN DE GASTOS\",LEN(S63)>10),MID(S63,2,10000),IF(AND(Tabla15[[#This Row],[Código de actuación]]<>\"\",LEN(S63)<38),\"Ha introducido un número de actuación sin tipología asociada en la hoja RELACIÓN DE GASTOS\",MID(S63,37,10000)))","v":""},{"$f":"IF(OR(Tabla15[[#This Row],[Código de actuación]]=\"\",Tabla15[[#This Row],[Tipología de coste]]=\"\"),\"\",SUMIFS('RELACIÓN DE GASTOS'!$R$22:$R$164,'RELACIÓN DE GASTOS'!$G$22:$G$164,C63,'RELACIÓN DE GASTOS'!$E$22:$E$164,B63))","v":""},{"$f":"IF(OR(Tabla15[[#This Row],[Código de actuación]]=\"\",Tabla15[[#This Row],[Tipología de coste]]=\"\"),\"\",IF(AND(C63='Actuaciones-gastos'!$A$24,ISERROR(SEARCH(\"P16\", B63))=FALSE),SUM(_xlfn._xlws.FILTER('ACTUACIONES TIPO 16'!$I$19:$I$35,'ACTUACIONES TIPO 16'!$B$19:$B$35='TOTAL GASTOS'!B63,\"\")),(0.9*D63)))","v":""},{"$nulls":11},{"$f":"'RELACIÓN DE GASTOS'!E69&\"(\"&'RELACIÓN DE GASTOS'!G69","v":"("}]
[null,"",{"$f":"IF(AND(Tabla15[[#This Row],[Código de actuación]]=\"Ha intoducido una tipología de gasto sin código de actuación asociado en la hoja de RELACIÓN DE GASTOS\",LEN(S64)>10),MID(S64,2,10000),IF(AND(Tabla15[[#This Row],[Código de actuación]]<>\"\",LEN(S64)<38),\"Ha introducido un número de actuación sin tipología asociada en la hoja RELACIÓN DE GASTOS\",MID(S64,37,10000)))","v":""},{"$f":"IF(OR(Tabla15[[#This Row],[Código de actuación]]=\"\",Tabla15[[#This Row],[Tipología de coste]]=\"\"),\"\",SUMIFS('RELACIÓN DE GASTOS'!$R$22:$R$164,'RELACIÓN DE GASTOS'!$G$22:$G$164,C64,'RELACIÓN DE GASTOS'!$E$22:$E$164,B64))","v":""},{"$f":"IF(OR(Tabla15[[#This Row],[Código de actuación]]=\"\",Tabla15[[#This Row],[Tipología de coste]]=\"\"),\"\",IF(AND(C64='Actuaciones-gastos'!$A$24,ISERROR(SEARCH(\"P16\", B64))=FALSE),SUM(_xlfn._xlws.FILTER('ACTUACIONES TIPO 16'!$I$19:$I$35,'ACTUACIONES TIPO 16'!$B$19:$B$35='TOTAL GASTOS'!B64,\"\")),(0.9*D64)))","v":""},{"$nulls":11},{"$f":"'RELACIÓN DE GASTOS'!E70&\"(\"&'RELACIÓN DE GASTOS'!G70","v":"("}]
[null,"",{"$f":"IF(AND(Tabla15[[#This Row],[Código de actuación]]=\"Ha intoducido una tipología de gasto sin código de actuación asociado en la hoja de RELACIÓN DE GASTOS\",LEN(S65)>10),MID(S65,2,10000),IF(AND(Tabla15[[#This Row],[Código de actuación]]<>\"\",LEN(S65)<38),\"Ha introducido un número de actuación sin tipología asociada en la hoja RELACIÓN DE GASTOS\",MID(S65,37,10000)))","v":""},{"$f":"IF(OR(Tabla15[[#This Row],[Código de actuación]]=\"\",Tabla15[[#This Row],[Tipología de coste]]=\"\"),\"\",SUMIFS('RELACIÓN DE GASTOS'!$R$22:$R$164,'RELACIÓN DE GASTOS'!$G$22:$G$164,C65,'RELACIÓN DE GASTOS'!$E$22:$E$164,B65))","v":""},{"$f":"IF(OR(Tabla15[[#This Row],[Código de actuación]]=\"\",Tabla15[[#This Row],[Tipología de coste]]=\"\"),\"\",IF(AND(C65='Actuaciones-gastos'!$A$24,ISERROR(SEARCH(\"P16\", B65))=FALSE),SUM(_xlfn._xlws.FILTER('ACTUACIONES TIPO 16'!$I$19:$I$35,'ACTUACIONES TIPO 16'!$B$19:$B$35='TOTAL GASTOS'!B65,\"\")),(0.9*D65)))","v":""},{"$nulls":11},{"$f":"'RELACIÓN DE GASTOS'!E71&\"(\"&'RELACIÓN DE GASTOS'!G71","v":"("}]
[null,"",{"$f":"IF(AND(Tabla15[[#This Row],[Código de actuación]]=\"Ha intoducido una tipología de gasto sin código de actuación asociado en la hoja de RELACIÓN DE GASTOS\",LEN(S66)>10),MID(S66,2,10000),IF(AND(Tabla15[[#This Row],[Código de actuación]]<>\"\",LEN(S66)<38),\"Ha introducido un número de actuación sin tipología asociada en la hoja RELACIÓN DE GASTOS\",MID(S66,37,10000)))","v":""},{"$f":"IF(OR(Tabla15[[#This Row],[Código de actuación]]=\"\",Tabla15[[#This Row],[Tipología de coste]]=\"\"),\"\",SUMIFS('RELACIÓN DE GASTOS'!$R$22:$R$164,'RELACIÓN DE GASTOS'!$G$22:$G$164,C66,'RELACIÓN DE GASTOS'!$E$22:$E$164,B66))","v":""},{"$f":"IF(OR(Tabla15[[#This Row],[Código de actuación]]=\"\",Tabla15[[#This Row],[Tipología de coste]]=\"\"),\"\",IF(AND(C66='Actuaciones-gastos'!$A$24,ISERROR(SEARCH(\"P16\", B66))=FALSE),SUM(_xlfn._xlws.FILTER('ACTUACIONES TIPO 16'!$I$19:$I$35,'ACTUACIONES TIPO 16'!$B$19:$B$35='TOTAL GASTOS'!B66,\"\")),(0.9*D66)))","v":""},{"$nulls":11},{"$f":"'RELACIÓN DE GASTOS'!E72&\"(\"&'RELACIÓN DE GASTOS'!G72","v":"("}]
[null,"",{"$f":"IF(AND(Tabla15[[#This Row],[Código de actuación]]=\"Ha intoducido una tipología de gasto sin código de actuación asociado en la hoja de RELACIÓN DE GASTOS\",LEN(S67)>10),MID(S67,2,10000),IF(AND(Tabla15[[#This Row],[Código de actuación]]<>\"\",LEN(S67)<38),\"Ha introducido un número de actuación sin tipología asociada en la hoja RELACIÓN DE GASTOS\",MID(S67,37,10000)))","v":""},{"$f":"IF(OR(Tabla15[[#This Row],[Código de actuación]]=\"\",Tabla15[[#This Row],[Tipología de coste]]=\"\"),\"\",SUMIFS('RELACIÓN DE GASTOS'!$R$22:$R$164,'RELACIÓN DE GASTOS'!$G$22:$G$164,C67,'RELACIÓN DE GASTOS'!$E$22:$E$164,B67))","v":""},{"$f":"IF(OR(Tabla15[[#This Row],[Código de actuación]]=\"\",Tabla15[[#This Row],[Tipología de coste]]=\"\"),\"\",IF(AND(C67='Actuaciones-gastos'!$A$24,ISERROR(SEARCH(\"P16\", B67))=FALSE),SUM(_xlfn._xlws.FILTER('ACTUACIONES TIPO 16'!$I$19:$I$35,'ACTUACIONES TIPO 16'!$B$19:$B$35='TOTAL GASTOS'!B67,\"\")),(0.9*D67)))","v":""},{"$nulls":11},{"$f":"'RELACIÓN DE GASTOS'!E73&\"(\"&'RELACIÓN DE GASTOS'!G73","v":"("}]
[null,"",{"$f":"IF(AND(Tabla15[[#This Row],[Código de actuación]]=\"Ha intoducido una tipología de gasto sin código de actuación asociado en la hoja de RELACIÓN DE GASTOS\",LEN(S68)>10),MID(S68,2,10000),IF(AND(Tabla15[[#This Row],[Código de actuación]]<>\"\",LEN(S68)<38),\"Ha introducido un número de actuación sin tipología asociada en la hoja RELACIÓN DE GASTOS\",MID(S68,37,10000)))","v":""},{"$f":"IF(OR(Tabla15[[#This Row],[Código de actuación]]=\"\",Tabla15[[#This Row],[Tipología de coste]]=\"\"),\"\",SUMIFS('RELACIÓN DE GASTOS'!$R$22:$R$164,'RELACIÓN DE GASTOS'!$G$22:$G$164,C68,'RELACIÓN DE GASTOS'!$E$22:$E$164,B68))","v":""},{"$f":"IF(OR(Tabla15[[#This Row],[Código de actuación]]=\"\",Tabla15[[#This Row],[Tipología de coste]]=\"\"),\"\",IF(AND(C68='Actuaciones-gastos'!$A$24,ISERROR(SEARCH(\"P16\", B68))=FALSE),SUM(_xlfn._xlws.FILTER('ACTUACIONES TIPO 16'!$I$19:$I$35,'ACTUACIONES TIPO 16'!$B$19:$B$35='TOTAL GASTOS'!B68,\"\")),(0.9*D68)))","v":""},{"$nulls":11},{"$f":"'RELACIÓN DE GASTOS'!E74&\"(\"&'RELACIÓN DE GASTOS'!G74","v":"("}]
[null,"",{"$f":"IF(AND(Tabla15[[#This Row],[Código de actuación]]=\"Ha intoducido una tipología de gasto sin código de actuación asociado en la hoja de RELACIÓN DE GASTOS\",LEN(S69)>10),MID(S69,2,10000),IF(AND(Tabla15[[#This Row],[Código de actuación]]<>\"\",LEN(S69)<38),\"Ha introducido un número de actuación sin tipología asociada en la hoja RELACIÓN DE GASTOS\",MID(S69,37,10000)))","v":""},{"$f":"IF(OR(Tabla15[[#This Row],[Código de actuación]]=\"\",Tabla15[[#This Row],[Tipología de coste]]=\"\"),\"\",SUMIFS('RELACIÓN DE GASTOS'!$R$22:$R$164,'RELACIÓN DE GASTOS'!$G$22:$G$164,C69,'RELACIÓN DE GASTOS'!$E$22:$E$164,B69))","v":""},{"$f":"IF(OR(Tabla15[[#This Row],[Código de actuación]]=\"\",Tabla15[[#This Row],[Tipología de coste]]=\"\"),\"\",IF(AND(C69='Actuaciones-gastos'!$A$24,ISERROR(SEARCH(\"P16\", B69))=FALSE),SUM(_xlfn._xlws.FILTER('ACTUACIONES TIPO 16'!$I$19:$I$35,'ACTUACIONES TIPO 16'!$B$19:$B$35='TOTAL GASTOS'!B69,\"\")),(0.9*D69)))","v":""},{"$nulls":11},{"$f":"'RELACIÓN DE GASTOS'!E75&\"(\"&'RELACIÓN DE GASTOS'!G75","v":"("}]
[null,"",{"$f":"IF(AND(Tabla15[[#This Row],[Código de actuación]]=\"Ha intoducido una tipología de gasto sin código de actuación asociado en la hoja de RELACIÓN DE GASTOS\",LEN(S70)>10),MID(S70,2,10000),IF(AND(Tabla15[[#This Row],[Código de actuación]]<>\"\",LEN(S70)<38),\"Ha introducido un número de actuación sin tipología asociada en la hoja RELACIÓN DE GASTOS\",MID(S70,37,10000)))","v":""},{"$f":"IF(OR(Tabla15[[#This Row],[Código de actuación]]=\"\",Tabla15[[#This Row],[Tipología de coste]]=\"\"),\"\",SUMIFS('RELACIÓN DE GASTOS'!$R$22:$R$164,'RELACIÓN DE GASTOS'!$G$22:$G$164,C70,'RELACIÓN DE GASTOS'!$E$22:$E$164,B70))","v":""},{"$f":"IF(OR(Tabla15[[#This Row],[Código de actuación]]=\"\",Tabla15[[#This Row],[Tipología de coste]]=\"\"),\"\",IF(AND(C70='Actuaciones-gastos'!$A$24,ISERROR(SEARCH(\"P16\", B70))=FALSE),SUM(_xlfn._xlws.FILTER('ACTUACIONES TIPO 16'!$I$19:$I$35,'ACTUACIONES TIPO 16'!$B$19:$B$35='TOTAL GASTOS'!B70,\"\")),(0.9*D70)))","v":""},{"$nulls":11},{"$f":"'RELACIÓN DE GASTOS'!E76&\"(\"&'RELACIÓN DE GASTOS'!G76","v":"("}]
[null,"",{"$f":"IF(AND(Tabla15[[#This Row],[Código de actuación]]=\"Ha intoducido una tipología de gasto sin código de actuación asociado en la hoja de RELACIÓN DE GASTOS\",LEN(S71)>10),MID(S71,2,10000),IF(AND(Tabla15[[#This Row],[Código de actuación]]<>\"\",LEN(S71)<38),\"Ha introducido un número de actuación sin tipología asociada en la hoja RELACIÓN DE GASTOS\",MID(S71,37,10000)))","v":""},{"$f":"IF(OR(Tabla15[[#This Row],[Código de actuación]]=\"\",Tabla15[[#This Row],[Tipología de coste]]=\"\"),\"\",SUMIFS('RELACIÓN DE GASTOS'!$R$22:$R$164,'RELACIÓN DE GASTOS'!$G$22:$G$164,C71,'RELACIÓN DE GASTOS'!$E$22:$E$164,B71))","v":""},{"$f":"IF(OR(Tabla15[[#This Row],[Código de actuación]]=\"\",Tabla15[[#This Row],[Tipología de coste]]=\"\"),\"\",IF(AND(C71='Actuaciones-gastos'!$A$24,ISERROR(SEARCH(\"P16\", B71))=FALSE),SUM(_xlfn._xlws.FILTER('ACTUACIONES TIPO 16'!$I$19:$I$35,'ACTUACIONES TIPO 16'!$B$19:$B$35='TOTAL GASTOS'!B71,\"\")),(0.9*D71)))","v":""},{"$nulls":11},{"$f":"'RELACIÓN DE GASTOS'!E77&\"(\"&'RELACIÓN DE GASTOS'!G77","v":"("}]
[null,"",{"$f":"IF(AND(Tabla15[[#This Row],[Código de actuación]]=\"Ha intoducido una tipología de gasto sin código de actuación asociado en la hoja de RELACIÓN DE GASTOS\",LEN(S72)>10),MID(S72,2,10000),IF(AND(Tabla15[[#This Row],[Código de actuación]]<>\"\",LEN(S72)<38),\"Ha introducido un número de actuación sin tipología asociada en la hoja RELACIÓN DE GASTOS\",MID(S72,37,10000)))","v":""},{"$f":"IF(OR(Tabla15[[#This Row],[Código de actuación]]=\"\",Tabla15[[#This Row],[Tipología de coste]]=\"\"),\"\",SUMIFS('RELACIÓN DE GASTOS'!$R$22:$R$164,'RELACIÓN DE GASTOS'!$G$22:$G$164,C72,'RELACIÓN DE GASTOS'!$E$22:$E$164,B72))","v":""},{"$f":"IF(OR(Tabla15[[#This Row],[Código de actuación]]=\"\",Tabla15[[#This Row],[Tipología de coste]]=\"\"),\"\",IF(AND(C72='Actuaciones-gastos'!$A$24,ISERROR(SEARCH(\"P16\", B72))=FALSE),SUM(_xlfn._xlws.FILTER('ACTUACIONES TIPO 16'!$I$19:$I$35,'ACTUACIONES TIPO 16'!$B$19:$B$35='TOTAL GASTOS'!B72,\"\")),(0.9*D72)))","v":""},{"$nulls":11},{"$f":"'RELACIÓN DE GASTOS'!E78&\"(\"&'RELACIÓN DE GASTOS'!G78","v":"("}]
[null,"",{"$f":"IF(AND(Tabla15[[#This Row],[Código de actuación]]=\"Ha intoducido una tipología de gasto sin código de actuación asociado en la hoja de RELACIÓN DE GASTOS\",LEN(S73)>10),MID(S73,2,10000),IF(AND(Tabla15[[#This Row],[Código de actuación]]<>\"\",LEN(S73)<38),\"Ha introducido un número de actuación sin tipología asociada en la hoja RELACIÓN DE GASTOS\",MID(S73,37,10000)))","v":""},{"$f":"IF(OR(Tabla15[[#This Row],[Código de actuación]]=\"\",Tabla15[[#This Row],[Tipología de coste]]=\"\"),\"\",SUMIFS('RELACIÓN DE GASTOS'!$R$22:$R$164,'RELACIÓN DE GASTOS'!$G$22:$G$164,C73,'RELACIÓN DE GASTOS'!$E$22:$E$164,B73))","v":""},{"$f":"IF(OR(Tabla15[[#This Row],[Código de actuación]]=\"\",Tabla15[[#This Row],[Tipología de coste]]=\"\"),\"\",IF(AND(C73='Actuaciones-gastos'!$A$24,ISERROR(SEARCH(\"P16\", B73))=FALSE),SUM(_xlfn._xlws.FILTER('ACTUACIONES TIPO 16'!$I$19:$I$35,'ACTUACIONES TIPO 16'!$B$19:$B$35='TOTAL GASTOS'!B73,\"\")),(0.9*D73)))","v":""},{"$nulls":11},{"$f":"'RELACIÓN DE GASTOS'!E79&\"(\"&'RELACIÓN DE GASTOS'!G79","v":"("}]
[null,"",{"$f":"IF(AND(Tabla15[[#This Row],[Código de actuación]]=\"Ha intoducido una tipología de gasto sin código de actuación asociado en la hoja de RELACIÓN DE GASTOS\",LEN(S74)>10),MID(S74,2,10000),IF(AND(Tabla15[[#This Row],[Código de actuación]]<>\"\",LEN(S74)<38),\"Ha introducido un número de actuación sin tipología asociada en la hoja RELACIÓN DE GASTOS\",MID(S74,37,10000)))","v":""},{"$f":"IF(OR(Tabla15[[#This Row],[Código de actuación]]=\"\",Tabla15[[#This Row],[Tipología de coste]]=\"\"),\"\",SUMIFS('RELACIÓN DE GASTOS'!$R$22:$R$164,'RELACIÓN DE GASTOS'!$G$22:$G$164,C74,'RELACIÓN DE GASTOS'!$E$22:$E$164,B74))","v":""},{"$f":"IF(OR(Tabla15[[#This Row],[Código de actuación]]=\"\",Tabla15[[#This Row],[Tipología de coste]]=\"\"),\"\",IF(AND(C74='Actuaciones-gastos'!$A$24,ISERROR(SEARCH(\"P16\", B74))=FALSE),SUM(_xlfn._xlws.FILTER('ACTUACIONES TIPO 16'!$I$19:$I$35,'ACTUACIONES TIPO 16'!$B$19:$B$35='TOTAL GASTOS'!B74,\"\")),(0.9*D74)))","v":""},{"$nulls":11},{"$f":"'RELACIÓN DE GASTOS'!E80&\"(\"&'RELACIÓN DE GASTOS'!G80","v":"("}]
[null,"",{"$f":"IF(AND(Tabla15[[#This Row],[Código de actuación]]=\"Ha intoducido una tipología de gasto sin código de actuación asociado en la hoja de RELACIÓN DE GASTOS\",LEN(S75)>10),MID(S75,2,10000),IF(AND(Tabla15[[#This Row],[Código de actuación]]<>\"\",LEN(S75)<38),\"Ha introducido un número de actuación sin tipología asociada en la hoja RELACIÓN DE GASTOS\",MID(S75,37,10000)))","v":""},{"$f":"IF(OR(Tabla15[[#This Row],[Código de actuación]]=\"\",Tabla15[[#This Row],[Tipología de coste]]=\"\"),\"\",SUMIFS('RELACIÓN DE GASTOS'!$R$22:$R$164,'RELACIÓN DE GASTOS'!$G$22:$G$164,C75,'RELACIÓN DE GASTOS'!$E$22:$E$164,B75))","v":""},{"$f":"IF(OR(Tabla15[[#This Row],[Código de actuación]]=\"\",Tabla15[[#This Row],[Tipología de coste]]=\"\"),\"\",IF(AND(C75='Actuaciones-gastos'!$A$24,ISERROR(SEARCH(\"P16\", B75))=FALSE),SUM(_xlfn._xlws.FILTER('ACTUACIONES TIPO 16'!$I$19:$I$35,'ACTUACIONES TIPO 16'!$B$19:$B$35='TOTAL GASTOS'!B75,\"\")),(0.9*D75)))","v":""},{"$nulls":11},{"$f":"'RELACIÓN DE GASTOS'!E81&\"(\"&'RELACIÓN DE GASTOS'!G81","v":"("}]
[null,"",{"$f":"IF(AND(Tabla15[[#This Row],[Código de actuación]]=\"Ha intoducido una tipología de gasto sin código de actuación asociado en la hoja de RELACIÓN DE GASTOS\",LEN(S76)>10),MID(S76,2,10000),IF(AND(Tabla15[[#This Row],[Código de actuación]]<>\"\",LEN(S76)<38),\"Ha introducido un número de actuación sin tipología asociada en la hoja RELACIÓN DE GASTOS\",MID(S76,37,10000)))","v":""},{"$f":"IF(OR(Tabla15[[#This Row],[Código de actuación]]=\"\",Tabla15[[#This Row],[Tipología de coste]]=\"\"),\"\",SUMIFS('RELACIÓN DE GASTOS'!$R$22:$R$164,'RELACIÓN DE GASTOS'!$G$22:$G$164,C76,'RELACIÓN DE GASTOS'!$E$22:$E$164,B76))","v":""},{"$f":"IF(OR(Tabla15[[#This Row],[Código de actuación]]=\"\",Tabla15[[#This Row],[Tipología de coste]]=\"\"),\"\",IF(AND(C76='Actuaciones-gastos'!$A$24,ISERROR(SEARCH(\"P16\", B76))=FALSE),SUM(_xlfn._xlws.FILTER('ACTUACIONES TIPO 16'!$I$19:$I$35,'ACTUACIONES TIPO 16'!$B$19:$B$35='TOTAL GASTOS'!B76,\"\")),(0.9*D76)))","v":""},{"$nulls":11},{"$f":"'RELACIÓN DE GASTOS'!E82&\"(\"&'RELACIÓN DE GASTOS'!G82","v":"("}]
[null,"",{"$f":"IF(AND(Tabla15[[#This Row],[Código de actuación]]=\"Ha intoducido una tipología de gasto sin código de actuación asociado en la hoja de RELACIÓN DE GASTOS\",LEN(S77)>10),MID(S77,2,10000),IF(AND(Tabla15[[#This Row],[Código de actuación]]<>\"\",LEN(S77)<38),\"Ha introducido un número de actuación sin tipología asociada en la hoja RELACIÓN DE GASTOS\",MID(S77,37,10000)))","v":""},{"$f":"IF(OR(Tabla15[[#This Row],[Código de actuación]]=\"\",Tabla15[[#This Row],[Tipología de coste]]=\"\"),\"\",SUMIFS('RELACIÓN DE GASTOS'!$R$22:$R$164,'RELACIÓN DE GASTOS'!$G$22:$G$164,C77,'RELACIÓN DE GASTOS'!$E$22:$E$164,B77))","v":""},{"$f":"IF(OR(Tabla15[[#This Row],[Código de actuación]]=\"\",Tabla15[[#This Row],[Tipología de coste]]=\"\"),\"\",IF(AND(C77='Actuaciones-gastos'!$A$24,ISERROR(SEARCH(\"P16\", B77))=FALSE),SUM(_xlfn._xlws.FILTER('ACTUACIONES TIPO 16'!$I$19:$I$35,'ACTUACIONES TIPO 16'!$B$19:$B$35='TOTAL GASTOS'!B77,\"\")),(0.9*D77)))","v":""},{"$nulls":11},{"$f":"'RELACIÓN DE GASTOS'!E83&\"(\"&'RELACIÓN DE GASTOS'!G83","v":"("}]
[null,"",{"$f":"IF(AND(Tabla15[[#This Row],[Código de actuación]]=\"Ha intoducido una tipología de gasto sin código de actuación asociado en la hoja de RELACIÓN DE GASTOS\",LEN(S78)>10),MID(S78,2,10000),IF(AND(Tabla15[[#This Row],[Código de actuación]]<>\"\",LEN(S78)<38),\"Ha introducido un número de actuación sin tipología asociada en la hoja RELACIÓN DE GASTOS\",MID(S78,37,10000)))","v":""},{"$f":"IF(OR(Tabla15[[#This Row],[Código de actuación]]=\"\",Tabla15[[#This Row],[Tipología de coste]]=\"\"),\"\",SUMIFS('RELACIÓN DE GASTOS'!$R$22:$R$164,'RELACIÓN DE GASTOS'!$G$22:$G$164,C78,'RELACIÓN DE GASTOS'!$E$22:$E$164,B78))","v":""},{"$f":"IF(OR(Tabla15[[#This Row],[Código de actuación]]=\"\",Tabla15[[#This Row],[Tipología de coste]]=\"\"),\"\",IF(AND(C78='Actuaciones-gastos'!$A$24,ISERROR(SEARCH(\"P16\", B78))=FALSE),SUM(_xlfn._xlws.FILTER('ACTUACIONES TIPO 16'!$I$19:$I$35,'ACTUACIONES TIPO 16'!$B$19:$B$35='TOTAL GASTOS'!B78,\"\")),(0.9*D78)))","v":""},{"$nulls":11},{"$f":"'RELACIÓN DE GASTOS'!E84&\"(\"&'RELACIÓN DE GASTOS'!G84","v":"("}]
[null,"",{"$f":"IF(AND(Tabla15[[#This Row],[Código de actuación]]=\"Ha intoducido una tipología de gasto sin código de actuación asociado en la hoja de RELACIÓN DE GASTOS\",LEN(S79)>10),MID(S79,2,10000),IF(AND(Tabla15[[#This Row],[Código de actuación]]<>\"\",LEN(S79)<38),\"Ha introducido un número de actuación sin tipología asociada en la hoja RELACIÓN DE GASTOS\",MID(S79,37,10000)))","v":""},{"$f":"IF(OR(Tabla15[[#This Row],[Código de actuación]]=\"\",Tabla15[[#This Row],[Tipología de coste]]=\"\"),\"\",SUMIFS('RELACIÓN DE GASTOS'!$R$22:$R$164,'RELACIÓN DE GASTOS'!$G$22:$G$164,C79,'RELACIÓN DE GASTOS'!$E$22:$E$164,B79))","v":""},{"$f":"IF(OR(Tabla15[[#This Row],[Código de actuación]]=\"\",Tabla15[[#This Row],[Tipología de coste]]=\"\"),\"\",IF(AND(C79='Actuaciones-gastos'!$A$24,ISERROR(SEARCH(\"P16\", B79))=FALSE),SUM(_xlfn._xlws.FILTER('ACTUACIONES TIPO 16'!$I$19:$I$35,'ACTUACIONES TIPO 16'!$B$19:$B$35='TOTAL GASTOS'!B79,\"\")),(0.9*D79)))","v":""},{"$nulls":11},{"$f":"'RELACIÓN DE GASTOS'!E85&\"(\"&'RELACIÓN DE GASTOS'!G85","v":"("}]
[null,"",{"$f":"IF(AND(Tabla15[[#This Row],[Código de actuación]]=\"Ha intoducido una tipología de gasto sin código de actuación asociado en la hoja de RELACIÓN DE GASTOS\",LEN(S80)>10),MID(S80,2,10000),IF(AND(Tabla15[[#This Row],[Código de actuación]]<>\"\",LEN(S80)<38),\"Ha introducido un número de actuación sin tipología asociada en la hoja RELACIÓN DE GASTOS\",MID(S80,37,10000)))","v":""},{"$f":"IF(OR(Tabla15[[#This Row],[Código de actuación]]=\"\",Tabla15[[#This Row],[Tipología de coste]]=\"\"),\"\",SUMIFS('RELACIÓN DE GASTOS'!$R$22:$R$164,'RELACIÓN DE GASTOS'!$G$22:$G$164,C80,'RELACIÓN DE GASTOS'!$E$22:$E$164,B80))","v":""},{"$f":"IF(OR(Tabla15[[#This Row],[Código de actuación]]=\"\",Tabla15[[#This Row],[Tipología de coste]]=\"\"),\"\",IF(AND(C80='Actuaciones-gastos'!$A$24,ISERROR(SEARCH(\"P16\", B80))=FALSE),SUM(_xlfn._xlws.FILTER('ACTUACIONES TIPO 16'!$I$19:$I$35,'ACTUACIONES TIPO 16'!$B$19:$B$35='TOTAL GASTOS'!B80,\"\")),(0.9*D80)))","v":""},{"$nulls":11},{"$f":"'RELACIÓN DE GASTOS'!E86&\"(\"&'RELACIÓN DE GASTOS'!G86","v":"("}]
[null,"",{"$f":"IF(AND(Tabla15[[#This Row],[Código de actuación]]=\"Ha intoducido una tipología de gasto sin código de actuación asociado en la hoja de RELACIÓN DE GASTOS\",LEN(S81)>10),MID(S81,2,10000),IF(AND(Tabla15[[#This Row],[Código de actuación]]<>\"\",LEN(S81)<38),\"Ha introducido un número de actuación sin tipología asociada en la hoja RELACIÓN DE GASTOS\",MID(S81,37,10000)))","v":""},{"$f":"IF(OR(Tabla15[[#This Row],[Código de actuación]]=\"\",Tabla15[[#This Row],[Tipología de coste]]=\"\"),\"\",SUMIFS('RELACIÓN DE GASTOS'!$R$22:$R$164,'RELACIÓN DE GASTOS'!$G$22:$G$164,C81,'RELACIÓN DE GASTOS'!$E$22:$E$164,B81))","v":""},{"$f":"IF(OR(Tabla15[[#This Row],[Código de actuación]]=\"\",Tabla15[[#This Row],[Tipología de coste]]=\"\"),\"\",IF(AND(C81='Actuaciones-gastos'!$A$24,ISERROR(SEARCH(\"P16\", B81))=FALSE),SUM(_xlfn._xlws.FILTER('ACTUACIONES TIPO 16'!$I$19:$I$35,'ACTUACIONES TIPO 16'!$B$19:$B$35='TOTAL GASTOS'!B81,\"\")),(0.9*D81)))","v":""},{"$nulls":11},{"$f":"'RELACIÓN DE GASTOS'!E87&\"(\"&'RELACIÓN DE GASTOS'!G87","v":"("}]
[null,{"$f":"IF(AND(LEN(S82)>5,ISERROR(SEARCH(\"PRTR\",S82))=TRUE),\"Ha intoducido una tipología de gasto sin código de actuación asociado en la hoja de RELACIÓN DE GASTOS\",LEFT(S82,35))","v":""},{"$f":"IF(AND(Tabla15[[#This Row],[Código de actuación]]=\"Ha intoducido una tipología de gasto sin código de actuación asociado en la hoja de RELACIÓN DE GASTOS\",LEN(S82)>10),MID(S82,2,10000),IF(AND(Tabla15[[#This Row],[Código de actuación]]<>\"\",LEN(S82)<38),\"Ha introducido un número de actuación sin tipología asociada en la hoja RELACIÓN DE GASTOS\",MID(S82,37,10000)))","v":""},{"$f":"IF(OR(Tabla15[[#This Row],[Código de actuación]]=\"\",Tabla15[[#This Row],[Tipología de coste]]=\"\"),\"\",SUMIFS('RELACIÓN DE GASTOS'!$R$22:$R$164,'RELACIÓN DE GASTOS'!$G$22:$G$164,C82,'RELACIÓN DE GASTOS'!$E$22:$E$164,B82))","v":""},{"$f":"IF(OR(Tabla15[[#This Row],[Código de actuación]]=\"\",Tabla15[[#This Row],[Tipología de coste]]=\"\"),\"\",IF(AND(C82='Actuaciones-gastos'!$A$24,ISERROR(SEARCH(\"P16\", B82))=FALSE),SUM(_xlfn._xlws.FILTER('ACTUACIONES TIPO 16'!$I$19:$I$35,'ACTUACIONES TIPO 16'!$B$19:$B$35='TOTAL GASTOS'!B82,\"\")),(0.9*D82)))","v":""},{"$nulls":11},{"$f":"'RELACIÓN DE GASTOS'!E88&\"(\"&'RELACIÓN DE GASTOS'!G88","v":"("}]
[null,"",{"$f":"IF(AND(Tabla15[[#This Row],[Código de actuación]]=\"Ha intoducido una tipología de gasto sin código de actuación asociado en la hoja de RELACIÓN DE GASTOS\",LEN(S83)>10),MID(S83,2,10000),IF(AND(Tabla15[[#This Row],[Código de actuación]]<>\"\",LEN(S83)<38),\"Ha introducido un número de actuación sin tipología asociada en la hoja RELACIÓN DE GASTOS\",MID(S83,37,10000)))","v":""},{"$f":"IF(OR(Tabla15[[#This Row],[Código de actuación]]=\"\",Tabla15[[#This Row],[Tipología de coste]]=\"\"),\"\",SUMIFS('RELACIÓN DE GASTOS'!$R$22:$R$164,'RELACIÓN DE GASTOS'!$G$22:$G$164,C83,'RELACIÓN DE GASTOS'!$E$22:$E$164,B83))","v":""},{"$f":"IF(OR(Tabla15[[#This Row],[Código de actuación]]=\"\",Tabla15[[#This Row],[Tipología de coste]]=\"\"),\"\",IF(AND(C83='Actuaciones-gastos'!$A$24,ISERROR(SEARCH(\"P16\", B83))=FALSE),SUM(_xlfn._xlws.FILTER('ACTUACIONES TIPO 16'!$I$19:$I$35,'ACTUACIONES TIPO 16'!$B$19:$B$35='TOTAL GASTOS'!B83,\"\")),(0.9*D83)))","v":""},{"$nulls":11},{"$f":"'RELACIÓN DE GASTOS'!E89&\"(\"&'RELACIÓN DE GASTOS'!G89","v":"("}]
[null,"",{"$f":"IF(AND(Tabla15[[#This Row],[Código de actuación]]=\"Ha intoducido una tipología de gasto sin código de actuación asociado en la hoja de RELACIÓN DE GASTOS\",LEN(S84)>10),MID(S84,2,10000),IF(AND(Tabla15[[#This Row],[Código de actuación]]<>\"\",LEN(S84)<38),\"Ha introducido un número de actuación sin tipología asociada en la hoja RELACIÓN DE GASTOS\",MID(S84,37,10000)))","v":""},{"$f":"IF(OR(Tabla15[[#This Row],[Código de actuación]]=\"\",Tabla15[[#This Row],[Tipología de coste]]=\"\"),\"\",SUMIFS('RELACIÓN DE GASTOS'!$R$22:$R$164,'RELACIÓN DE GASTOS'!$G$22:$G$164,C84,'RELACIÓN DE GASTOS'!$E$22:$E$164,B84))","v":""},{"$f":"IF(OR(Tabla15[[#This Row],[Código de actuación]]=\"\",Tabla15[[#This Row],[Tipología de coste]]=\"\"),\"\",IF(AND(C84='Actuaciones-gastos'!$A$24,ISERROR(SEARCH(\"P16\", B84))=FALSE),SUM(_xlfn._xlws.FILTER('ACTUACIONES TIPO 16'!$I$19:$I$35,'ACTUACIONES TIPO 16'!$B$19:$B$35='TOTAL GASTOS'!B84,\"\")),(0.9*D84)))","v":""},{"$nulls":11},{"$f":"'RELACIÓN DE GASTOS'!E90&\"(\"&'RELACIÓN DE GASTOS'!G90","v":"("}]
[null,"",{"$f":"IF(AND(Tabla15[[#This Row],[Código de actuación]]=\"Ha intoducido una tipología de gasto sin código de actuación asociado en la hoja de RELACIÓN DE GASTOS\",LEN(S85)>10),MID(S85,2,10000),IF(AND(Tabla15[[#This Row],[Código de actuación]]<>\"\",LEN(S85)<38),\"Ha introducido un número de actuación sin tipología asociada en la hoja RELACIÓN DE GASTOS\",MID(S85,37,10000)))","v":""},{"$f":"IF(OR(Tabla15[[#This Row],[Código de actuación]]=\"\",Tabla15[[#This Row],[Tipología de coste]]=\"\"),\"\",SUMIFS('RELACIÓN DE GASTOS'!$R$22:$R$164,'RELACIÓN DE GASTOS'!$G$22:$G$164,C85,'RELACIÓN DE GASTOS'!$E$22:$E$164,B85))","v":""},{"$f":"IF(OR(Tabla15[[#This Row],[Código de actuación]]=\"\",Tabla15[[#This Row],[Tipología de coste]]=\"\"),\"\",IF(AND(C85='Actuaciones-gastos'!$A$24,ISERROR(SEARCH(\"P16\", B85))=FALSE),SUM(_xlfn._xlws.FILTER('ACTUACIONES TIPO 16'!$I$19:$I$35,'ACTUACIONES TIPO 16'!$B$19:$B$35='TOTAL GASTOS'!B85,\"\")),(0.9*D85)))","v":""},{"$nulls":11},{"$f":"'RELACIÓN DE GASTOS'!E91&\"(\"&'RELACIÓN DE GASTOS'!G91","v":"("}]
[null,"",{"$f":"IF(AND(Tabla15[[#This Row],[Código de actuación]]=\"Ha intoducido una tipología de gasto sin código de actuación asociado en la hoja de RELACIÓN DE GASTOS\",LEN(S86)>10),MID(S86,2,10000),IF(AND(Tabla15[[#This Row],[Código de actuación]]<>\"\",LEN(S86)<38),\"Ha introducido un número de actuación sin tipología asociada en la hoja RELACIÓN DE GASTOS\",MID(S86,37,10000)))","v":""},{"$f":"IF(OR(Tabla15[[#This Row],[Código de actuación]]=\"\",Tabla15[[#This Row],[Tipología de coste]]=\"\"),\"\",SUMIFS('RELACIÓN DE GASTOS'!$R$22:$R$164,'RELACIÓN DE GASTOS'!$G$22:$G$164,C86,'RELACIÓN DE GASTOS'!$E$22:$E$164,B86))","v":""},{"$f":"IF(OR(Tabla15[[#This Row],[Código de actuación]]=\"\",Tabla15[[#This Row],[Tipología de coste]]=\"\"),\"\",IF(AND(C86='Actuaciones-gastos'!$A$24,ISERROR(SEARCH(\"P16\", B86))=FALSE),SUM(_xlfn._xlws.FILTER('ACTUACIONES TIPO 16'!$I$19:$I$35,'ACTUACIONES TIPO 16'!$B$19:$B$35='TOTAL GASTOS'!B86,\"\")),(0.9*D86)))","v":""},{"$nulls":11},{"$f":"'RELACIÓN DE GASTOS'!E92&\"(\"&'RELACIÓN DE GASTOS'!G92","v":"("}]
[null,"",{"$f":"IF(AND(Tabla15[[#This Row],[Código de actuación]]=\"Ha intoducido una tipología de gasto sin código de actuación asociado en la hoja de RELACIÓN DE GASTOS\",LEN(S87)>10),MID(S87,2,10000),IF(AND(Tabla15[[#This Row],[Código de actuación]]<>\"\",LEN(S87)<38),\"Ha introducido un número de actuación sin tipología asociada en la hoja RELACIÓN DE GASTOS\",MID(S87,37,10000)))","v":""},{"$f":"IF(OR(Tabla15[[#This Row],[Código de actuación]]=\"\",Tabla15[[#This Row],[Tipología de coste]]=\"\"),\"\",SUMIFS('RELACIÓN DE GASTOS'!$R$22:$R$164,'RELACIÓN DE GASTOS'!$G$22:$G$164,C87,'RELACIÓN DE GASTOS'!$E$22:$E$164,B87))","v":""},{"$f":"IF(OR(Tabla15[[#This Row],[Código de actuación]]=\"\",Tabla15[[#This Row],[Tipología de coste]]=\"\"),\"\",IF(AND(C87='Actuaciones-gastos'!$A$24,ISERROR(SEARCH(\"P16\", B87))=FALSE),SUM(_xlfn._xlws.FILTER('ACTUACIONES TIPO 16'!$I$19:$I$35,'ACTUACIONES TIPO 16'!$B$19:$B$35='TOTAL GASTOS'!B87,\"\")),(0.9*D87)))","v":""},{"$nulls":11},{"$f":"'RELACIÓN DE GASTOS'!E93&\"(\"&'RELACIÓN DE GASTOS'!G93","v":"("}]
[null,"",{"$f":"IF(AND(Tabla15[[#This Row],[Código de actuación]]=\"Ha intoducido una tipología de gasto sin código de actuación asociado en la hoja de RELACIÓN DE GASTOS\",LEN(S88)>10),MID(S88,2,10000),IF(AND(Tabla15[[#This Row],[Código de actuación]]<>\"\",LEN(S88)<38),\"Ha introducido un número de actuación sin tipología asociada en la hoja RELACIÓN DE GASTOS\",MID(S88,37,10000)))","v":""},{"$f":"IF(OR(Tabla15[[#This Row],[Código de actuación]]=\"\",Tabla15[[#This Row],[Tipología de coste]]=\"\"),\"\",SUMIFS('RELACIÓN DE GASTOS'!$R$22:$R$164,'RELACIÓN DE GASTOS'!$G$22:$G$164,C88,'RELACIÓN DE GASTOS'!$E$22:$E$164,B88))","v":""},{"$f":"IF(OR(Tabla15[[#This Row],[Código de actuación]]=\"\",Tabla15[[#This Row],[Tipología de coste]]=\"\"),\"\",IF(AND(C88='Actuaciones-gastos'!$A$24,ISERROR(SEARCH(\"P16\", B88))=FALSE),SUM(_xlfn._xlws.FILTER('ACTUACIONES TIPO 16'!$I$19:$I$35,'ACTUACIONES TIPO 16'!$B$19:$B$35='TOTAL GASTOS'!B88,\"\")),(0.9*D88)))","v":""},{"$nulls":11},{"$f":"'RELACIÓN DE GASTOS'!E94&\"(\"&'RELACIÓN DE GASTOS'!G94","v":"("}]
[null,"",{"$f":"IF(AND(Tabla15[[#This Row],[Código de actuación]]=\"Ha intoducido una tipología de gasto sin código de actuación asociado en la hoja de RELACIÓN DE GASTOS\",LEN(S89)>10),MID(S89,2,10000),IF(AND(Tabla15[[#This Row],[Código de actuación]]<>\"\",LEN(S89)<38),\"Ha introducido un número de actuación sin tipología asociada en la hoja RELACIÓN DE GASTOS\",MID(S89,37,10000)))","v":""},{"$f":"IF(OR(Tabla15[[#This Row],[Código de actuación]]=\"\",Tabla15[[#This Row],[Tipología de coste]]=\"\"),\"\",SUMIFS('RELACIÓN DE GASTOS'!$R$22:$R$164,'RELACIÓN DE GASTOS'!$G$22:$G$164,C89,'RELACIÓN DE GASTOS'!$E$22:$E$164,B89))","v":""},{"$f":"IF(OR(Tabla15[[#This Row],[Código de actuación]]=\"\",Tabla15[[#This Row],[Tipología de coste]]=\"\"),\"\",IF(AND(C89='Actuaciones-gastos'!$A$24,ISERROR(SEARCH(\"P16\", B89))=FALSE),SUM(_xlfn._xlws.FILTER('ACTUACIONES TIPO 16'!$I$19:$I$35,'ACTUACIONES TIPO 16'!$B$19:$B$35='TOTAL GASTOS'!B89,\"\")),(0.9*D89)))","v":""},{"$nulls":11},{"$f":"'RELACIÓN DE GASTOS'!E95&\"(\"&'RELACIÓN DE GASTOS'!G95","v":"("}]
[null,"",{"$f":"IF(AND(Tabla15[[#This Row],[Código de actuación]]=\"Ha intoducido una tipología de gasto sin código de actuación asociado en la hoja de RELACIÓN DE GASTOS\",LEN(S90)>10),MID(S90,2,10000),IF(AND(Tabla15[[#This Row],[Código de actuación]]<>\"\",LEN(S90)<38),\"Ha introducido un número de actuación sin tipología asociada en la hoja RELACIÓN DE GASTOS\",MID(S90,37,10000)))","v":""},{"$f":"IF(OR(Tabla15[[#This Row],[Código de actuación]]=\"\",Tabla15[[#This Row],[Tipología de coste]]=\"\"),\"\",SUMIFS('RELACIÓN DE GASTOS'!$R$22:$R$164,'RELACIÓN DE GASTOS'!$G$22:$G$164,C90,'RELACIÓN DE GASTOS'!$E$22:$E$164,B90))","v":""},{"$f":"IF(OR(Tabla15[[#This Row],[Código de actuación]]=\"\",Tabla15[[#This Row],[Tipología de coste]]=\"\"),\"\",IF(AND(C90='Actuaciones-gastos'!$A$24,ISERROR(SEARCH(\"P16\", B90))=FALSE),SUM(_xlfn._xlws.FILTER('ACTUACIONES TIPO 16'!$I$19:$I$35,'ACTUACIONES TIPO 16'!$B$19:$B$35='TOTAL GASTOS'!B90,\"\")),(0.9*D90)))","v":""},{"$nulls":11},{"$f":"'RELACIÓN DE GASTOS'!E96&\"(\"&'RELACIÓN DE GASTOS'!G96","v":"("}]
[null,"",{"$f":"IF(AND(Tabla15[[#This Row],[Código de actuación]]=\"Ha intoducido una tipología de gasto sin código de actuación asociado en la hoja de RELACIÓN DE GASTOS\",LEN(S91)>10),MID(S91,2,10000),IF(AND(Tabla15[[#This Row],[Código de actuación]]<>\"\",LEN(S91)<38),\"Ha introducido un número de actuación sin tipología asociada en la hoja RELACIÓN DE GASTOS\",MID(S91,37,10000)))","v":""},{"$f":"IF(OR(Tabla15[[#This Row],[Código de actuación]]=\"\",Tabla15[[#This Row],[Tipología de coste]]=\"\"),\"\",SUMIFS('RELACIÓN DE GASTOS'!$R$22:$R$164,'RELACIÓN DE GASTOS'!$G$22:$G$164,C91,'RELACIÓN DE GASTOS'!$E$22:$E$164,B91))","v":""},{"$f":"IF(OR(Tabla15[[#This Row],[Código de actuación]]=\"\",Tabla15[[#This Row],[Tipología de coste]]=\"\"),\"\",IF(AND(C91='Actuaciones-gastos'!$A$24,ISERROR(SEARCH(\"P16\", B91))=FALSE),SUM(_xlfn._xlws.FILTER('ACTUACIONES TIPO 16'!$I$19:$I$35,'ACTUACIONES TIPO 16'!$B$19:$B$35='TOTAL GASTOS'!B91,\"\")),(0.9*D91)))","v":""},{"$nulls":11},{"$f":"'RELACIÓN DE GASTOS'!E97&\"(\"&'RELACIÓN DE GASTOS'!G97","v":"("}]
[null,"",{"$f":"IF(AND(Tabla15[[#This Row],[Código de actuación]]=\"Ha intoducido una tipología de gasto sin código de actuación asociado en la hoja de RELACIÓN DE GASTOS\",LEN(S92)>10),MID(S92,2,10000),IF(AND(Tabla15[[#This Row],[Código de actuación]]<>\"\",LEN(S92)<38),\"Ha introducido un número de actuación sin tipología asociada en la hoja RELACIÓN DE GASTOS\",MID(S92,37,10000)))","v":""},{"$f":"IF(OR(Tabla15[[#This Row],[Código de actuación]]=\"\",Tabla15[[#This Row],[Tipología de coste]]=\"\"),\"\",SUMIFS('RELACIÓN DE GASTOS'!$R$22:$R$164,'RELACIÓN DE GASTOS'!$G$22:$G$164,C92,'RELACIÓN DE GASTOS'!$E$22:$E$164,B92))","v":""},{"$f":"IF(OR(Tabla15[[#This Row],[Código de actuación]]=\"\",Tabla15[[#This Row],[Tipología de coste]]=\"\"),\"\",IF(AND(C92='Actuaciones-gastos'!$A$24,ISERROR(SEARCH(\"P16\", B92))=FALSE),SUM(_xlfn._xlws.FILTER('ACTUACIONES TIPO 16'!$I$19:$I$35,'ACTUACIONES TIPO 16'!$B$19:$B$35='TOTAL GASTOS'!B92,\"\")),(0.9*D92)))","v":""},{"$nulls":11},{"$f":"'RELACIÓN DE GASTOS'!E98&\"(\"&'RELACIÓN DE GASTOS'!G98","v":"("}]
[null,"",{"$f":"IF(AND(Tabla15[[#This Row],[Código de actuación]]=\"Ha intoducido una tipología de gasto sin código de actuación asociado en la hoja de RELACIÓN DE GASTOS\",LEN(S93)>10),MID(S93,2,10000),IF(AND(Tabla15[[#This Row],[Código de actuación]]<>\"\",LEN(S93)<38),\"Ha introducido un número de actuación sin tipología asociada en la hoja RELACIÓN DE GASTOS\",MID(S93,37,10000)))","v":""},{"$f":"IF(OR(Tabla15[[#This Row],[Código de actuación]]=\"\",Tabla15[[#This Row],[Tipología de coste]]=\"\"),\"\",SUMIFS('RELACIÓN DE GASTOS'!$R$22:$R$164,'RELACIÓN DE GASTOS'!$G$22:$G$164,C93,'RELACIÓN DE GASTOS'!$E$22:$E$164,B93))","v":""},{"$f":"IF(OR(Tabla15[[#This Row],[Código de actuación]]=\"\",Tabla15[[#This Row],[Tipología de coste]]=\"\"),\"\",IF(AND(C93='Actuaciones-gastos'!$A$24,ISERROR(SEARCH(\"P16\", B93))=FALSE),SUM(_xlfn._xlws.FILTER('ACTUACIONES TIPO 16'!$I$19:$I$35,'ACTUACIONES TIPO 16'!$B$19:$B$35='TOTAL GASTOS'!B93,\"\")),(0.9*D93)))","v":""},{"$nulls":11},{"$f":"'RELACIÓN DE GASTOS'!E99&\"(\"&'RELACIÓN DE GASTOS'!G99","v":"("}]
[null,"",{"$f":"IF(AND(Tabla15[[#This Row],[Código de actuación]]=\"Ha intoducido una tipología de gasto sin código de actuación asociado en la hoja de RELACIÓN DE GASTOS\",LEN(S94)>10),MID(S94,2,10000),IF(AND(Tabla15[[#This Row],[Código de actuación]]<>\"\",LEN(S94)<38),\"Ha introducido un número de actuación sin tipología asociada en la hoja RELACIÓN DE GASTOS\",MID(S94,37,10000)))","v":""},{"$f":"IF(OR(Tabla15[[#This Row],[Código de actuación]]=\"\",Tabla15[[#This Row],[Tipología de coste]]=\"\"),\"\",SUMIFS('RELACIÓN DE GASTOS'!$R$22:$R$164,'RELACIÓN DE GASTOS'!$G$22:$G$164,C94,'RELACIÓN DE GASTOS'!$E$22:$E$164,B94))","v":""},{"$f":"IF(OR(Tabla15[[#This Row],[Código de actuación]]=\"\",Tabla15[[#This Row],[Tipología de coste]]=\"\"),\"\",IF(AND(C94='Actuaciones-gastos'!$A$24,ISERROR(SEARCH(\"P16\", B94))=FALSE),SUM(_xlfn._xlws.FILTER('ACTUACIONES TIPO 16'!$I$19:$I$35,'ACTUACIONES TIPO 16'!$B$19:$B$35='TOTAL GASTOS'!B94,\"\")),(0.9*D94)))","v":""},{"$nulls":11},{"$f":"'RELACIÓN DE GASTOS'!E100&\"(\"&'RELACIÓN DE GASTOS'!G100","v":"("}]
[null,"",{"$f":"IF(AND(Tabla15[[#This Row],[Código de actuación]]=\"Ha intoducido una tipología de gasto sin código de actuación asociado en la hoja de RELACIÓN DE GASTOS\",LEN(S95)>10),MID(S95,2,10000),IF(AND(Tabla15[[#This Row],[Código de actuación]]<>\"\",LEN(S95)<38),\"Ha introducido un número de actuación sin tipología asociada en la hoja RELACIÓN DE GASTOS\",MID(S95,37,10000)))","v":""},{"$f":"IF(OR(Tabla15[[#This Row],[Código de actuación]]=\"\",Tabla15[[#This Row],[Tipología de coste]]=\"\"),\"\",SUMIFS('RELACIÓN DE GASTOS'!$R$22:$R$164,'RELACIÓN DE GASTOS'!$G$22:$G$164,C95,'RELACIÓN DE GASTOS'!$E$22:$E$164,B95))","v":""},{"$f":"IF(OR(Tabla15[[#This Row],[Código de actuación]]=\"\",Tabla15[[#This Row],[Tipología de coste]]=\"\"),\"\",IF(AND(C95='Actuaciones-gastos'!$A$24,ISERROR(SEARCH(\"P16\", B95))=FALSE),SUM(_xlfn._xlws.FILTER('ACTUACIONES TIPO 16'!$I$19:$I$35,'ACTUACIONES TIPO 16'!$B$19:$B$35='TOTAL GASTOS'!B95,\"\")),(0.9*D95)))","v":""},{"$nulls":11},{"$f":"'RELACIÓN DE GASTOS'!E101&\"(\"&'RELACIÓN DE GASTOS'!G101","v":"("}]
[null,"",{"$f":"IF(AND(Tabla15[[#This Row],[Código de actuación]]=\"Ha intoducido una tipología de gasto sin código de actuación asociado en la hoja de RELACIÓN DE GASTOS\",LEN(S96)>10),MID(S96,2,10000),IF(AND(Tabla15[[#This Row],[Código de actuación]]<>\"\",LEN(S96)<38),\"Ha introducido un número de actuación sin tipología asociada en la hoja RELACIÓN DE GASTOS\",MID(S96,37,10000)))","v":""},{"$f":"IF(OR(Tabla15[[#This Row],[Código de actuación]]=\"\",Tabla15[[#This Row],[Tipología de coste]]=\"\"),\"\",SUMIFS('RELACIÓN DE GASTOS'!$R$22:$R$164,'RELACIÓN DE GASTOS'!$G$22:$G$164,C96,'RELACIÓN DE GASTOS'!$E$22:$E$164,B96))","v":""},{"$f":"IF(OR(Tabla15[[#This Row],[Código de actuación]]=\"\",Tabla15[[#This Row],[Tipología de coste]]=\"\"),\"\",IF(AND(C96='Actuaciones-gastos'!$A$24,ISERROR(SEARCH(\"P16\", B96))=FALSE),SUM(_xlfn._xlws.FILTER('ACTUACIONES TIPO 16'!$I$19:$I$35,'ACTUACIONES TIPO 16'!$B$19:$B$35='TOTAL GASTOS'!B96,\"\")),(0.9*D96)))","v":""},{"$nulls":11},{"$f":"'RELACIÓN DE GASTOS'!E102&\"(\"&'RELACIÓN DE GASTOS'!G102","v":"("}]
[null,"",{"$f":"IF(AND(Tabla15[[#This Row],[Código de actuación]]=\"Ha intoducido una tipología de gasto sin código de actuación asociado en la hoja de RELACIÓN DE GASTOS\",LEN(S97)>10),MID(S97,2,10000),IF(AND(Tabla15[[#This Row],[Código de actuación]]<>\"\",LEN(S97)<38),\"Ha introducido un número de actuación sin tipología asociada en la hoja RELACIÓN DE GASTOS\",MID(S97,37,10000)))","v":""},{"$f":"IF(OR(Tabla15[[#This Row],[Código de actuación]]=\"\",Tabla15[[#This Row],[Tipología de coste]]=\"\"),\"\",SUMIFS('RELACIÓN DE GASTOS'!$R$22:$R$164,'RELACIÓN DE GASTOS'!$G$22:$G$164,C97,'RELACIÓN DE GASTOS'!$E$22:$E$164,B97))","v":""},{"$f":"IF(OR(Tabla15[[#This Row],[Código de actuación]]=\"\",Tabla15[[#This Row],[Tipología de coste]]=\"\"),\"\",IF(AND(C97='Actuaciones-gastos'!$A$24,ISERROR(SEARCH(\"P16\", B97))=FALSE),SUM(_xlfn._xlws.FILTER('ACTUACIONES TIPO 16'!$I$19:$I$35,'ACTUACIONES TIPO 16'!$B$19:$B$35='TOTAL GASTOS'!B97,\"\")),(0.9*D97)))","v":""},{"$nulls":11},{"$f":"'RELACIÓN DE GASTOS'!E103&\"(\"&'RELACIÓN DE GASTOS'!G103","v":"("}]
[null,"",{"$f":"IF(AND(Tabla15[[#This Row],[Código de actuación]]=\"Ha intoducido una tipología de gasto sin código de actuación asociado en la hoja de RELACIÓN DE GASTOS\",LEN(S98)>10),MID(S98,2,10000),IF(AND(Tabla15[[#This Row],[Código de actuación]]<>\"\",LEN(S98)<38),\"Ha introducido un número de actuación sin tipología asociada en la hoja RELACIÓN DE GASTOS\",MID(S98,37,10000)))","v":""},{"$f":"IF(OR(Tabla15[[#This Row],[Código de actuación]]=\"\",Tabla15[[#This Row],[Tipología de coste]]=\"\"),\"\",SUMIFS('RELACIÓN DE GASTOS'!$R$22:$R$164,'RELACIÓN DE GASTOS'!$G$22:$G$164,C98,'RELACIÓN DE GASTOS'!$E$22:$E$164,B98))","v":""},{"$f":"IF(OR(Tabla15[[#This Row],[Código de actuación]]=\"\",Tabla15[[#This Row],[Tipología de coste]]=\"\"),\"\",IF(AND(C98='Actuaciones-gastos'!$A$24,ISERROR(SEARCH(\"P16\", B98))=FALSE),SUM(_xlfn._xlws.FILTER('ACTUACIONES TIPO 16'!$I$19:$I$35,'ACTUACIONES TIPO 16'!$B$19:$B$35='TOTAL GASTOS'!B98,\"\")),(0.9*D98)))","v":""},{"$nulls":11},{"$f":"'RELACIÓN DE GASTOS'!E104&\"(\"&'RELACIÓN DE GASTOS'!G104","v":"("}]
[null,"",{"$f":"IF(AND(Tabla15[[#This Row],[Código de actuación]]=\"Ha intoducido una tipología de gasto sin código de actuación asociado en la hoja de RELACIÓN DE GASTOS\",LEN(S99)>10),MID(S99,2,10000),IF(AND(Tabla15[[#This Row],[Código de actuación]]<>\"\",LEN(S99)<38),\"Ha introducido un número de actuación sin tipología asociada en la hoja RELACIÓN DE GASTOS\",MID(S99,37,10000)))","v":""},{"$f":"IF(OR(Tabla15[[#This Row],[Código de actuación]]=\"\",Tabla15[[#This Row],[Tipología de coste]]=\"\"),\"\",SUMIFS('RELACIÓN DE GASTOS'!$R$22:$R$164,'RELACIÓN DE GASTOS'!$G$22:$G$164,C99,'RELACIÓN DE GASTOS'!$E$22:$E$164,B99))","v":""},{"$f":"IF(OR(Tabla15[[#This Row],[Código de actuación]]=\"\",Tabla15[[#This Row],[Tipología de coste]]=\"\"),\"\",IF(AND(C99='Actuaciones-gastos'!$A$24,ISERROR(SEARCH(\"P16\", B99))=FALSE),SUM(_xlfn._xlws.FILTER('ACTUACIONES TIPO 16'!$I$19:$I$35,'ACTUACIONES TIPO 16'!$B$19:$B$35='TOTAL GASTOS'!B99,\"\")),(0.9*D99)))","v":""},{"$nulls":11},{"$f":"'RELACIÓN DE GASTOS'!E105&\"(\"&'RELACIÓN DE GASTOS'!G105","v":"("}]
[null,"",{"$f":"IF(AND(Tabla15[[#This Row],[Código de actuación]]=\"Ha intoducido una tipología de gasto sin código de actuación asociado en la hoja de RELACIÓN DE GASTOS\",LEN(S100)>10),MID(S100,2,10000),IF(AND(Tabla15[[#This Row],[Código de actuación]]<>\"\",LEN(S100)<38),\"Ha introducido un número de actuación sin tipología asociada en la hoja RELACIÓN DE GASTOS\",MID(S100,37,10000)))","v":""},{"$f":"IF(OR(Tabla15[[#This Row],[Código de actuación]]=\"\",Tabla15[[#This Row],[Tipología de coste]]=\"\"),\"\",SUMIFS('RELACIÓN DE GASTOS'!$R$22:$R$164,'RELACIÓN DE GASTOS'!$G$22:$G$164,C100,'RELACIÓN DE GASTOS'!$E$22:$E$164,B100))","v":""},{"$f":"IF(OR(Tabla15[[#This Row],[Código de actuación]]=\"\",Tabla15[[#This Row],[Tipología de coste]]=\"\"),\"\",IF(AND(C100='Actuaciones-gastos'!$A$24,ISERROR(SEARCH(\"P16\", B100))=FALSE),SUM(_xlfn._xlws.FILTER('ACTUACIONES TIPO 16'!$I$19:$I$35,'ACTUACIONES TIPO 16'!$B$19:$B$35='TOTAL GASTOS'!B100,\"\")),(0.9*D100)))","v":""},{"$nulls":11},{"$f":"'RELACIÓN DE GASTOS'!E106&\"(\"&'RELACIÓN DE GASTOS'!G106","v":"("}]
[null,"",{"$f":"IF(AND(Tabla15[[#This Row],[Código de actuación]]=\"Ha intoducido una tipología de gasto sin código de actuación asociado en la hoja de RELACIÓN DE GASTOS\",LEN(S101)>10),MID(S101,2,10000),IF(AND(Tabla15[[#This Row],[Código de actuación]]<>\"\",LEN(S101)<38),\"Ha introducido un número de actuación sin tipología asociada en la hoja RELACIÓN DE GASTOS\",MID(S101,37,10000)))","v":""},{"$f":"IF(OR(Tabla15[[#This Row],[Código de actuación]]=\"\",Tabla15[[#This Row],[Tipología de coste]]=\"\"),\"\",SUMIFS('RELACIÓN DE GASTOS'!$R$22:$R$164,'RELACIÓN DE GASTOS'!$G$22:$G$164,C101,'RELACIÓN DE GASTOS'!$E$22:$E$164,B101))","v":""},{"$f":"IF(OR(Tabla15[[#This Row],[Código de actuación]]=\"\",Tabla15[[#This Row],[Tipología de coste]]=\"\"),\"\",IF(AND(C101='Actuaciones-gastos'!$A$24,ISERROR(SEARCH(\"P16\", B101))=FALSE),SUM(_xlfn._xlws.FILTER('ACTUACIONES TIPO 16'!$I$19:$I$35,'ACTUACIONES TIPO 16'!$B$19:$B$35='TOTAL GASTOS'!B101,\"\")),(0.9*D101)))","v":""},{"$nulls":11},{"$f":"'RELACIÓN DE GASTOS'!E107&\"(\"&'RELACIÓN DE GASTOS'!G107","v":"("}]
[null,"",{"$f":"IF(AND(Tabla15[[#This Row],[Código de actuación]]=\"Ha intoducido una tipología de gasto sin código de actuación asociado en la hoja de RELACIÓN DE GASTOS\",LEN(S102)>10),MID(S102,2,10000),IF(AND(Tabla15[[#This Row],[Código de actuación]]<>\"\",LEN(S102)<38),\"Ha introducido un número de actuación sin tipología asociada en la hoja RELACIÓN DE GASTOS\",MID(S102,37,10000)))","v":""},{"$f":"IF(OR(Tabla15[[#This Row],[Código de actuación]]=\"\",Tabla15[[#This Row],[Tipología de coste]]=\"\"),\"\",SUMIFS('RELACIÓN DE GASTOS'!$R$22:$R$164,'RELACIÓN DE GASTOS'!$G$22:$G$164,C102,'RELACIÓN DE GASTOS'!$E$22:$E$164,B102))","v":""},{"$f":"IF(OR(Tabla15[[#This Row],[Código de actuación]]=\"\",Tabla15[[#This Row],[Tipología de coste]]=\"\"),\"\",IF(AND(C102='Actuaciones-gastos'!$A$24,ISERROR(SEARCH(\"P16\", B102))=FALSE),SUM(_xlfn._xlws.FILTER('ACTUACIONES TIPO 16'!$I$19:$I$35,'ACTUACIONES TIPO 16'!$B$19:$B$35='TOTAL GASTOS'!B102,\"\")),(0.9*D102)))","v":""},{"$nulls":11},{"$f":"'RELACIÓN DE GASTOS'!E108&\"(\"&'RELACIÓN DE GASTOS'!G108","v":"("}]
[null,"",{"$f":"IF(AND(Tabla15[[#This Row],[Código de actuación]]=\"Ha intoducido una tipología de gasto sin código de actuación asociado en la hoja de RELACIÓN DE GASTOS\",LEN(S103)>10),MID(S103,2,10000),IF(AND(Tabla15[[#This Row],[Código de actuación]]<>\"\",LEN(S103)<38),\"Ha introducido un número de actuación sin tipología asociada en la hoja RELACIÓN DE GASTOS\",MID(S103,37,10000)))","v":""},{"$f":"IF(OR(Tabla15[[#This Row],[Código de actuación]]=\"\",Tabla15[[#This Row],[Tipología de coste]]=\"\"),\"\",SUMIFS('RELACIÓN DE GASTOS'!$R$22:$R$164,'RELACIÓN DE GASTOS'!$G$22:$G$164,C103,'RELACIÓN DE GASTOS'!$E$22:$E$164,B103))","v":""},{"$f":"IF(OR(Tabla15[[#This Row],[Código de actuación]]=\"\",Tabla15[[#This Row],[Tipología de coste]]=\"\"),\"\",IF(AND(C103='Actuaciones-gastos'!$A$24,ISERROR(SEARCH(\"P16\", B103))=FALSE),SUM(_xlfn._xlws.FILTER('ACTUACIONES TIPO 16'!$I$19:$I$35,'ACTUACIONES TIPO 16'!$B$19:$B$35='TOTAL GASTOS'!B103,\"\")),(0.9*D103)))","v":""},{"$nulls":11},{"$f":"'RELACIÓN DE GASTOS'!E109&\"(\"&'RELACIÓN DE GASTOS'!G109","v":"("}]
[null,"",{"$f":"IF(AND(Tabla15[[#This Row],[Código de actuación]]=\"Ha intoducido una tipología de gasto sin código de actuación asociado en la hoja de RELACIÓN DE GASTOS\",LEN(S104)>10),MID(S104,2,10000),IF(AND(Tabla15[[#This Row],[Código de actuación]]<>\"\",LEN(S104)<38),\"Ha introducido un número de actuación sin tipología asociada en la hoja RELACIÓN DE GASTOS\",MID(S104,37,10000)))","v":""},{"$f":"IF(OR(Tabla15[[#This Row],[Código de actuación]]=\"\",Tabla15[[#This Row],[Tipología de coste]]=\"\"),\"\",SUMIFS('RELACIÓN DE GASTOS'!$R$22:$R$164,'RELACIÓN DE GASTOS'!$G$22:$G$164,C104,'RELACIÓN DE GASTOS'!$E$22:$E$164,B104))","v":""},{"$f":"IF(OR(Tabla15[[#This Row],[Código de actuación]]=\"\",Tabla15[[#This Row],[Tipología de coste]]=\"\"),\"\",IF(AND(C104='Actuaciones-gastos'!$A$24,ISERROR(SEARCH(\"P16\", B104))=FALSE),SUM(_xlfn._xlws.FILTER('ACTUACIONES TIPO 16'!$I$19:$I$35,'ACTUACIONES TIPO 16'!$B$19:$B$35='TOTAL GASTOS'!B104,\"\")),(0.9*D104)))","v":""},{"$nulls":11},{"$f":"'RELACIÓN DE GASTOS'!E110&\"(\"&'RELACIÓN DE GASTOS'!G110","v":"("}]
[null,"",{"$f":"IF(AND(Tabla15[[#This Row],[Código de actuación]]=\"Ha intoducido una tipología de gasto sin código de actuación asociado en la hoja de RELACIÓN DE GASTOS\",LEN(S105)>10),MID(S105,2,10000),IF(AND(Tabla15[[#This Row],[Código de actuación]]<>\"\",LEN(S105)<38),\"Ha introducido un número de actuación sin tipología asociada en la hoja RELACIÓN DE GASTOS\",MID(S105,37,10000)))","v":""},{"$f":"IF(OR(Tabla15[[#This Row],[Código de actuación]]=\"\",Tabla15[[#This Row],[Tipología de coste]]=\"\"),\"\",SUMIFS('RELACIÓN DE GASTOS'!$R$22:$R$164,'RELACIÓN DE GASTOS'!$G$22:$G$164,C105,'RELACIÓN DE GASTOS'!$E$22:$E$164,B105))","v":""},{"$f":"IF(OR(Tabla15[[#This Row],[Código de actuación]]=\"\",Tabla15[[#This Row],[Tipología de coste]]=\"\"),\"\",IF(AND(C105='Actuaciones-gastos'!$A$24,ISERROR(SEARCH(\"P16\", B105))=FALSE),SUM(_xlfn._xlws.FILTER('ACTUACIONES TIPO 16'!$I$19:$I$35,'ACTUACIONES TIPO 16'!$B$19:$B$35='TOTAL GASTOS'!B105,\"\")),(0.9*D105)))","v":""},{"$nulls":11},{"$f":"'RELACIÓN DE GASTOS'!E111&\"(\"&'RELACIÓN DE GASTOS'!G111","v":"("}]
[null,"",{"$f":"IF(AND(Tabla15[[#This Row],[Código de actuación]]=\"Ha intoducido una tipología de gasto sin código de actuación asociado en la hoja de RELACIÓN DE GASTOS\",LEN(S106)>10),MID(S106,2,10000),IF(AND(Tabla15[[#This Row],[Código de actuación]]<>\"\",LEN(S106)<38),\"Ha introducido un número de actuación sin tipología asociada en la hoja RELACIÓN DE GASTOS\",MID(S106,37,10000)))","v":""},{"$f":"IF(OR(Tabla15[[#This Row],[Código de actuación]]=\"\",Tabla15[[#This Row],[Tipología de coste]]=\"\"),\"\",SUMIFS('RELACIÓN DE GASTOS'!$R$22:$R$164,'RELACIÓN DE GASTOS'!$G$22:$G$164,C106,'RELACIÓN DE GASTOS'!$E$22:$E$164,B106))","v":""},{"$f":"IF(OR(Tabla15[[#This Row],[Código de actuación]]=\"\",Tabla15[[#This Row],[Tipología de coste]]=\"\"),\"\",IF(AND(C106='Actuaciones-gastos'!$A$24,ISERROR(SEARCH(\"P16\", B106))=FALSE),SUM(_xlfn._xlws.FILTER('ACTUACIONES TIPO 16'!$I$19:$I$35,'ACTUACIONES TIPO 16'!$B$19:$B$35='TOTAL GASTOS'!B106,\"\")),(0.9*D106)))","v":""},{"$nulls":11},{"$f":"'RELACIÓN DE GASTOS'!E112&\"(\"&'RELACIÓN DE GASTOS'!G112","v":"("}]
[null,"",{"$f":"IF(AND(Tabla15[[#This Row],[Código de actuación]]=\"Ha intoducido una tipología de gasto sin código de actuación asociado en la hoja de RELACIÓN DE GASTOS\",LEN(S107)>10),MID(S107,2,10000),IF(AND(Tabla15[[#This Row],[Código de actuación]]<>\"\",LEN(S107)<38),\"Ha introducido un número de actuación sin tipología asociada en la hoja RELACIÓN DE GASTOS\",MID(S107,37,10000)))","v":""},{"$f":"IF(OR(Tabla15[[#This Row],[Código de actuación]]=\"\",Tabla15[[#This Row],[Tipología de coste]]=\"\"),\"\",SUMIFS('RELACIÓN DE GASTOS'!$R$22:$R$164,'RELACIÓN DE GASTOS'!$G$22:$G$164,C107,'RELACIÓN DE GASTOS'!$E$22:$E$164,B107))","v":""},{"$f":"IF(OR(Tabla15[[#This Row],[Código de actuación]]=\"\",Tabla15[[#This Row],[Tipología de coste]]=\"\"),\"\",IF(AND(C107='Actuaciones-gastos'!$A$24,ISERROR(SEARCH(\"P16\", B107))=FALSE),SUM(_xlfn._xlws.FILTER('ACTUACIONES TIPO 16'!$I$19:$I$35,'ACTUACIONES TIPO 16'!$B$19:$B$35='TOTAL GASTOS'!B107,\"\")),(0.9*D107)))","v":""},{"$nulls":11},{"$f":"'RELACIÓN DE GASTOS'!E113&\"(\"&'RELACIÓN DE GASTOS'!G113","v":"("}]
[null,"",{"$f":"IF(AND(Tabla15[[#This Row],[Código de actuación]]=\"Ha intoducido una tipología de gasto sin código de actuación asociado en la hoja de RELACIÓN DE GASTOS\",LEN(S108)>10),MID(S108,2,10000),IF(AND(Tabla15[[#This Row],[Código de actuación]]<>\"\",LEN(S108)<38),\"Ha introducido un número de actuación sin tipología asociada en la hoja RELACIÓN DE GASTOS\",MID(S108,37,10000)))","v":""},{"$f":"IF(OR(Tabla15[[#This Row],[Código de actuación]]=\"\",Tabla15[[#This Row],[Tipología de coste]]=\"\"),\"\",SUMIFS('RELACIÓN DE GASTOS'!$R$22:$R$164,'RELACIÓN DE GASTOS'!$G$22:$G$164,C108,'RELACIÓN DE GASTOS'!$E$22:$E$164,B108))","v":""},{"$f":"IF(OR(Tabla15[[#This Row],[Código de actuación]]=\"\",Tabla15[[#This Row],[Tipología de coste]]=\"\"),\"\",IF(AND(C108='Actuaciones-gastos'!$A$24,ISERROR(SEARCH(\"P16\", B108))=FALSE),SUM(_xlfn._xlws.FILTER('ACTUACIONES TIPO 16'!$I$19:$I$35,'ACTUACIONES TIPO 16'!$B$19:$B$35='TOTAL GASTOS'!B108,\"\")),(0.9*D108)))","v":""},{"$nulls":11},{"$f":"'RELACIÓN DE GASTOS'!E114&\"(\"&'RELACIÓN DE GASTOS'!G114","v":"("}]
[null,"",{"$f":"IF(AND(Tabla15[[#This Row],[Código de actuación]]=\"Ha intoducido una tipología de gasto sin código de actuación asociado en la hoja de RELACIÓN DE GASTOS\",LEN(S109)>10),MID(S109,2,10000),IF(AND(Tabla15[[#This Row],[Código de actuación]]<>\"\",LEN(S109)<38),\"Ha introducido un número de actuación sin tipología asociada en la hoja RELACIÓN DE GASTOS\",MID(S109,37,10000)))","v":""},{"$f":"IF(OR(Tabla15[[#This Row],[Código de actuación]]=\"\",Tabla15[[#This Row],[Tipología de coste]]=\"\"),\"\",SUMIFS('RELACIÓN DE GASTOS'!$R$22:$R$164,'RELACIÓN DE GASTOS'!$G$22:$G$164,C109,'RELACIÓN DE GASTOS'!$E$22:$E$164,B109))","v":""},{"$f":"IF(OR(Tabla15[[#This Row],[Código de actuación]]=\"\",Tabla15[[#This Row],[Tipología de coste]]=\"\"),\"\",IF(AND(C109='Actuaciones-gastos'!$A$24,ISERROR(SEARCH(\"P16\", B109))=FALSE),SUM(_xlfn._xlws.FILTER('ACTUACIONES TIPO 16'!$I$19:$I$35,'ACTUACIONES TIPO 16'!$B$19:$B$35='TOTAL GASTOS'!B109,\"\")),(0.9*D109)))","v":""},{"$nulls":11},{"$f":"'RELACIÓN DE GASTOS'!E115&\"(\"&'RELACIÓN DE GASTOS'!G115","v":"("}]
[null,"",{"$f":"IF(AND(Tabla15[[#This Row],[Código de actuación]]=\"Ha intoducido una tipología de gasto sin código de actuación asociado en la hoja de RELACIÓN DE GASTOS\",LEN(S110)>10),MID(S110,2,10000),IF(AND(Tabla15[[#This Row],[Código de actuación]]<>\"\",LEN(S110)<38),\"Ha introducido un número de actuación sin tipología asociada en la hoja RELACIÓN DE GASTOS\",MID(S110,37,10000)))","v":""},{"$f":"IF(OR(Tabla15[[#This Row],[Código de actuación]]=\"\",Tabla15[[#This Row],[Tipología de coste]]=\"\"),\"\",SUMIFS('RELACIÓN DE GASTOS'!$R$22:$R$164,'RELACIÓN DE GASTOS'!$G$22:$G$164,C110,'RELACIÓN DE GASTOS'!$E$22:$E$164,B110))","v":""},{"$f":"IF(OR(Tabla15[[#This Row],[Código de actuación]]=\"\",Tabla15[[#This Row],[Tipología de coste]]=\"\"),\"\",IF(AND(C110='Actuaciones-gastos'!$A$24,ISERROR(SEARCH(\"P16\", B110))=FALSE),SUM(_xlfn._xlws.FILTER('ACTUACIONES TIPO 16'!$I$19:$I$35,'ACTUACIONES TIPO 16'!$B$19:$B$35='TOTAL GASTOS'!B110,\"\")),(0.9*D110)))","v":""},{"$nulls":11},{"$f":"'RELACIÓN DE GASTOS'!E116&\"(\"&'RELACIÓN DE GASTOS'!G116","v":"("}]
[null,"",{"$f":"IF(AND(Tabla15[[#This Row],[Código de actuación]]=\"Ha intoducido una tipología de gasto sin código de actuación asociado en la hoja de RELACIÓN DE GASTOS\",LEN(S111)>10),MID(S111,2,10000),IF(AND(Tabla15[[#This Row],[Código de actuación]]<>\"\",LEN(S111)<38),\"Ha introducido un número de actuación sin tipología asociada en la hoja RELACIÓN DE GASTOS\",MID(S111,37,10000)))","v":""},{"$f":"IF(OR(Tabla15[[#This Row],[Código de actuación]]=\"\",Tabla15[[#This Row],[Tipología de coste]]=\"\"),\"\",SUMIFS('RELACIÓN DE GASTOS'!$R$22:$R$164,'RELACIÓN DE GASTOS'!$G$22:$G$164,C111,'RELACIÓN DE GASTOS'!$E$22:$E$164,B111))","v":""},{"$f":"IF(OR(Tabla15[[#This Row],[Código de actuación]]=\"\",Tabla15[[#This Row],[Tipología de coste]]=\"\"),\"\",IF(AND(C111='Actuaciones-gastos'!$A$24,ISERROR(SEARCH(\"P16\", B111))=FALSE),SUM(_xlfn._xlws.FILTER('ACTUACIONES TIPO 16'!$I$19:$I$35,'ACTUACIONES TIPO 16'!$B$19:$B$35='TOTAL GASTOS'!B111,\"\")),(0.9*D111)))","v":""},{"$nulls":11},{"$f":"'RELACIÓN DE GASTOS'!E117&\"(\"&'RELACIÓN DE GASTOS'!G117","v":"("}]
[null,"",{"$f":"IF(AND(Tabla15[[#This Row],[Código de actuación]]=\"Ha intoducido una tipología de gasto sin código de actuación asociado en la hoja de RELACIÓN DE GASTOS\",LEN(S112)>10),MID(S112,2,10000),IF(AND(Tabla15[[#This Row],[Código de actuación]]<>\"\",LEN(S112)<38),\"Ha introducido un número de actuación sin tipología asociada en la hoja RELACIÓN DE GASTOS\",MID(S112,37,10000)))","v":""},{"$f":"IF(OR(Tabla15[[#This Row],[Código de actuación]]=\"\",Tabla15[[#This Row],[Tipología de coste]]=\"\"),\"\",SUMIFS('RELACIÓN DE GASTOS'!$R$22:$R$164,'RELACIÓN DE GASTOS'!$G$22:$G$164,C112,'RELACIÓN DE GASTOS'!$E$22:$E$164,B112))","v":""},{"$f":"IF(OR(Tabla15[[#This Row],[Código de actuación]]=\"\",Tabla15[[#This Row],[Tipología de coste]]=\"\"),\"\",IF(AND(C112='Actuaciones-gastos'!$A$24,ISERROR(SEARCH(\"P16\", B112))=FALSE),SUM(_xlfn._xlws.FILTER('ACTUACIONES TIPO 16'!$I$19:$I$35,'ACTUACIONES TIPO 16'!$B$19:$B$35='TOTAL GASTOS'!B112,\"\")),(0.9*D112)))","v":""},{"$nulls":11},{"$f":"'RELACIÓN DE GASTOS'!E118&\"(\"&'RELACIÓN DE GASTOS'!G118","v":"("}]
[null,"",{"$f":"IF(AND(Tabla15[[#This Row],[Código de actuación]]=\"Ha intoducido una tipología de gasto sin código de actuación asociado en la hoja de RELACIÓN DE GASTOS\",LEN(S113)>10),MID(S113,2,10000),IF(AND(Tabla15[[#This Row],[Código de actuación]]<>\"\",LEN(S113)<38),\"Ha introducido un número de actuación sin tipología asociada en la hoja RELACIÓN DE GASTOS\",MID(S113,37,10000)))","v":""},{"$f":"IF(OR(Tabla15[[#This Row],[Código de actuación]]=\"\",Tabla15[[#This Row],[Tipología de coste]]=\"\"),\"\",SUMIFS('RELACIÓN DE GASTOS'!$R$22:$R$164,'RELACIÓN DE GASTOS'!$G$22:$G$164,C113,'RELACIÓN DE GASTOS'!$E$22:$E$164,B113))","v":""},{"$f":"IF(OR(Tabla15[[#This Row],[Código de actuación]]=\"\",Tabla15[[#This Row],[Tipología de coste]]=\"\"),\"\",IF(AND(C113='Actuaciones-gastos'!$A$24,ISERROR(SEARCH(\"P16\", B113))=FALSE),SUM(_xlfn._xlws.FILTER('ACTUACIONES TIPO 16'!$I$19:$I$35,'ACTUACIONES TIPO 16'!$B$19:$B$35='TOTAL GASTOS'!B113,\"\")),(0.9*D113)))","v":""},{"$nulls":11},{"$f":"'RELACIÓN DE GASTOS'!E119&\"(\"&'RELACIÓN DE GASTOS'!G119","v":"("}]
[null,"",{"$f":"IF(AND(Tabla15[[#This Row],[Código de actuación]]=\"Ha intoducido una tipología de gasto sin código de actuación asociado en la hoja de RELACIÓN DE GASTOS\",LEN(S114)>10),MID(S114,2,10000),IF(AND(Tabla15[[#This Row],[Código de actuación]]<>\"\",LEN(S114)<38),\"Ha introducido un número de actuación sin tipología asociada en la hoja RELACIÓN DE GASTOS\",MID(S114,37,10000)))","v":""},{"$f":"IF(OR(Tabla15[[#This Row],[Código de actuación]]=\"\",Tabla15[[#This Row],[Tipología de coste]]=\"\"),\"\",SUMIFS('RELACIÓN DE GASTOS'!$R$22:$R$164,'RELACIÓN DE GASTOS'!$G$22:$G$164,C114,'RELACIÓN DE GASTOS'!$E$22:$E$164,B114))","v":""},{"$f":"IF(OR(Tabla15[[#This Row],[Código de actuación]]=\"\",Tabla15[[#This Row],[Tipología de coste]]=\"\"),\"\",IF(AND(C114='Actuaciones-gastos'!$A$24,ISERROR(SEARCH(\"P16\", B114))=FALSE),SUM(_xlfn._xlws.FILTER('ACTUACIONES TIPO 16'!$I$19:$I$35,'ACTUACIONES TIPO 16'!$B$19:$B$35='TOTAL GASTOS'!B114,\"\")),(0.9*D114)))","v":""},{"$nulls":11},{"$f":"'RELACIÓN DE GASTOS'!E120&\"(\"&'RELACIÓN DE GASTOS'!G120","v":"("}]
[null,"",{"$f":"IF(AND(Tabla15[[#This Row],[Código de actuación]]=\"Ha intoducido una tipología de gasto sin código de actuación asociado en la hoja de RELACIÓN DE GASTOS\",LEN(S115)>10),MID(S115,2,10000),IF(AND(Tabla15[[#This Row],[Código de actuación]]<>\"\",LEN(S115)<38),\"Ha introducido un número de actuación sin tipología asociada en la hoja RELACIÓN DE GASTOS\",MID(S115,37,10000)))","v":""},{"$f":"IF(OR(Tabla15[[#This Row],[Código de actuación]]=\"\",Tabla15[[#This Row],[Tipología de coste]]=\"\"),\"\",SUMIFS('RELACIÓN DE GASTOS'!$R$22:$R$164,'RELACIÓN DE GASTOS'!$G$22:$G$164,C115,'RELACIÓN DE GASTOS'!$E$22:$E$164,B115))","v":""},{"$f":"IF(OR(Tabla15[[#This Row],[Código de actuación]]=\"\",Tabla15[[#This Row],[Tipología de coste]]=\"\"),\"\",IF(AND(C115='Actuaciones-gastos'!$A$24,ISERROR(SEARCH(\"P16\", B115))=FALSE),SUM(_xlfn._xlws.FILTER('ACTUACIONES TIPO 16'!$I$19:$I$35,'ACTUACIONES TIPO 16'!$B$19:$B$35='TOTAL GASTOS'!B115,\"\")),(0.9*D115)))","v":""},{"$nulls":11},{"$f":"'RELACIÓN DE GASTOS'!E121&\"(\"&'RELACIÓN DE GASTOS'!G121","v":"("}]
[null,"",{"$f":"IF(AND(Tabla15[[#This Row],[Código de actuación]]=\"Ha intoducido una tipología de gasto sin código de actuación asociado en la hoja de RELACIÓN DE GASTOS\",LEN(S116)>10),MID(S116,2,10000),IF(AND(Tabla15[[#This Row],[Código de actuación]]<>\"\",LEN(S116)<38),\"Ha introducido un número de actuación sin tipología asociada en la hoja RELACIÓN DE GASTOS\",MID(S116,37,10000)))","v":""},{"$f":"IF(OR(Tabla15[[#This Row],[Código de actuación]]=\"\",Tabla15[[#This Row],[Tipología de coste]]=\"\"),\"\",SUMIFS('RELACIÓN DE GASTOS'!$R$22:$R$164,'RELACIÓN DE GASTOS'!$G$22:$G$164,C116,'RELACIÓN DE GASTOS'!$E$22:$E$164,B116))","v":""},{"$f":"IF(OR(Tabla15[[#This Row],[Código de actuación]]=\"\",Tabla15[[#This Row],[Tipología de coste]]=\"\"),\"\",IF(AND(C116='Actuaciones-gastos'!$A$24,ISERROR(SEARCH(\"P16\", B116))=FALSE),SUM(_xlfn._xlws.FILTER('ACTUACIONES TIPO 16'!$I$19:$I$35,'ACTUACIONES TIPO 16'!$B$19:$B$35='TOTAL GASTOS'!B116,\"\")),(0.9*D116)))","v":""},{"$nulls":11},{"$f":"'RELACIÓN DE GASTOS'!E122&\"(\"&'RELACIÓN DE GASTOS'!G122","v":"("}]
[null,"",{"$f":"IF(AND(Tabla15[[#This Row],[Código de actuación]]=\"Ha intoducido una tipología de gasto sin código de actuación asociado en la hoja de RELACIÓN DE GASTOS\",LEN(S117)>10),MID(S117,2,10000),IF(AND(Tabla15[[#This Row],[Código de actuación]]<>\"\",LEN(S117)<38),\"Ha introducido un número de actuación sin tipología asociada en la hoja RELACIÓN DE GASTOS\",MID(S117,37,10000)))","v":""},{"$f":"IF(OR(Tabla15[[#This Row],[Código de actuación]]=\"\",Tabla15[[#This Row],[Tipología de coste]]=\"\"),\"\",SUMIFS('RELACIÓN DE GASTOS'!$R$22:$R$164,'RELACIÓN DE GASTOS'!$G$22:$G$164,C117,'RELACIÓN DE GASTOS'!$E$22:$E$164,B117))","v":""},{"$f":"IF(OR(Tabla15[[#This Row],[Código de actuación]]=\"\",Tabla15[[#This Row],[Tipología de coste]]=\"\"),\"\",IF(AND(C117='Actuaciones-gastos'!$A$24,ISERROR(SEARCH(\"P16\", B117))=FALSE),SUM(_xlfn._xlws.FILTER('ACTUACIONES TIPO 16'!$I$19:$I$35,'ACTUACIONES TIPO 16'!$B$19:$B$35='TOTAL GASTOS'!B117,\"\")),(0.9*D117)))","v":""},{"$nulls":11},{"$f":"'RELACIÓN DE GASTOS'!E123&\"(\"&'RELACIÓN DE GASTOS'!G123","v":"("}]
[null,"",{"$f":"IF(AND(Tabla15[[#This Row],[Código de actuación]]=\"Ha intoducido una tipología de gasto sin código de actuación asociado en la hoja de RELACIÓN DE GASTOS\",LEN(S118)>10),MID(S118,2,10000),IF(AND(Tabla15[[#This Row],[Código de actuación]]<>\"\",LEN(S118)<38),\"Ha introducido un número de actuación sin tipología asociada en la hoja RELACIÓN DE GASTOS\",MID(S118,37,10000)))","v":""},{"$f":"IF(OR(Tabla15[[#This Row],[Código de actuación]]=\"\",Tabla15[[#This Row],[Tipología de coste]]=\"\"),\"\",SUMIFS('RELACIÓN DE GASTOS'!$R$22:$R$164,'RELACIÓN DE GASTOS'!$G$22:$G$164,C118,'RELACIÓN DE GASTOS'!$E$22:$E$164,B118))","v":""},{"$f":"IF(OR(Tabla15[[#This Row],[Código de actuación]]=\"\",Tabla15[[#This Row],[Tipología de coste]]=\"\"),\"\",IF(AND(C118='Actuaciones-gastos'!$A$24,ISERROR(SEARCH(\"P16\", B118))=FALSE),SUM(_xlfn._xlws.FILTER('ACTUACIONES TIPO 16'!$I$19:$I$35,'ACTUACIONES TIPO 16'!$B$19:$B$35='TOTAL GASTOS'!B118,\"\")),(0.9*D118)))","v":""},{"$nulls":11},{"$f":"'RELACIÓN DE GASTOS'!E124&\"(\"&'RELACIÓN DE GASTOS'!G124","v":"("}]
[null,"",{"$f":"IF(AND(Tabla15[[#This Row],[Código de actuación]]=\"Ha intoducido una tipología de gasto sin código de actuación asociado en la hoja de RELACIÓN DE GASTOS\",LEN(S119)>10),MID(S119,2,10000),IF(AND(Tabla15[[#This Row],[Código de actuación]]<>\"\",LEN(S119)<38),\"Ha introducido un número de actuación sin tipología asociada en la hoja RELACIÓN DE GASTOS\",MID(S119,37,10000)))","v":""},{"$f":"IF(OR(Tabla15[[#This Row],[Código de actuación]]=\"\",Tabla15[[#This Row],[Tipología de coste]]=\"\"),\"\",SUMIFS('RELACIÓN DE GASTOS'!$R$22:$R$164,'RELACIÓN DE GASTOS'!$G$22:$G$164,C119,'RELACIÓN DE GASTOS'!$E$22:$E$164,B119))","v":""},{"$f":"IF(OR(Tabla15[[#This Row],[Código de actuación]]=\"\",Tabla15[[#This Row],[Tipología de coste]]=\"\"),\"\",IF(AND(C119='Actuaciones-gastos'!$A$24,ISERROR(SEARCH(\"P16\", B119))=FALSE),SUM(_xlfn._xlws.FILTER('ACTUACIONES TIPO 16'!$I$19:$I$35,'ACTUACIONES TIPO 16'!$B$19:$B$35='TOTAL GASTOS'!B119,\"\")),(0.9*D119)))","v":""},{"$nulls":11},{"$f":"'RELACIÓN DE GASTOS'!E125&\"(\"&'RELACIÓN DE GASTOS'!G125","v":"("}]
[null,"",{"$f":"IF(AND(Tabla15[[#This Row],[Código de actuación]]=\"Ha intoducido una tipología de gasto sin código de actuación asociado en la hoja de RELACIÓN DE GASTOS\",LEN(S120)>10),MID(S120,2,10000),IF(AND(Tabla15[[#This Row],[Código de actuación]]<>\"\",LEN(S120)<38),\"Ha introducido un número de actuación sin tipología asociada en la hoja RELACIÓN DE GASTOS\",MID(S120,37,10000)))","v":""},{"$f":"IF(OR(Tabla15[[#This Row],[Código de actuación]]=\"\",Tabla15[[#This Row],[Tipología de coste]]=\"\"),\"\",SUMIFS('RELACIÓN DE GASTOS'!$R$22:$R$164,'RELACIÓN DE GASTOS'!$G$22:$G$164,C120,'RELACIÓN DE GASTOS'!$E$22:$E$164,B120))","v":""},{"$f":"IF(OR(Tabla15[[#This Row],[Código de actuación]]=\"\",Tabla15[[#This Row],[Tipología de coste]]=\"\"),\"\",IF(AND(C120='Actuaciones-gastos'!$A$24,ISERROR(SEARCH(\"P16\", B120))=FALSE),SUM(_xlfn._xlws.FILTER('ACTUACIONES TIPO 16'!$I$19:$I$35,'ACTUACIONES TIPO 16'!$B$19:$B$35='TOTAL GASTOS'!B120,\"\")),(0.9*D120)))","v":""},{"$nulls":11},{"$f":"'RELACIÓN DE GASTOS'!E126&\"(\"&'RELACIÓN DE GASTOS'!G126","v":"("}]
[null,"",{"$f":"IF(AND(Tabla15[[#This Row],[Código de actuación]]=\"Ha intoducido una tipología de gasto sin código de actuación asociado en la hoja de RELACIÓN DE GASTOS\",LEN(S121)>10),MID(S121,2,10000),IF(AND(Tabla15[[#This Row],[Código de actuación]]<>\"\",LEN(S121)<38),\"Ha introducido un número de actuación sin tipología asociada en la hoja RELACIÓN DE GASTOS\",MID(S121,37,10000)))","v":""},{"$f":"IF(OR(Tabla15[[#This Row],[Código de actuación]]=\"\",Tabla15[[#This Row],[Tipología de coste]]=\"\"),\"\",SUMIFS('RELACIÓN DE GASTOS'!$R$22:$R$164,'RELACIÓN DE GASTOS'!$G$22:$G$164,C121,'RELACIÓN DE GASTOS'!$E$22:$E$164,B121))","v":""},{"$f":"IF(OR(Tabla15[[#This Row],[Código de actuación]]=\"\",Tabla15[[#This Row],[Tipología de coste]]=\"\"),\"\",IF(AND(C121='Actuaciones-gastos'!$A$24,ISERROR(SEARCH(\"P16\", B121))=FALSE),SUM(_xlfn._xlws.FILTER('ACTUACIONES TIPO 16'!$I$19:$I$35,'ACTUACIONES TIPO 16'!$B$19:$B$35='TOTAL GASTOS'!B121,\"\")),(0.9*D121)))","v":""},{"$nulls":11},{"$f":"'RELACIÓN DE GASTOS'!E127&\"(\"&'RELACIÓN DE GASTOS'!G127","v":"("}]
[null,"",{"$f":"IF(AND(Tabla15[[#This Row],[Código de actuación]]=\"Ha intoducido una tipología de gasto sin código de actuación asociado en la hoja de RELACIÓN DE GASTOS\",LEN(S122)>10),MID(S122,2,10000),IF(AND(Tabla15[[#This Row],[Código de actuación]]<>\"\",LEN(S122)<38),\"Ha introducido un número de actuación sin tipología asociada en la hoja RELACIÓN DE GASTOS\",MID(S122,37,10000)))","v":""},{"$f":"IF(OR(Tabla15[[#This Row],[Código de actuación]]=\"\",Tabla15[[#This Row],[Tipología de coste]]=\"\"),\"\",SUMIFS('RELACIÓN DE GASTOS'!$R$22:$R$164,'RELACIÓN DE GASTOS'!$G$22:$G$164,C122,'RELACIÓN DE GASTOS'!$E$22:$E$164,B122))","v":""},{"$f":"IF(OR(Tabla15[[#This Row],[Código de actuación]]=\"\",Tabla15[[#This Row],[Tipología de coste]]=\"\"),\"\",IF(AND(C122='Actuaciones-gastos'!$A$24,ISERROR(SEARCH(\"P16\", B122))=FALSE),SUM(_xlfn._xlws.FILTER('ACTUACIONES TIPO 16'!$I$19:$I$35,'ACTUACIONES TIPO 16'!$B$19:$B$35='TOTAL GASTOS'!B122,\"\")),(0.9*D122)))","v":""},{"$nulls":11},{"$f":"'RELACIÓN DE GASTOS'!E128&\"(\"&'RELACIÓN DE GASTOS'!G128","v":"("}]
[null,"",{"$f":"IF(AND(Tabla15[[#This Row],[Código de actuación]]=\"Ha intoducido una tipología de gasto sin código de actuación asociado en la hoja de RELACIÓN DE GASTOS\",LEN(S123)>10),MID(S123,2,10000),IF(AND(Tabla15[[#This Row],[Código de actuación]]<>\"\",LEN(S123)<38),\"Ha introducido un número de actuación sin tipología asociada en la hoja RELACIÓN DE GASTOS\",MID(S123,37,10000)))","v":""},{"$f":"IF(OR(Tabla15[[#This Row],[Código de actuación]]=\"\",Tabla15[[#This Row],[Tipología de coste]]=\"\"),\"\",SUMIFS('RELACIÓN DE GASTOS'!$R$22:$R$164,'RELACIÓN DE GASTOS'!$G$22:$G$164,C123,'RELACIÓN DE GASTOS'!$E$22:$E$164,B123))","v":""},{"$f":"IF(OR(Tabla15[[#This Row],[Código de actuación]]=\"\",Tabla15[[#This Row],[Tipología de coste]]=\"\"),\"\",IF(AND(C123='Actuaciones-gastos'!$A$24,ISERROR(SEARCH(\"P16\", B123))=FALSE),SUM(_xlfn._xlws.FILTER('ACTUACIONES TIPO 16'!$I$19:$I$35,'ACTUACIONES TIPO 16'!$B$19:$B$35='TOTAL GASTOS'!B123,\"\")),(0.9*D123)))","v":""},{"$nulls":11},{"$f":"'RELACIÓN DE GASTOS'!E129&\"(\"&'RELACIÓN DE GASTOS'!G129","v":"("}]
[null,"",{"$f":"IF(AND(Tabla15[[#This Row],[Código de actuación]]=\"Ha intoducido una tipología de gasto sin código de actuación asociado en la hoja de RELACIÓN DE GASTOS\",LEN(S124)>10),MID(S124,2,10000),IF(AND(Tabla15[[#This Row],[Código de actuación]]<>\"\",LEN(S124)<38),\"Ha introducido un número de actuación sin tipología asociada en la hoja RELACIÓN DE GASTOS\",MID(S124,37,10000)))","v":""},{"$f":"IF(OR(Tabla15[[#This Row],[Código de actuación]]=\"\",Tabla15[[#This Row],[Tipología de coste]]=\"\"),\"\",SUMIFS('RELACIÓN DE GASTOS'!$R$22:$R$164,'RELACIÓN DE GASTOS'!$G$22:$G$164,C124,'RELACIÓN DE GASTOS'!$E$22:$E$164,B124))","v":""},{"$f":"IF(OR(Tabla15[[#This Row],[Código de actuación]]=\"\",Tabla15[[#This Row],[Tipología de coste]]=\"\"),\"\",IF(AND(C124='Actuaciones-gastos'!$A$24,ISERROR(SEARCH(\"P16\", B124))=FALSE),SUM(_xlfn._xlws.FILTER('ACTUACIONES TIPO 16'!$I$19:$I$35,'ACTUACIONES TIPO 16'!$B$19:$B$35='TOTAL GASTOS'!B124,\"\")),(0.9*D124)))","v":""},{"$nulls":11},{"$f":"'RELACIÓN DE GASTOS'!E130&\"(\"&'RELACIÓN DE GASTOS'!G130","v":"("}]
[null,"",{"$f":"IF(AND(Tabla15[[#This Row],[Código de actuación]]=\"Ha intoducido una tipología de gasto sin código de actuación asociado en la hoja de RELACIÓN DE GASTOS\",LEN(S125)>10),MID(S125,2,10000),IF(AND(Tabla15[[#This Row],[Código de actuación]]<>\"\",LEN(S125)<38),\"Ha introducido un número de actuación sin tipología asociada en la hoja RELACIÓN DE GASTOS\",MID(S125,37,10000)))","v":""},{"$f":"IF(OR(Tabla15[[#This Row],[Código de actuación]]=\"\",Tabla15[[#This Row],[Tipología de coste]]=\"\"),\"\",SUMIFS('RELACIÓN DE GASTOS'!$R$22:$R$164,'RELACIÓN DE GASTOS'!$G$22:$G$164,C125,'RELACIÓN DE GASTOS'!$E$22:$E$164,B125))","v":""},{"$f":"IF(OR(Tabla15[[#This Row],[Código de actuación]]=\"\",Tabla15[[#This Row],[Tipología de coste]]=\"\"),\"\",IF(AND(C125='Actuaciones-gastos'!$A$24,ISERROR(SEARCH(\"P16\", B125))=FALSE),SUM(_xlfn._xlws.FILTER('ACTUACIONES TIPO 16'!$I$19:$I$35,'ACTUACIONES TIPO 16'!$B$19:$B$35='TOTAL GASTOS'!B125,\"\")),(0.9*D125)))","v":""},{"$nulls":11},{"$f":"'RELACIÓN DE GASTOS'!E131&\"(\"&'RELACIÓN DE GASTOS'!G131","v":"("}]
[null,"",{"$f":"IF(AND(Tabla15[[#This Row],[Código de actuación]]=\"Ha intoducido una tipología de gasto sin código de actuación asociado en la hoja de RELACIÓN DE GASTOS\",LEN(S126)>10),MID(S126,2,10000),IF(AND(Tabla15[[#This Row],[Código de actuación]]<>\"\",LEN(S126)<38),\"Ha introducido un número de actuación sin tipología asociada en la hoja RELACIÓN DE GASTOS\",MID(S126,37,10000)))","v":""},{"$f":"IF(OR(Tabla15[[#This Row],[Código de actuación]]=\"\",Tabla15[[#This Row],[Tipología de coste]]=\"\"),\"\",SUMIFS('RELACIÓN DE GASTOS'!$R$22:$R$164,'RELACIÓN DE GASTOS'!$G$22:$G$164,C126,'RELACIÓN DE GASTOS'!$E$22:$E$164,B126))","v":""},{"$f":"IF(OR(Tabla15[[#This Row],[Código de actuación]]=\"\",Tabla15[[#This Row],[Tipología de coste]]=\"\"),\"\",IF(AND(C126='Actuaciones-gastos'!$A$24,ISERROR(SEARCH(\"P16\", B126))=FALSE),SUM(_xlfn._xlws.FILTER('ACTUACIONES TIPO 16'!$I$19:$I$35,'ACTUACIONES TIPO 16'!$B$19:$B$35='TOTAL GASTOS'!B126,\"\")),(0.9*D126)))","v":""},{"$nulls":11},{"$f":"'RELACIÓN DE GASTOS'!E132&\"(\"&'RELACIÓN DE GASTOS'!G132","v":"("}]
[null,"",{"$f":"IF(AND(Tabla15[[#This Row],[Código de actuación]]=\"Ha intoducido una tipología de gasto sin código de actuación asociado en la hoja de RELACIÓN DE GASTOS\",LEN(S127)>10),MID(S127,2,10000),IF(AND(Tabla15[[#This Row],[Código de actuación]]<>\"\",LEN(S127)<38),\"Ha introducido un número de actuación sin tipología asociada en la hoja RELACIÓN DE GASTOS\",MID(S127,37,10000)))","v":""},{"$f":"IF(OR(Tabla15[[#This Row],[Código de actuación]]=\"\",Tabla15[[#This Row],[Tipología de coste]]=\"\"),\"\",SUMIFS('RELACIÓN DE GASTOS'!$R$22:$R$164,'RELACIÓN DE GASTOS'!$G$22:$G$164,C127,'RELACIÓN DE GASTOS'!$E$22:$E$164,B127))","v":""},{"$f":"IF(OR(Tabla15[[#This Row],[Código de actuación]]=\"\",Tabla15[[#This Row],[Tipología de coste]]=\"\"),\"\",IF(AND(C127='Actuaciones-gastos'!$A$24,ISERROR(SEARCH(\"P16\", B127))=FALSE),SUM(_xlfn._xlws.FILTER('ACTUACIONES TIPO 16'!$I$19:$I$35,'ACTUACIONES TIPO 16'!$B$19:$B$35='TOTAL GASTOS'!B127,\"\")),(0.9*D127)))","v":""},{"$nulls":11},{"$f":"'RELACIÓN DE GASTOS'!E133&\"(\"&'RELACIÓN DE GASTOS'!G133","v":"("}]
[null,"",{"$f":"IF(AND(Tabla15[[#This Row],[Código de actuación]]=\"Ha intoducido una tipología de gasto sin código de actuación asociado en la hoja de RELACIÓN DE GASTOS\",LEN(S128)>10),MID(S128,2,10000),IF(AND(Tabla15[[#This Row],[Código de actuación]]<>\"\",LEN(S128)<38),\"Ha introducido un número de actuación sin tipología asociada en la hoja RELACIÓN DE GASTOS\",MID(S128,37,10000)))","v":""},{"$f":"IF(OR(Tabla15[[#This Row],[Código de actuación]]=\"\",Tabla15[[#This Row],[Tipología de coste]]=\"\"),\"\",SUMIFS('RELACIÓN DE GASTOS'!$R$22:$R$164,'RELACIÓN DE GASTOS'!$G$22:$G$164,C128,'RELACIÓN DE GASTOS'!$E$22:$E$164,B128))","v":""},{"$f":"IF(OR(Tabla15[[#This Row],[Código de actuación]]=\"\",Tabla15[[#This Row],[Tipología de coste]]=\"\"),\"\",IF(AND(C128='Actuaciones-gastos'!$A$24,ISERROR(SEARCH(\"P16\", B128))=FALSE),SUM(_xlfn._xlws.FILTER('ACTUACIONES TIPO 16'!$I$19:$I$35,'ACTUACIONES TIPO 16'!$B$19:$B$35='TOTAL GASTOS'!B128,\"\")),(0.9*D128)))","v":""},{"$nulls":11},{"$f":"'RELACIÓN DE GASTOS'!E134&\"(\"&'RELACIÓN DE GASTOS'!G134","v":"("}]
[null,"",{"$f":"IF(AND(Tabla15[[#This Row],[Código de actuación]]=\"Ha intoducido una tipología de gasto sin código de actuación asociado en la hoja de RELACIÓN DE GASTOS\",LEN(S129)>10),MID(S129,2,10000),IF(AND(Tabla15[[#This Row],[Código de actuación]]<>\"\",LEN(S129)<38),\"Ha introducido un número de actuación sin tipología asociada en la hoja RELACIÓN DE GASTOS\",MID(S129,37,10000)))","v":""},{"$f":"IF(OR(Tabla15[[#This Row],[Código de actuación]]=\"\",Tabla15[[#This Row],[Tipología de coste]]=\"\"),\"\",SUMIFS('RELACIÓN DE GASTOS'!$R$22:$R$164,'RELACIÓN DE GASTOS'!$G$22:$G$164,C129,'RELACIÓN DE GASTOS'!$E$22:$E$164,B129))","v":""},{"$f":"IF(OR(Tabla15[[#This Row],[Código de actuación]]=\"\",Tabla15[[#This Row],[Tipología de coste]]=\"\"),\"\",IF(AND(C129='Actuaciones-gastos'!$A$24,ISERROR(SEARCH(\"P16\", B129))=FALSE),SUM(_xlfn._xlws.FILTER('ACTUACIONES TIPO 16'!$I$19:$I$35,'ACTUACIONES TIPO 16'!$B$19:$B$35='TOTAL GASTOS'!B129,\"\")),(0.9*D129)))","v":""},{"$nulls":11},{"$f":"'RELACIÓN DE GASTOS'!E135&\"(\"&'RELACIÓN DE GASTOS'!G135","v":"("}]
[null,"",{"$f":"IF(AND(Tabla15[[#This Row],[Código de actuación]]=\"Ha intoducido una tipología de gasto sin código de actuación asociado en la hoja de RELACIÓN DE GASTOS\",LEN(S130)>10),MID(S130,2,10000),IF(AND(Tabla15[[#This Row],[Código de actuación]]<>\"\",LEN(S130)<38),\"Ha introducido un número de actuación sin tipología asociada en la hoja RELACIÓN DE GASTOS\",MID(S130,37,10000)))","v":""},{"$f":"IF(OR(Tabla15[[#This Row],[Código de actuación]]=\"\",Tabla15[[#This Row],[Tipología de coste]]=\"\"),\"\",SUMIFS('RELACIÓN DE GASTOS'!$R$22:$R$164,'RELACIÓN DE GASTOS'!$G$22:$G$164,C130,'RELACIÓN DE GASTOS'!$E$22:$E$164,B130))","v":""},{"$f":"IF(OR(Tabla15[[#This Row],[Código de actuación]]=\"\",Tabla15[[#This Row],[Tipología de coste]]=\"\"),\"\",IF(AND(C130='Actuaciones-gastos'!$A$24,ISERROR(SEARCH(\"P16\", B130))=FALSE),SUM(_xlfn._xlws.FILTER('ACTUACIONES TIPO 16'!$I$19:$I$35,'ACTUACIONES TIPO 16'!$B$19:$B$35='TOTAL GASTOS'!B130,\"\")),(0.9*D130)))","v":""},{"$nulls":11},{"$f":"'RELACIÓN DE GASTOS'!E136&\"(\"&'RELACIÓN DE GASTOS'!G136","v":"("}]
[null,"",{"$f":"IF(AND(Tabla15[[#This Row],[Código de actuación]]=\"Ha intoducido una tipología de gasto sin código de actuación asociado en la hoja de RELACIÓN DE GASTOS\",LEN(S131)>10),MID(S131,2,10000),IF(AND(Tabla15[[#This Row],[Código de actuación]]<>\"\",LEN(S131)<38),\"Ha introducido un número de actuación sin tipología asociada en la hoja RELACIÓN DE GASTOS\",MID(S131,37,10000)))","v":""},{"$f":"IF(OR(Tabla15[[#This Row],[Código de actuación]]=\"\",Tabla15[[#This Row],[Tipología de coste]]=\"\"),\"\",SUMIFS('RELACIÓN DE GASTOS'!$R$22:$R$164,'RELACIÓN DE GASTOS'!$G$22:$G$164,C131,'RELACIÓN DE GASTOS'!$E$22:$E$164,B131))","v":""},{"$f":"IF(OR(Tabla15[[#This Row],[Código de actuación]]=\"\",Tabla15[[#This Row],[Tipología de coste]]=\"\"),\"\",IF(AND(C131='Actuaciones-gastos'!$A$24,ISERROR(SEARCH(\"P16\", B131))=FALSE),SUM(_xlfn._xlws.FILTER('ACTUACIONES TIPO 16'!$I$19:$I$35,'ACTUACIONES TIPO 16'!$B$19:$B$35='TOTAL GASTOS'!B131,\"\")),(0.9*D131)))","v":""},{"$nulls":11},{"$f":"'RELACIÓN DE GASTOS'!E137&\"(\"&'RELACIÓN DE GASTOS'!G137","v":"("}]
[null,"",{"$f":"IF(AND(Tabla15[[#This Row],[Código de actuación]]=\"Ha intoducido una tipología de gasto sin código de actuación asociado en la hoja de RELACIÓN DE GASTOS\",LEN(S132)>10),MID(S132,2,10000),IF(AND(Tabla15[[#This Row],[Código de actuación]]<>\"\",LEN(S132)<38),\"Ha introducido un número de actuación sin tipología asociada en la hoja RELACIÓN DE GASTOS\",MID(S132,37,10000)))","v":""},{"$f":"IF(OR(Tabla15[[#This Row],[Código de actuación]]=\"\",Tabla15[[#This Row],[Tipología de coste]]=\"\"),\"\",SUMIFS('RELACIÓN DE GASTOS'!$R$22:$R$164,'RELACIÓN DE GASTOS'!$G$22:$G$164,C132,'RELACIÓN DE GASTOS'!$E$22:$E$164,B132))","v":""},{"$f":"IF(OR(Tabla15[[#This Row],[Código de actuación]]=\"\",Tabla15[[#This Row],[Tipología de coste]]=\"\"),\"\",IF(AND(C132='Actuaciones-gastos'!$A$24,ISERROR(SEARCH(\"P16\", B132))=FALSE),SUM(_xlfn._xlws.FILTER('ACTUACIONES TIPO 16'!$I$19:$I$35,'ACTUACIONES TIPO 16'!$B$19:$B$35='TOTAL GASTOS'!B132,\"\")),(0.9*D132)))","v":""},{"$nulls":11},{"$f":"'RELACIÓN DE GASTOS'!E138&\"(\"&'RELACIÓN DE GASTOS'!G138","v":"("}]
[null,"",{"$f":"IF(AND(Tabla15[[#This Row],[Código de actuación]]=\"Ha intoducido una tipología de gasto sin código de actuación asociado en la hoja de RELACIÓN DE GASTOS\",LEN(S133)>10),MID(S133,2,10000),IF(AND(Tabla15[[#This Row],[Código de actuación]]<>\"\",LEN(S133)<38),\"Ha introducido un número de actuación sin tipología asociada en la hoja RELACIÓN DE GASTOS\",MID(S133,37,10000)))","v":""},{"$f":"IF(OR(Tabla15[[#This Row],[Código de actuación]]=\"\",Tabla15[[#This Row],[Tipología de coste]]=\"\"),\"\",SUMIFS('RELACIÓN DE GASTOS'!$R$22:$R$164,'RELACIÓN DE GASTOS'!$G$22:$G$164,C133,'RELACIÓN DE GASTOS'!$E$22:$E$164,B133))","v":""},{"$f":"IF(OR(Tabla15[[#This Row],[Código de actuación]]=\"\",Tabla15[[#This Row],[Tipología de coste]]=\"\"),\"\",IF(AND(C133='Actuaciones-gastos'!$A$24,ISERROR(SEARCH(\"P16\", B133))=FALSE),SUM(_xlfn._xlws.FILTER('ACTUACIONES TIPO 16'!$I$19:$I$35,'ACTUACIONES TIPO 16'!$B$19:$B$35='TOTAL GASTOS'!B133,\"\")),(0.9*D133)))","v":""},{"$nulls":11},{"$f":"'RELACIÓN DE GASTOS'!E139&\"(\"&'RELACIÓN DE GASTOS'!G139","v":"("}]
[null,"",{"$f":"IF(AND(Tabla15[[#This Row],[Código de actuación]]=\"Ha intoducido una tipología de gasto sin código de actuación asociado en la hoja de RELACIÓN DE GASTOS\",LEN(S134)>10),MID(S134,2,10000),IF(AND(Tabla15[[#This Row],[Código de actuación]]<>\"\",LEN(S134)<38),\"Ha introducido un número de actuación sin tipología asociada en la hoja RELACIÓN DE GASTOS\",MID(S134,37,10000)))","v":""},{"$f":"IF(OR(Tabla15[[#This Row],[Código de actuación]]=\"\",Tabla15[[#This Row],[Tipología de coste]]=\"\"),\"\",SUMIFS('RELACIÓN DE GASTOS'!$R$22:$R$164,'RELACIÓN DE GASTOS'!$G$22:$G$164,C134,'RELACIÓN DE GASTOS'!$E$22:$E$164,B134))","v":""},{"$f":"IF(OR(Tabla15[[#This Row],[Código de actuación]]=\"\",Tabla15[[#This Row],[Tipología de coste]]=\"\"),\"\",IF(AND(C134='Actuaciones-gastos'!$A$24,ISERROR(SEARCH(\"P16\", B134))=FALSE),SUM(_xlfn._xlws.FILTER('ACTUACIONES TIPO 16'!$I$19:$I$35,'ACTUACIONES TIPO 16'!$B$19:$B$35='TOTAL GASTOS'!B134,\"\")),(0.9*D134)))","v":""},{"$nulls":11},{"$f":"'RELACIÓN DE GASTOS'!E140&\"(\"&'RELACIÓN DE GASTOS'!G140","v":"("}]
[null,"",{"$f":"IF(AND(Tabla15[[#This Row],[Código de actuación]]=\"Ha intoducido una tipología de gasto sin código de actuación asociado en la hoja de RELACIÓN DE GASTOS\",LEN(S135)>10),MID(S135,2,10000),IF(AND(Tabla15[[#This Row],[Código de actuación]]<>\"\",LEN(S135)<38),\"Ha introducido un número de actuación sin tipología asociada en la hoja RELACIÓN DE GASTOS\",MID(S135,37,10000)))","v":""},{"$f":"IF(OR(Tabla15[[#This Row],[Código de actuación]]=\"\",Tabla15[[#This Row],[Tipología de coste]]=\"\"),\"\",SUMIFS('RELACIÓN DE GASTOS'!$R$22:$R$164,'RELACIÓN DE GASTOS'!$G$22:$G$164,C135,'RELACIÓN DE GASTOS'!$E$22:$E$164,B135))","v":""},{"$f":"IF(OR(Tabla15[[#This Row],[Código de actuación]]=\"\",Tabla15[[#This Row],[Tipología de coste]]=\"\"),\"\",IF(AND(C135='Actuaciones-gastos'!$A$24,ISERROR(SEARCH(\"P16\", B135))=FALSE),SUM(_xlfn._xlws.FILTER('ACTUACIONES TIPO 16'!$I$19:$I$35,'ACTUACIONES TIPO 16'!$B$19:$B$35='TOTAL GASTOS'!B135,\"\")),(0.9*D135)))","v":""},{"$nulls":11},{"$f":"'RELACIÓN DE GASTOS'!E141&\"(\"&'RELACIÓN DE GASTOS'!G141","v":"("}]
[null,"",{"$f":"IF(AND(Tabla15[[#This Row],[Código de actuación]]=\"Ha intoducido una tipología de gasto sin código de actuación asociado en la hoja de RELACIÓN DE GASTOS\",LEN(S136)>10),MID(S136,2,10000),IF(AND(Tabla15[[#This Row],[Código de actuación]]<>\"\",LEN(S136)<38),\"Ha introducido un número de actuación sin tipología asociada en la hoja RELACIÓN DE GASTOS\",MID(S136,37,10000)))","v":""},{"$f":"IF(OR(Tabla15[[#This Row],[Código de actuación]]=\"\",Tabla15[[#This Row],[Tipología de coste]]=\"\"),\"\",SUMIFS('RELACIÓN DE GASTOS'!$R$22:$R$164,'RELACIÓN DE GASTOS'!$G$22:$G$164,C136,'RELACIÓN DE GASTOS'!$E$22:$E$164,B136))","v":""},{"$f":"IF(OR(Tabla15[[#This Row],[Código de actuación]]=\"\",Tabla15[[#This Row],[Tipología de coste]]=\"\"),\"\",IF(AND(C136='Actuaciones-gastos'!$A$24,ISERROR(SEARCH(\"P16\", B136))=FALSE),SUM(_xlfn._xlws.FILTER('ACTUACIONES TIPO 16'!$I$19:$I$35,'ACTUACIONES TIPO 16'!$B$19:$B$35='TOTAL GASTOS'!B136,\"\")),(0.9*D136)))","v":""},{"$nulls":11},{"$f":"'RELACIÓN DE GASTOS'!E142&\"(\"&'RELACIÓN DE GASTOS'!G142","v":"("}]
[null,"",{"$f":"IF(AND(Tabla15[[#This Row],[Código de actuación]]=\"Ha intoducido una tipología de gasto sin código de actuación asociado en la hoja de RELACIÓN DE GASTOS\",LEN(S137)>10),MID(S137,2,10000),IF(AND(Tabla15[[#This Row],[Código de actuación]]<>\"\",LEN(S137)<38),\"Ha introducido un número de actuación sin tipología asociada en la hoja RELACIÓN DE GASTOS\",MID(S137,37,10000)))","v":""},{"$f":"IF(OR(Tabla15[[#This Row],[Código de actuación]]=\"\",Tabla15[[#This Row],[Tipología de coste]]=\"\"),\"\",SUMIFS('RELACIÓN DE GASTOS'!$R$22:$R$164,'RELACIÓN DE GASTOS'!$G$22:$G$164,C137,'RELACIÓN DE GASTOS'!$E$22:$E$164,B137))","v":""},{"$f":"IF(OR(Tabla15[[#This Row],[Código de actuación]]=\"\",Tabla15[[#This Row],[Tipología de coste]]=\"\"),\"\",IF(AND(C137='Actuaciones-gastos'!$A$24,ISERROR(SEARCH(\"P16\", B137))=FALSE),SUM(_xlfn._xlws.FILTER('ACTUACIONES TIPO 16'!$I$19:$I$35,'ACTUACIONES TIPO 16'!$B$19:$B$35='TOTAL GASTOS'!B137,\"\")),(0.9*D137)))","v":""},{"$nulls":11},{"$f":"'RELACIÓN DE GASTOS'!E143&\"(\"&'RELACIÓN DE GASTOS'!G143","v":"("}]
[null,"",{"$f":"IF(AND(Tabla15[[#This Row],[Código de actuación]]=\"Ha intoducido una tipología de gasto sin código de actuación asociado en la hoja de RELACIÓN DE GASTOS\",LEN(S138)>10),MID(S138,2,10000),IF(AND(Tabla15[[#This Row],[Código de actuación]]<>\"\",LEN(S138)<38),\"Ha introducido un número de actuación sin tipología asociada en la hoja RELACIÓN DE GASTOS\",MID(S138,37,10000)))","v":""},{"$f":"IF(OR(Tabla15[[#This Row],[Código de actuación]]=\"\",Tabla15[[#This Row],[Tipología de coste]]=\"\"),\"\",SUMIFS('RELACIÓN DE GASTOS'!$R$22:$R$164,'RELACIÓN DE GASTOS'!$G$22:$G$164,C138,'RELACIÓN DE GASTOS'!$E$22:$E$164,B138))","v":""},{"$f":"IF(OR(Tabla15[[#This Row],[Código de actuación]]=\"\",Tabla15[[#This Row],[Tipología de coste]]=\"\"),\"\",IF(AND(C138='Actuaciones-gastos'!$A$24,ISERROR(SEARCH(\"P16\", B138))=FALSE),SUM(_xlfn._xlws.FILTER('ACTUACIONES TIPO 16'!$I$19:$I$35,'ACTUACIONES TIPO 16'!$B$19:$B$35='TOTAL GASTOS'!B138,\"\")),(0.9*D138)))","v":""},{"$nulls":11},{"$f":"'RELACIÓN DE GASTOS'!E144&\"(\"&'RELACIÓN DE GASTOS'!G144","v":"("}]
[null,"",{"$f":"IF(AND(Tabla15[[#This Row],[Código de actuación]]=\"Ha intoducido una tipología de gasto sin código de actuación asociado en la hoja de RELACIÓN DE GASTOS\",LEN(S139)>10),MID(S139,2,10000),IF(AND(Tabla15[[#This Row],[Código de actuación]]<>\"\",LEN(S139)<38),\"Ha introducido un número de actuación sin tipología asociada en la hoja RELACIÓN DE GASTOS\",MID(S139,37,10000)))","v":""},{"$f":"IF(OR(Tabla15[[#This Row],[Código de actuación]]=\"\",Tabla15[[#This Row],[Tipología de coste]]=\"\"),\"\",SUMIFS('RELACIÓN DE GASTOS'!$R$22:$R$164,'RELACIÓN DE GASTOS'!$G$22:$G$164,C139,'RELACIÓN DE GASTOS'!$E$22:$E$164,B139))","v":""},{"$f":"IF(OR(Tabla15[[#This Row],[Código de actuación]]=\"\",Tabla15[[#This Row],[Tipología de coste]]=\"\"),\"\",IF(AND(C139='Actuaciones-gastos'!$A$24,ISERROR(SEARCH(\"P16\", B139))=FALSE),SUM(_xlfn._xlws.FILTER('ACTUACIONES TIPO 16'!$I$19:$I$35,'ACTUACIONES TIPO 16'!$B$19:$B$35='TOTAL GASTOS'!B139,\"\")),(0.9*D139)))","v":""},{"$nulls":11},{"$f":"'RELACIÓN DE GASTOS'!E145&\"(\"&'RELACIÓN DE GASTOS'!G145","v":"("}]
[null,"",{"$f":"IF(AND(Tabla15[[#This Row],[Código de actuación]]=\"Ha intoducido una tipología de gasto sin código de actuación asociado en la hoja de RELACIÓN DE GASTOS\",LEN(S140)>10),MID(S140,2,10000),IF(AND(Tabla15[[#This Row],[Código de actuación]]<>\"\",LEN(S140)<38),\"Ha introducido un número de actuación sin tipología asociada en la hoja RELACIÓN DE GASTOS\",MID(S140,37,10000)))","v":""},{"$f":"IF(OR(Tabla15[[#This Row],[Código de actuación]]=\"\",Tabla15[[#This Row],[Tipología de coste]]=\"\"),\"\",SUMIFS('RELACIÓN DE GASTOS'!$R$22:$R$164,'RELACIÓN DE GASTOS'!$G$22:$G$164,C140,'RELACIÓN DE GASTOS'!$E$22:$E$164,B140))","v":""},{"$f":"IF(OR(Tabla15[[#This Row],[Código de actuación]]=\"\",Tabla15[[#This Row],[Tipología de coste]]=\"\"),\"\",IF(AND(C140='Actuaciones-gastos'!$A$24,ISERROR(SEARCH(\"P16\", B140))=FALSE),SUM(_xlfn._xlws.FILTER('ACTUACIONES TIPO 16'!$I$19:$I$35,'ACTUACIONES TIPO 16'!$B$19:$B$35='TOTAL GASTOS'!B140,\"\")),(0.9*D140)))","v":""},{"$nulls":11},{"$f":"'RELACIÓN DE GASTOS'!E146&\"(\"&'RELACIÓN DE GASTOS'!G146","v":"("}]
[null,"",{"$f":"IF(AND(Tabla15[[#This Row],[Código de actuación]]=\"Ha intoducido una tipología de gasto sin código de actuación asociado en la hoja de RELACIÓN DE GASTOS\",LEN(S141)>10),MID(S141,2,10000),IF(AND(Tabla15[[#This Row],[Código de actuación]]<>\"\",LEN(S141)<38),\"Ha introducido un número de actuación sin tipología asociada en la hoja RELACIÓN DE GASTOS\",MID(S141,37,10000)))","v":""},{"$f":"IF(OR(Tabla15[[#This Row],[Código de actuación]]=\"\",Tabla15[[#This Row],[Tipología de coste]]=\"\"),\"\",SUMIFS('RELACIÓN DE GASTOS'!$R$22:$R$164,'RELACIÓN DE GASTOS'!$G$22:$G$164,C141,'RELACIÓN DE GASTOS'!$E$22:$E$164,B141))","v":""},{"$f":"IF(OR(Tabla15[[#This Row],[Código de actuación]]=\"\",Tabla15[[#This Row],[Tipología de coste]]=\"\"),\"\",IF(AND(C141='Actuaciones-gastos'!$A$24,ISERROR(SEARCH(\"P16\", B141))=FALSE),SUM(_xlfn._xlws.FILTER('ACTUACIONES TIPO 16'!$I$19:$I$35,'ACTUACIONES TIPO 16'!$B$19:$B$35='TOTAL GASTOS'!B141,\"\")),(0.9*D141)))","v":""},{"$nulls":11},{"$f":"'RELACIÓN DE GASTOS'!E147&\"(\"&'RELACIÓN DE GASTOS'!G147","v":"("}]
[null,"",{"$f":"IF(AND(Tabla15[[#This Row],[Código de actuación]]=\"Ha intoducido una tipología de gasto sin código de actuación asociado en la hoja de RELACIÓN DE GASTOS\",LEN(S142)>10),MID(S142,2,10000),IF(AND(Tabla15[[#This Row],[Código de actuación]]<>\"\",LEN(S142)<38),\"Ha introducido un número de actuación sin tipología asociada en la hoja RELACIÓN DE GASTOS\",MID(S142,37,10000)))","v":""},{"$f":"IF(OR(Tabla15[[#This Row],[Código de actuación]]=\"\",Tabla15[[#This Row],[Tipología de coste]]=\"\"),\"\",SUMIFS('RELACIÓN DE GASTOS'!$R$22:$R$164,'RELACIÓN DE GASTOS'!$G$22:$G$164,C142,'RELACIÓN DE GASTOS'!$E$22:$E$164,B142))","v":""},{"$f":"IF(OR(Tabla15[[#This Row],[Código de actuación]]=\"\",Tabla15[[#This Row],[Tipología de coste]]=\"\"),\"\",IF(AND(C142='Actuaciones-gastos'!$A$24,ISERROR(SEARCH(\"P16\", B142))=FALSE),SUM(_xlfn._xlws.FILTER('ACTUACIONES TIPO 16'!$I$19:$I$35,'ACTUACIONES TIPO 16'!$B$19:$B$35='TOTAL GASTOS'!B142,\"\")),(0.9*D142)))","v":""},{"$nulls":11},{"$f":"'RELACIÓN DE GASTOS'!E148&\"(\"&'RELACIÓN DE GASTOS'!G148","v":"("}]
[null,"",{"$f":"IF(AND(Tabla15[[#This Row],[Código de actuación]]=\"Ha intoducido una tipología de gasto sin código de actuación asociado en la hoja de RELACIÓN DE GASTOS\",LEN(S143)>10),MID(S143,2,10000),IF(AND(Tabla15[[#This Row],[Código de actuación]]<>\"\",LEN(S143)<38),\"Ha introducido un número de actuación sin tipología asociada en la hoja RELACIÓN DE GASTOS\",MID(S143,37,10000)))","v":""},{"$f":"IF(OR(Tabla15[[#This Row],[Código de actuación]]=\"\",Tabla15[[#This Row],[Tipología de coste]]=\"\"),\"\",SUMIFS('RELACIÓN DE GASTOS'!$R$22:$R$164,'RELACIÓN DE GASTOS'!$G$22:$G$164,C143,'RELACIÓN DE GASTOS'!$E$22:$E$164,B143))","v":""},{"$f":"IF(OR(Tabla15[[#This Row],[Código de actuación]]=\"\",Tabla15[[#This Row],[Tipología de coste]]=\"\"),\"\",IF(AND(C143='Actuaciones-gastos'!$A$24,ISERROR(SEARCH(\"P16\", B143))=FALSE),SUM(_xlfn._xlws.FILTER('ACTUACIONES TIPO 16'!$I$19:$I$35,'ACTUACIONES TIPO 16'!$B$19:$B$35='TOTAL GASTOS'!B143,\"\")),(0.9*D143)))","v":""},{"$nulls":11},{"$f":"'RELACIÓN DE GASTOS'!E149&\"(\"&'RELACIÓN DE GASTOS'!G149","v":"("}]
[null,"",{"$f":"IF(AND(Tabla15[[#This Row],[Código de actuación]]=\"Ha intoducido una tipología de gasto sin código de actuación asociado en la hoja de RELACIÓN DE GASTOS\",LEN(S144)>10),MID(S144,2,10000),IF(AND(Tabla15[[#This Row],[Código de actuación]]<>\"\",LEN(S144)<38),\"Ha introducido un número de actuación sin tipología asociada en la hoja RELACIÓN DE GASTOS\",MID(S144,37,10000)))","v":""},{"$f":"IF(OR(Tabla15[[#This Row],[Código de actuación]]=\"\",Tabla15[[#This Row],[Tipología de coste]]=\"\"),\"\",SUMIFS('RELACIÓN DE GASTOS'!$R$22:$R$164,'RELACIÓN DE GASTOS'!$G$22:$G$164,C144,'RELACIÓN DE GASTOS'!$E$22:$E$164,B144))","v":""},{"$f":"IF(OR(Tabla15[[#This Row],[Código de actuación]]=\"\",Tabla15[[#This Row],[Tipología de coste]]=\"\"),\"\",IF(AND(C144='Actuaciones-gastos'!$A$24,ISERROR(SEARCH(\"P16\", B144))=FALSE),SUM(_xlfn._xlws.FILTER('ACTUACIONES TIPO 16'!$I$19:$I$35,'ACTUACIONES TIPO 16'!$B$19:$B$35='TOTAL GASTOS'!B144,\"\")),(0.9*D144)))","v":""},{"$nulls":11},{"$f":"'RELACIÓN DE GASTOS'!E150&\"(\"&'RELACIÓN DE GASTOS'!G150","v":"("}]
[null,"",{"$f":"IF(AND(Tabla15[[#This Row],[Código de actuación]]=\"Ha intoducido una tipología de gasto sin código de actuación asociado en la hoja de RELACIÓN DE GASTOS\",LEN(S145)>10),MID(S145,2,10000),IF(AND(Tabla15[[#This Row],[Código de actuación]]<>\"\",LEN(S145)<38),\"Ha introducido un número de actuación sin tipología asociada en la hoja RELACIÓN DE GASTOS\",MID(S145,37,10000)))","v":""},{"$f":"IF(OR(Tabla15[[#This Row],[Código de actuación]]=\"\",Tabla15[[#This Row],[Tipología de coste]]=\"\"),\"\",SUMIFS('RELACIÓN DE GASTOS'!$R$22:$R$164,'RELACIÓN DE GASTOS'!$G$22:$G$164,C145,'RELACIÓN DE GASTOS'!$E$22:$E$164,B145))","v":""},{"$f":"IF(OR(Tabla15[[#This Row],[Código de actuación]]=\"\",Tabla15[[#This Row],[Tipología de coste]]=\"\"),\"\",IF(AND(C145='Actuaciones-gastos'!$A$24,ISERROR(SEARCH(\"P16\", B145))=FALSE),SUM(_xlfn._xlws.FILTER('ACTUACIONES TIPO 16'!$I$19:$I$35,'ACTUACIONES TIPO 16'!$B$19:$B$35='TOTAL GASTOS'!B145,\"\")),(0.9*D145)))","v":""},{"$nulls":11},{"$f":"'RELACIÓN DE GASTOS'!E151&\"(\"&'RELACIÓN DE GASTOS'!G151","v":"("}]
[null,{"$f":"IF(AND(LEN(S146)>5,ISERROR(SEARCH(\"PRTR\",S146))=TRUE),\"Ha intoducido una tipología de gasto sin código de actuación asociado en la hoja de RELACIÓN DE GASTOS\",LEFT(S146,35))","v":""},{"$f":"IF(AND(Tabla15[[#This Row],[Código de actuación]]=\"Ha intoducido una tipología de gasto sin código de actuación asociado en la hoja de RELACIÓN DE GASTOS\",LEN(S146)>10),MID(S146,2,10000),IF(AND(Tabla15[[#This Row],[Código de actuación]]<>\"\",LEN(S146)<38),\"Ha introducido un número de actuación sin tipología asociada en la hoja RELACIÓN DE GASTOS\",MID(S146,37,10000)))","v":""},{"$f":"IF(OR(Tabla15[[#This Row],[Código de actuación]]=\"\",Tabla15[[#This Row],[Tipología de coste]]=\"\"),\"\",SUMIFS('RELACIÓN DE GASTOS'!$R$22:$R$164,'RELACIÓN DE GASTOS'!$G$22:$G$164,C146,'RELACIÓN DE GASTOS'!$E$22:$E$164,B146))","v":""},{"$f":"IF(OR(Tabla15[[#This Row],[Código de actuación]]=\"\",Tabla15[[#This Row],[Tipología de coste]]=\"\"),\"\",IF(AND(C146='Actuaciones-gastos'!$A$24,ISERROR(SEARCH(\"P16\", B146))=FALSE),SUM(_xlfn._xlws.FILTER('ACTUACIONES TIPO 16'!$I$19:$I$35,'ACTUACIONES TIPO 16'!$B$19:$B$35='TOTAL GASTOS'!B146,\"\")),(0.9*D146)))","v":""},{"$nulls":11},{"$f":"'RELACIÓN DE GASTOS'!E152&\"(\"&'RELACIÓN DE GASTOS'!G152","v":"("}]
[null,"",{"$f":"IF(AND(Tabla15[[#This Row],[Código de actuación]]=\"Ha intoducido una tipología de gasto sin código de actuación asociado en la hoja de RELACIÓN DE GASTOS\",LEN(S147)>10),MID(S147,2,10000),IF(AND(Tabla15[[#This Row],[Código de actuación]]<>\"\",LEN(S147)<38),\"Ha introducido un número de actuación sin tipología asociada en la hoja RELACIÓN DE GASTOS\",MID(S147,37,10000)))","v":""},{"$f":"IF(OR(Tabla15[[#This Row],[Código de actuación]]=\"\",Tabla15[[#This Row],[Tipología de coste]]=\"\"),\"\",SUMIFS('RELACIÓN DE GASTOS'!$R$22:$R$164,'RELACIÓN DE GASTOS'!$G$22:$G$164,C147,'RELACIÓN DE GASTOS'!$E$22:$E$164,B147))","v":""},{"$f":"IF(OR(Tabla15[[#This Row],[Código de actuación]]=\"\",Tabla15[[#This Row],[Tipología de coste]]=\"\"),\"\",IF(AND(C147='Actuaciones-gastos'!$A$24,ISERROR(SEARCH(\"P16\", B147))=FALSE),SUM(_xlfn._xlws.FILTER('ACTUACIONES TIPO 16'!$I$19:$I$35,'ACTUACIONES TIPO 16'!$B$19:$B$35='TOTAL GASTOS'!B147,\"\")),(0.9*D147)))","v":""},{"$nulls":11},{"$f":"'RELACIÓN DE GASTOS'!E153&\"(\"&'RELACIÓN DE GASTOS'!G153","v":"("}]
[null,"",{"$f":"IF(AND(Tabla15[[#This Row],[Código de actuación]]=\"Ha intoducido una tipología de gasto sin código de actuación asociado en la hoja de RELACIÓN DE GASTOS\",LEN(S148)>10),MID(S148,2,10000),IF(AND(Tabla15[[#This Row],[Código de actuación]]<>\"\",LEN(S148)<38),\"Ha introducido un número de actuación sin tipología asociada en la hoja RELACIÓN DE GASTOS\",MID(S148,37,10000)))","v":""},{"$f":"IF(OR(Tabla15[[#This Row],[Código de actuación]]=\"\",Tabla15[[#This Row],[Tipología de coste]]=\"\"),\"\",SUMIFS('RELACIÓN DE GASTOS'!$R$22:$R$164,'RELACIÓN DE GASTOS'!$G$22:$G$164,C148,'RELACIÓN DE GASTOS'!$E$22:$E$164,B148))","v":""},{"$f":"IF(OR(Tabla15[[#This Row],[Código de actuación]]=\"\",Tabla15[[#This Row],[Tipología de coste]]=\"\"),\"\",IF(AND(C148='Actuaciones-gastos'!$A$24,ISERROR(SEARCH(\"P16\", B148))=FALSE),SUM(_xlfn._xlws.FILTER('ACTUACIONES TIPO 16'!$I$19:$I$35,'ACTUACIONES TIPO 16'!$B$19:$B$35='TOTAL GASTOS'!B148,\"\")),(0.9*D148)))","v":""},{"$nulls":11},{"$f":"'RELACIÓN DE GASTOS'!E154&\"(\"&'RELACIÓN DE GASTOS'!G154","v":"("}]
[null,"",{"$f":"IF(AND(Tabla15[[#This Row],[Código de actuación]]=\"Ha intoducido una tipología de gasto sin código de actuación asociado en la hoja de RELACIÓN DE GASTOS\",LEN(S149)>10),MID(S149,2,10000),IF(AND(Tabla15[[#This Row],[Código de actuación]]<>\"\",LEN(S149)<38),\"Ha introducido un número de actuación sin tipología asociada en la hoja RELACIÓN DE GASTOS\",MID(S149,37,10000)))","v":""},{"$f":"IF(OR(Tabla15[[#This Row],[Código de actuación]]=\"\",Tabla15[[#This Row],[Tipología de coste]]=\"\"),\"\",SUMIFS('RELACIÓN DE GASTOS'!$R$22:$R$164,'RELACIÓN DE GASTOS'!$G$22:$G$164,C149,'RELACIÓN DE GASTOS'!$E$22:$E$164,B149))","v":""},{"$f":"IF(OR(Tabla15[[#This Row],[Código de actuación]]=\"\",Tabla15[[#This Row],[Tipología de coste]]=\"\"),\"\",IF(AND(C149='Actuaciones-gastos'!$A$24,ISERROR(SEARCH(\"P16\", B149))=FALSE),SUM(_xlfn._xlws.FILTER('ACTUACIONES TIPO 16'!$I$19:$I$35,'ACTUACIONES TIPO 16'!$B$19:$B$35='TOTAL GASTOS'!B149,\"\")),(0.9*D149)))","v":""},{"$nulls":11},{"$f":"'RELACIÓN DE GASTOS'!E155&\"(\"&'RELACIÓN DE GASTOS'!G155","v":"("}]
[null,"",{"$f":"IF(AND(Tabla15[[#This Row],[Código de actuación]]=\"Ha intoducido una tipología de gasto sin código de actuación asociado en la hoja de RELACIÓN DE GASTOS\",LEN(S150)>10),MID(S150,2,10000),IF(AND(Tabla15[[#This Row],[Código de actuación]]<>\"\",LEN(S150)<38),\"Ha introducido un número de actuación sin tipología asociada en la hoja RELACIÓN DE GASTOS\",MID(S150,37,10000)))","v":""},{"$f":"IF(OR(Tabla15[[#This Row],[Código de actuación]]=\"\",Tabla15[[#This Row],[Tipología de coste]]=\"\"),\"\",SUMIFS('RELACIÓN DE GASTOS'!$R$22:$R$164,'RELACIÓN DE GASTOS'!$G$22:$G$164,C150,'RELACIÓN DE GASTOS'!$E$22:$E$164,B150))","v":""},{"$f":"IF(OR(Tabla15[[#This Row],[Código de actuación]]=\"\",Tabla15[[#This Row],[Tipología de coste]]=\"\"),\"\",IF(AND(C150='Actuaciones-gastos'!$A$24,ISERROR(SEARCH(\"P16\", B150))=FALSE),SUM(_xlfn._xlws.FILTER('ACTUACIONES TIPO 16'!$I$19:$I$35,'ACTUACIONES TIPO 16'!$B$19:$B$35='TOTAL GASTOS'!B150,\"\")),(0.9*D150)))","v":""},{"$nulls":11},{"$f":"'RELACIÓN DE GASTOS'!E156&\"(\"&'RELACIÓN DE GASTOS'!G156","v":"("}]
[null,"",{"$f":"IF(AND(Tabla15[[#This Row],[Código de actuación]]=\"Ha intoducido una tipología de gasto sin código de actuación asociado en la hoja de RELACIÓN DE GASTOS\",LEN(S151)>10),MID(S151,2,10000),IF(AND(Tabla15[[#This Row],[Código de actuación]]<>\"\",LEN(S151)<38),\"Ha introducido un número de actuación sin tipología asociada en la hoja RELACIÓN DE GASTOS\",MID(S151,37,10000)))","v":""},{"$f":"IF(OR(Tabla15[[#This Row],[Código de actuación]]=\"\",Tabla15[[#This Row],[Tipología de coste]]=\"\"),\"\",SUMIFS('RELACIÓN DE GASTOS'!$R$22:$R$164,'RELACIÓN DE GASTOS'!$G$22:$G$164,C151,'RELACIÓN DE GASTOS'!$E$22:$E$164,B151))","v":""},{"$f":"IF(OR(Tabla15[[#This Row],[Código de actuación]]=\"\",Tabla15[[#This Row],[Tipología de coste]]=\"\"),\"\",IF(AND(C151='Actuaciones-gastos'!$A$24,ISERROR(SEARCH(\"P16\", B151))=FALSE),SUM(_xlfn._xlws.FILTER('ACTUACIONES TIPO 16'!$I$19:$I$35,'ACTUACIONES TIPO 16'!$B$19:$B$35='TOTAL GASTOS'!B151,\"\")),(0.9*D151)))","v":""},{"$nulls":11},{"$f":"'RELACIÓN DE GASTOS'!E157&\"(\"&'RELACIÓN DE GASTOS'!G157","v":"("}]
[null,"",{"$f":"IF(AND(Tabla15[[#This Row],[Código de actuación]]=\"Ha intoducido una tipología de gasto sin código de actuación asociado en la hoja de RELACIÓN DE GASTOS\",LEN(S152)>10),MID(S152,2,10000),IF(AND(Tabla15[[#This Row],[Código de actuación]]<>\"\",LEN(S152)<38),\"Ha introducido un número de actuación sin tipología asociada en la hoja RELACIÓN DE GASTOS\",MID(S152,37,10000)))","v":""},{"$f":"IF(OR(Tabla15[[#This Row],[Código de actuación]]=\"\",Tabla15[[#This Row],[Tipología de coste]]=\"\"),\"\",SUMIFS('RELACIÓN DE GASTOS'!$R$22:$R$164,'RELACIÓN DE GASTOS'!$G$22:$G$164,C152,'RELACIÓN DE GASTOS'!$E$22:$E$164,B152))","v":""},{"$f":"IF(OR(Tabla15[[#This Row],[Código de actuación]]=\"\",Tabla15[[#This Row],[Tipología de coste]]=\"\"),\"\",IF(AND(C152='Actuaciones-gastos'!$A$24,ISERROR(SEARCH(\"P16\", B152))=FALSE),SUM(_xlfn._xlws.FILTER('ACTUACIONES TIPO 16'!$I$19:$I$35,'ACTUACIONES TIPO 16'!$B$19:$B$35='TOTAL GASTOS'!B152,\"\")),(0.9*D152)))","v":""},{"$nulls":11},{"$f":"'RELACIÓN DE GASTOS'!E158&\"(\"&'RELACIÓN DE GASTOS'!G158","v":"("}]
[null,"",{"$f":"IF(AND(Tabla15[[#This Row],[Código de actuación]]=\"Ha intoducido una tipología de gasto sin código de actuación asociado en la hoja de RELACIÓN DE GASTOS\",LEN(S153)>10),MID(S153,2,10000),IF(AND(Tabla15[[#This Row],[Código de actuación]]<>\"\",LEN(S153)<38),\"Ha introducido un número de actuación sin tipología asociada en la hoja RELACIÓN DE GASTOS\",MID(S153,37,10000)))","v":""},{"$f":"IF(OR(Tabla15[[#This Row],[Código de actuación]]=\"\",Tabla15[[#This Row],[Tipología de coste]]=\"\"),\"\",SUMIFS('RELACIÓN DE GASTOS'!$R$22:$R$164,'RELACIÓN DE GASTOS'!$G$22:$G$164,C153,'RELACIÓN DE GASTOS'!$E$22:$E$164,B153))","v":""},{"$f":"IF(OR(Tabla15[[#This Row],[Código de actuación]]=\"\",Tabla15[[#This Row],[Tipología de coste]]=\"\"),\"\",IF(AND(C153='Actuaciones-gastos'!$A$24,ISERROR(SEARCH(\"P16\", B153))=FALSE),SUM(_xlfn._xlws.FILTER('ACTUACIONES TIPO 16'!$I$19:$I$35,'ACTUACIONES TIPO 16'!$B$19:$B$35='TOTAL GASTOS'!B153,\"\")),(0.9*D153)))","v":""},{"$nulls":11},{"$f":"'RELACIÓN DE GASTOS'!E159&\"(\"&'RELACIÓN DE GASTOS'!G159","v":"("}]
[null,"",{"$f":"IF(AND(Tabla15[[#This Row],[Código de actuación]]=\"Ha intoducido una tipología de gasto sin código de actuación asociado en la hoja de RELACIÓN DE GASTOS\",LEN(S154)>10),MID(S154,2,10000),IF(AND(Tabla15[[#This Row],[Código de actuación]]<>\"\",LEN(S154)<38),\"Ha introducido un número de actuación sin tipología asociada en la hoja RELACIÓN DE GASTOS\",MID(S154,37,10000)))","v":""},{"$f":"IF(OR(Tabla15[[#This Row],[Código de actuación]]=\"\",Tabla15[[#This Row],[Tipología de coste]]=\"\"),\"\",SUMIFS('RELACIÓN DE GASTOS'!$R$22:$R$164,'RELACIÓN DE GASTOS'!$G$22:$G$164,C154,'RELACIÓN DE GASTOS'!$E$22:$E$164,B154))","v":""},{"$f":"IF(OR(Tabla15[[#This Row],[Código de actuación]]=\"\",Tabla15[[#This Row],[Tipología de coste]]=\"\"),\"\",IF(AND(C154='Actuaciones-gastos'!$A$24,ISERROR(SEARCH(\"P16\", B154))=FALSE),SUM(_xlfn._xlws.FILTER('ACTUACIONES TIPO 16'!$I$19:$I$35,'ACTUACIONES TIPO 16'!$B$19:$B$35='TOTAL GASTOS'!B154,\"\")),(0.9*D154)))","v":""},{"$nulls":11},{"$f":"'RELACIÓN DE GASTOS'!E160&\"(\"&'RELACIÓN DE GASTOS'!G160","v":"("}]
[null,"",{"$f":"IF(AND(Tabla15[[#This Row],[Código de actuación]]=\"Ha intoducido una tipología de gasto sin código de actuación asociado en la hoja de RELACIÓN DE GASTOS\",LEN(S155)>10),MID(S155,2,10000),IF(AND(Tabla15[[#This Row],[Código de actuación]]<>\"\",LEN(S155)<38),\"Ha introducido un número de actuación sin tipología asociada en la hoja RELACIÓN DE GASTOS\",MID(S155,37,10000)))","v":""},{"$f":"IF(OR(Tabla15[[#This Row],[Código de actuación]]=\"\",Tabla15[[#This Row],[Tipología de coste]]=\"\"),\"\",SUMIFS('RELACIÓN DE GASTOS'!$R$22:$R$164,'RELACIÓN DE GASTOS'!$G$22:$G$164,C155,'RELACIÓN DE GASTOS'!$E$22:$E$164,B155))","v":""},{"$f":"IF(OR(Tabla15[[#This Row],[Código de actuación]]=\"\",Tabla15[[#This Row],[Tipología de coste]]=\"\"),\"\",IF(AND(C155='Actuaciones-gastos'!$A$24,ISERROR(SEARCH(\"P16\", B155))=FALSE),SUM(_xlfn._xlws.FILTER('ACTUACIONES TIPO 16'!$I$19:$I$35,'ACTUACIONES TIPO 16'!$B$19:$B$35='TOTAL GASTOS'!B155,\"\")),(0.9*D155)))","v":""},{"$nulls":11},{"$f":"'RELACIÓN DE GASTOS'!E161&\"(\"&'RELACIÓN DE GASTOS'!G161","v":"("}]
[null,"",{"$f":"IF(AND(Tabla15[[#This Row],[Código de actuación]]=\"Ha intoducido una tipología de gasto sin código de actuación asociado en la hoja de RELACIÓN DE GASTOS\",LEN(S156)>10),MID(S156,2,10000),IF(AND(Tabla15[[#This Row],[Código de actuación]]<>\"\",LEN(S156)<38),\"Ha introducido un número de actuación sin tipología asociada en la hoja RELACIÓN DE GASTOS\",MID(S156,37,10000)))","v":""},{"$f":"IF(OR(Tabla15[[#This Row],[Código de actuación]]=\"\",Tabla15[[#This Row],[Tipología de coste]]=\"\"),\"\",SUMIFS('RELACIÓN DE GASTOS'!$R$22:$R$164,'RELACIÓN DE GASTOS'!$G$22:$G$164,C156,'RELACIÓN DE GASTOS'!$E$22:$E$164,B156))","v":""},{"$f":"IF(OR(Tabla15[[#This Row],[Código de actuación]]=\"\",Tabla15[[#This Row],[Tipología de coste]]=\"\"),\"\",IF(AND(C156='Actuaciones-gastos'!$A$24,ISERROR(SEARCH(\"P16\", B156))=FALSE),SUM(_xlfn._xlws.FILTER('ACTUACIONES TIPO 16'!$I$19:$I$35,'ACTUACIONES TIPO 16'!$B$19:$B$35='TOTAL GASTOS'!B156,\"\")),(0.9*D156)))","v":""},{"$nulls":11},{"$f":"'RELACIÓN DE GASTOS'!E162&\"(\"&'RELACIÓN DE GASTOS'!G162","v":"("}]
[null,"",{"$f":"IF(AND(Tabla15[[#This Row],[Código de actuación]]=\"Ha intoducido una tipología de gasto sin código de actuación asociado en la hoja de RELACIÓN DE GASTOS\",LEN(S157)>10),MID(S157,2,10000),IF(AND(Tabla15[[#This Row],[Código de actuación]]<>\"\",LEN(S157)<38),\"Ha introducido un número de actuación sin tipología asociada en la hoja RELACIÓN DE GASTOS\",MID(S157,37,10000)))","v":""},{"$f":"IF(OR(Tabla15[[#This Row],[Código de actuación]]=\"\",Tabla15[[#This Row],[Tipología de coste]]=\"\"),\"\",SUMIFS('RELACIÓN DE GASTOS'!$R$22:$R$164,'RELACIÓN DE GASTOS'!$G$22:$G$164,C157,'RELACIÓN DE GASTOS'!$E$22:$E$164,B157))","v":""},{"$f":"IF(OR(Tabla15[[#This Row],[Código de actuación]]=\"\",Tabla15[[#This Row],[Tipología de coste]]=\"\"),\"\",IF(AND(C157='Actuaciones-gastos'!$A$24,ISERROR(SEARCH(\"P16\", B157))=FALSE),SUM(_xlfn._xlws.FILTER('ACTUACIONES TIPO 16'!$I$19:$I$35,'ACTUACIONES TIPO 16'!$B$19:$B$35='TOTAL GASTOS'!B157,\"\")),(0.9*D157)))","v":""},{"$nulls":11},{"$f":"'RELACIÓN DE GASTOS'!E163&\"(\"&'RELACIÓN DE GASTOS'!G163","v":"("}]
[null,"",{"$f":"IF(AND(Tabla15[[#This Row],[Código de actuación]]=\"Ha intoducido una tipología de gasto sin código de actuación asociado en la hoja de RELACIÓN DE GASTOS\",LEN(S158)>10),MID(S158,2,10000),IF(AND(Tabla15[[#This Row],[Código de actuación]]<>\"\",LEN(S158)<38),\"Ha introducido un número de actuación sin tipología asociada en la hoja RELACIÓN DE GASTOS\",MID(S158,37,10000)))","v":""},{"$f":"IF(OR(Tabla15[[#This Row],[Código de actuación]]=\"\",Tabla15[[#This Row],[Tipología de coste]]=\"\"),\"\",SUMIFS('RELACIÓN DE GASTOS'!$R$22:$R$164,'RELACIÓN DE GASTOS'!$G$22:$G$164,C158,'RELACIÓN DE GASTOS'!$E$22:$E$164,B158))","v":""},{"$f":"IF(OR(Tabla15[[#This Row],[Código de actuación]]=\"\",Tabla15[[#This Row],[Tipología de coste]]=\"\"),\"\",IF(AND(C158='Actuaciones-gastos'!$A$24,ISERROR(SEARCH(\"P16\", B158))=FALSE),SUM(_xlfn._xlws.FILTER('ACTUACIONES TIPO 16'!$I$19:$I$35,'ACTUACIONES TIPO 16'!$B$19:$B$35='TOTAL GASTOS'!B158,\"\")),(0.9*D158)))","v":""},{"$nulls":11},{"$f":"'RELACIÓN DE GASTOS'!E164&\"(\"&'RELACIÓN DE GASTOS'!G164","v":"("}]
[null,"",{"$f":"IF(AND(Tabla15[[#This Row],[Código de actuación]]=\"Ha intoducido una tipología de gasto sin código de actuación asociado en la hoja de RELACIÓN DE GASTOS\",LEN(S159)>10),MID(S159,2,10000),IF(AND(Tabla15[[#This Row],[Código de actuación]]<>\"\",LEN(S159)<38),\"Ha introducido un número de actuación sin tipología asociada en la hoja RELACIÓN DE GASTOS\",MID(S159,37,10000)))","v":""},{"$f":"IF(OR(Tabla15[[#This Row],[Código de actuación]]=\"\",Tabla15[[#This Row],[Tipología de coste]]=\"\"),\"\",SUMIFS('RELACIÓN DE GASTOS'!$R$22:$R$164,'RELACIÓN DE GASTOS'!$G$22:$G$164,C159,'RELACIÓN DE GASTOS'!$E$22:$E$164,B159))","v":""},{"$f":"IF(OR(Tabla15[[#This Row],[Código de actuación]]=\"\",Tabla15[[#This Row],[Tipología de coste]]=\"\"),\"\",IF(AND(C159='Actuaciones-gastos'!$A$24,ISERROR(SEARCH(\"P16\", B159))=FALSE),SUM(_xlfn._xlws.FILTER('ACTUACIONES TIPO 16'!$I$19:$I$35,'ACTUACIONES TIPO 16'!$B$19:$B$35='TOTAL GASTOS'!B159,\"\")),(0.9*D159)))","v":""},{"$nulls":11},{"$f":"'RELACIÓN DE GASTOS'!E165&\"(\"&'RELACIÓN DE GASTOS'!G165","v":"("}]
[null,"",{"$f":"IF(AND(Tabla15[[#This Row],[Código de actuación]]=\"Ha intoducido una tipología de gasto sin código de actuación asociado en la hoja de RELACIÓN DE GASTOS\",LEN(S160)>10),MID(S160,2,10000),IF(AND(Tabla15[[#This Row],[Código de actuación]]<>\"\",LEN(S160)<38),\"Ha introducido un número de actuación sin tipología asociada en la hoja RELACIÓN DE GASTOS\",MID(S160,37,10000)))","v":""},{"$f":"IF(OR(Tabla15[[#This Row],[Código de actuación]]=\"\",Tabla15[[#This Row],[Tipología de coste]]=\"\"),\"\",SUMIFS('RELACIÓN DE GASTOS'!$R$22:$R$164,'RELACIÓN DE GASTOS'!$G$22:$G$164,C160,'RELACIÓN DE GASTOS'!$E$22:$E$164,B160))","v":""},{"$f":"IF(OR(Tabla15[[#This Row],[Código de actuación]]=\"\",Tabla15[[#This Row],[Tipología de coste]]=\"\"),\"\",IF(AND(C160='Actuaciones-gastos'!$A$24,ISERROR(SEARCH(\"P16\", B160))=FALSE),SUM(_xlfn._xlws.FILTER('ACTUACIONES TIPO 16'!$I$19:$I$35,'ACTUACIONES TIPO 16'!$B$19:$B$35='TOTAL GASTOS'!B160,\"\")),(0.9*D160)))","v":""},{"$nulls":11},{"$f":"'RELACIÓN DE GASTOS'!E166&\"(\"&'RELACIÓN DE GASTOS'!G166","v":"("}]
[null,"",{"$f":"IF(AND(Tabla15[[#This Row],[Código de actuación]]=\"Ha intoducido una tipología de gasto sin código de actuación asociado en la hoja de RELACIÓN DE GASTOS\",LEN(S161)>10),MID(S161,2,10000),IF(AND(Tabla15[[#This Row],[Código de actuación]]<>\"\",LEN(S161)<38),\"Ha introducido un número de actuación sin tipología asociada en la hoja RELACIÓN DE GASTOS\",MID(S161,37,10000)))","v":""},{"$f":"IF(OR(Tabla15[[#This Row],[Código de actuación]]=\"\",Tabla15[[#This Row],[Tipología de coste]]=\"\"),\"\",SUMIFS('RELACIÓN DE GASTOS'!$R$22:$R$164,'RELACIÓN DE GASTOS'!$G$22:$G$164,C161,'RELACIÓN DE GASTOS'!$E$22:$E$164,B161))","v":""},{"$f":"IF(OR(Tabla15[[#This Row],[Código de actuación]]=\"\",Tabla15[[#This Row],[Tipología de coste]]=\"\"),\"\",IF(AND(C161='Actuaciones-gastos'!$A$24,ISERROR(SEARCH(\"P16\", B161))=FALSE),SUM(_xlfn._xlws.FILTER('ACTUACIONES TIPO 16'!$I$19:$I$35,'ACTUACIONES TIPO 16'!$B$19:$B$35='TOTAL GASTOS'!B161,\"\")),(0.9*D161)))","v":""},{"$nulls":11},{"$f":"'RELACIÓN DE GASTOS'!E167&\"(\"&'RELACIÓN DE GASTOS'!G167","v":"("}]
[null,"",{"$f":"IF(AND(Tabla15[[#This Row],[Código de actuación]]=\"Ha intoducido una tipología de gasto sin código de actuación asociado en la hoja de RELACIÓN DE GASTOS\",LEN(S162)>10),MID(S162,2,10000),IF(AND(Tabla15[[#This Row],[Código de actuación]]<>\"\",LEN(S162)<38),\"Ha introducido un número de actuación sin tipología asociada en la hoja RELACIÓN DE GASTOS\",MID(S162,37,10000)))","v":""},{"$f":"IF(OR(Tabla15[[#This Row],[Código de actuación]]=\"\",Tabla15[[#This Row],[Tipología de coste]]=\"\"),\"\",SUMIFS('RELACIÓN DE GASTOS'!$R$22:$R$164,'RELACIÓN DE GASTOS'!$G$22:$G$164,C162,'RELACIÓN DE GASTOS'!$E$22:$E$164,B162))","v":""},{"$f":"IF(OR(Tabla15[[#This Row],[Código de actuación]]=\"\",Tabla15[[#This Row],[Tipología de coste]]=\"\"),\"\",IF(AND(C162='Actuaciones-gastos'!$A$24,ISERROR(SEARCH(\"P16\", B162))=FALSE),SUM(_xlfn._xlws.FILTER('ACTUACIONES TIPO 16'!$I$19:$I$35,'ACTUACIONES TIPO 16'!$B$19:$B$35='TOTAL GASTOS'!B162,\"\")),(0.9*D162)))","v":""},{"$nulls":11},{"$f":"'RELACIÓN DE GASTOS'!E168&\"(\"&'RELACIÓN DE GASTOS'!G168","v":"("}]
[null,"",{"$f":"IF(AND(Tabla15[[#This Row],[Código de actuación]]=\"Ha intoducido una tipología de gasto sin código de actuación asociado en la hoja de RELACIÓN DE GASTOS\",LEN(S163)>10),MID(S163,2,10000),IF(AND(Tabla15[[#This Row],[Código de actuación]]<>\"\",LEN(S163)<38),\"Ha introducido un número de actuación sin tipología asociada en la hoja RELACIÓN DE GASTOS\",MID(S163,37,10000)))","v":""},{"$f":"IF(OR(Tabla15[[#This Row],[Código de actuación]]=\"\",Tabla15[[#This Row],[Tipología de coste]]=\"\"),\"\",SUMIFS('RELACIÓN DE GASTOS'!$R$22:$R$164,'RELACIÓN DE GASTOS'!$G$22:$G$164,C163,'RELACIÓN DE GASTOS'!$E$22:$E$164,B163))","v":""},{"$f":"IF(OR(Tabla15[[#This Row],[Código de actuación]]=\"\",Tabla15[[#This Row],[Tipología de coste]]=\"\"),\"\",IF(AND(C163='Actuaciones-gastos'!$A$24,ISERROR(SEARCH(\"P16\", B163))=FALSE),SUM(_xlfn._xlws.FILTER('ACTUACIONES TIPO 16'!$I$19:$I$35,'ACTUACIONES TIPO 16'!$B$19:$B$35='TOTAL GASTOS'!B163,\"\")),(0.9*D163)))","v":""},{"$nulls":11},{"$f":"'RELACIÓN DE GASTOS'!E169&\"(\"&'RELACIÓN DE GASTOS'!G169","v":"("}]
[null,"",{"$f":"IF(AND(Tabla15[[#This Row],[Código de actuación]]=\"Ha intoducido una tipología de gasto sin código de actuación asociado en la hoja de RELACIÓN DE GASTOS\",LEN(S164)>10),MID(S164,2,10000),IF(AND(Tabla15[[#This Row],[Código de actuación]]<>\"\",LEN(S164)<38),\"Ha introducido un número de actuación sin tipología asociada en la hoja RELACIÓN DE GASTOS\",MID(S164,37,10000)))","v":""},{"$f":"IF(OR(Tabla15[[#This Row],[Código de actuación]]=\"\",Tabla15[[#This Row],[Tipología de coste]]=\"\"),\"\",SUMIFS('RELACIÓN DE GASTOS'!$R$22:$R$164,'RELACIÓN DE GASTOS'!$G$22:$G$164,C164,'RELACIÓN DE GASTOS'!$E$22:$E$164,B164))","v":""},{"$f":"IF(OR(Tabla15[[#This Row],[Código de actuación]]=\"\",Tabla15[[#This Row],[Tipología de coste]]=\"\"),\"\",IF(AND(C164='Actuaciones-gastos'!$A$24,ISERROR(SEARCH(\"P16\", B164))=FALSE),SUM(_xlfn._xlws.FILTER('ACTUACIONES TIPO 16'!$I$19:$I$35,'ACTUACIONES TIPO 16'!$B$19:$B$35='TOTAL GASTOS'!B164,\"\")),(0.9*D164)))","v":""},{"$nulls":11},{"$f":"'RELACIÓN DE GASTOS'!E170&\"(\"&'RELACIÓN DE GASTOS'!G170","v":"("}]
[null,"",{"$f":"IF(AND(Tabla15[[#This Row],[Código de actuación]]=\"Ha intoducido una tipología de gasto sin código de actuación asociado en la hoja de RELACIÓN DE GASTOS\",LEN(S165)>10),MID(S165,2,10000),IF(AND(Tabla15[[#This Row],[Código de actuación]]<>\"\",LEN(S165)<38),\"Ha introducido un número de actuación sin tipología asociada en la hoja RELACIÓN DE GASTOS\",MID(S165,37,10000)))","v":""},{"$f":"IF(OR(Tabla15[[#This Row],[Código de actuación]]=\"\",Tabla15[[#This Row],[Tipología de coste]]=\"\"),\"\",SUMIFS('RELACIÓN DE GASTOS'!$R$22:$R$164,'RELACIÓN DE GASTOS'!$G$22:$G$164,C165,'RELACIÓN DE GASTOS'!$E$22:$E$164,B165))","v":""},{"$f":"IF(OR(Tabla15[[#This Row],[Código de actuación]]=\"\",Tabla15[[#This Row],[Tipología de coste]]=\"\"),\"\",IF(AND(C165='Actuaciones-gastos'!$A$24,ISERROR(SEARCH(\"P16\", B165))=FALSE),SUM(_xlfn._xlws.FILTER('ACTUACIONES TIPO 16'!$I$19:$I$35,'ACTUACIONES TIPO 16'!$B$19:$B$35='TOTAL GASTOS'!B165,\"\")),(0.9*D165)))","v":""},{"$nulls":11},{"$f":"'RELACIÓN DE GASTOS'!E171&\"(\"&'RELACIÓN DE GASTOS'!G171","v":"("}]
[null,"",{"$f":"IF(AND(Tabla15[[#This Row],[Código de actuación]]=\"Ha intoducido una tipología de gasto sin código de actuación asociado en la hoja de RELACIÓN DE GASTOS\",LEN(S166)>10),MID(S166,2,10000),IF(AND(Tabla15[[#This Row],[Código de actuación]]<>\"\",LEN(S166)<38),\"Ha introducido un número de actuación sin tipología asociada en la hoja RELACIÓN DE GASTOS\",MID(S166,37,10000)))","v":""},{"$f":"IF(OR(Tabla15[[#This Row],[Código de actuación]]=\"\",Tabla15[[#This Row],[Tipología de coste]]=\"\"),\"\",SUMIFS('RELACIÓN DE GASTOS'!$R$22:$R$164,'RELACIÓN DE GASTOS'!$G$22:$G$164,C166,'RELACIÓN DE GASTOS'!$E$22:$E$164,B166))","v":""},{"$f":"IF(OR(Tabla15[[#This Row],[Código de actuación]]=\"\",Tabla15[[#This Row],[Tipología de coste]]=\"\"),\"\",IF(AND(C166='Actuaciones-gastos'!$A$24,ISERROR(SEARCH(\"P16\", B166))=FALSE),SUM(_xlfn._xlws.FILTER('ACTUACIONES TIPO 16'!$I$19:$I$35,'ACTUACIONES TIPO 16'!$B$19:$B$35='TOTAL GASTOS'!B166,\"\")),(0.9*D166)))","v":""},{"$nulls":11},{"$f":"'RELACIÓN DE GASTOS'!E172&\"(\"&'RELACIÓN DE GASTOS'!G172","v":"("}]
[null,"",{"$f":"IF(AND(Tabla15[[#This Row],[Código de actuación]]=\"Ha intoducido una tipología de gasto sin código de actuación asociado en la hoja de RELACIÓN DE GASTOS\",LEN(S167)>10),MID(S167,2,10000),IF(AND(Tabla15[[#This Row],[Código de actuación]]<>\"\",LEN(S167)<38),\"Ha introducido un número de actuación sin tipología asociada en la hoja RELACIÓN DE GASTOS\",MID(S167,37,10000)))","v":""},{"$f":"IF(OR(Tabla15[[#This Row],[Código de actuación]]=\"\",Tabla15[[#This Row],[Tipología de coste]]=\"\"),\"\",SUMIFS('RELACIÓN DE GASTOS'!$R$22:$R$164,'RELACIÓN DE GASTOS'!$G$22:$G$164,C167,'RELACIÓN DE GASTOS'!$E$22:$E$164,B167))","v":""},{"$f":"IF(OR(Tabla15[[#This Row],[Código de actuación]]=\"\",Tabla15[[#This Row],[Tipología de coste]]=\"\"),\"\",IF(AND(C167='Actuaciones-gastos'!$A$24,ISERROR(SEARCH(\"P16\", B167))=FALSE),SUM(_xlfn._xlws.FILTER('ACTUACIONES TIPO 16'!$I$19:$I$35,'ACTUACIONES TIPO 16'!$B$19:$B$35='TOTAL GASTOS'!B167,\"\")),(0.9*D167)))","v":""},{"$nulls":11},{"$f":"'RELACIÓN DE GASTOS'!E173&\"(\"&'RELACIÓN DE GASTOS'!G173","v":"("}]
[null,"",{"$f":"IF(AND(Tabla15[[#This Row],[Código de actuación]]=\"Ha intoducido una tipología de gasto sin código de actuación asociado en la hoja de RELACIÓN DE GASTOS\",LEN(S168)>10),MID(S168,2,10000),IF(AND(Tabla15[[#This Row],[Código de actuación]]<>\"\",LEN(S168)<38),\"Ha introducido un número de actuación sin tipología asociada en la hoja RELACIÓN DE GASTOS\",MID(S168,37,10000)))","v":""},{"$f":"IF(OR(Tabla15[[#This Row],[Código de actuación]]=\"\",Tabla15[[#This Row],[Tipología de coste]]=\"\"),\"\",SUMIFS('RELACIÓN DE GASTOS'!$R$22:$R$164,'RELACIÓN DE GASTOS'!$G$22:$G$164,C168,'RELACIÓN DE GASTOS'!$E$22:$E$164,B168))","v":""},{"$f":"IF(OR(Tabla15[[#This Row],[Código de actuación]]=\"\",Tabla15[[#This Row],[Tipología de coste]]=\"\"),\"\",IF(AND(C168='Actuaciones-gastos'!$A$24,ISERROR(SEARCH(\"P16\", B168))=FALSE),SUM(_xlfn._xlws.FILTER('ACTUACIONES TIPO 16'!$I$19:$I$35,'ACTUACIONES TIPO 16'!$B$19:$B$35='TOTAL GASTOS'!B168,\"\")),(0.9*D168)))","v":""},{"$nulls":11},{"$f":"'RELACIÓN DE GASTOS'!E174&\"(\"&'RELACIÓN DE GASTOS'!G174","v":"("}]
[null,"",{"$f":"IF(AND(Tabla15[[#This Row],[Código de actuación]]=\"Ha intoducido una tipología de gasto sin código de actuación asociado en la hoja de RELACIÓN DE GASTOS\",LEN(S169)>10),MID(S169,2,10000),IF(AND(Tabla15[[#This Row],[Código de actuación]]<>\"\",LEN(S169)<38),\"Ha introducido un número de actuación sin tipología asociada en la hoja RELACIÓN DE GASTOS\",MID(S169,37,10000)))","v":""},{"$f":"IF(OR(Tabla15[[#This Row],[Código de actuación]]=\"\",Tabla15[[#This Row],[Tipología de coste]]=\"\"),\"\",SUMIFS('RELACIÓN DE GASTOS'!$R$22:$R$164,'RELACIÓN DE GASTOS'!$G$22:$G$164,C169,'RELACIÓN DE GASTOS'!$E$22:$E$164,B169))","v":""},{"$f":"IF(OR(Tabla15[[#This Row],[Código de actuación]]=\"\",Tabla15[[#This Row],[Tipología de coste]]=\"\"),\"\",IF(AND(C169='Actuaciones-gastos'!$A$24,ISERROR(SEARCH(\"P16\", B169))=FALSE),SUM(_xlfn._xlws.FILTER('ACTUACIONES TIPO 16'!$I$19:$I$35,'ACTUACIONES TIPO 16'!$B$19:$B$35='TOTAL GASTOS'!B169,\"\")),(0.9*D169)))","v":""},{"$nulls":11},{"$f":"'RELACIÓN DE GASTOS'!E175&\"(\"&'RELACIÓN DE GASTOS'!G175","v":"("}]
[null,"",{"$f":"IF(AND(Tabla15[[#This Row],[Código de actuación]]=\"Ha intoducido una tipología de gasto sin código de actuación asociado en la hoja de RELACIÓN DE GASTOS\",LEN(S170)>10),MID(S170,2,10000),IF(AND(Tabla15[[#This Row],[Código de actuación]]<>\"\",LEN(S170)<38),\"Ha introducido un número de actuación sin tipología asociada en la hoja RELACIÓN DE GASTOS\",MID(S170,37,10000)))","v":""},{"$f":"IF(OR(Tabla15[[#This Row],[Código de actuación]]=\"\",Tabla15[[#This Row],[Tipología de coste]]=\"\"),\"\",SUMIFS('RELACIÓN DE GASTOS'!$R$22:$R$164,'RELACIÓN DE GASTOS'!$G$22:$G$164,C170,'RELACIÓN DE GASTOS'!$E$22:$E$164,B170))","v":""},{"$f":"IF(OR(Tabla15[[#This Row],[Código de actuación]]=\"\",Tabla15[[#This Row],[Tipología de coste]]=\"\"),\"\",IF(AND(C170='Actuaciones-gastos'!$A$24,ISERROR(SEARCH(\"P16\", B170))=FALSE),SUM(_xlfn._xlws.FILTER('ACTUACIONES TIPO 16'!$I$19:$I$35,'ACTUACIONES TIPO 16'!$B$19:$B$35='TOTAL GASTOS'!B170,\"\")),(0.9*D170)))","v":""},{"$nulls":11},{"$f":"'RELACIÓN DE GASTOS'!E176&\"(\"&'RELACIÓN DE GASTOS'!G176","v":"("}]
[null,"",{"$f":"IF(AND(Tabla15[[#This Row],[Código de actuación]]=\"Ha intoducido una tipología de gasto sin código de actuación asociado en la hoja de RELACIÓN DE GASTOS\",LEN(S171)>10),MID(S171,2,10000),IF(AND(Tabla15[[#This Row],[Código de actuación]]<>\"\",LEN(S171)<38),\"Ha introducido un número de actuación sin tipología asociada en la hoja RELACIÓN DE GASTOS\",MID(S171,37,10000)))","v":""},{"$f":"IF(OR(Tabla15[[#This Row],[Código de actuación]]=\"\",Tabla15[[#This Row],[Tipología de coste]]=\"\"),\"\",SUMIFS('RELACIÓN DE GASTOS'!$R$22:$R$164,'RELACIÓN DE GASTOS'!$G$22:$G$164,C171,'RELACIÓN DE GASTOS'!$E$22:$E$164,B171))","v":""},{"$f":"IF(OR(Tabla15[[#This Row],[Código de actuación]]=\"\",Tabla15[[#This Row],[Tipología de coste]]=\"\"),\"\",IF(AND(C171='Actuaciones-gastos'!$A$24,ISERROR(SEARCH(\"P16\", B171))=FALSE),SUM(_xlfn._xlws.FILTER('ACTUACIONES TIPO 16'!$I$19:$I$35,'ACTUACIONES TIPO 16'!$B$19:$B$35='TOTAL GASTOS'!B171,\"\")),(0.9*D171)))","v":""},{"$nulls":11},{"$f":"'RELACIÓN DE GASTOS'!E177&\"(\"&'RELACIÓN DE GASTOS'!G177","v":"("}]
[null,"",{"$f":"IF(AND(Tabla15[[#This Row],[Código de actuación]]=\"Ha intoducido una tipología de gasto sin código de actuación asociado en la hoja de RELACIÓN DE GASTOS\",LEN(S172)>10),MID(S172,2,10000),IF(AND(Tabla15[[#This Row],[Código de actuación]]<>\"\",LEN(S172)<38),\"Ha introducido un número de actuación sin tipología asociada en la hoja RELACIÓN DE GASTOS\",MID(S172,37,10000)))","v":""},{"$f":"IF(OR(Tabla15[[#This Row],[Código de actuación]]=\"\",Tabla15[[#This Row],[Tipología de coste]]=\"\"),\"\",SUMIFS('RELACIÓN DE GASTOS'!$R$22:$R$164,'RELACIÓN DE GASTOS'!$G$22:$G$164,C172,'RELACIÓN DE GASTOS'!$E$22:$E$164,B172))","v":""},{"$f":"IF(OR(Tabla15[[#This Row],[Código de actuación]]=\"\",Tabla15[[#This Row],[Tipología de coste]]=\"\"),\"\",IF(AND(C172='Actuaciones-gastos'!$A$24,ISERROR(SEARCH(\"P16\", B172))=FALSE),SUM(_xlfn._xlws.FILTER('ACTUACIONES TIPO 16'!$I$19:$I$35,'ACTUACIONES TIPO 16'!$B$19:$B$35='TOTAL GASTOS'!B172,\"\")),(0.9*D172)))","v":""},{"$nulls":11},{"$f":"'RELACIÓN DE GASTOS'!E178&\"(\"&'RELACIÓN DE GASTOS'!G178","v":"("}]
[null,"",{"$f":"IF(AND(Tabla15[[#This Row],[Código de actuación]]=\"Ha intoducido una tipología de gasto sin código de actuación asociado en la hoja de RELACIÓN DE GASTOS\",LEN(S173)>10),MID(S173,2,10000),IF(AND(Tabla15[[#This Row],[Código de actuación]]<>\"\",LEN(S173)<38),\"Ha introducido un número de actuación sin tipología asociada en la hoja RELACIÓN DE GASTOS\",MID(S173,37,10000)))","v":""},{"$f":"IF(OR(Tabla15[[#This Row],[Código de actuación]]=\"\",Tabla15[[#This Row],[Tipología de coste]]=\"\"),\"\",SUMIFS('RELACIÓN DE GASTOS'!$R$22:$R$164,'RELACIÓN DE GASTOS'!$G$22:$G$164,C173,'RELACIÓN DE GASTOS'!$E$22:$E$164,B173))","v":""},{"$f":"IF(OR(Tabla15[[#This Row],[Código de actuación]]=\"\",Tabla15[[#This Row],[Tipología de coste]]=\"\"),\"\",IF(AND(C173='Actuaciones-gastos'!$A$24,ISERROR(SEARCH(\"P16\", B173))=FALSE),SUM(_xlfn._xlws.FILTER('ACTUACIONES TIPO 16'!$I$19:$I$35,'ACTUACIONES TIPO 16'!$B$19:$B$35='TOTAL GASTOS'!B173,\"\")),(0.9*D173)))","v":""},{"$nulls":11},{"$f":"'RELACIÓN DE GASTOS'!E179&\"(\"&'RELACIÓN DE GASTOS'!G179","v":"("}]
[null,"",{"$f":"IF(AND(Tabla15[[#This Row],[Código de actuación]]=\"Ha intoducido una tipología de gasto sin código de actuación asociado en la hoja de RELACIÓN DE GASTOS\",LEN(S174)>10),MID(S174,2,10000),IF(AND(Tabla15[[#This Row],[Código de actuación]]<>\"\",LEN(S174)<38),\"Ha introducido un número de actuación sin tipología asociada en la hoja RELACIÓN DE GASTOS\",MID(S174,37,10000)))","v":""},{"$f":"IF(OR(Tabla15[[#This Row],[Código de actuación]]=\"\",Tabla15[[#This Row],[Tipología de coste]]=\"\"),\"\",SUMIFS('RELACIÓN DE GASTOS'!$R$22:$R$164,'RELACIÓN DE GASTOS'!$G$22:$G$164,C174,'RELACIÓN DE GASTOS'!$E$22:$E$164,B174))","v":""},{"$f":"IF(OR(Tabla15[[#This Row],[Código de actuación]]=\"\",Tabla15[[#This Row],[Tipología de coste]]=\"\"),\"\",IF(AND(C174='Actuaciones-gastos'!$A$24,ISERROR(SEARCH(\"P16\", B174))=FALSE),SUM(_xlfn._xlws.FILTER('ACTUACIONES TIPO 16'!$I$19:$I$35,'ACTUACIONES TIPO 16'!$B$19:$B$35='TOTAL GASTOS'!B174,\"\")),(0.9*D174)))","v":""},{"$nulls":11},{"$f":"'RELACIÓN DE GASTOS'!E180&\"(\"&'RELACIÓN DE GASTOS'!G180","v":"("}]
[null,"",{"$f":"IF(AND(Tabla15[[#This Row],[Código de actuación]]=\"Ha intoducido una tipología de gasto sin código de actuación asociado en la hoja de RELACIÓN DE GASTOS\",LEN(S175)>10),MID(S175,2,10000),IF(AND(Tabla15[[#This Row],[Código de actuación]]<>\"\",LEN(S175)<38),\"Ha introducido un número de actuación sin tipología asociada en la hoja RELACIÓN DE GASTOS\",MID(S175,37,10000)))","v":""},{"$f":"IF(OR(Tabla15[[#This Row],[Código de actuación]]=\"\",Tabla15[[#This Row],[Tipología de coste]]=\"\"),\"\",SUMIFS('RELACIÓN DE GASTOS'!$R$22:$R$164,'RELACIÓN DE GASTOS'!$G$22:$G$164,C175,'RELACIÓN DE GASTOS'!$E$22:$E$164,B175))","v":""},{"$f":"IF(OR(Tabla15[[#This Row],[Código de actuación]]=\"\",Tabla15[[#This Row],[Tipología de coste]]=\"\"),\"\",IF(AND(C175='Actuaciones-gastos'!$A$24,ISERROR(SEARCH(\"P16\", B175))=FALSE),SUM(_xlfn._xlws.FILTER('ACTUACIONES TIPO 16'!$I$19:$I$35,'ACTUACIONES TIPO 16'!$B$19:$B$35='TOTAL GASTOS'!B175,\"\")),(0.9*D175)))","v":""},{"$nulls":11},{"$f":"'RELACIÓN DE GASTOS'!E181&\"(\"&'RELACIÓN DE GASTOS'!G181","v":"("}]
[null,"",{"$f":"IF(AND(Tabla15[[#This Row],[Código de actuación]]=\"Ha intoducido una tipología de gasto sin código de actuación asociado en la hoja de RELACIÓN DE GASTOS\",LEN(S176)>10),MID(S176,2,10000),IF(AND(Tabla15[[#This Row],[Código de actuación]]<>\"\",LEN(S176)<38),\"Ha introducido un número de actuación sin tipología asociada en la hoja RELACIÓN DE GASTOS\",MID(S176,37,10000)))","v":""},{"$f":"IF(OR(Tabla15[[#This Row],[Código de actuación]]=\"\",Tabla15[[#This Row],[Tipología de coste]]=\"\"),\"\",SUMIFS('RELACIÓN DE GASTOS'!$R$22:$R$164,'RELACIÓN DE GASTOS'!$G$22:$G$164,C176,'RELACIÓN DE GASTOS'!$E$22:$E$164,B176))","v":""},{"$f":"IF(OR(Tabla15[[#This Row],[Código de actuación]]=\"\",Tabla15[[#This Row],[Tipología de coste]]=\"\"),\"\",IF(AND(C176='Actuaciones-gastos'!$A$24,ISERROR(SEARCH(\"P16\", B176))=FALSE),SUM(_xlfn._xlws.FILTER('ACTUACIONES TIPO 16'!$I$19:$I$35,'ACTUACIONES TIPO 16'!$B$19:$B$35='TOTAL GASTOS'!B176,\"\")),(0.9*D176)))","v":""},{"$nulls":11},{"$f":"'RELACIÓN DE GASTOS'!E182&\"(\"&'RELACIÓN DE GASTOS'!G182","v":"("}]
[null,"",{"$f":"IF(AND(Tabla15[[#This Row],[Código de actuación]]=\"Ha intoducido una tipología de gasto sin código de actuación asociado en la hoja de RELACIÓN DE GASTOS\",LEN(S177)>10),MID(S177,2,10000),IF(AND(Tabla15[[#This Row],[Código de actuación]]<>\"\",LEN(S177)<38),\"Ha introducido un número de actuación sin tipología asociada en la hoja RELACIÓN DE GASTOS\",MID(S177,37,10000)))","v":""},{"$f":"IF(OR(Tabla15[[#This Row],[Código de actuación]]=\"\",Tabla15[[#This Row],[Tipología de coste]]=\"\"),\"\",SUMIFS('RELACIÓN DE GASTOS'!$R$22:$R$164,'RELACIÓN DE GASTOS'!$G$22:$G$164,C177,'RELACIÓN DE GASTOS'!$E$22:$E$164,B177))","v":""},{"$f":"IF(OR(Tabla15[[#This Row],[Código de actuación]]=\"\",Tabla15[[#This Row],[Tipología de coste]]=\"\"),\"\",IF(AND(C177='Actuaciones-gastos'!$A$24,ISERROR(SEARCH(\"P16\", B177))=FALSE),SUM(_xlfn._xlws.FILTER('ACTUACIONES TIPO 16'!$I$19:$I$35,'ACTUACIONES TIPO 16'!$B$19:$B$35='TOTAL GASTOS'!B177,\"\")),(0.9*D177)))","v":""},{"$nulls":11},{"$f":"'RELACIÓN DE GASTOS'!E183&\"(\"&'RELACIÓN DE GASTOS'!G183","v":"("}]
[null,"",{"$f":"IF(AND(Tabla15[[#This Row],[Código de actuación]]=\"Ha intoducido una tipología de gasto sin código de actuación asociado en la hoja de RELACIÓN DE GASTOS\",LEN(S178)>10),MID(S178,2,10000),IF(AND(Tabla15[[#This Row],[Código de actuación]]<>\"\",LEN(S178)<38),\"Ha introducido un número de actuación sin tipología asociada en la hoja RELACIÓN DE GASTOS\",MID(S178,37,10000)))","v":""},{"$f":"IF(OR(Tabla15[[#This Row],[Código de actuación]]=\"\",Tabla15[[#This Row],[Tipología de coste]]=\"\"),\"\",SUMIFS('RELACIÓN DE GASTOS'!$R$22:$R$164,'RELACIÓN DE GASTOS'!$G$22:$G$164,C178,'RELACIÓN DE GASTOS'!$E$22:$E$164,B178))","v":""},{"$f":"IF(OR(Tabla15[[#This Row],[Código de actuación]]=\"\",Tabla15[[#This Row],[Tipología de coste]]=\"\"),\"\",IF(AND(C178='Actuaciones-gastos'!$A$24,ISERROR(SEARCH(\"P16\", B178))=FALSE),SUM(_xlfn._xlws.FILTER('ACTUACIONES TIPO 16'!$I$19:$I$35,'ACTUACIONES TIPO 16'!$B$19:$B$35='TOTAL GASTOS'!B178,\"\")),(0.9*D178)))","v":""},{"$nulls":11},{"$f":"'RELACIÓN DE GASTOS'!E184&\"(\"&'RELACIÓN DE GASTOS'!G184","v":"("}]
[null,"",{"$f":"IF(AND(Tabla15[[#This Row],[Código de actuación]]=\"Ha intoducido una tipología de gasto sin código de actuación asociado en la hoja de RELACIÓN DE GASTOS\",LEN(S179)>10),MID(S179,2,10000),IF(AND(Tabla15[[#This Row],[Código de actuación]]<>\"\",LEN(S179)<38),\"Ha introducido un número de actuación sin tipología asociada en la hoja RELACIÓN DE GASTOS\",MID(S179,37,10000)))","v":""},{"$f":"IF(OR(Tabla15[[#This Row],[Código de actuación]]=\"\",Tabla15[[#This Row],[Tipología de coste]]=\"\"),\"\",SUMIFS('RELACIÓN DE GASTOS'!$R$22:$R$164,'RELACIÓN DE GASTOS'!$G$22:$G$164,C179,'RELACIÓN DE GASTOS'!$E$22:$E$164,B179))","v":""},{"$f":"IF(OR(Tabla15[[#This Row],[Código de actuación]]=\"\",Tabla15[[#This Row],[Tipología de coste]]=\"\"),\"\",IF(AND(C179='Actuaciones-gastos'!$A$24,ISERROR(SEARCH(\"P16\", B179))=FALSE),SUM(_xlfn._xlws.FILTER('ACTUACIONES TIPO 16'!$I$19:$I$35,'ACTUACIONES TIPO 16'!$B$19:$B$35='TOTAL GASTOS'!B179,\"\")),(0.9*D179)))","v":""},{"$nulls":11},{"$f":"'RELACIÓN DE GASTOS'!E185&\"(\"&'RELACIÓN DE GASTOS'!G185","v":"("}]
[null,"",{"$f":"IF(AND(Tabla15[[#This Row],[Código de actuación]]=\"Ha intoducido una tipología de gasto sin código de actuación asociado en la hoja de RELACIÓN DE GASTOS\",LEN(S180)>10),MID(S180,2,10000),IF(AND(Tabla15[[#This Row],[Código de actuación]]<>\"\",LEN(S180)<38),\"Ha introducido un número de actuación sin tipología asociada en la hoja RELACIÓN DE GASTOS\",MID(S180,37,10000)))","v":""},{"$f":"IF(OR(Tabla15[[#This Row],[Código de actuación]]=\"\",Tabla15[[#This Row],[Tipología de coste]]=\"\"),\"\",SUMIFS('RELACIÓN DE GASTOS'!$R$22:$R$164,'RELACIÓN DE GASTOS'!$G$22:$G$164,C180,'RELACIÓN DE GASTOS'!$E$22:$E$164,B180))","v":""},{"$f":"IF(OR(Tabla15[[#This Row],[Código de actuación]]=\"\",Tabla15[[#This Row],[Tipología de coste]]=\"\"),\"\",IF(AND(C180='Actuaciones-gastos'!$A$24,ISERROR(SEARCH(\"P16\", B180))=FALSE),SUM(_xlfn._xlws.FILTER('ACTUACIONES TIPO 16'!$I$19:$I$35,'ACTUACIONES TIPO 16'!$B$19:$B$35='TOTAL GASTOS'!B180,\"\")),(0.9*D180)))","v":""},{"$nulls":11},{"$f":"'RELACIÓN DE GASTOS'!E186&\"(\"&'RELACIÓN DE GASTOS'!G186","v":"("}]
[{"$nulls":16},{"$f":"'RELACIÓN DE GASTOS'!E187&\"(\"&'RELACIÓN DE GASTOS'!G187","v":"("}]
[{"$nulls":16},{"$f":"'RELACIÓN DE GASTOS'!E188&\"(\"&'RELACIÓN DE GASTOS'!G188","v":"("}]
[{"$nulls":16},{"$f":"'RELACIÓN DE GASTOS'!E189&\"(\"&'RELACIÓN DE GASTOS'!G189","v":"("}]
[{"$nulls":16},{"$f":"'RELACIÓN DE GASTOS'!E190&\"(\"&'RELACIÓN DE GASTOS'!G190","v":"("}]
[{"$nulls":16},{"$f":"'RELACIÓN DE GASTOS'!E191&\"(\"&'RELACIÓN DE GASTOS'!G191","v":"("}]
[{"$nulls":16},{"$f":"'RELACIÓN DE GASTOS'!E192&\"(\"&'RELACIÓN DE GASTOS'!G192","v":"("}]
[{"$nulls":16},{"$f":"'RELACIÓN DE GASTOS'!E193&\"(\"&'RELACIÓN DE GASTOS'!G193","v":"("}]
[{"$nulls":16},{"$f":"'RELACIÓN DE GASTOS'!E194&\"(\"&'RELACIÓN DE GASTOS'!G194","v":"("}]
[{"$nulls":16},{"$f":"'RELACIÓN DE GASTOS'!E195&\"(\"&'RELACIÓN DE GASTOS'!G195","v":"("}]
[{"$nulls":16},{"$f":"'RELACIÓN DE GASTOS'!E196&\"(\"&'RELACIÓN DE GASTOS'!G196","v":"("}]
[{"$nulls":16},{"$f":"'RELACIÓN DE GASTOS'!E197&\"(\"&'RELACIÓN DE GASTOS'!G197","v":"("}]
[{"$nulls":16},{"$f":"'RELACIÓN DE GASTOS'!E198&\"(\"&'RELACIÓN DE GASTOS'!G198","v":"("}]
[{"$nulls":16},{"$f":"'RELACIÓN DE GASTOS'!E199&\"(\"&'RELACIÓN DE GASTOS'!G199","v":"("}]
[{"$nulls":16},{"$f":"'RELACIÓN DE GASTOS'!E200&\"(\"&'RELACIÓN DE GASTOS'!G200","v":"("}]
[{"$nulls":16},{"$f":"'RELACIÓN DE GASTOS'!E201&\"(\"&'RELACIÓN DE GASTOS'!G201","v":"("}]

{"sheet":"DESVIACIONES ECONÓMICAS","index":6,"n_rows":33,"n_cols":14,"rows_kept":33,"cut":false,"hidden":false,"merged":[[20,11,24,19],[13,11,19,19],[11,13,12,19],[11,11,12,12],[2,5,3,8],[11,1,12,1],[11,2,11,3],[11,4,11,5],[11,6,11,7],[11,8,12,8]]}
[]
[]
[]
[]
[]
[]
[null,"Desviaciones económicas"]
[]
[null,"CÓDIGO EXPEDIENTE",{"$f":"IF('Pantalla de control'!H30<>\"\",'Pantalla de control'!H30,\"\")","v":""}]
[]
[]
[null,"Código de actuación","Costes inicialmente presupuestados",null,"Costes finales ejecutados",null,"Desviación",null,"Describa la causa de la desviación",null,null,"¡¡¡ATENCIÓN!!!    ",null,"Información sobre las desviaciones económicas"]
[null,null,"Subvencionables","No subvencionables","Subvencionables","No subvencionables","Subvencionables","No subvencionables"]
[{"$nulls":6},{"$f":"IF(E14-C14=0,\"\",E14-C14)","v":""},{"$f":"IF(F14-D14=0,\"\",F14-D14)","v":""},null,null,null,"En el caso concreto de que se produzcan desviaciones económicas respecto a los costes inicialmente presupuestados, se debe indicar la cuantía exacta de dicha desviación (€) en términos de costes subvencionables y no subvencionables (Art. 35 de la Orden TMA/892/2021) y la causa que la produce. \nSi la variación económica se produce a la baja (por ejemplo, adjudicaciones por menor importe del licitado), la cuantía excedente se puede aprovechar para financiar costes elegibles de otra actuación incluida en el mismo expediente, siempre y cuando se respeten los límites máximos subvencionables para cada actuación que establece la convocatoria (en el caso de adquisición de vehículos, las cuantías máximas subvencionables por tipología de vehículos en el anexo I de la Orden TMA/892/2021; para el resto de las actuaciones subvencionables, hasta un 90% de los costes elegibles de la actuación). \nSi la variación económica se produce al alza (por ejemplo, revisiones de precios, modificaciones aprobadas, etc.), igualmente se deberá indicar la cuantía exacta de dicha desviación (€) en términos de costes subvencionables y no subvencionables y la causa que la produce."]
[{"$nulls":6},{"$f":"IF(E15-C15=0,\"\",E15-C15)","v":""},{"$f":"IF(F15-D15=0,\"\",F15-D15)","v":""}]
[{"$nulls":6},"",""]
[{"$nulls":6},"",""]
[{"$nulls":6},"",""]
[{"$nulls":6},"",""]
[{"$nulls":6},"",""]
[{"$nulls":6},"",""]
[{"$nulls":6},"",""]
[{"$nulls":6},"",""]
[{"$nulls":6},"",""]
[{"$nulls":6},"",""]
[{"$nulls":6},"",""]
[{"$nulls":6},"",""]
[{"$nulls":6},"",""]
[{"$nulls":6},"",""]
[{"$nulls":6},"",""]
[{"$nulls":6},"",""]
[{"$nulls":6},"",""]
[{"$nulls":6},"",""]

{"sheet":"Listados","index":7,"n_rows":217,"n_cols":8,"rows_kept":217,"cut":false,"hidden":true,"merged":[[24,0,24,1]]}
[]
[]
[null,"Tipología de actuaciones",null,null,"Procedimiento de adjudicación"]
[{"$nulls":4},"Otros"]
[null,"01. Actuaciones de implantación de la Zonas de Bajas Emisiones\t",null,null,"Contrato Menor"]
[null,"02. Actuaciones complementarias a una ZBE existente o de nueva implantación\t",null,null,"Procedimiento Abierto"]
[null,"03. Plataformas y carriles de priorización (o exclusividad) para transporte colectivo\t",null,null,"Procedimiento Abierto Simplificado"]
[null,"04. Plataformas y carriles reservados para bicicletas y/o vehículos de movilidad personal mediante nueva construcción o nuevos trazados\t",null,null,"Procedimiento Abierto Supersimplificado"]
[null,"05. Adecuación de vías y espacio urbano para bicicletas y/o vehículos de movilidad personal: señalización, pavimento diferenciado, elementos de separación, etc\t",null,null,"Procedimiento Negociado con Publicidad"]
[null,"06. Adecuación de espacios urbanos para la implementación de zonas e itinerarios peatonales y mejora de la accesibilidad\t",null,null,"Procedimiento Negociado Sin Publicidad"]
[null,"07. Actuaciones para calmar el tráfico rodado\t",null,null,"Procedimiento Restringido"]
[null,"08. Actuaciones de mejora de la accesibilidad (personas con movilidad reducida y colectivos especiales) del sistema de transporte público\t"]
[null,"09. Aparcamientos disuasorios de competencia municipal\t"]
[null,"10. Establecimiento de zonas de estacionamiento regulado no incluidas en una Zona de Bajas Emisiones\t"]
[null,"11. Actuaciones que mejoren la intermodalidad. Provisión de bicicletas u otros vehículos de última milla. Aparcamientos seguros de bicicletas y de vehículos de movilidad personal\t"]
[null,"12. Implantación de sistemas públicos de alquiler de bicicletas y otros vehículos de movilidad personal\t",null,null,"Tipo de contrato"]
[null,"13. Actuaciones para la mejora de la distribución urbana de mercancías\t",null,null,"Obra"]
[null,"14. Actuaciones de transporte ferroviario de competencia local de infraestructura o tecnológicas que incentiven su uso\t",null,null,"Servicio"]
[null,"15. Actuaciones de compra o renovación de material rodante ferroviario para servicios de competencia local\t",null,null,"Suministro"]
[null,"16. Adquisición de autobuses para flotas de transporte público y de vehículos pesados para servicios públicos de ámbito municipal propulsados con energías alternativas\t"]
[null,"17. Actuaciones complementarias a la adquisición de autobuses para transformación de flotas de transporte público de ámbito municipal propulsadas con energías alternativas\t"]
[null,"18. Actuaciones de digitalización de la actividad de los servicios públicos de transporte para la mejora del servicio\t",null,null,"Tipo de documento"]
[null,"19. Actuaciones de mejora de la gestión de las Administraciones\t",null,null,"Factura",null,"Contrato de obra","Certificación"]
[{"$nulls":4},"Certificación",null,"Contrato suministros","Certificación"]
[{"$nulls":6},"Contrato Servicios","Certificación"]
[{"$nulls":6},"Encargo a medio propio","Certificación"]
[null,"Tipología de Costes",{"$nulls":4},"Convenio","Factura"]
[{"$nulls":6},"Contrato menor","Factura"]
[null,"Contrataciones externas: gestión, ingeniería, implementación, seguimiento y obra civil.",{"$nulls":4},{"$f":"\"\"","v":""},{"$f":"\"\"","v":""}]
[null,"Contratos de compra, leasing, renting y adquisición de vehículos"]
[null,"Contratos de compra de equipos, incluyendo equipamiento tecnológico y equipos informáticos"]
[null,"Adquisición de licencias de software de carácter especializado"]
[null,"Contrataciones externas: consultoría dentro de una actuación"]
[null,"Contrataciones externas: asesoramiento legal, notaría, asesoramiento técnico o financiero, contabilidad o auditoría",null,null,"Fórmula de adjudicación"]
[{"$nulls":4},"Contrato de obra"]
[{"$nulls":4},"Contrato suministros"]
[{"$nulls":4},"Contrato Servicios"]
[null,"Nº Expediente BENEFICIARIOS","Municipio",null,"Encargo a medio propio"]
[null,"PRTRMU/21/00013","Rinconada (La)",null,"Convenio"]
[null,"PRTRMU/21/00014","Tortosa",null,"Contrato menor"]
[null,"PRTRMU/21/00015","Sant Cugat del Vallès",null,{"$f":"\"\"","v":""}]
[null,"PRTRMU/21/00020","Girona"]
[null,"PRTRMU/21/00021","Fuenlabrada",null,"Certificaciones"]
[null,"PRTRMU/21/00022","Ejido (El)",null,"Certificación parcial"]
[null,"PRTRMU/21/00024","Santa Coloma de Gramenet",null,"Certificación final"]
[null,"PRTRMU/21/00026","Cornellà de Llobregat",null,"Liquidación del contrato"]
[null,"PRTRMU/21/00028","Almería"]
[null,"PRTRMU/21/00029","Puerto Real"]
[null,"PRTRMU/21/00030","Hospitalet de Llobregat (L')"]
[null,"PRTRMU/21/00031","Alcalá de Henares",null,"Modo de pago"]
[null,"PRTRMU/21/00033","Parla",null,"Transferencia"]
[null,"PRTRMU/21/00037","Alcoy/Alcoi",null,"Cheque nominativo"]
[null,"PRTRMU/21/00038","Santander",null,"Otros"]
[null,"PRTRMU/21/00039","Reus"]
[null,"PRTRMU/21/00041","Mollet del Vallès"]
[null,"PRTRMU/21/00043","Málaga"]
[null,"PRTRMU/21/00045","Benalmádena"]
[null,"PRTRMU/21/00046","Loja"]
[null,"PRTRMU/21/00049","Utrera"]
[null,"PRTRMU/21/00050","Línea de la Concepción (La)"]
[null,"PRTRMU/21/00052","Irun"]
[null,"PRTRMU/21/00053","Asociación Municipios Barcelona"]
[null,"PRTRMU/21/00054","Ciudad Real"]
[null,"PRTRMU/21/00055","Vélez-Málaga"]
[null,"PRTRMU/21/00057","Rota"]
[null,"PRTRMU/21/00058","Pozuelo de Alarcón"]
[null,"PRTRMU/21/00060","Pinto"]
[null,"PRTRMU/21/00062","Vall d'Uixó (la)"]
[null,"PRTRMU/21/00063","Chiclana de la Frontera"]
[null,"PRTRMU/21/00064","Esplugues de Llobregat"]
[null,"PRTRMU/21/00065","Terrassa"]
[null,"PRTRMU/21/00066","Granada"]
[null,"PRTRMU/21/00067","Pamplona/Iruña"]
[null,"PRTRMU/21/00069","Rivas-Vaciamadrid"]
[null,"PRTRMU/21/00071","Alcorcón"]
[null,"PRTRMU/21/00073","Masnou (El)"]
[null,"PRTRMU/21/00074","Palma"]
[null,"PRTRMU/21/00075","Valladolid"]
[null,"PRTRMU/21/00079","Sant Joan Despí"]
[null,"PRTRMU/21/00080","Olot"]
[null,"PRTRMU/21/00081","Cáceres"]
[null,"PRTRMU/21/00082","Manresa"]
[null,"PRTRMU/21/00083","Gavà"]
[null,"PRTRMU/21/00085","Vendrell (El)"]
[null,"PRTRMU/21/00086","Mataró"]
[null,"PRTRMU/21/00087","Algeciras"]
[null,"PRTRMU/21/00089","Palma"]
[null,"PRTRMU/21/00090","Viladecans"]
[null,"PRTRMU/21/00091","Zamora"]
[null,"PRTRMU/21/00092","Logroño"]
[null,"PRTRMU/21/00093","Dos Hermanas"]
[null,"PRTRMU/21/00098","Níjar"]
[null,"PRTRMU/21/00101","Huelva"]
[null,"PRTRMU/21/00102","Santa Cruz de Tenerife"]
[null,"PRTRMU/21/00103","Tudela"]
[null,"PRTRMU/21/00106","Plasencia"]
[null,"PRTRMU/21/00107","Barcelona"]
[null,"PRTRMU/21/00114","Zaragoza"]
[null,"PRTRMU/21/00118","Prat de Llobregat (El)"]
[null,"PRTRMU/21/00120","Molina de Segura"]
[null,"PRTRMU/21/00121","Montilla"]
[null,"PRTRMU/21/00122","Pineda de Mar"]
[null,"PRTRMU/21/00123","Vigo"]
[null,"PRTRMU/21/00125","Salamanca"]
[null,"PRTRMU/21/00128","Bilbao"]
[null,"PRTRMU/21/00129","Madrid"]
[null,"PRTRMU/21/00131","Lugo"]
[null,"PRTRMU/21/00132","Vitoria-Gasteiz"]
[null,"PRTRMU/21/00134","Barberà del Vallès"]
[null,"PRTRMU/21/00135","Mancomunidad de la Comarca de Pamplona"]
[null,"PRTRMU/21/00138","Valdepeñas"]
[null,"PRTRMU/21/00139","Santiago de Compostela"]
[null,"PRTRMU/21/00140","Andújar"]
[null,"PRTRMU/21/00141","Boadilla del Monte"]
[null,"PRTRMU/21/00143","Donostia/San Sebastián"]
[null,"PRTRMU/21/00144","Torrejón de Ardoz"]
[null,"PRTRMU/21/00147","Sevilla"]
[null,"PRTRMU/21/00149","Guadalajara"]
[null,"PRTRMU/21/00150","Avilés"]
[null,"PRTRMU/21/00151","Torrevieja"]
[null,"PRTRMU/21/00156","Sant Boi de Llobregat"]
[null,"PRTRMU/21/00158","Cartagena"]
[null,"PRTRMU/21/00159","Arrecife"]
[null,"PRTRMU/21/00160","Jaén"]
[null,"PRTRMU/21/00162","Vilassar de Mar"]
[null,"PRTRMU/21/00163","Huesca"]
[null,"PRTRMU/21/00167","Castelló de la Plana"]
[null,"PRTRMU/21/00168","Segovia"]
[null,"PRTRMU/21/00174","Granollers"]
[null,"PRTRMU/21/00175","Tarragona"]
[null,"PRTRMU/21/00176","Mejorada del Campo"]
[null,"PRTRMU/21/00179","Albacete"]
[null,"PRTRMU/21/00182","Nerja"]
[null,"PRTRMU/21/00186","Rozas de Madrid (Las)"]
[null,"PRTRMU/21/00188","Castellar del Vallès"]
[null,"PRTRMU/21/00189","Murcia"]
[null,"PRTRMU/21/00190","Lleida"]
[null,"PRTRMU/21/00191","Ávila"]
[null,"PRTRMU/21/00197","Águilas"]
[null,"PRTRMU/21/00198","Eivissa"]
[null,"PRTRMU/21/00199","Eibar"]
[null,"PRTRMU/21/00200","Sant Feliu de Llobregat"]
[null,"PRTRMU/21/00201","Alcázar de San Juan"]
[null,"PRTRMU/21/00202","Getxo"]
[null,"PRTRMU/21/00204","Torremolinos"]
[null,"PRTRMU/21/00205","Sabadell"]
[null,"PRTRMU/21/00206","Ponferrada"]
[null,"PRTRMU/21/00207","Coruña (A)"]
[null,"PRTRMU/21/00208","Sant Adrià de Besòs"]
[null,"PRTRMU/21/00210","Soria"]
[null,"PRTRMU/21/00211","Fuengirola"]
[null,"PRTRMU/21/00212","Elche/Elx"]
[null,"PRTRMU/21/00213","Estepona"]
[null,"PRTRMU/21/00217","Lucena"]
[null,"PRTRMU/21/00218","Paterna"]
[null,"PRTRMU/21/00219","Torrent"]
[null,"PRTRMU/21/00225","Valladolid"]
[null,"PRTRMU/21/00226","Rubí"]
[null,"PRTRMU/21/00227","Torrelodones"]
[null,"PRTRMU/21/00229","Oviedo"]
[null,"PRTRMU/21/00231","Talavera de la Reina"]
[null,"PRTRMU/21/00233","Palencia"]
[null,"PRTRMU/21/00236","Alcobendas"]
[null,"PRTRMU/21/00239","Alicante/Alacant"]
[null,"PRTRMU/21/00243","Santurtzi"]
[null,"PRTRMU/21/00244","Alcalá de Guadaíra"]
[null,"PRTRMU/21/00245","Vilanova i la Geltrú"]
[null,"PRTRMU/21/00246","Teruel"]
[null,"PRTRMU/21/00248","Santa Lucía de Tirajana"]
[null,"PRTRMU/21/00249","Benidorm"]
[null,"PRTRMU/21/00252","Hernani"]
[null,"PRTRMU/21/00253","Badajoz"]
[null,"PRTRMU/21/00254","Siero"]
[null,"PRTRMU/21/00255","Córdoba"]
[null,"PRTRMU/21/00258","Sant Andreu de la Barca"]
[null,"PRTRMU/21/00260","Palmas de Gran Canaria (Las)"]
[null,"PRTRMU/21/00262","Sant Vicent del Raspeig"]
[null,"PRTRMU/21/00264","San Fernando"]
[null,"PRTRMU/21/00265","Torrelavega"]
[null,"PRTRMU/21/00266","Linares"]
[null,"PRTRMU/21/00267","Mérida"]
[null,"PRTRMU/21/00274","Castro-Urdiales"]
[null,"PRTRMU/21/00275","Gijón"]
[null,"PRTRMU/21/00277","Lloret de Mar"]
[null,"PRTRMU/21/00279","Arteixo"]
[null,"PRTRMU/21/00283","Sevilla"]
[null,"PRTRMU/21/00284","Ourense"]
[null,"PRTRMU/21/00285","Collado Villalba"]
[null,"PRTRMU/21/00286","València"]
[null,"PRTRMU/21/00287","València"]
[null,"PRTRMU/21/00291","Gáldar"]
[null,"PRTRMU/21/00293","Baza"]
[null,"PRTRMU/21/00295","Conil de la Frontera"]
[null,"PRTRMU/21/00299","Torre-Pacheco"]
[null,"PRTRMU/21/00302","Cádiz"]
[null,"PRTRMU/21/00306","Valle de Egüés/Eguesibar"]
[null,"PRTRMU/21/00307","Melilla"]
[null,"PRTRMU/21/00308","Realejos (Los)"]
[null,"PRTRMU/21/00309","Cuenca"]
[null,"PRTRMU/21/00311","Segovia"]
[null,"PRTRMU/21/00316","Yecla"]
[null,"PRTRMU/21/00317","Lebrija"]
[null,"PRTRMU/21/00329","Sagunto/Sagunt"]
[null,"PRTRMU/21/00330","Elda"]
[null,"PRTRMU/21/00331","Mislata"]
[null,"PRTRMU/21/00332","Santa Perpètua de Mogoda"]
[null,"PRTRMU/21/00333","Lorca"]
[null,"PRTRMU/21/00335","Donostia/San Sebastián"]
[null,"PRTRMU/21/00336","León"]
[null,"PRTRMU/21/00337","Barañáin/Barañain"]
[null,"PRTRMU/21/00338","Jerez de la Frontera"]
[null,"PRTRMU/21/00340","Burgos"]
[null,"PRTRMU/21/00342","Priego de Córdoba"]
[null,"PRTRMU/21/00343","Armilla"]
[null,"PRTRMU/21/00348","Martorell"]
[null,"PRTRMU/21/00349","Getafe"]
[null,"PRTRMU/21/00350","Badalona"]

{"sheet":"Tabla vehículos","index":8,"n_rows":53,"n_cols":11,"rows_kept":53,"cut":false,"hidden":true,"merged":[]}
[null,"Tabla vehículos"]
[]
["Código de expediente","Código actuación","Código proyecto","Tipo proyecto","Tipo proyecto ampliado","Tipo de vehículo adquirido 1","Unidades adquiridas vehículos tipo 1","Tipo de vehículo adquirido 2","Unidades adquiridas vehículos tipo 2","Tipo de vehículo adquirido 3","Unidades adquiridas vehículos tipo 3"]
["PRTRMU-21-00020","PRTRMU-21-00020 - P16_L2-20210921-1","P16_L2-20210921-1",16,"16. Adquisición de autobuses para flotas de transporte público y de vehículos pesados para servicios públicos de ámbito municipal propulsados con energías alternativas","2.Buses eléctricos (BEV) categoría M3 Clase I (12 m) ",2,"","","",""]
["PRTRMU-21-00021","PRTRMU-21-00021 - P16_L2-20210913-1","P16_L2-20210913-1",16,"16. Adquisición de autobuses para flotas de transporte público y de vehículos pesados para servicios públicos de ámbito municipal propulsados con energías alternativas","2.Buses eléctricos (BEV) categoría M3 Clase I (12 m) ","","","","",""]
["PRTRMU-21-00026","PRTRMU-21-00026 - P16_L2-20210924-1","P16_L2-20210924-1",16,"16. Adquisición de autobuses para flotas de transporte público y de vehículos pesados para servicios públicos de ámbito municipal propulsados con energías alternativas","2.Buses eléctricos (BEV) categoría M3 Clase I (12 m) ",12,"","","",""]
["PRTRMU-21-00030","PRTRMU-21-00030 - P16_L2-20210928-1","P16_L2-20210928-1",16,"16. Adquisición de autobuses para flotas de transporte público y de vehículos pesados para servicios públicos de ámbito municipal propulsados con energías alternativas","","","","","",""]
["PRTRMU-21-00030","PRTRMU-21-00030 - P16_L2-20210928-2","P16_L2-20210928-2",16,"16. Adquisición de autobuses para flotas de transporte público y de vehículos pesados para servicios públicos de ámbito municipal propulsados con energías alternativas","2.Buses eléctricos (BEV) categoría M3 Clase I (12 m) ",6,"","","",""]
["PRTRMU-21-00037","PRTRMU-21-00037 - P16_L2-20210928-1","P16_L2-20210928-1",16,"16. Adquisición de autobuses para flotas de transporte público y de vehículos pesados para servicios públicos de ámbito municipal propulsados con energías alternativas","","","","","",""]
["PRTRMU-21-00038","PRTRMU-21-00038 - P16_L2-20210923-1","P16_L2-20210923-1",16,"16. Adquisición de autobuses para flotas de transporte público y de vehículos pesados para servicios públicos de ámbito municipal propulsados con energías alternativas","2.Buses eléctricos (BEV) categoría M3 Clase I (12 m) ",4,"","","",""]
["PRTRMU-21-00041","PRTRMU-21-00041 - P16_L2-20210910-1","P16_L2-20210910-1",16,"16. Adquisición de autobuses para flotas de transporte público y de vehículos pesados para servicios públicos de ámbito municipal propulsados con energías alternativas","1.Buses eléctricos (BEV) categoría M2 ","","","","",""]
["PRTRMU-21-00043","PRTRMU-21-00043 - P16_L2-20210917-1","P16_L2-20210917-1",16,"16. Adquisición de autobuses para flotas de transporte público y de vehículos pesados para servicios públicos de ámbito municipal propulsados con energías alternativas","2.Buses eléctricos (BEV) categoría M3 Clase I (12 m) ",10,"","","",""]
["PRTRMU-21-00052","PRTRMU-21-00052 - P16_L2-20210920-1","P16_L2-20210920-1",16,"16. Adquisición de autobuses para flotas de transporte público y de vehículos pesados para servicios públicos de ámbito municipal propulsados con energías alternativas","2.Buses eléctricos (BEV) categoría M3 Clase I (12 m) ",3,"2.Buses eléctricos (BEV) categoría M3 Clase I (12 m) ",1,"",""]
["PRTRMU-21-00053","PRTRMU-21-00053 - P16_L1-20210916-1","P16_L1-20210916-1",16,"16. Adquisición de autobuses para flotas de transporte público y de vehículos pesados para servicios públicos de ámbito municipal propulsados con energías alternativas","2.Buses eléctricos (BEV) categoría M3 Clase I (12 m) ",39,"","","",""]
["PRTRMU-21-00053","PRTRMU-21-00053 - P16_L1-20210916-2","P16_L1-20210916-2",16,"16. Adquisición de autobuses para flotas de transporte público y de vehículos pesados para servicios públicos de ámbito municipal propulsados con energías alternativas","2.Buses eléctricos (BEV) categoría M3 Clase I (12 m) ",4,"3.Buses eléctricos (BEV) categoría M3 Clase I (18 m) ",5,"",""]
["PRTRMU-21-00057","PRTRMU-21-00057 - P16_L4-20210928-1","P16_L4-20210928-1",16,"16. Adquisición de autobuses para flotas de transporte público y de vehículos pesados para servicios públicos de ámbito municipal propulsados con energías alternativas","2.Buses eléctricos (BEV) categoría M3 Clase I (12 m) ",1,"","","",""]
["PRTRMU-21-00064","PRTRMU-21-00064 - P16_L4-20210920-1","P16_L4-20210920-1",16,"16. Adquisición de autobuses para flotas de transporte público y de vehículos pesados para servicios públicos de ámbito municipal propulsados con energías alternativas","2.Buses eléctricos (BEV) categoría M3 Clase I (12 m) ",1,"",0,"","0"]
["PRTRMU-21-00066","PRTRMU-21-00066 - P16_L2-20210915-1","P16_L2-20210915-1",16,"16. Adquisición de autobuses para flotas de transporte público y de vehículos pesados para servicios públicos de ámbito municipal propulsados con energías alternativas","3.Buses eléctricos (BEV) categoría M3 Clase I (18 m) ",2,"","","",""]
["PRTRMU-21-00074","PRTRMU-21-00074 - P16_L2-20210916-1","P16_L2-20210916-1",16,"16. Adquisición de autobuses para flotas de transporte público y de vehículos pesados para servicios públicos de ámbito municipal propulsados con energías alternativas","2.Buses eléctricos (BEV) categoría M3 Clase I (12 m) ",6,"","","",""]
["PRTRMU-21-00074","PRTRMU-21-00074 - P16_L2-20210916-2","P16_L2-20210916-2",16,"16. Adquisición de autobuses para flotas de transporte público y de vehículos pesados para servicios públicos de ámbito municipal propulsados con energías alternativas","7.Vehículos eléctricos (BEV) categoría N2 ",8,"","","",""]
["PRTRMU-21-00082","PRTRMU-21-00082 - P16_L2-20210928-1","P16_L2-20210928-1",16,"16. Adquisición de autobuses para flotas de transporte público y de vehículos pesados para servicios públicos de ámbito municipal propulsados con energías alternativas","2.Buses eléctricos (BEV) categoría M3 Clase I (12 m) ",8,"","","",""]
["PRTRMU-21-00087","PRTRMU-21-00087 - P16_L2-20210929-1","P16_L2-20210929-1",16,"16. Adquisición de autobuses para flotas de transporte público y de vehículos pesados para servicios públicos de ámbito municipal propulsados con energías alternativas","2.Buses eléctricos (BEV) categoría M3 Clase I (12 m) ",1,"","","",""]
["PRTRMU-21-00089","PRTRMU-21-00089 - P16_L3-20210917-1","P16_L3-20210917-1",16,"16. Adquisición de autobuses para flotas de transporte público y de vehículos pesados para servicios públicos de ámbito municipal propulsados con energías alternativas","2.Buses eléctricos (BEV) categoría M3 Clase I (12 m) ",6,"","","",""]
["PRTRMU-21-00102","PRTRMU-21-00102 - P16_L2-20210926-1","P16_L2-20210926-1",16,"16. Adquisición de autobuses para flotas de transporte público y de vehículos pesados para servicios públicos de ámbito municipal propulsados con energías alternativas","2.Buses eléctricos (BEV) categoría M3 Clase I (12 m) ","","","","",""]
["PRTRMU-21-00103","PRTRMU-21-00103 - P16_L4-20210928-1","P16_L4-20210928-1",16,"16. Adquisición de autobuses para flotas de transporte público y de vehículos pesados para servicios públicos de ámbito municipal propulsados con energías alternativas","2.Buses eléctricos (BEV) categoría M3 Clase I (12 m) ",2,"1.Buses eléctricos (BEV) categoría M2 ",1,"",""]
["PRTRMU-21-00107","PRTRMU-21-00107 - P16_L2-20210927-1","P16_L2-20210927-1",16,"16. Adquisición de autobuses para flotas de transporte público y de vehículos pesados para servicios públicos de ámbito municipal propulsados con energías alternativas","2.Buses eléctricos (BEV) categoría M3 Clase I (12 m) ","","3.Buses eléctricos (BEV) categoría M3 Clase I (18 m) ","","",""]
["PRTRMU-21-00114","PRTRMU-21-00114 - P16_L2-20210921-1","P16_L2-20210921-1",16,"16. Adquisición de autobuses para flotas de transporte público y de vehículos pesados para servicios públicos de ámbito municipal propulsados con energías alternativas","2.Buses eléctricos (BEV) categoría M3 Clase I (12 m) ","","3.Buses eléctricos (BEV) categoría M3 Clase I (18 m) ","","",""]
["PRTRMU-21-00128","PRTRMU-21-00128 - P16_L2-20210927-1","P16_L2-20210927-1",16,"16. Adquisición de autobuses para flotas de transporte público y de vehículos pesados para servicios públicos de ámbito municipal propulsados con energías alternativas","2.Buses eléctricos (BEV) categoría M3 Clase I (12 m) ",7,"1.Buses eléctricos (BEV) categoría M2 ",1,"",""]
["PRTRMU-21-00129","PRTRMU-21-00129 - P16_L2-20210927-1","P16_L2-20210927-1",16,"16. Adquisición de autobuses para flotas de transporte público y de vehículos pesados para servicios públicos de ámbito municipal propulsados con energías alternativas","2.Buses eléctricos (BEV) categoría M3 Clase I (12 m) ","","2.Buses eléctricos (BEV) categoría M3 Clase I (12 m) ","","",""]
["PRTRMU-21-00135","PRTRMU-21-00135 - P16_L1-20210929-1","P16_L1-20210929-1",16,"16. Adquisición de autobuses para flotas de transporte público y de vehículos pesados para servicios públicos de ámbito municipal propulsados con energías alternativas","2.Buses eléctricos (BEV) categoría M3 Clase I (12 m) ",20,"","","",""]
["PRTRMU-21-00138","PRTRMU-21-00138 - P16_L4-20210922-1","P16_L4-20210922-1",16,"16. Adquisición de autobuses para flotas de transporte público y de vehículos pesados para servicios públicos de ámbito municipal propulsados con energías alternativas","2.Buses eléctricos (BEV) categoría M3 Clase I (12 m) ","","","","",""]
["PRTRMU-21-00143","PRTRMU-21-00143 - P16_L2-20210929-1","P16_L2-20210929-1",16,"16. Adquisición de autobuses para flotas de transporte público y de vehículos pesados para servicios públicos de ámbito municipal propulsados con energías alternativas","2.Buses eléctricos (BEV) categoría M3 Clase I (12 m) ",13," 6.Buses impulsados por hidrógeno (FCV, FCHV) categoría M3 Clase I (18 m) ",6,"",""]
["PRTRMU-21-00143","PRTRMU-21-00143 - P16_L2-20210929-2","P16_L2-20210929-2",16,"16. Adquisición de autobuses para flotas de transporte público y de vehículos pesados para servicios públicos de ámbito municipal propulsados con energías alternativas","9.Vehículos eléctricos (BEV) categoría N3 (>16 t) ",2,"","","",""]
["PRTRMU-21-00147","PRTRMU-21-00147 - P16_L2-20210928-1","P16_L2-20210928-1",16,"16. Adquisición de autobuses para flotas de transporte público y de vehículos pesados para servicios públicos de ámbito municipal propulsados con energías alternativas","3.Buses eléctricos (BEV) categoría M3 Clase I (18 m) ",11,"","","",""]
["PRTRMU-21-00151","PRTRMU-21-00151 - P16_L2-20210923-1","P16_L2-20210923-1",16,"16. Adquisición de autobuses para flotas de transporte público y de vehículos pesados para servicios públicos de ámbito municipal propulsados con energías alternativas","2.Buses eléctricos (BEV) categoría M3 Clase I (12 m) ","","","","",""]
["PRTRMU-21-00158","PRTRMU-21-00158 - P16_L2-20210928-1","P16_L2-20210928-1",16,"16. Adquisición de autobuses para flotas de transporte público y de vehículos pesados para servicios públicos de ámbito municipal propulsados con energías alternativas","2.Buses eléctricos (BEV) categoría M3 Clase I (12 m) ",1,"","","",""]
["PRTRMU-21-00175","PRTRMU-21-00175 - P16_L2-20210928-1","P16_L2-20210928-1",16,"16. Adquisición de autobuses para flotas de transporte público y de vehículos pesados para servicios públicos de ámbito municipal propulsados con energías alternativas","5.Buses impulsados por hidrógeno (FCV, FCHV) categoría M3 Clase I (12 m) ",3,"","","",""]
["PRTRMU-21-00190","PRTRMU-21-00190 - P16_L2-20210928-1","P16_L2-20210928-1",16,"16. Adquisición de autobuses para flotas de transporte público y de vehículos pesados para servicios públicos de ámbito municipal propulsados con energías alternativas","2.Buses eléctricos (BEV) categoría M3 Clase I (12 m) ",5,"","","",""]
["PRTRMU-21-00208","PRTRMU-21-00208 - P16_L4-20210927-1","P16_L4-20210927-1",16,"16. Adquisición de autobuses para flotas de transporte público y de vehículos pesados para servicios públicos de ámbito municipal propulsados con energías alternativas","2.Buses eléctricos (BEV) categoría M3 Clase I (12 m) ",3,"","","",""]
["PRTRMU-21-00212","PRTRMU-21-00212 - P16_L2-20210927-1","P16_L2-20210927-1",16,"16. Adquisición de autobuses para flotas de transporte público y de vehículos pesados para servicios públicos de ámbito municipal propulsados con energías alternativas","2.Buses eléctricos (BEV) categoría M3 Clase I (12 m) ",8,"","","",""]
["PRTRMU-21-00213","PRTRMU-21-00213 - P16_L2-20210929-1","P16_L2-20210929-1",16,"16. Adquisición de autobuses para flotas de transporte público y de vehículos pesados para servicios públicos de ámbito municipal propulsados con energías alternativas","1.Buses eléctricos (BEV) categoría M2 ",2,"","","",""]
["PRTRMU-21-00236","PRTRMU-21-00236 - P16_L2-20210930-2","P16_L2-20210930-2",16,"16. Adquisición de autobuses para flotas de transporte público y de vehículos pesados para servicios públicos de ámbito municipal propulsados con energías alternativas","9.Vehículos eléctricos (BEV) categoría N3 (>16 t) ",1,"","","",""]
["PRTRMU-21-00236","PRTRMU-21-00236 - P16_L2-20210930-1","P16_L2-20210930-1",16,"16. Adquisición de autobuses para flotas de transporte público y de vehículos pesados para servicios públicos de ámbito municipal propulsados con energías alternativas","4.Buses impulsados por hidrógeno (FCV, FCHV) categoría M2 ",1,"","","",""]
["PRTRMU-21-00239","PRTRMU-21-00239 - P16_L2-20210928-1","P16_L2-20210928-1",16,"16. Adquisición de autobuses para flotas de transporte público y de vehículos pesados para servicios públicos de ámbito municipal propulsados con energías alternativas","","","","","",""]
["PRTRMU-21-00249","PRTRMU-21-00249 - P16_L2-20210928-1","P16_L2-20210928-1",16,"16. Adquisición de autobuses para flotas de transporte público y de vehículos pesados para servicios públicos de ámbito municipal propulsados con energías alternativas","2.Buses eléctricos (BEV) categoría M3 Clase I (12 m) ",2,"","","",""]
["PRTRMU-21-00253","PRTRMU-21-00253 - P16_L2-20210929-1","P16_L2-20210929-1",16,"16. Adquisición de autobuses para flotas de transporte público y de vehículos pesados para servicios públicos de ámbito municipal propulsados con energías alternativas","2.Buses eléctricos (BEV) categoría M3 Clase I (12 m) ",8,"","","",""]
["PRTRMU-21-00255","PRTRMU-21-00255 - P16_L2-20210928-1","P16_L2-20210928-1",16,"16. Adquisición de autobuses para flotas de transporte público y de vehículos pesados para servicios públicos de ámbito municipal propulsados con energías alternativas","5.Buses impulsados por hidrógeno (FCV, FCHV) categoría M3 Clase I (12 m) ",1,"12.Vehículos impulsados por hidrógeno (FCV, FCHV) categoría N3 (>16 t)",12," 10.Vehículos impulsados por hidrógeno (FCV, FCHV) categoría N2 ",2]
["PRTRMU-21-00260","PRTRMU-21-00260 - P16_L2-20210928-1","P16_L2-20210928-1",16,"16. Adquisición de autobuses para flotas de transporte público y de vehículos pesados para servicios públicos de ámbito municipal propulsados con energías alternativas","2.Buses eléctricos (BEV) categoría M3 Clase I (12 m) ",4,"","","",""]
["PRTRMU-21-00260","PRTRMU-21-00260 - P16_L2-20210928-2","P16_L2-20210928-2",16,"16. Adquisición de autobuses para flotas de transporte público y de vehículos pesados para servicios públicos de ámbito municipal propulsados con energías alternativas","5.Buses impulsados por hidrógeno (FCV, FCHV) categoría M3 Clase I (12 m) ",1,"","","",""]
["PRTRMU-21-00284","PRTRMU-21-00284 - P16_L2-20210929-1","P16_L2-20210929-1",16,"16. Adquisición de autobuses para flotas de transporte público y de vehículos pesados para servicios públicos de ámbito municipal propulsados con energías alternativas","2.Buses eléctricos (BEV) categoría M3 Clase I (12 m) ",10,"","","",""]
["PRTRMU-21-00286","PRTRMU-21-00286 - P16_L2-20210929-1","P16_L2-20210929-1",16,"16. Adquisición de autobuses para flotas de transporte público y de vehículos pesados para servicios públicos de ámbito municipal propulsados con energías alternativas","","","","","",""]
["PRTRMU-21-00311","PRTRMU-21-00311 - P16_L3-20210930-1","P16_L3-20210930-1",16,"16. Adquisición de autobuses para flotas de transporte público y de vehículos pesados para servicios públicos de ámbito municipal propulsados con energías alternativas","2.Buses eléctricos (BEV) categoría M3 Clase I (12 m) ",4,"","","",""]
["PRTRMU-21-00349","PRTRMU-21-00349 - P16_L2-20211223-1","P16_L2-20211223-1",16,"16. Adquisición de autobuses para flotas de transporte público y de vehículos pesados para servicios públicos de ámbito municipal propulsados con energías alternativas","","","","","",""]

{"sheet":"Listados2","index":9,"n_rows":657,"n_cols":34,"rows_kept":657,"cut":false,"hidden":true,"merged":[]}
["Código solicitud","Código actuación",null,"Beneficiario",null,"Solicitudes",{"$nulls":4},"Código solicitud1","Beneficiario","CIF","Propuesta de cuantía a otorgar FINAL solicitud",null,null,null,"CÓDIGO","1.Titulo_actuacion",{"$nulls":5},"1.N_expediente","CÓDIGO",null,null,null,"Fórmula de adjudicación","Contrat","Conveni","Encomie","Encargo"]
["PRTRMU_21_00013","PRTRMU-21-00013 - P19_L4-20210901-1",null,"Rinconada (La)",null,"PRTRMU_21_00013",{"$nulls":4},"PRTRMU_21_00013","Rinconada (La)","P4108100A",1000636.0700000001,null,null,null,"PRTRMU-21-00053 - P01_L1-20210916-1","Impulso al despliegue de la ZBE en el territorio metropolitano.",{"$nulls":5},"PRTRMU_21_00062","PRTRMU-21-00062 - P6_L4-20210929-1",null,null,null,"Contrato","Obra","Convenio","Encomienda de gestión","Encargo a medio propio"]
["PRTRMU_21_00013","PRTRMU-21-00013 - P04_L4-20210831-1",null,"Rinconada (La)",null,"PRTRMU_21_00014",{"$nulls":4},"PRTRMU_21_00014","Tortosa","P4315700G",1504755,null,null,null,"PRTRMU-21-00283 - P01_L1-20210929-1","ZBE del Área Metropolitana de Sevilla, Dos Hermanas, La Rinconada y Alcalá de Guadaira.",{"$nulls":5},"PRTRMU_21_00307","PRTRMU-21-00307 - P6_L2-20210929-1",null,null,null,"Convenio","Servicios",null," "]
["PRTRMU_21_00014","PRTRMU-21-00014 - P06_L4-20210921-1",null,"Tortosa",null,"PRTRMU_21_00015",{"$nulls":4},"PRTRMU_21_00015","Sant Cugat del Vallès","P0820400J",3630797.7800000003,null,null,null,"PRTRMU-21-00043 - P01_L2-20210910-1","Zona bajas emisiones Málaga.",{"$nulls":5},"PRTRMU_21_00307","PRTRMU-21-00307 - P6_L2-20210929-3",null,null,null,"Encargo a medio propio","Suministros"]
["PRTRMU_21_00014","PRTRMU-21-00014 - P06_L4-20210927-2",null,"Tortosa",null,"PRTRMU_21_00020",{"$nulls":4},"PRTRMU_21_00020","Girona","P1708500B",3165491.08,null,null,null,"PRTRMU-21-00021 - P01_L2-20210913-1","Implantación sistema de control y limitación de accesos ZBE Distrito Centro.",{"$nulls":5},"PRTRMU_21_00163","PRTRMU-21-00163 - P4_L2-20210929-1",{"$nulls":4},"Concesión de obras públicas"]
["PRTRMU_21_00014","PRTRMU-21-00014 - P06_L4-20210927-4",null,"Tortosa",null,"PRTRMU_21_00021",{"$nulls":4},"PRTRMU_21_00021","Fuenlabrada","P2805800F",8748231.1899999995,null,null,null,"PRTRMU-21-00066 - P01_L2-20210915-1","Zona de bajas emisiones (ZBE).",{"$nulls":5},"PRTRMU_21_00182","PRTRMU-21-00182 - P4_L2-20210929-1",{"$nulls":4},"Concesión de obras"]
["PRTRMU_21_00014","PRTRMU-21-00014 - P07_L4-20210927-1",null,"Tortosa",null,"PRTRMU_21_00022",{"$nulls":4},"PRTRMU_21_00022","Ejido (El)","P0410400F",2918085.42,null,null,null,"PRTRMU-21-00074 - P01_L2-20210915-1","Implantación ZBE centre ciutat.",{"$nulls":5},"PRTRMU_21_00254","PRTRMU-21-00254 - P4_L2-20210928-1",{"$nulls":4},"Gestión de servicios públicos"]
["PRTRMU_21_00014","PRTRMU-21-00014 - P07_L4-20210927-2",null,"Tortosa",null,"PRTRMU_21_00024",{"$nulls":4},"PRTRMU_21_00024","Santa Coloma de Gramenet","P0824500C",5419935,null,null,null,"PRTRMU-21-00075 - P01_L2-20210915-1","Implantación del proyecto de la ZBE diseñado para el centro de Valladolid.",{"$nulls":5},"PRTRMU_21_00022","PRTRMU-21-00022 - P4_L2-20210921-1",{"$nulls":4},"Concesión de servicios"]
["PRTRMU_21_00015","PRTRMU-21-00015 - P02_L2-20210907-1",null,"Sant Cugat del Vallès",null,"PRTRMU_21_00026",{"$nulls":4},"PRTRMU_21_00026","Cornellà de Llobregat","P0807200A",3944185.64,null,null,null,"PRTRMU-21-00090 - P01_L2-20210920-1","Zona de Bajas Emisiones.",{"$nulls":5},"PRTRMU_21_00022","PRTRMU-21-00022 - P4_L2-20210921-2",{"$nulls":4},"Colaboración entre el sector público y el sector privado"]
["PRTRMU_21_00015","PRTRMU-21-00015 - P02_L2-20210907-2",null,"Sant Cugat del Vallès",null,"PRTRMU_21_00028",{"$nulls":4},"PRTRMU_21_00028","Almería","P0401300I",7634367.2800000003,null,null,null,"PRTRMU-21-00020 - P01_L2-20210921-1","Creación de dos zonas de bajas emisiones.",{"$nulls":5},"PRTRMU_21_00022","PRTRMU-21-00022 - P7_L2-20210928-1",{"$nulls":4},"Administrativo especial"]
["PRTRMU_21_00015","PRTRMU-21-00015 - P02_L2-20210909-5",null,"Sant Cugat del Vallès",null,"PRTRMU_21_00029",{"$nulls":4},"PRTRMU_21_00029","Puerto Real","P1102800H",1608689.7,null,null,null,"PRTRMU-21-00069 - P01_L2-20210921-1","Implantación de una Zona de Bajas Emisiones.",{"$nulls":5},"PRTRMU_21_00022","PRTRMU-21-00022 - P7_L2-20210928-2",{"$nulls":4},"Privado"]
["PRTRMU_21_00020","PRTRMU-21-00020 - P01_L2-20210921-1",null,"Girona",null,"PRTRMU_21_00030",{"$nulls":4},"PRTRMU_21_00030","Hospitalet de Llobregat (L')","P0810000J",12108619.5,null,null,null,"PRTRMU-21-00118 - P01_L2-20210921-1","Implantación de la Zona de Bajas Emisiones (ZBE) en la ciudad de El Prat de Llobregat.",{"$nulls":5},"PRTRMU_21_00260","PRTRMU-21-00260 - P9_L2-20210928-1",{"$nulls":4},"Patrimonial"]
["PRTRMU_21_00020","PRTRMU-21-00020 - P12_L2-20210921-1",null,"Girona",null,"PRTRMU_21_00031",{"$nulls":4},"PRTRMU_21_00031","Alcalá de Henares","P2800500G",5629259.0300000003,null,null,null,"PRTRMU-21-00132 - P01_L2-20210921-1","Creación de una zona de bajas emisiones.",{"$nulls":5},"PRTRMU_21_00332","PRTRMU-21-00332 - P9_L4-20210930-1",{"$nulls":4},"Otros"]
["PRTRMU_21_00020","PRTRMU-21-00020 - P16_L2-20210921-1",null,"Girona",null,"PRTRMU_21_00033",{"$nulls":4},"PRTRMU_21_00033","Parla","P2810600C",2232169.8199999998,null,null,null,"PRTRMU-21-00065 - P01_L2-20210922-1","Implantación de la ZBE.",{"$nulls":5},"PRTRMU_21_00135","PRTRMU-21-00135 - P17_L1-20210929-1"]
["PRTRMU_21_00020","PRTRMU-21-00020 - P04_L2-20210921-1",null,"Girona",null,"PRTRMU_21_00037",{"$nulls":4},"PRTRMU_21_00037","Alcoy/Alcoi","P0300900H",2670098.1599999997,null,null,null,"PRTRMU-21-00125 - P01_L2-20210922-1","Implantación zona de bajas emisiones.",{"$nulls":5},"PRTRMU_21_00201","PRTRMU-21-00201 - P19_L4-20210928-1"]
["PRTRMU_21_00020","PRTRMU-21-00020 - P06_L2-20210921-1",null,"Girona",null,"PRTRMU_21_00038",{"$nulls":4},"PRTRMU_21_00038","Santander","P3907500G",7564275,null,null,null,"PRTRMU-21-00128 - P01_L2-20210923-1","Implantación de ZBE en la zona centro (Distrito 6) de Bilbao.",{"$nulls":5},"PRTRMU_21_00114","PRTRMU-21-00114 - P15_L2-20210921-1"]
["PRTRMU_21_00020","PRTRMU-21-00020 - P09_L2-20210921-1",null,"Girona",null,"PRTRMU_21_00039",{"$nulls":4},"PRTRMU_21_00039","Reus","P4312500D",4777560,null,null,null,"PRTRMU-21-00168 - P01_L2-20210923-1","Inversiones para la implantación y puesta en funcionamiento de una ZBE en Segovia.",{"$nulls":5},"PRTRMU_21_00114","PRTRMU-21-00114 - P17_L2-20210921-1"]
["PRTRMU_21_00021","PRTRMU-21-00021 - P01_L2-20210913-1",null,"Fuenlabrada",null,"PRTRMU_21_00041",{"$nulls":4},"PRTRMU_21_00041","Mollet del Vallès","P0812300B",2135881,null,null,null,"PRTRMU-21-00060 - P01_L2-20210924-1","Implantación de la Zona de Bajas Emisiones.",{"$nulls":5},"PRTRMU_21_00150","PRTRMU-21-00150 - P4_L2-20210923-1"]
["PRTRMU_21_00021","PRTRMU-21-00021 - P16_L2-20210913-1",null,"Fuenlabrada",null,"PRTRMU_21_00043",{"$nulls":4},"PRTRMU_21_00043","Málaga","P2906700F",10205555.539999999,null,null,null,"PRTRMU-21-00156 - P01_L2-20210924-1","Implantación de una Zona de Bajas Emisiones.",{"$nulls":5},"PRTRMU_21_00150","PRTRMU-21-00150 - P7_L2-20210923-1"]
["PRTRMU_21_00021","PRTRMU-21-00021 - P17_L2-20210913-1",null,"Fuenlabrada",null,"PRTRMU_21_00045",{"$nulls":4},"PRTRMU_21_00045","Benalmádena","P2902500D",2880000,null,null,null,"PRTRMU-21-00167 - P01_L2-20210924-1","Implantación de una Zona de Bajas Emisiones.",{"$nulls":5},"PRTRMU_21_00150","PRTRMU-21-00150 - P7_L2-20210923-2"]
["PRTRMU_21_00021","PRTRMU-21-00021 - P04_L2-20210913-1",null,"Fuenlabrada",null,"PRTRMU_21_00046",{"$nulls":4},"PRTRMU_21_00046","Loja","P1812300J",918855,null,null,null,"PRTRMU-21-00102 - P01_L2-20210926-1","Zona de Bajas Emisiones en Santa Cruz de Tenerife.",{"$nulls":5},"PRTRMU_21_00143","PRTRMU-21-00143 - P17_L2-20210929-1"]
["PRTRMU_21_00021","PRTRMU-21-00021 - P06_L2-20210913-1",null,"Fuenlabrada",null,"PRTRMU_21_00049",{"$nulls":4},"PRTRMU_21_00049","Utrera","P4109500A",2293051.08,null,null,null,"PRTRMU-21-00063 - P01_L2-20210927-1","Sistema de control y gestión de la ZBE de Chiclana de la Frontera y otros elementos complementarios.",{"$nulls":5},"PRTRMU_21_00210","PRTRMU-21-00210 - P1_L2-20210928-1"]
["PRTRMU_21_00021","PRTRMU-21-00021 - P06_L2-20210915-2",null,"Fuenlabrada",null,"PRTRMU_21_00050",{"$nulls":4},"PRTRMU_21_00050","Línea de la Concepción (La)","P1102200A",2752484.31,null,null,null,"PRTRMU-21-00129 - P01_L2-20210927-1","Zona de Bajas Emisiones Plaza Elíptica.",{"$nulls":5},"PRTRMU_21_00143","PRTRMU-21-00143 - P1_L2-20210929-2"]
["PRTRMU_21_00021","PRTRMU-21-00021 - P07_L2-20210913-1",null,"Fuenlabrada",null,"PRTRMU_21_00052",{"$nulls":4},"PRTRMU_21_00052","Irun","P2004900C",2829175.6999999997,null,null,null,"PRTRMU-21-00205 - P01_L2-20210927-1","Implantación Zona de Bajas Emisiones en Sabadell.",{"$nulls":5},"PRTRMU_21_00143","PRTRMU-21-00143 - P2_L2-20210929-1"]
["PRTRMU_21_00022","PRTRMU-21-00022 - P04_L2-20210921-1",null,"Ejido (El)",null,"PRTRMU_21_00053",{"$nulls":4},"PRTRMU_21_00053","Área Metropolitana de Barcelona","P0800258F",40000000,null,null,null,"PRTRMU-21-00206 - P01_L2-20210927-1","Sistema de control de accesos para la Zona de Bajas Emisiones “Ponferrada ZBE”.",{"$nulls":5},"PRTRMU_21_00306","PRTRMU-21-00306 - P4_L4-20210929-1"]
["PRTRMU_21_00022","PRTRMU-21-00022 - P04_L2-20210921-2",null,"Ejido (El)",null,"PRTRMU_21_00054",{"$nulls":4},"PRTRMU_21_00054","Ciudad Real","P1303400D",2045000,null,null,null,"PRTRMU-21-00207 - P01_L2-20210927-1","Aceleración de la implantación de la ZBE.",{"$nulls":5},"PRTRMU_21_00210","PRTRMU-21-00210 - P7_L2-20210929-1"]
["PRTRMU_21_00022","PRTRMU-21-00022 - P07_L2-20210928-1",null,"Ejido (El)",null,"PRTRMU_21_00055",{"$nulls":4},"PRTRMU_21_00055","Vélez-Málaga","P2909400J",3706207.35,null,null,null,"PRTRMU-21-00231 - P01_L2-20210927-1","Zona de bajas emisiones (ZBE).",{"$nulls":5},"PRTRMU_21_00210","PRTRMU-21-00210 - P9_L2-20210929-1"]
["PRTRMU_21_00022","PRTRMU-21-00022 - P07_L2-20210928-2",null,"Ejido (El)",null,"PRTRMU_21_00057",{"$nulls":4},"PRTRMU_21_00057","Rota","P1103000D",1196711.3399999999,null,null,null,"PRTRMU-21-00129 - P01_L2-20210927-2","Zona de Bajas Emisiones. Interior M30.",{"$nulls":5},"PRTRMU_21_00013","PRTRMU-21-00013 - P19_L4-20210901-1"]
["PRTRMU_21_00024","PRTRMU-21-00024 - P01_L2-20210928-1",null,"Santa Coloma de Gramenet",null,"PRTRMU_21_00058",{"$nulls":4},"PRTRMU_21_00058","Pozuelo de Alarcón","P2811500D",3922425,null,null,null,"PRTRMU-21-00205 - P01_L2-20210927-2","Suministro e instalación del equipamiento del centro de control de Policía Local de Sabadell.",{"$nulls":5},"PRTRMU_21_00013","PRTRMU-21-00013 - P4_L4-20210831-1"]
["PRTRMU_21_00024","PRTRMU-21-00024 - P06_L2-20210929-1",null,"Santa Coloma de Gramenet",null,"PRTRMU_21_00060",{"$nulls":4},"PRTRMU_21_00060","Pinto","P2811300I",2016017,null,null,null,"PRTRMU-21-00206 - P01_L2-20210927-2","Señalización de la Zona de Bajas Emisiones “Ponferrada ZBE”.",{"$nulls":5},"PRTRMU_21_00246","PRTRMU-21-00246 - P6_L2-20210928-1"]
["PRTRMU_21_00024","PRTRMU-21-00024 - P06_L2-20210929-2",null,"Santa Coloma de Gramenet",null,"PRTRMU_21_00062",{"$nulls":4},"PRTRMU_21_00062","Vall d'Uixó (la)","P1212600I",1034134.67,null,null,null,"PRTRMU-21-00129 - P01_L2-20210927-3","Zona de Bajas Emisiones .M30 y exterior M30.",{"$nulls":5},"PRTRMU_21_00052","PRTRMU-21-00052 - P17_L2-20210920-1"]
["PRTRMU_21_00024","PRTRMU-21-00024 - P06_L2-20210929-3",null,"Santa Coloma de Gramenet",null,"PRTRMU_21_00063",{"$nulls":4},"PRTRMU_21_00063","Chiclana de la Frontera","P1101500E",3693710.0100000002,null,null,null,"PRTRMU-21-00206 - P01_L2-20210927-3","Control de plazas de estacionamiento.",{"$nulls":5},"PRTRMU_21_00128","PRTRMU-21-00128 - P17_L2-20210927-1"]
["PRTRMU_21_00024","PRTRMU-21-00024 - P06_L2-20210929-4",null,"Santa Coloma de Gramenet",null,"PRTRMU_21_00064",{"$nulls":4},"PRTRMU_21_00064","Esplugues de Llobregat","P0807600B",2020740.82,null,null,null,"PRTRMU-21-00024 - P01_L2-20210928-1","Implantación de una Zona de Bajas Emisiones (ZBE) en Santa Coloma de Gramenet.",{"$nulls":5},"PRTRMU_21_00052","PRTRMU-21-00052 - P18_L2-20210927-1"]
["PRTRMU_21_00024","PRTRMU-21-00024 - P06_L2-20210929-5",null,"Santa Coloma de Gramenet",null,"PRTRMU_21_00065",{"$nulls":4},"PRTRMU_21_00065","Terrassa","P0827900B",8894442,null,null,null,"PRTRMU-21-00054 - P01_L2-20210928-1","Sistema de control de accesos a la ZBE.",{"$nulls":5},"PRTRMU_21_00128","PRTRMU-21-00128 - P1_L2-20210923-1"]
["PRTRMU_21_00024","PRTRMU-21-00024 - P06_L2-20210929-6",null,"Santa Coloma de Gramenet",null,"PRTRMU_21_00066",{"$nulls":4},"PRTRMU_21_00066","Granada","P1808900C",10512741.109999999,null,null,null,"PRTRMU-21-00120 - P01_L2-20210928-1","Desarrollo e implementación de la ZBE (Molina Saludable) de Molina de Segura.",{"$nulls":5},"PRTRMU_21_00128","PRTRMU-21-00128 - P2_L2-20210927-1"]
["PRTRMU_21_00024","PRTRMU-21-00024 - P06_L2-20210929-7",null,"Santa Coloma de Gramenet",null,"PRTRMU_21_00067",{"$nulls":4},"PRTRMU_21_00067","Pamplona/Iruña","P3120100G",6330425.7799999993,null,null,null,"PRTRMU-21-00158 - P01_L2-20210928-1","Implantación y puesta en marcha ZBE Cartagena.",{"$nulls":5},"PRTRMU_21_00128","PRTRMU-21-00128 - P6_L2-20210921-1"]
["PRTRMU_21_00024","PRTRMU-21-00024 - P08_L2-20210929-1",null,"Santa Coloma de Gramenet",null,"PRTRMU_21_00069",{"$nulls":4},"PRTRMU_21_00069","Rivas-Vaciamadrid","P2812300H",3966030,null,null,null,"PRTRMU-21-00190 - P01_L2-20210928-1","Implantación de Zona de Bajas Emisiones.",{"$nulls":5},"PRTRMU_21_00052","PRTRMU-21-00052 - P7_L2-20210920-1"]
["PRTRMU_21_00026","PRTRMU-21-00026 - P16_L2-20210924-1",null,"Cornellà de Llobregat",null,"PRTRMU_21_00071",{"$nulls":4},"PRTRMU_21_00071","Alcorcón","P2800700C",4053109.54,null,null,null,"PRTRMU-21-00210 - P01_L2-20210928-1","Implantación de una zona de bajas emisiones en la ciudad de Soria.",{"$nulls":5},"PRTRMU_21_00052","PRTRMU-21-00052 - P7_L2-20210924-2"]
["PRTRMU_21_00026","PRTRMU-21-00026 - P06_L2-20210907-1",null,"Cornellà de Llobregat",null,"PRTRMU_21_00073",{"$nulls":4},"PRTRMU_21_00073","Masnou (El)","P0811700D",230629.72,null,null,null,"PRTRMU-21-00236 - P01_L2-20210928-1","Implantación de la Zona de Bajas Emisiones en el municipio de Alcobendas.",{"$nulls":5},"PRTRMU_21_00052","PRTRMU-21-00052 - P7_L2-20210924-3"]
["PRTRMU_21_00026","PRTRMU-21-00026 - P07_L2-20210907-1",null,"Cornellà de Llobregat",null,"PRTRMU_21_00074",{"$nulls":4},"PRTRMU_21_00074","Palma","P0704000I",15577654.68,null,null,null,"PRTRMU-21-00239 - P01_L2-20210928-1","Implantación de Zona de Bajas Emisiones en Alicante Anillo Gran Vía.",{"$nulls":5},"PRTRMU_21_00071","PRTRMU-21-00071 - P19_L2-20210925-1"]
["PRTRMU_21_00026","PRTRMU-21-00026 - P07_L2-20210907-2",null,"Cornellà de Llobregat",null,"PRTRMU_21_00075",{"$nulls":4},"PRTRMU_21_00075","Valladolid","P4718700J",13466925,null,null,null,"PRTRMU-21-00249 - P01_L2-20210928-1","Zona de bajas emisiones Benidorm.",{"$nulls":5},"PRTRMU_21_00275","PRTRMU-21-00275 - P11_L2-20210929-1"]
["PRTRMU_21_00026","PRTRMU-21-00026 - P07_L2-20210913-1",null,"Cornellà de Llobregat",null,"PRTRMU_21_00079",{"$nulls":4},"PRTRMU_21_00079","Sant Joan Despí","P0821600D",542015,null,null,null,"PRTRMU-21-00255 - P01_L2-20210928-1","Monitorización de huella de carbono y emisiones acústicas generada por el servicio de recogida residuos.",{"$nulls":5},"PRTRMU_21_00275","PRTRMU-21-00275 - P12_L2-20210929-1"]
["PRTRMU_21_00028","PRTRMU-21-00028 - P13_L2-20210921-1",null,"Almería",null,"PRTRMU_21_00080",{"$nulls":4},"PRTRMU_21_00080","Olot","P1712100E",274372.90999999997,null,null,null,"PRTRMU-21-00267 - P01_L2-20210928-1","Implantación de Zona de Bajas Emisiones (ZBE).",{"$nulls":5},"PRTRMU_21_00275","PRTRMU-21-00275 - P1_L2-20210928-1"]
["PRTRMU_21_00028","PRTRMU-21-00028 - P18_L2-20210921-1",null,"Almería",null,"PRTRMU_21_00081",{"$nulls":4},"PRTRMU_21_00081","Cáceres","P1003800H",2293615.61,null,null,null,"PRTRMU-21-00275 - P01_L2-20210928-1","Implantación y puesta en funcionamiento de una ZBE en la calzada - sistema tecnológico integral.",{"$nulls":5},"PRTRMU_21_00054","PRTRMU-21-00054 - P1_L2-20210928-1"]
["PRTRMU_21_00028","PRTRMU-21-00028 - P18_L2-20210923-2",null,"Almería",null,"PRTRMU_21_00082",{"$nulls":4},"PRTRMU_21_00082","Manresa","P0811200E",2366050.15,null,null,null,"PRTRMU-21-00054 - P01_L2-20210928-2","Plataforma de gestión de la ZBE.",{"$nulls":5},"PRTRMU_21_00054","PRTRMU-21-00054 - P1_L2-20210928-2"]
["PRTRMU_21_00028","PRTRMU-21-00028 - P18_L2-20210923-3",null,"Almería",null,"PRTRMU_21_00083",{"$nulls":4},"PRTRMU_21_00083","Gavà","P0808800G",1042539.06,null,null,null,"PRTRMU-21-00249 - P01_L2-20210928-2","Elementos asociados a la implantación de la ZBE Benidorm.",{"$nulls":5},"PRTRMU_21_00275","PRTRMU-21-00275 - P2_L2-20210929-1"]
["PRTRMU_21_00028","PRTRMU-21-00028 - P19_L2-20210921-1",null,"Almería",null,"PRTRMU_21_00085",{"$nulls":4},"PRTRMU_21_00085","Vendrell (El)","P4316500J",1067854.71,null,null,null,"PRTRMU-21-00249 - P01_L2-20210928-3","Adecuación e instrumentación de aparcamientos disuasorios con guiado a plaza. ",{"$nulls":5},"PRTRMU_21_00275","PRTRMU-21-00275 - P3_L2-20210929-1"]
["PRTRMU_21_00028","PRTRMU-21-00028 - P19_L2-20210921-2",null,"Almería",null,"PRTRMU_21_00086",{"$nulls":4},"PRTRMU_21_00086","Mataró","P0812000H",1751834.78,null,null,null,"PRTRMU-21-00039 - P01_L2-20210929-1","Implantación de Zona de Bajas Emisiones.",{"$nulls":5},"PRTRMU_21_00092","PRTRMU-21-00092 - P4_L2-20210917-2"]
["PRTRMU_21_00028","PRTRMU-21-00028 - P06_L2-20210921-1",null,"Almería",null,"PRTRMU_21_00087",{"$nulls":4},"PRTRMU_21_00087","Algeciras","P1100400I",4602990.2699999996,null,null,null,"PRTRMU-21-00149 - P01_L2-20210929-1","Implantación de una zona de bajas emisiones (ZBE) en el municipio de Guadalajara.",{"$nulls":5},"PRTRMU_21_00275","PRTRMU-21-00275 - P4_L2-20210929-1"]
["PRTRMU_21_00028","PRTRMU-21-00028 - P06_L2-20210921-2",null,"Almería",null,"PRTRMU_21_00089",{"$nulls":4},"PRTRMU_21_00089","Palma","P0704000I",4026000,null,null,null,"PRTRMU-21-00204 - P01_L2-20210929-1","Implantación ZBE en el centro de Torremolinos.",{"$nulls":5},"PRTRMU_21_00054","PRTRMU-21-00054 - P6_L2-20210928-2"]
["PRTRMU_21_00028","PRTRMU-21-00028 - P09_L2-20210921-1",null,"Almería",null,"PRTRMU_21_00090",{"$nulls":4},"PRTRMU_21_00090","Viladecans","P0830200B",2525662.33,null,null,null,"PRTRMU-21-00213 - P01_L2-20210929-1","Implantación medidas de movilidad sostenible y mitigación del cambio climático.",{"$nulls":5},"PRTRMU_21_00054","PRTRMU-21-00054 - P6_L2-20210928-3"]
["PRTRMU_21_00029","PRTRMU-21-00029 - P05_L4-20210929-2",null,"Puerto Real",null,"PRTRMU_21_00091",{"$nulls":4},"PRTRMU_21_00091","Zamora","P4930500F",1191076,null,null,null,"PRTRMU-21-00266 - P01_L2-20210929-1","Implantación de Zona de Bajas Emisiones en el municipio de Linares.",{"$nulls":5},"PRTRMU_21_00275","PRTRMU-21-00275 - P6_L2-20210929-1"]
["PRTRMU_21_00030","PRTRMU-21-00030 - P10_L2-20210928-1",null,"Hospitalet de Llobregat (L')",null,"PRTRMU_21_00092",{"$nulls":4},"PRTRMU_21_00092","Logroño","P2608900C",6511640.8499999996,null,null,null,"PRTRMU-21-00286 - P01_L2-20210929-1","Implantación de una Zona de Bajas Emisiones en la ciudad de València.",{"$nulls":5},"PRTRMU_21_00071","PRTRMU-21-00071 - P7_L2-20210925-1"]
["PRTRMU_21_00030","PRTRMU-21-00030 - P11_L2-20210928-1",null,"Hospitalet de Llobregat (L')",null,"PRTRMU_21_00093",{"$nulls":4},"PRTRMU_21_00093","Dos Hermanas","P4103800A",6077250,null,null,null,"PRTRMU-21-00302 - P01_L2-20210929-1","Zona de Bajas Emisiones en la ciudad de Cádiz.",{"$nulls":5},"PRTRMU_21_00071","PRTRMU-21-00071 - P9_L2-20210925-1"]
["PRTRMU_21_00030","PRTRMU-21-00030 - P11_L2-20210928-2",null,"Hospitalet de Llobregat (L')",null,"PRTRMU_21_00098",{"$nulls":4},"PRTRMU_21_00098","Níjar","P0406600G",1424970,null,null,null,"PRTRMU-21-00309 - P01_L2-20210929-1","Implantación de una Zona de Bajas Emisiones (ZBE) en la ciudad de Cuenca.",{"$nulls":5},"PRTRMU_21_00340","PRTRMU-21-00340 - P1_L2-20210930-1"]
["PRTRMU_21_00030","PRTRMU-21-00030 - P13_L2-20210928-1",null,"Hospitalet de Llobregat (L')",null,"PRTRMU_21_00101",{"$nulls":4},"PRTRMU_21_00101","Huelva","P2104100I",6472665,null,null,null,"PRTRMU-21-00143 - P01_L2-20210929-2","Implantación de Zona de Bajas Emisiones en Zona centro de Donostia/San Sebastián.",{"$nulls":5},"PRTRMU_21_00340","PRTRMU-21-00340 - P3_L2-20210930-1"]
["PRTRMU_21_00030","PRTRMU-21-00030 - P16_L2-20210928-1",null,"Hospitalet de Llobregat (L')",null,"PRTRMU_21_00102",{"$nulls":4},"PRTRMU_21_00102","Santa Cruz de Tenerife","P3803800F",9413730,null,null,null,"PRTRMU-21-00336 - P01_L2-20210930-1","Creación de zonas de bajas emisiones (ZBE+ZBE-P).",{"$nulls":5},"PRTRMU_21_00340","PRTRMU-21-00340 - P5_L2-20210930-1"]
["PRTRMU_21_00030","PRTRMU-21-00030 - P16_L2-20210928-2",null,"Hospitalet de Llobregat (L')",null,"PRTRMU_21_00103",{"$nulls":4},"PRTRMU_21_00103","Tudela","P3123200B",1471527,null,null,null,"PRTRMU-21-00338 - P01_L2-20210930-1","Sala de control y sistemas de control de tráfico.",{"$nulls":5},"PRTRMU_21_00252","PRTRMU-21-00252 - P6_L4-20210928-1"]
["PRTRMU_21_00030","PRTRMU-21-00030 - P02_L2-20210927-1",null,"Hospitalet de Llobregat (L')",null,"PRTRMU_21_00106",{"$nulls":4},"PRTRMU_21_00106","Plasencia","P1015100I",1446931.4,null,null,null,"PRTRMU-21-00340 - P01_L2-20210930-1","Implantación y puesta en funcionamiento de zona de bajas emisiones.",{"$nulls":5},"PRTRMU_21_00291","PRTRMU-21-00291 - P6_L4-20210929-1"]
["PRTRMU_21_00030","PRTRMU-21-00030 - P05_L2-20210928-1",null,"Hospitalet de Llobregat (L')",null,"PRTRMU_21_00107",{"$nulls":4},"PRTRMU_21_00107","Barcelona","P0801900B",74888166.980000004,null,null,null,"PRTRMU-21-00350 - P01_L2-20210930-1","Implantacion de la Zona de Bajas Emisiones en Badalona",{"$nulls":5},"PRTRMU_21_00092","PRTRMU-21-00092 - P4_L2-20210917-1"]
["PRTRMU_21_00030","PRTRMU-21-00030 - P06_L2-20210928-1",null,"Hospitalet de Llobregat (L')",null,"PRTRMU_21_00114",{"$nulls":4},"PRTRMU_21_00114","Zaragoza","P5030300G",30641728.359999999,null,null,null,"PRTRMU-21-00349 - P01_L2-20211223-1","Implantación de la Zona de Bajas Emisiones en Getafe.",{"$nulls":5},"PRTRMU_21_00092","PRTRMU-21-00092 - P5_L2-20210917-1"]
["PRTRMU_21_00030","PRTRMU-21-00030 - P06_L2-20210928-2",null,"Hospitalet de Llobregat (L')",null,"PRTRMU_21_00118",{"$nulls":4},"PRTRMU_21_00118","Prat de Llobregat (El)","P0816800G",2686500,null,null,null,"PRTRMU-21-00053 - P10_L1-20210916-1","Gestión de zonas de estacionamiento.",{"$nulls":5},"PRTRMU_21_00071","PRTRMU-21-00071 - P5_L2-20210925-1"]
["PRTRMU_21_00030","PRTRMU-21-00030 - P07_L2-20210928-1",null,"Hospitalet de Llobregat (L')",null,"PRTRMU_21_00120",{"$nulls":4},"PRTRMU_21_00120","Molina de Segura","P3002700G",2822850,null,null,null,"PRTRMU-21-00090 - P10_L2-20210920-1","Zonas de estacionamiento regulado.",{"$nulls":5},"PRTRMU_21_00071","PRTRMU-21-00071 - P5_L2-20210925-2"]
["PRTRMU_21_00031","PRTRMU-21-00031 - P06_L2-20210922-1",null,"Alcalá de Henares",null,"PRTRMU_21_00121",{"$nulls":4},"PRTRMU_21_00121","Montilla","P1404200F",297259.46999999997,null,null,null,"PRTRMU-21-00132 - P10_L2-20210921-1","Extensión y mejora de la zona de estacionamiento regulado (OTA).",{"$nulls":5},"PRTRMU_21_00092","PRTRMU-21-00092 - P6_L2-20210917-1"]
["PRTRMU_21_00031","PRTRMU-21-00031 - P06_L2-20210922-2",null,"Alcalá de Henares",null,"PRTRMU_21_00122",{"$nulls":4},"PRTRMU_21_00122","Pineda de Mar","P0816200J",253152,null,null,null,"PRTRMU-21-00179 - P10_L2-20210924-1","Compra e instalación de 78 Parquímetros de última generación, con gestión de carga y descarga.",{"$nulls":5},"PRTRMU_21_00092","PRTRMU-21-00092 - P6_L2-20210917-2"]
["PRTRMU_21_00031","PRTRMU-21-00031 - P06_L2-20210922-3",null,"Alcalá de Henares",null,"PRTRMU_21_00123",{"$nulls":4},"PRTRMU_21_00123","Vigo","P3605700H",10995000,null,null,null,"PRTRMU-21-00030 - P10_L2-20210928-1","Implantación de las Áreas Integrales de Regulación del estacionamiento (Zonas AIRE).",{"$nulls":5},"PRTRMU_21_00092","PRTRMU-21-00092 - P6_L2-20210917-3"]
["PRTRMU_21_00031","PRTRMU-21-00031 - P07_L2-20210922-1",null,"Alcalá de Henares",null,"PRTRMU_21_00125",{"$nulls":4},"PRTRMU_21_00125","Salamanca","P3727600C",6509869.209999999,null,null,null,"PRTRMU-21-00260 - P10_L2-20210928-1","Ampliación del estacionamiento regulado.",{"$nulls":5},"PRTRMU_21_00092","PRTRMU-21-00092 - P6_L2-20210917-4"]
["PRTRMU_21_00031","PRTRMU-21-00031 - P07_L2-20210922-2",null,"Alcalá de Henares",null,"PRTRMU_21_00128",{"$nulls":4},"PRTRMU_21_00128","Bilbao","P4802400D",14667631.25,null,null,null,"PRTRMU-21-00053 - P11_L1-20210916-1","Mejora de intercambiadores.",{"$nulls":5},"PRTRMU_21_00092","PRTRMU-21-00092 - P6_L2-20210917-5"]
["PRTRMU_21_00031","PRTRMU-21-00031 - P07_L2-20210922-3",null,"Alcalá de Henares",null,"PRTRMU_21_00129",{"$nulls":4},"PRTRMU_21_00129","Madrid","P2807900B",150062850,null,null,null,"PRTRMU-21-00132 - P11_L2-20210921-1","Creación de un HUB micrologístico para el reparto sostenible de la última milla.",{"$nulls":5},"PRTRMU_21_00092","PRTRMU-21-00092 - P6_L2-20210917-6"]
["PRTRMU_21_00033","PRTRMU-21-00033 - P06_L2-20210928-1",null,"Parla",null,"PRTRMU_21_00131",{"$nulls":4},"PRTRMU_21_00131","Lugo","P2702800J",4430502,null,null,null,"PRTRMU-21-00038 - P11_L2-20210923-1","Alquiler de bicicletas eléctricas.",{"$nulls":5},"PRTRMU_21_00092","PRTRMU-21-00092 - P6_L2-20210917-7"]
["PRTRMU_21_00037","PRTRMU-21-00037 - P16_L2-20210928-1",null,"Alcoy/Alcoi",null,"PRTRMU_21_00132",{"$nulls":4},"PRTRMU_21_00132","Vitoria-Gasteiz","P0106800F",11429820,null,null,null,"PRTRMU-21-00125 - P11_L2-20210923-1","Ampliación bases de préstamo de bicicletas y nuevas bicicletas.",{"$nulls":5},"PRTRMU_21_00071","PRTRMU-21-00071 - P6_L2-20210925-3"]
["PRTRMU_21_00037","PRTRMU-21-00037 - P17_L2-20210928-1",null,"Alcoy/Alcoi",null,"PRTRMU_21_00134",{"$nulls":4},"PRTRMU_21_00134","Barberà del Vallès","P0825200I",1347947.77,null,null,null,"PRTRMU-21-00038 - P11_L2-20210923-2","Aparcabicis.",{"$nulls":5},"PRTRMU_21_00176","PRTRMU-21-00176 - P7_L4-20210928-1"]
["PRTRMU_21_00037","PRTRMU-21-00037 - P19_L2-20210928-1",null,"Alcoy/Alcoi",null,"PRTRMU_21_00135",{"$nulls":4},"PRTRMU_21_00135","Mancomunidad de la Comarca de Pamplona","P3112070B",4910580,null,null,null,"PRTRMU-21-00063 - P11_L2-20210927-1","Nuevo apeadero para transporte público en la ribera del río Iro.",{"$nulls":5},"PRTRMU_21_00176","PRTRMU-21-00176 - P9_L4-20210928-1"]
["PRTRMU_21_00037","PRTRMU-21-00037 - P02_L2-20210928-1",null,"Alcoy/Alcoi",null,"PRTRMU_21_00138",{"$nulls":4},"PRTRMU_21_00138","Valdepeñas","P1308700B",400000,null,null,null,"PRTRMU-21-00075 - P11_L2-20210927-1","Instalación y puesta en marcha del Servicio de Aparcamientos Seguros para Bicicletas.",{"$nulls":5},"PRTRMU_21_00058","PRTRMU-21-00058 - P4_L2-20210916-2"]
["PRTRMU_21_00037","PRTRMU-21-00037 - P05_L2-20210928-1",null,"Alcoy/Alcoi",null,"PRTRMU_21_00139",{"$nulls":4},"PRTRMU_21_00139","Santiago de Compostela","P1507900G",3913920,null,null,null,"PRTRMU-21-00129 - P11_L2-20210927-1","Área intermodal Felipe II.",{"$nulls":5},"PRTRMU_21_00058","PRTRMU-21-00058 - P6_L2-20210917-1"]
["PRTRMU_21_00037","PRTRMU-21-00037 - P06_L2-20210928-1",null,"Alcoy/Alcoi",null,"PRTRMU_21_00140",{"$nulls":4},"PRTRMU_21_00140","Andújar","P2300500B",1398082.7,null,null,null,"PRTRMU-21-00030 - P11_L2-20210928-1","Red de estaciones seguras para bicicletas.",{"$nulls":5},"PRTRMU_21_00058","PRTRMU-21-00058 - P6_L2-20210917-2"]
["PRTRMU_21_00037","PRTRMU-21-00037 - P09_L2-20210928-1",null,"Alcoy/Alcoi",null,"PRTRMU_21_00141",{"$nulls":4},"PRTRMU_21_00141","Boadilla del Monte","P2802200B",2553030,null,null,null,"PRTRMU-21-00249 - P11_L2-20210928-1","Implantación de aparcamientos para bicicletas seguros con mejora de señalización mediante metrobici.",{"$nulls":5},"PRTRMU_21_00058","PRTRMU-21-00058 - P4_L2-20210915-1"]
["PRTRMU_21_00038","PRTRMU-21-00038 - P11_L2-20210923-1",null,"Santander",null,"PRTRMU_21_00143",{"$nulls":4},"PRTRMU_21_00143","Donostia/San Sebastián","P2007400A",8463374,null,null,null,"PRTRMU-21-00030 - P11_L2-20210928-2","Mejoras de itinerarios conectores de diferentes nodos de transporte, para el fomento del cambio modal.",{"$nulls":5},"PRTRMU_21_00226","PRTRMU-21-00226 - P6_L2-20210928-1"]
["PRTRMU_21_00038","PRTRMU-21-00038 - P11_L2-20210923-2",null,"Santander",null,"PRTRMU_21_00144",{"$nulls":4},"PRTRMU_21_00144","Torrejón de Ardoz","P2814800E",2305973.9300000002,null,null,null,"PRTRMU-21-00207 - P11_L2-20210929-1","Suministro de bicicletas eléctricas para el servicio BICICORUÑA y de aparcabicis seguros.",{"$nulls":5},"PRTRMU_21_00186","PRTRMU-21-00186 - P4_L2-20210924-1"]
["PRTRMU_21_00038","PRTRMU-21-00038 - P16_L2-20210923-1",null,"Santander",null,"PRTRMU_21_00147",{"$nulls":4},"PRTRMU_21_00147","Sevilla","P4109100J",23819699.5,null,null,null,"PRTRMU-21-00275 - P11_L2-20210929-1","Mejora de la intermodalidad en la ZBE de la calzada.",{"$nulls":5},"PRTRMU_21_00050","PRTRMU-21-00050 - P9_L2-20210924-1"]
["PRTRMU_21_00038","PRTRMU-21-00038 - P18_L2-20210923-1",null,"Santander",null,"PRTRMU_21_00149",{"$nulls":4},"PRTRMU_21_00149","Guadalajara","P1915500A",3930211.91,null,null,null,"PRTRMU-21-00350 - P11_L2-20220930-1","Urbanización del entorno del Intercambiador del Campus de Can Ruti",{"$nulls":5},"PRTRMU_21_00197","PRTRMU-21-00197 - P5_L4-20210927-1"]
["PRTRMU_21_00038","PRTRMU-21-00038 - P19_L2-20210923-1",null,"Santander",null,"PRTRMU_21_00150",{"$nulls":4},"PRTRMU_21_00150","Avilés","P3300400C",1417320,null,null,null,"PRTRMU-21-00274 - P11_L4-20210929-1","Instalación de aparcamientos seguros para bicicletas.",{"$nulls":5},"PRTRMU_21_00197","PRTRMU-21-00197 - P6_L4-20210927-1"]
["PRTRMU_21_00038","PRTRMU-21-00038 - P04_L2-20210923-1",null,"Santander",null,"PRTRMU_21_00151",{"$nulls":4},"PRTRMU_21_00151","Torrevieja","P0313300F",3421700,null,null,null,"PRTRMU-21-00053 - P12_L1-20210916-1","Bicicleta pública metropolitana.",{"$nulls":5},"PRTRMU_21_00074","PRTRMU-21-00074 - P17_L2-20210916-2"]
["PRTRMU_21_00038","PRTRMU-21-00038 - P06_L2-20210923-1",null,"Santander",null,"PRTRMU_21_00156",{"$nulls":4},"PRTRMU_21_00156","Sant Boi de Llobregat","P0819900B",2363025.94,null,null,null,"PRTRMU-21-00074 - P12_L2-20210916-1","Ampliación y mejora servicio bicicletas público. Renovación logística BICIPALMA y aparcamientos seguros.",{"$nulls":5},"PRTRMU_21_00074","PRTRMU-21-00074 - P18_L2-20210917-1"]
["PRTRMU_21_00038","PRTRMU-21-00038 - P09_L2-20210923-1",null,"Santander",null,"PRTRMU_21_00158",{"$nulls":4},"PRTRMU_21_00158","Cartagena","P3001600J",3824822.8099999996,null,null,null,"PRTRMU-21-00074 - P12_L2-20210916-2","Ampliación y mejora servicio bicicletas público. Renovación y ampliación BICIPALMA.",{"$nulls":5},"PRTRMU_21_00144","PRTRMU-21-00144 - P4_L2-20210928-1"]
["PRTRMU_21_00039","PRTRMU-21-00039 - P01_L2-20210929-1",null,"Reus",null,"PRTRMU_21_00159",{"$nulls":4},"PRTRMU_21_00159","Arrecife","P3500400A",2388529.54,null,null,null,"PRTRMU-21-00020 - P12_L2-20210921-1","Ampliación del sistema público de alquiler de bicicletas.",{"$nulls":5},"PRTRMU_21_00144","PRTRMU-21-00144 - P8_L2-20210928-1"]
["PRTRMU_21_00039","PRTRMU-21-00039 - P12_L2-20210929-1",null,"Reus",null,"PRTRMU_21_00160",{"$nulls":4},"PRTRMU_21_00160","Jaén","P2305000H",1274631.8999999999,null,null,null,"PRTRMU-21-00069 - P12_L2-20210922-1","Ampliación del servicio municipal de alquiler de bicicletas de uso público (Bicinrivas). ",{"$nulls":5},"PRTRMU_21_00168","PRTRMU-21-00168 - P5_L2-20210928-1"]
["PRTRMU_21_00039","PRTRMU-21-00039 - P02_L2-20210929-1",null,"Reus",null,"PRTRMU_21_00162",{"$nulls":4},"PRTRMU_21_00162","Vilassar de Mar","P0821700B",348394.15,null,null,null,"PRTRMU-21-00075 - P12_L2-20210927-1","Implantación del nuevo sistema público de alquiler de bicicletas.",{"$nulls":5},"PRTRMU_21_00075","PRTRMU-21-00075 - P11_L2-20210927-1"]
["PRTRMU_21_00039","PRTRMU-21-00039 - P04_L2-20210929-1",null,"Reus",null,"PRTRMU_21_00163",{"$nulls":4},"PRTRMU_21_00163","Huesca","P2217300I",371900.83,null,null,null,"PRTRMU-21-00129 - P12_L2-20210927-1","Ampliación y transformación tecnológica del sistema Bicimad.",{"$nulls":5},"PRTRMU_21_00075","PRTRMU-21-00075 - P12_L2-20210927-1"]
["PRTRMU_21_00039","PRTRMU-21-00039 - P06_L2-20210929-1",null,"Reus",null,"PRTRMU_21_00167",{"$nulls":4},"PRTRMU_21_00167","Castelló de la Plana","P1204000B",7841880,null,null,null,"PRTRMU-21-00219 - P12_L2-20210927-1","Mejora del sistema público de alquiler de bicicletas compartidas.",{"$nulls":5},"PRTRMU_21_00075","PRTRMU-21-00075 - P18_L2-20210927-1"]
["PRTRMU_21_00039","PRTRMU-21-00039 - P07_L2-20210929-1",null,"Reus",null,"PRTRMU_21_00168",{"$nulls":4},"PRTRMU_21_00168","Segovia","P4022600C",2022304.5799999998,null,null,null,"PRTRMU-21-00198 - P12_L2-20210928-1","Implantación de un sistema de alquiler de bicicleta pública “Eivibicing”.",{"$nulls":5},"PRTRMU_21_00168","PRTRMU-21-00168 - P6_L2-20210928-1"]
["PRTRMU_21_00041","PRTRMU-21-00041 - P16_L2-20210910-1",null,"Mollet del Vallès",null,"PRTRMU_21_00174",{"$nulls":4},"PRTRMU_21_00174","Granollers","P0809500B",2628577.38,null,null,null,"PRTRMU-21-00039 - P12_L2-20210929-1","Servicio de bicicletas compartidas.",{"$nulls":5},"PRTRMU_21_00311","PRTRMU-21-00311 - P17_L3-20210930-1"]
["PRTRMU_21_00041","PRTRMU-21-00041 - P04_L2-20210909-1",null,"Mollet del Vallès",null,"PRTRMU_21_00175",{"$nulls":4},"PRTRMU_21_00175","Tarragona","P4315000B",3003080.67,null,null,null,"PRTRMU-21-00266 - P12_L2-20210929-1","Implantación de sistemas públicos de alquiler de bicicletas eléctricas y servicios de carsharing.",{"$nulls":5},"PRTRMU_21_00168","PRTRMU-21-00168 - P1_L2-20210923-1"]
["PRTRMU_21_00041","PRTRMU-21-00041 - P06_L2-20210910-2",null,"Mollet del Vallès",null,"PRTRMU_21_00176",{"$nulls":4},"PRTRMU_21_00176","Mejorada del Campo","P2808400B",718071.41999999993,null,null,null,"PRTRMU-21-00275 - P12_L2-20210929-1","Implantación sistema público de alquiler de bicicletas en la ZBE y su extensión al resto de Gijón.",{"$nulls":5},"PRTRMU_21_00075","PRTRMU-21-00075 - P1_L2-20210915-1"]
["PRTRMU_21_00041","PRTRMU-21-00041 - P06_L2-20210924-3",null,"Mollet del Vallès",null,"PRTRMU_21_00179",{"$nulls":4},"PRTRMU_21_00179","Albacete","P0200300B",5091647.92,null,null,null,"PRTRMU-21-00302 - P12_L2-20210929-1","Sistema público de alquiler de bicicletas.",{"$nulls":5},"PRTRMU_21_00075","PRTRMU-21-00075 - P6_L2-20210927-1"]
["PRTRMU_21_00043","PRTRMU-21-00043 - P01_L2-20210910-1",null,"Málaga",null,"PRTRMU_21_00182",{"$nulls":4},"PRTRMU_21_00182","Nerja","P2907500I",492202.44,null,null,null,"PRTRMU-21-00285 - P12_L2-20210930-1","Implantación sistema público de alquiler de bicicletas.",{"$nulls":5},"PRTRMU_21_00065","PRTRMU-21-00065 - P1_L2-20210922-1"]
["PRTRMU_21_00043","PRTRMU-21-00043 - P16_L2-20210917-1",null,"Málaga",null,"PRTRMU_21_00186",{"$nulls":4},"PRTRMU_21_00186","Rozas de Madrid (Las)","P2812700I",4325085,null,null,null,"PRTRMU-21-00265 - P12_L3-20210928-1","Prestación del servicio de bicicletas eléctricas de uso compartido en Torrelavega.",{"$nulls":5},"PRTRMU_21_00065","PRTRMU-21-00065 - P2_L2-20210924-1"]
["PRTRMU_21_00043","PRTRMU-21-00043 - P18_L2-20210917-1",null,"Málaga",null,"PRTRMU_21_00188",{"$nulls":4},"PRTRMU_21_00188","Castellar del Vallès","P0805000G",559542.47,null,null,null,"PRTRMU-21-00274 - P12_L4-20210929-1","Implantación de un sistema de préstamo de bicicleta pública.",{"$nulls":5},"PRTRMU_21_00065","PRTRMU-21-00065 - P6_L2-20210922-1"]
["PRTRMU_21_00043","PRTRMU-21-00043 - P02_L2-20210910-1",null,"Málaga",null,"PRTRMU_21_00189",{"$nulls":4},"PRTRMU_21_00189","Murcia","P3003000A",20673135,null,null,null,"PRTRMU-21-00279 - P12_L4-20210929-1","Sistema público de movilidad ciclista en Arteixo (fase 1).",{"$nulls":5},"PRTRMU_21_00065","PRTRMU-21-00065 - P6_L2-20210922-2"]
["PRTRMU_21_00043","PRTRMU-21-00043 - P03_L2-20210910-1",null,"Málaga",null,"PRTRMU_21_00190",{"$nulls":4},"PRTRMU_21_00190","Lleida","P2515100B",6317770.8499999996,null,null,null,"PRTRMU-21-00028 - P13_L2-20210921-1","Actuaciones para la mejora de la distribución urbana de mercancías en Almería.",{"$nulls":5},"PRTRMU_21_00065","PRTRMU-21-00065 - P6_L2-20210922-3"]
["PRTRMU_21_00043","PRTRMU-21-00043 - P04_L2-20210910-1",null,"Málaga",null,"PRTRMU_21_00191",{"$nulls":4},"PRTRMU_21_00191","Ávila","P0501900E",1269000,null,null,null,"PRTRMU-21-00139 - P13_L2-20210922-1","Plataforma logística de distribución de mercancías en el casco histórico de Santiago de Compostela.",{"$nulls":5},"PRTRMU_21_00065","PRTRMU-21-00065 - P7_L2-20210922-1"]
["PRTRMU_21_00043","PRTRMU-21-00043 - P08_L2-20210922-1",null,"Málaga",null,"PRTRMU_21_00197",{"$nulls":4},"PRTRMU_21_00197","Águilas","P3000300H",818181.81,null,null,null,"PRTRMU-21-00030 - P13_L2-20210928-1","Control de uso y monitorización de las zonas de Descarga Urbana de Mercancías (Zonas DUM).",{"$nulls":5},"PRTRMU_21_00065","PRTRMU-21-00065 - P8_L2-20210922-1"]
["PRTRMU_21_00045","PRTRMU-21-00045 - P03_L2-20210924-1",null,"Benalmádena",null,"PRTRMU_21_00198",{"$nulls":4},"PRTRMU_21_00198","Eivissa","P0702600H",1721718.86,null,null,null,"PRTRMU-21-00249 - P13_L2-20210928-1","Gestión de la DUM en la ZBE de Benidorm.",{"$nulls":5},"PRTRMU_21_00225","PRTRMU-21-00225 - P19_L1-20210927-1"]
["PRTRMU_21_00045","PRTRMU-21-00045 - P04_L2-20210924-1",null,"Benalmádena",null,"PRTRMU_21_00199",{"$nulls":4},"PRTRMU_21_00199","Eibar","P2003100A",1249605,null,null,null,"PRTRMU-21-00239 - P13_L2-20210929-1","Regulación de la DUM en ZBE en Alicante.",{"$nulls":5},"PRTRMU_21_00069","PRTRMU-21-00069 - P12_L2-20210922-1"]
["PRTRMU_21_00045","PRTRMU-21-00045 - P07_L2-20210924-1",null,"Benalmádena",null,"PRTRMU_21_00200",{"$nulls":4},"PRTRMU_21_00200","Sant Feliu de Llobregat","P0821000G",2046015,null,null,null,"PRTRMU-21-00064 - P13_L4-20210920-1","Plataforma de ciclologística para la distribución de urbana de mercancías de última milla.",{"$nulls":5},"PRTRMU_21_00069","PRTRMU-21-00069 - P1_L2-20210921-1"]
["PRTRMU_21_00046","PRTRMU-21-00046 - P06_L4-20210910-1",null,"Loja",null,"PRTRMU_21_00201",{"$nulls":4},"PRTRMU_21_00201","Alcázar de San Juan","P1300500D",306340.34000000003,null,null,null,"PRTRMU-21-00055 - P14_L2-20210913-1","Rehabilitación de las infraestructuras e instalaciones de la Fase 1 de la línea de tranvía de Vélez-Málaga.",{"$nulls":5},"PRTRMU_21_00069","PRTRMU-21-00069 - P4_L2-20210922-1"]
["PRTRMU_21_00049","PRTRMU-21-00049 - P07_L2-20210915-1",null,"Utrera",null,"PRTRMU_21_00202",{"$nulls":4},"PRTRMU_21_00202","Getxo","P4805300C",3497603.02,null,null,null,"PRTRMU-21-00055 - P15_L2-20210913-1","Adquisición de material rodante para la infraestructura del tranvía.",{"$nulls":5},"PRTRMU_21_00069","PRTRMU-21-00069 - P5_L2-20210922-1"]
["PRTRMU_21_00049","PRTRMU-21-00049 - P07_L2-20210924-2",null,"Utrera",null,"PRTRMU_21_00204",{"$nulls":4},"PRTRMU_21_00204","Torremolinos","P2910300I",1978833.71,null,null,null,"PRTRMU-21-00114 - P15_L2-20210921-1","Compra de material rodante ferroviario para el servicio público de la Línea 1 Tranvía de Zaragoza.",{"$nulls":5},"PRTRMU_21_00069","PRTRMU-21-00069 - P7_L2-20210922-1"]
["PRTRMU_21_00050","PRTRMU-21-00050 - P09_L2-20210924-1",null,"Línea de la Concepción (La)",null,"PRTRMU_21_00205",{"$nulls":4},"PRTRMU_21_00205","Sabadell","P0818600I",8088261.1900000004,null,null,null,"PRTRMU-21-00147 - P15_L2-20210928-1","Adquisición de unidades tranviarias para la ampliación de Metrocentro entre San Bernardo y Nervión.",{"$nulls":5},"PRTRMU_21_00069","PRTRMU-21-00069 - P7_L2-20210922-2"]
["PRTRMU_21_00052","PRTRMU-21-00052 - P16_L2-20210920-1",null,"Irun",null,"PRTRMU_21_00206",{"$nulls":4},"PRTRMU_21_00206","Ponferrada","P2411800B",2468127.6,null,null,null,"PRTRMU-21-00053 - P16_L1-20210916-1","Adquisición de buses para gestión indirecta.",{"$nulls":5},"PRTRMU_21_00026","PRTRMU-21-00026 - P7_L2-20210907-1"]
["PRTRMU_21_00052","PRTRMU-21-00052 - P17_L2-20210920-1",null,"Irun",null,"PRTRMU_21_00207",{"$nulls":4},"PRTRMU_21_00207","Coruña (A)","P1503000J",10948605.15,null,null,null,"PRTRMU-21-00053 - P16_L1-20210916-2","Adquisición de nueva flota de autobuses eléctricos para TMB.",{"$nulls":5},"PRTRMU_21_00026","PRTRMU-21-00026 - P7_L2-20210907-2"]
["PRTRMU_21_00052","PRTRMU-21-00052 - P18_L2-20210927-1",null,"Irun",null,"PRTRMU_21_00208",{"$nulls":4},"PRTRMU_21_00208","Sant Adrià de Besòs","P0819300E",1320000,null,null,null,"PRTRMU-21-00135 - P16_L1-20210929-1","Adquisición de 20 autobuses eléctricos (BEV) de 12 metros.",{"$nulls":5},"PRTRMU_21_00026","PRTRMU-21-00026 - P7_L2-20210913-1"]
["PRTRMU_21_00052","PRTRMU-21-00052 - P07_L2-20210920-1",null,"Irun",null,"PRTRMU_21_00210",{"$nulls":4},"PRTRMU_21_00210","Soria","P4227700D",1786160.26,null,null,null,"PRTRMU-21-00041 - P16_L2-20210910-1","Adquisición de autobús eléctrico para la flota de transporte público de la ciudad.",{"$nulls":5},"PRTRMU_21_00069","PRTRMU-21-00069 - P8_L2-20210922-1"]
["PRTRMU_21_00052","PRTRMU-21-00052 - P07_L2-20210924-2",null,"Irun",null,"PRTRMU_21_00211",{"$nulls":4},"PRTRMU_21_00211","Fuengirola","P2905400D",426000,null,null,null,"PRTRMU-21-00021 - P16_L2-20210913-1","Adquisición 7 autobuses eléctricos renovación flota EMT Fuenlabrada.",{"$nulls":5},"PRTRMU_21_00030","PRTRMU-21-00030 - P10_L2-20210928-1"]
["PRTRMU_21_00052","PRTRMU-21-00052 - P07_L2-20210924-3",null,"Irun",null,"PRTRMU_21_00212",{"$nulls":4},"PRTRMU_21_00212","Elche/Elx","P0306500J",3946909.3,null,null,null,"PRTRMU-21-00066 - P16_L2-20210915-1","Autobuses eléctricos.",{"$nulls":5},"PRTRMU_21_00030","PRTRMU-21-00030 - P11_L2-20210928-1"]
["PRTRMU_21_00053","PRTRMU-21-00053 - P01_L1-20210916-1",null,"Área Metropolitana de Barcelona",null,"PRTRMU_21_00213",{"$nulls":4},"PRTRMU_21_00213","Estepona","P2905100J",1537678,null,null,null,"PRTRMU-21-00074 - P16_L2-20210916-1","Compra autobuses eléctricos.",{"$nulls":5},"PRTRMU_21_00030","PRTRMU-21-00030 - P11_L2-20210928-2"]
["PRTRMU_21_00053","PRTRMU-21-00053 - P10_L1-20210916-1",null,"Área Metropolitana de Barcelona",null,"PRTRMU_21_00217",{"$nulls":4},"PRTRMU_21_00217","Lucena","P1403800D",846218.14,null,null,null,"PRTRMU-21-00074 - P16_L2-20210916-2","Compra camiones eléctricos de recogida de residuos.",{"$nulls":5},"PRTRMU_21_00030","PRTRMU-21-00030 - P13_L2-20210928-1"]
["PRTRMU_21_00053","PRTRMU-21-00053 - P11_L1-20210916-1",null,"Área Metropolitana de Barcelona",null,"PRTRMU_21_00218",{"$nulls":4},"PRTRMU_21_00218","Paterna","P4619200A",747459.7,null,null,null,"PRTRMU-21-00043 - P16_L2-20210917-1","Renovación de la flota de autobuses urbanos de tecnología diésel por vehículos BEV.",{"$nulls":5},"PRTRMU_21_00030","PRTRMU-21-00030 - P2_L2-20210927-1"]
["PRTRMU_21_00053","PRTRMU-21-00053 - P12_L1-20210916-1",null,"Área Metropolitana de Barcelona",null,"PRTRMU_21_00219",{"$nulls":4},"PRTRMU_21_00219","Torrent","P4624600E",3183900.0700000003,null,null,null,"PRTRMU-21-00052 - P16_L2-20210920-1","Adquisición de 4 autobuses eléctricos - línea 2.",{"$nulls":5},"PRTRMU_21_00030","PRTRMU-21-00030 - P5_L2-20210928-1"]
["PRTRMU_21_00053","PRTRMU-21-00053 - P16_L1-20210916-1",null,"Área Metropolitana de Barcelona",null,"PRTRMU_21_00225",{"$nulls":4},"PRTRMU_21_00225","Agrupación de Valladolid","P4718700J",24934031,null,null,null,"PRTRMU-21-00020 - P16_L2-20210921-1","Adquisición de dos autobuses eléctricos.",{"$nulls":5},"PRTRMU_21_00030","PRTRMU-21-00030 - P6_L2-20210928-1"]
["PRTRMU_21_00053","PRTRMU-21-00053 - P16_L1-20210916-2",null,"Área Metropolitana de Barcelona",null,"PRTRMU_21_00226",{"$nulls":4},"PRTRMU_21_00226","Rubí","P0818300F",1940112.93,null,null,null,"PRTRMU-21-00114 - P16_L2-20210921-1","Adquisición de 68 autobuses eléctricos para la flota de transporte público.",{"$nulls":5},"PRTRMU_21_00030","PRTRMU-21-00030 - P6_L2-20210928-2"]
["PRTRMU_21_00053","PRTRMU-21-00053 - P17_L1-20210916-1",null,"Área Metropolitana de Barcelona",null,"PRTRMU_21_00227",{"$nulls":4},"PRTRMU_21_00227","Torrelodones","P2815200G",909166.5,null,null,null,"PRTRMU-21-00038 - P16_L2-20210923-1","Compra de autobuses eléctricos.",{"$nulls":5},"PRTRMU_21_00030","PRTRMU-21-00030 - P7_L2-20210928-1"]
["PRTRMU_21_00053","PRTRMU-21-00053 - P18_L1-20210916-1",null,"Área Metropolitana de Barcelona",null,"PRTRMU_21_00229",{"$nulls":4},"PRTRMU_21_00229","Oviedo","P3304400I",3690000,null,null,null,"PRTRMU-21-00151 - P16_L2-20210923-1","Adquisición vehículos 0 emisiones.",{"$nulls":5},"PRTRMU_21_00167","PRTRMU-21-00167 - P1_L2-20210924-1"]
["PRTRMU_21_00053","PRTRMU-21-00053 - P18_L1-20210916-2",null,"Área Metropolitana de Barcelona",null,"PRTRMU_21_00231",{"$nulls":4},"PRTRMU_21_00231","Talavera de la Reina","P4516600F",2426481,null,null,null,"PRTRMU-21-00026 - P16_L2-20210924-1","Adquisición de 12 autobuses eléctricos.",{"$nulls":5},"PRTRMU_21_00167","PRTRMU-21-00167 - P2_L2-20210924-1"]
["PRTRMU_21_00053","PRTRMU-21-00053 - P18_L1-20210916-3",null,"Área Metropolitana de Barcelona",null,"PRTRMU_21_00233",{"$nulls":4},"PRTRMU_21_00233","Palencia","P3412000F",3516480,null,null,null,"PRTRMU-21-00102 - P16_L2-20210926-1","Compra guaguas 100% eléctricas para servicio urbano.",{"$nulls":5},"PRTRMU_21_00079","PRTRMU-21-00079 - P5_L4-20210928-1"]
["PRTRMU_21_00053","PRTRMU-21-00053 - P18_L1-20210916-4",null,"Área Metropolitana de Barcelona",null,"PRTRMU_21_00236",{"$nulls":4},"PRTRMU_21_00236","Alcobendas","P2800600E",2736520,null,null,null,"PRTRMU-21-00107 - P16_L2-20210927-1","Electrificación del transporte público (compra de vehículos).",{"$nulls":5},"PRTRMU_21_00159","PRTRMU-21-00159 - P6_L2-20210923-1"]
["PRTRMU_21_00053","PRTRMU-21-00053 - P18_L1-20210916-5",null,"Área Metropolitana de Barcelona",null,"PRTRMU_21_00239",{"$nulls":4},"PRTRMU_21_00239","Alicante/Alacant","P0301400H",15038190,null,null,null,"PRTRMU-21-00128 - P16_L2-20210927-1","Incorporación de 8 vehículos 100% eléctrico a la flota del servicio de transporte urbano Bilbobus.",{"$nulls":5},"PRTRMU_21_00159","PRTRMU-21-00159 - P7_L2-20210923-1"]
["PRTRMU_21_00053","PRTRMU-21-00053 - P19_L1-20210916-1",null,"Área Metropolitana de Barcelona",null,"PRTRMU_21_00243",{"$nulls":4},"PRTRMU_21_00243","Santurtzi","P4809500D",1964812,null,null,null,"PRTRMU-21-00129 - P16_L2-20210927-1","Renovación de la flota de EMT con autobuses 100% eléctricos.",{"$nulls":5},"PRTRMU_21_00159","PRTRMU-21-00159 - P7_L2-20210923-2"]
["PRTRMU_21_00053","PRTRMU-21-00053 - P19_L1-20210916-2",null,"Área Metropolitana de Barcelona",null,"PRTRMU_21_00244",{"$nulls":4},"PRTRMU_21_00244","Alcalá de Guadaíra","P4100400C",2330036,null,null,null,"PRTRMU-21-00212 - P16_L2-20210927-1","Proyecto renovación y ampliación de 8 autobuses eléctricos flota servicio urbano de transporte.",{"$nulls":5},"PRTRMU_21_00159","PRTRMU-21-00159 - P7_L2-20210923-3"]
["PRTRMU_21_00053","PRTRMU-21-00053 - P02_L1-20210916-1",null,"Área Metropolitana de Barcelona",null,"PRTRMU_21_00245",{"$nulls":4},"PRTRMU_21_00245","Vilanova i la Geltrú","P0830800I",3046005.71,null,null,null,"PRTRMU-21-00030 - P16_L2-20210928-1","Adquisición de vehículos pesados, eléctricos, para la recogida de vehículos y limpieza urbana. ",{"$nulls":5},"PRTRMU_21_00167","PRTRMU-21-00167 - P7_L2-20210924-1"]
["PRTRMU_21_00053","PRTRMU-21-00053 - P04_L1-20210916-1",null,"Área Metropolitana de Barcelona",null,"PRTRMU_21_00246",{"$nulls":4},"PRTRMU_21_00246","Teruel","P4422900C",1630800,null,null,null,"PRTRMU-21-00037 - P16_L2-20210928-1","Electrificación de una parte de la flota de transporte público urbano.",{"$nulls":5},"PRTRMU_21_00103","PRTRMU-21-00103 - P18_L4-20210928-1"]
["PRTRMU_21_00053","PRTRMU-21-00053 - P04_L1-20210916-2",null,"Área Metropolitana de Barcelona",null,"PRTRMU_21_00248",{"$nulls":4},"PRTRMU_21_00248","Santa Lucía de Tirajana","P3502300A",1868316.16,null,null,null,"PRTRMU-21-00082 - P16_L2-20210928-1","Adquisición de autobuses eléctricos para la flota del transporte público urbano.",{"$nulls":5},"PRTRMU_21_00118","PRTRMU-21-00118 - P1_L2-20210921-1"]
["PRTRMU_21_00053","PRTRMU-21-00053 - P05_L1-20210916-1",null,"Área Metropolitana de Barcelona",null,"PRTRMU_21_00249",{"$nulls":4},"PRTRMU_21_00249","Benidorm","P0303100B",3170250,null,null,null,"PRTRMU-21-00147 - P16_L2-20210928-1","Adquisición de autobuses articulados 100% eléctricos para la nueva línea de alta capacidad.",{"$nulls":5},"PRTRMU_21_00118","PRTRMU-21-00118 - P6_L2-20210929-1"]
["PRTRMU_21_00054","PRTRMU-21-00054 - P01_L2-20210928-1",null,"Ciudad Real",null,"PRTRMU_21_00252",{"$nulls":4},"PRTRMU_21_00252","Hernani","P2004300F",208433,null,null,null,"PRTRMU-21-00158 - P16_L2-20210928-1","Adquisición bus eléctrico para transporte público urbano.",{"$nulls":5},"PRTRMU_21_00103","PRTRMU-21-00103 - P6_L4-20210928-1"]
["PRTRMU_21_00054","PRTRMU-21-00054 - P01_L2-20210928-2",null,"Ciudad Real",null,"PRTRMU_21_00253",{"$nulls":4},"PRTRMU_21_00253","Badajoz","P0601500B",3103891.2,null,null,null,"PRTRMU-21-00175 - P16_L2-20210928-1","Adquisición de tres autobuses impulsado por hidrógeno.",{"$nulls":5},"PRTRMU_21_00089","PRTRMU-21-00089 - P17_L3-20210917-1"]
["PRTRMU_21_00054","PRTRMU-21-00054 - P06_L2-20210928-2",null,"Ciudad Real",null,"PRTRMU_21_00254",{"$nulls":4},"PRTRMU_21_00254","Siero","P3306600B",2144711.9700000002,null,null,null,"PRTRMU-21-00190 - P16_L2-20210928-1","Adquisición autobuses eléctricos.",{"$nulls":5},"PRTRMU_21_00089","PRTRMU-21-00089 - P18_L3-20210917-4"]
["PRTRMU_21_00054","PRTRMU-21-00054 - P06_L2-20210928-3",null,"Ciudad Real",null,"PRTRMU_21_00255",{"$nulls":4},"PRTRMU_21_00255","Córdoba","P1402100J",11014615,null,null,null,"PRTRMU-21-00239 - P16_L2-20210928-1","Adquisición de vehículos eléctricos de Transporte Público.",{"$nulls":5},"PRTRMU_21_00089","PRTRMU-21-00089 - P6_L3-20210917-1"]
["PRTRMU_21_00055","PRTRMU-21-00055 - P14_L2-20210913-1",null,"Vélez-Málaga",null,"PRTRMU_21_00258",{"$nulls":4},"PRTRMU_21_00258","Sant Andreu de la Barca","P0819500J",811305,null,null,null,"PRTRMU-21-00249 - P16_L2-20210928-1","Adquisición de autobuses eléctricos.",{"$nulls":5},"PRTRMU_21_00174","PRTRMU-21-00174 - P4_L2-20210924-1"]
["PRTRMU_21_00055","PRTRMU-21-00055 - P15_L2-20210913-1",null,"Vélez-Málaga",null,"PRTRMU_21_00260",{"$nulls":4},"PRTRMU_21_00260","Palmas de Gran Canaria (Las)","P3501700C",6390000,null,null,null,"PRTRMU-21-00255 - P16_L2-20210928-1","Adquisición de vehículos propulsados por hidrogeno y flota servicio público municipal.",{"$nulls":5},"PRTRMU_21_00174","PRTRMU-21-00174 - P6_L2-20210924-1"]
["PRTRMU_21_00057","PRTRMU-21-00057 - P16_L4-20210928-1",null,"Rota",null,"PRTRMU_21_00262",{"$nulls":4},"PRTRMU_21_00262","San Vicente del Raspeig/Sant Vicent del Raspeig","P0312200I",1848600,null,null,null,"PRTRMU-21-00260 - P16_L2-20210928-1","Adquisición de 4 vehículos 100% eléctricos de 12 metros.",{"$nulls":5},"PRTRMU_21_00174","PRTRMU-21-00174 - P7_L2-20210924-1"]
["PRTRMU_21_00057","PRTRMU-21-00057 - P18_L4-20210928-1",null,"Rota",null,"PRTRMU_21_00264",{"$nulls":4},"PRTRMU_21_00264","San Fernando","P1103100B",4200000,null,null,null,"PRTRMU-21-00030 - P16_L2-20210928-2","Adquisición de autobuses para la flota de transporte público de la empresa Transportes Metropolitano.",{"$nulls":5},"PRTRMU_21_00174","PRTRMU-21-00174 - P7_L2-20210924-2"]
["PRTRMU_21_00057","PRTRMU-21-00057 - P07_L4-20210928-1",null,"Rota",null,"PRTRMU_21_00265",{"$nulls":4},"PRTRMU_21_00265","Torrelavega","P3908700B",1547910,null,null,null,"PRTRMU-21-00260 - P16_L2-20210928-2","Adquisición de 1 vehículo de pila de combustible de hidrógeno de 12 metros.",{"$nulls":5},"PRTRMU_21_00122","PRTRMU-21-00122 - P4_L4-20210927-1"]
["PRTRMU_21_00058","PRTRMU-21-00058 - P04_L2-20210915-1",null,"Pozuelo de Alarcón",null,"PRTRMU_21_00266",{"$nulls":4},"PRTRMU_21_00266","Linares","P2305500G",2191809,null,null,null,"PRTRMU-21-00087 - P16_L2-20210929-1","Adquisición de un bus eléctrico.",{"$nulls":5},"PRTRMU_21_00229","PRTRMU-21-00229 - P17_L2-20210928-1"]
["PRTRMU_21_00058","PRTRMU-21-00058 - P04_L2-20210916-2",null,"Pozuelo de Alarcón",null,"PRTRMU_21_00267",{"$nulls":4},"PRTRMU_21_00267","Mérida","P0608300J",2679660,null,null,null,"PRTRMU-21-00143 - P16_L2-20210929-1","Renovación de la flota de autobuses de transporte público para continuar con su transformación sostenible.",{"$nulls":5},"PRTRMU_21_00175","PRTRMU-21-00175 - P18_L2-20210928-1"]
["PRTRMU_21_00058","PRTRMU-21-00058 - P06_L2-20210917-1",null,"Pozuelo de Alarcón",null,"PRTRMU_21_00274",{"$nulls":4},"PRTRMU_21_00274","Castro-Urdiales","P3902000C",1438722.46,null,null,null,"PRTRMU-21-00213 - P16_L2-20210929-1","Mejora de la eficiencia energética mediante la adquisición vehículos eléctricos para el transporte público.",{"$nulls":5},"PRTRMU_21_00245","PRTRMU-21-00245 - P4_L2-20210928-1"]
["PRTRMU_21_00058","PRTRMU-21-00058 - P06_L2-20210917-2",null,"Pozuelo de Alarcón",null,"PRTRMU_21_00275",{"$nulls":4},"PRTRMU_21_00275","Gijón","P3302400A",6926478.5199999996,null,null,null,"PRTRMU-21-00253 - P16_L2-20210929-1","Renovación de autobuses transporte urbano.",{"$nulls":5},"PRTRMU_21_00175","PRTRMU-21-00175 - P6_L2-20210928-2"]
["PRTRMU_21_00060","PRTRMU-21-00060 - P01_L2-20210924-1",null,"Pinto",null,"PRTRMU_21_00277",{"$nulls":4},"PRTRMU_21_00277","Lloret de Mar","P1710200E",924666.86,null,null,null,"PRTRMU-21-00284 - P16_L2-20210929-1","Adquisición de autobuses eléctricos.",{"$nulls":5},"PRTRMU_21_00175","PRTRMU-21-00175 - P6_L2-20210929-1"]
["PRTRMU_21_00060","PRTRMU-21-00060 - P02_L2-20210924-1",null,"Pinto",null,"PRTRMU_21_00279",{"$nulls":4},"PRTRMU_21_00279","Arteixo","P1500500B",702000,null,null,null,"PRTRMU-21-00286 - P16_L2-20210929-1","Adquisición de 20 autobuses eléctricos. ",{"$nulls":5},"PRTRMU_21_00227","PRTRMU-21-00227 - P7_L4-20210928-1"]
["PRTRMU_21_00060","PRTRMU-21-00060 - P06_L2-20210924-1",null,"Pinto",null,"PRTRMU_21_00283",{"$nulls":4},"PRTRMU_21_00283","Agrupación de Sevilla","P4109100J",18142667.43,null,null,null,"PRTRMU-21-00143 - P16_L2-20210929-2","Electrificación de un 25% de la flota de camiones de recogida de residuos.",{"$nulls":5},"PRTRMU_21_00227","PRTRMU-21-00227 - P7_L4-20210928-3"]
["PRTRMU_21_00062","PRTRMU-21-00062 - P06_L4-20210929-1",null,"Vall d'Uixó (la)",null,"PRTRMU_21_00284",{"$nulls":4},"PRTRMU_21_00284","Ourense","P3205500F",4753935,null,null,null,"PRTRMU-21-00236 - P16_L2-20210930-1","Compra de autobús autónomo y eléctrico.",{"$nulls":5},"PRTRMU_21_00175","PRTRMU-21-00175 - P9_L2-20210928-1"]
["PRTRMU_21_00063","PRTRMU-21-00063 - P01_L2-20210927-1",null,"Chiclana de la Frontera",null,"PRTRMU_21_00285",{"$nulls":4},"PRTRMU_21_00285","Collado Villalba","P2804700I",625358.25,null,null,null,"PRTRMU-21-00236 - P16_L2-20210930-2","Compra de camión eléctrico de recogida lateral de residuo.",{"$nulls":5},"PRTRMU_21_00175","PRTRMU-21-00175 - P9_L2-20210928-2"]
["PRTRMU_21_00063","PRTRMU-21-00063 - P11_L2-20210927-1",null,"Chiclana de la Frontera",null,"PRTRMU_21_00286",{"$nulls":4},"PRTRMU_21_00286","València","P4625200C",35078167.449999996,null,null,null,"PRTRMU-21-00349 - P16_L2-20211223-1","Inversión en vehículos para la recogida de residuos urbanos.",{"$nulls":5},"PRTRMU_21_00200","PRTRMU-21-00200 - P6_L4-20210927-1"]
["PRTRMU_21_00063","PRTRMU-21-00063 - P06_L2-20210927-1",null,"Chiclana de la Frontera",null,"PRTRMU_21_00287",{"$nulls":4},"PRTRMU_21_00287","València","P4625200C",3327775.73,null,null,null,"PRTRMU-21-00089 - P16_L3-20210917-1","Compra autobuses eléctricos.",{"$nulls":5},"PRTRMU_21_00200","PRTRMU-21-00200 - P6_L4-20210927-2"]
["PRTRMU_21_00063","PRTRMU-21-00063 - P06_L2-20210927-2",null,"Chiclana de la Frontera",null,"PRTRMU_21_00291",{"$nulls":4},"PRTRMU_21_00291","Gáldar","P3500900J",648000,null,null,null,"PRTRMU-21-00311 - P16_L3-20210930-1","Adquisición de 4 autobuses eléctricos para la flota de transporte público.",{"$nulls":5},"PRTRMU_21_00299","PRTRMU-21-00299 - P4_L4-20210929-1"]
["PRTRMU_21_00063","PRTRMU-21-00063 - P07_L2-20210927-1",null,"Chiclana de la Frontera",null,"PRTRMU_21_00293",{"$nulls":4},"PRTRMU_21_00293","Baza","P1802400J",711000,null,null,null,"PRTRMU-21-00064 - P16_L4-20210920-1","Electrificación de la flota de autobuses urbanos de Esplugues de Llobregat.",{"$nulls":5},"PRTRMU_21_00200","PRTRMU-21-00200 - P5_L4-20210927-1"]
["PRTRMU_21_00064","PRTRMU-21-00064 - P13_L4-20210920-1",null,"Esplugues de Llobregat",null,"PRTRMU_21_00295",{"$nulls":4},"PRTRMU_21_00295","Conil de la Frontera","P1101400H",1024875,null,null,null,"PRTRMU-21-00138 - P16_L4-20210922-1","Valdepeñas cero emisiones.",{"$nulls":5},"PRTRMU_21_00200","PRTRMU-21-00200 - P6_L4-20210927-3"]
["PRTRMU_21_00064","PRTRMU-21-00064 - P16_L4-20210920-1",null,"Esplugues de Llobregat",null,"PRTRMU_21_00299",{"$nulls":4},"PRTRMU_21_00299","Torre-Pacheco","P3003700F",1640880,null,null,null,"PRTRMU-21-00208 - P16_L4-20210927-1","Adquisición de autobuses urbanos propulsados por energías limpias.",{"$nulls":5},"PRTRMU_21_00200","PRTRMU-21-00200 - P6_L4-20210927-4"]
["PRTRMU_21_00064","PRTRMU-21-00064 - P17_L4-20210920-1",null,"Esplugues de Llobregat",null,"PRTRMU_21_00302",{"$nulls":4},"PRTRMU_21_00302","Cádiz","P1101200B",3863867.35,null,null,null,"PRTRMU-21-00057 - P16_L4-20210928-1","Adquisición de autobús eléctrico.",{"$nulls":5},"PRTRMU_21_00255","PRTRMU-21-00255 - P8_L2-20210928-1"]
["PRTRMU_21_00064","PRTRMU-21-00064 - P04_L4-20210920-1",null,"Esplugues de Llobregat",null,"PRTRMU_21_00306",{"$nulls":4},"PRTRMU_21_00306","Valle de Egüés/Eguesibar","P3108500D",963810,null,null,null,"PRTRMU-21-00103 - P16_L4-20210928-1","Adquisición de autobuses para transporte público.",{"$nulls":5},"PRTRMU_21_00336","PRTRMU-21-00336 - P1_L2-20210930-1"]
["PRTRMU_21_00064","PRTRMU-21-00064 - P06_L4-20210920-1",null,"Esplugues de Llobregat",null,"PRTRMU_21_00307",{"$nulls":4},"PRTRMU_21_00307","Melilla","S7900010E",3391642.69,null,null,null,"PRTRMU-21-00053 - P17_L1-20210916-1","Electrificación del transporte público de gestión indirecta.",{"$nulls":5},"PRTRMU_21_00336","PRTRMU-21-00336 - P2_L2-20210930-1"]
["PRTRMU_21_00064","PRTRMU-21-00064 - P06_L4-20210920-2",null,"Esplugues de Llobregat",null,"PRTRMU_21_00308",{"$nulls":4},"PRTRMU_21_00308","Realejos (Los)","P3803100A",360000,null,null,null,"PRTRMU-21-00135 - P17_L1-20210929-1","Instalación de 20 puntos de carga lenta de 90 kw cada uno y adaptación de cocheras para este fin.",{"$nulls":5},"PRTRMU_21_00336","PRTRMU-21-00336 - P4_L2-20210930-1"]
["PRTRMU_21_00064","PRTRMU-21-00064 - P07_L4-20210920-1",null,"Esplugues de Llobregat",null,"PRTRMU_21_00309",{"$nulls":4},"PRTRMU_21_00309","Cuenca","P1607900F",201054.6,null,null,null,"PRTRMU-21-00021 - P17_L2-20210913-1","Equipos de recarga eléctrica autobuses.",{"$nulls":5},"PRTRMU_21_00336","PRTRMU-21-00336 - P7_L2-20210930-2"]
["PRTRMU_21_00064","PRTRMU-21-00064 - P08_L4-20210920-1",null,"Esplugues de Llobregat",null,"PRTRMU_21_00311",{"$nulls":4},"PRTRMU_21_00311","Segovia","P4022600C",1430000,null,null,null,"PRTRMU-21-00066 - P17_L2-20210916-1","Puntos de carga.",{"$nulls":5},"PRTRMU_21_00255","PRTRMU-21-00255 - P1_L2-20210928-1"]
["PRTRMU_21_00065","PRTRMU-21-00065 - P01_L2-20210922-1",null,"Terrassa",null,"PRTRMU_21_00316",{"$nulls":4},"PRTRMU_21_00316","Yecla","P3004300D",1551150,null,null,null,"PRTRMU-21-00074 - P17_L2-20210916-1","Electrolinera asociada autobuses.",{"$nulls":5},"PRTRMU_21_00055","PRTRMU-21-00055 - P14_L2-20210913-1"]
["PRTRMU_21_00065","PRTRMU-21-00065 - P02_L2-20210924-1",null,"Terrassa",null,"PRTRMU_21_00317",{"$nulls":4},"PRTRMU_21_00317","Lebrija","P4105300J",564628.61,null,null,null,"PRTRMU-21-00074 - P17_L2-20210916-2","Electrolinera asociada a camiones eléctricos.",{"$nulls":5},"PRTRMU_21_00055","PRTRMU-21-00055 - P15_L2-20210913-1"]
["PRTRMU_21_00065","PRTRMU-21-00065 - P06_L2-20210922-1",null,"Terrassa",null,"PRTRMU_21_00329",{"$nulls":4},"PRTRMU_21_00329","Sagunto/Sagunt","P4622200F",1997684,null,null,null,"PRTRMU-21-00052 - P17_L2-20210920-1","Sistema de carga para los autobuses eléctricos.",{"$nulls":5},"PRTRMU_21_00156","PRTRMU-21-00156 - P1_L2-20210924-1"]
["PRTRMU_21_00065","PRTRMU-21-00065 - P06_L2-20210922-2",null,"Terrassa",null,"PRTRMU_21_00330",{"$nulls":4},"PRTRMU_21_00330","Elda","P0306600H",1438415.21,null,null,null,"PRTRMU-21-00114 - P17_L2-20210921-1","Electrificación del centro de operaciones del transporte en autobuses. ",{"$nulls":5},"PRTRMU_21_00162","PRTRMU-21-00162 - P5_L4-20210923-1"]
["PRTRMU_21_00065","PRTRMU-21-00065 - P06_L2-20210922-3",null,"Terrassa",null,"PRTRMU_21_00331",{"$nulls":4},"PRTRMU_21_00331","Mislata","P4617100E",912237.48,null,null,null,"PRTRMU-21-00151 - P17_L2-20210923-1","Estación de carga para 12 vehículos eléctricos.",{"$nulls":5},"PRTRMU_21_00156","PRTRMU-21-00156 - P9_L2-20210924-1"]
["PRTRMU_21_00065","PRTRMU-21-00065 - P07_L2-20210922-1",null,"Terrassa",null,"PRTRMU_21_00332",{"$nulls":4},"PRTRMU_21_00332","Santa Perpètua de Mogoda","P0826000B",782533.51,null,null,null,"PRTRMU-21-00132 - P17_L2-20210924-1","Ampliación del centro de movilidad eléctrica.",{"$nulls":5},"PRTRMU_21_00082","PRTRMU-21-00082 - P17_L2-20210928-1"]
["PRTRMU_21_00065","PRTRMU-21-00065 - P08_L2-20210922-1",null,"Terrassa",null,"PRTRMU_21_00333",{"$nulls":4},"PRTRMU_21_00333","Lorca","P3002400D",225000,null,null,null,"PRTRMU-21-00102 - P17_L2-20210926-1","Instalaciones auxiliares de las guaguas 100% eléctricas.",{"$nulls":5},"PRTRMU_21_00082","PRTRMU-21-00082 - P18_L2-20210928-1"]
["PRTRMU_21_00066","PRTRMU-21-00066 - P01_L2-20210915-1",null,"Granada",null,"PRTRMU_21_00335",{"$nulls":4},"PRTRMU_21_00335","Agrupación de Donostia/San Sebastián","P2007400A",20956500,null,null,null,"PRTRMU-21-00128 - P17_L2-20210927-1","Instalación de electrolineras en las Cocheras del Servicio Bilbobus para carga de 8 nuevos vehículos.",{"$nulls":5},"PRTRMU_21_00329","PRTRMU-21-00329 - P4_L2-20210930-1"]
["PRTRMU_21_00066","PRTRMU-21-00066 - P16_L2-20210915-1",null,"Granada",null,"PRTRMU_21_00336",{"$nulls":4},"PRTRMU_21_00336","León","P2409100A",5386420,null,null,null,"PRTRMU-21-00129 - P17_L2-20210927-1","Electrificación del Centro de Operaciones de Carabanchel.",{"$nulls":5},"PRTRMU_21_00188","PRTRMU-21-00188 - P4_L4-20210928-1"]
["PRTRMU_21_00066","PRTRMU-21-00066 - P17_L2-20210916-1",null,"Granada",null,"PRTRMU_21_00337",{"$nulls":4},"PRTRMU_21_00337","Barañáin/Barañain","P3138600F",907515,null,null,null,"PRTRMU-21-00205 - P17_L2-20210927-1","Adaptación de cocheras del transporte público e instalación de puntos de recarga.",{"$nulls":5},"PRTRMU_21_00329","PRTRMU-21-00329 - P5_L2-20210930-1"]
["PRTRMU_21_00066","PRTRMU-21-00066 - P18_L2-20210915-1",null,"Granada",null,"PRTRMU_21_00338",{"$nulls":4},"PRTRMU_21_00338","Jerez de la Frontera","P1102000E",2626648.19,null,null,null,"PRTRMU-21-00037 - P17_L2-20210928-1","Instalación de puntos de recarga eléctrica para la flota de transporte público urbano. ",{"$nulls":5},"PRTRMU_21_00188","PRTRMU-21-00188 - P7_L4-20210928-1"]
["PRTRMU_21_00067","PRTRMU-21-00067 - P02_L2-20210928-1",null,"Pamplona/Iruña",null,"PRTRMU_21_00340",{"$nulls":4},"PRTRMU_21_00340","Burgos","P0906100C",6999015,null,null,null,"PRTRMU-21-00082 - P17_L2-20210928-1","Adaptación de las instalaciones de la flota a la recarga eléctrica.",{"$nulls":5},"PRTRMU_21_00244","PRTRMU-21-00244 - P9_L2-20210929-1"]
["PRTRMU_21_00067","PRTRMU-21-00067 - P04_L2-20210928-1",null,"Pamplona/Iruña",null,"PRTRMU_21_00342",{"$nulls":4},"PRTRMU_21_00342","Priego de Córdoba","P1405500H",307377,null,null,null,"PRTRMU-21-00212 - P17_L2-20210928-1","Proyecto de estación de recarga para flota de autobuses eléctricos en instalaciones autobuses urbano.",{"$nulls":5},"PRTRMU_21_00139","PRTRMU-21-00139 - P13_L2-20210922-1"]
["PRTRMU_21_00067","PRTRMU-21-00067 - P06_L2-20210928-3",null,"Pamplona/Iruña",null,"PRTRMU_21_00343",{"$nulls":4},"PRTRMU_21_00343","Armilla","P1802200D",1095300,null,null,null,"PRTRMU-21-00229 - P17_L2-20210928-1","Infraestructura necesaria para la recarga de los nuevos autobuses eléctricos.",{"$nulls":5},"PRTRMU_21_00060","PRTRMU-21-00060 - P1_L2-20210924-1"]
["PRTRMU_21_00067","PRTRMU-21-00067 - P06_L2-20210928-4",null,"Pamplona/Iruña",null,"PRTRMU_21_00348",{"$nulls":4},"PRTRMU_21_00348","Martorell","P0811300C",1038762.76,null,null,null,"PRTRMU-21-00239 - P17_L2-20210928-1","Instalación de sistemas de recarga de autobuses eléctricos en cocheras municipales.",{"$nulls":5},"PRTRMU_21_00060","PRTRMU-21-00060 - P2_L2-20210924-1"]
["PRTRMU_21_00067","PRTRMU-21-00067 - P06_L2-20210928-5",null,"Pamplona/Iruña",null,"PRTRMU_21_00349",{"$nulls":4},"PRTRMU_21_00349","Getafe","P2806500A",4044361,null,null,null,"PRTRMU-21-00249 - P17_L2-20210928-1","Sistema de recarga de bus eléctrico en estacionamiento disuasorio de la estación de autobuses.",{"$nulls":5},"PRTRMU_21_00160","PRTRMU-21-00160 - P4_L2-20210924-3"]
["PRTRMU_21_00067","PRTRMU-21-00067 - P09_L2-20210928-1",null,"Pamplona/Iruña",null,"PRTRMU_21_00350",{"$nulls":4},"PRTRMU_21_00350","Badalona","P0801500J",1929237.91,null,null,null,"PRTRMU-21-00143 - P17_L2-20210929-1","Electrificación de cocheras e implantación de 22 puntos de recarga.",{"$nulls":5},"PRTRMU_21_00098","PRTRMU-21-00098 - P4_L4-20210927-1"]
["PRTRMU_21_00069","PRTRMU-21-00069 - P01_L2-20210921-1",null,"Rivas-Vaciamadrid",{"$nulls":13},"PRTRMU-21-00204 - P17_L2-20210929-1","Adquisición cargadores e instalación fotovoltaica en cocheras para autoabastecimiento energético de la flota.",{"$nulls":5},"PRTRMU_21_00277","PRTRMU-21-00277 - P4_L4-20210929-1"]
["PRTRMU_21_00069","PRTRMU-21-00069 - P12_L2-20210922-1",null,"Rivas-Vaciamadrid",{"$nulls":13},"PRTRMU-21-00253 - P17_L2-20210929-1","Instalación eléctrica y puntos de recarga autobuses.",{"$nulls":5},"PRTRMU_21_00258","PRTRMU-21-00258 - P4_L4-20210929-1"]
["PRTRMU_21_00069","PRTRMU-21-00069 - P04_L2-20210922-1",null,"Rivas-Vaciamadrid",{"$nulls":13},"PRTRMU-21-00284 - P17_L2-20210929-1","Adquisición dispositivos de recarga de autobuses eléctricos.",{"$nulls":5},"PRTRMU_21_00080","PRTRMU-21-00080 - P5_L4-20210927-1"]
["PRTRMU_21_00069","PRTRMU-21-00069 - P05_L2-20210922-1",null,"Rivas-Vaciamadrid",{"$nulls":13},"PRTRMU-21-00286 - P17_L2-20210929-1","Electrificación de la cochera principal EMT València para flota de autobuses urbanos.",{"$nulls":5},"PRTRMU_21_00060","PRTRMU-21-00060 - P6_L2-20210924-1"]
["PRTRMU_21_00069","PRTRMU-21-00069 - P06_L2-20210922-1",null,"Rivas-Vaciamadrid",{"$nulls":13},"PRTRMU-21-00089 - P17_L3-20210917-1","Electrolinera autobuses.",{"$nulls":5},"PRTRMU_21_00033","PRTRMU-21-00033 - P6_L2-20210928-1"]
["PRTRMU_21_00069","PRTRMU-21-00069 - P07_L2-20210922-1",null,"Rivas-Vaciamadrid",{"$nulls":13},"PRTRMU-21-00311 - P17_L3-20210930-1","Electrificación del Centro de Operaciones del transporte urbano de Segovia.",{"$nulls":5},"PRTRMU_21_00277","PRTRMU-21-00277 - P9_L4-20210929-1"]
["PRTRMU_21_00069","PRTRMU-21-00069 - P07_L2-20210922-2",null,"Rivas-Vaciamadrid",{"$nulls":13},"PRTRMU-21-00064 - P17_L4-20210920-1","Adecuación e instalación de puntos de recarga eléctrica en la cochera municipal.",{"$nulls":5},"PRTRMU_21_00156","PRTRMU-21-00156 - P19_L2-20210924-1"]
["PRTRMU_21_00069","PRTRMU-21-00069 - P08_L2-20210922-1",null,"Rivas-Vaciamadrid",{"$nulls":13},"PRTRMU-21-00308 - P17_L4-20210929-1","Dotar al municipio de la infraestructura de recarga de vehículos eléctricos pesados.",{"$nulls":5},"PRTRMU_21_00091","PRTRMU-21-00091 - P9_L2-20210917-1"]
["PRTRMU_21_00071","PRTRMU-21-00071 - P19_L2-20210925-1",null,"Alcorcón",{"$nulls":13},"PRTRMU-21-00053 - P18_L1-20210916-1","Videovigilancia embarcada e Información a bordo en el servicio de bus de TMB.",{"$nulls":5},"PRTRMU_21_00091","PRTRMU-21-00091 - P7_L2-20210917-1"]
["PRTRMU_21_00071","PRTRMU-21-00071 - P05_L2-20210925-1",null,"Alcorcón",{"$nulls":13},"PRTRMU-21-00053 - P18_L1-20210916-2","Digitalización de elementos información en las estaciones de la red de Metro, operada por TMB.",{"$nulls":5},"PRTRMU_21_00091","PRTRMU-21-00091 - P6_L2-20210917-1"]
["PRTRMU_21_00071","PRTRMU-21-00071 - P05_L2-20210925-2",null,"Alcorcón",{"$nulls":13},"PRTRMU-21-00053 - P18_L1-20210916-3","Digitalización de la gestión y mantenimiento de activos Metro.",{"$nulls":5},"PRTRMU_21_00015","PRTRMU-21-00015 - P2_L2-20210907-1"]
["PRTRMU_21_00071","PRTRMU-21-00071 - P06_L2-20210925-3",null,"Alcorcón",{"$nulls":13},"PRTRMU-21-00053 - P18_L1-20210916-4","App Mobilitat - Implementación de herramientas de planificación de viajes y mejora de la información.",{"$nulls":5},"PRTRMU_21_00015","PRTRMU-21-00015 - P2_L2-20210907-2"]
["PRTRMU_21_00071","PRTRMU-21-00071 - P07_L2-20210925-1",null,"Alcorcón",{"$nulls":13},"PRTRMU-21-00053 - P18_L1-20210916-5","Digitalización de procedimientos de «ticketing» y pago en transporte urbano.",{"$nulls":5},"PRTRMU_21_00015","PRTRMU-21-00015 - P2_L2-20210909-5"]
["PRTRMU_21_00071","PRTRMU-21-00071 - P09_L2-20210925-1",null,"Alcorcón",{"$nulls":13},"PRTRMU-21-00335 - P18_L1-20210930-1","Digitalización de los modos de pago.",{"$nulls":5},"PRTRMU_21_00343","PRTRMU-21-00343 - P6_L4-20210930-1"]
["PRTRMU_21_00073","PRTRMU-21-00073 - P06_L4-20210924-1",null,"Masnou (El)",{"$nulls":13},"PRTRMU-21-00335 - P18_L1-20210930-10","Sistemas de monitorización de autobuses.",{"$nulls":5},"PRTRMU_21_00106","PRTRMU-21-00106 - P5_L4-20210929-1"]
["PRTRMU_21_00074","PRTRMU-21-00074 - P01_L2-20210915-1",null,"Palma",{"$nulls":13},"PRTRMU-21-00335 - P18_L1-20210930-11","Predicción a la demanda y sensorización de paradas.",{"$nulls":5},"PRTRMU_21_00029","PRTRMU-21-00029 - P5_L4-20210929-2"]
["PRTRMU_21_00074","PRTRMU-21-00074 - P12_L2-20210916-1",null,"Palma",{"$nulls":13},"PRTRMU-21-00335 - P18_L1-20210930-12","Sistemas expertos de planificación.",{"$nulls":5},"PRTRMU_21_00081","PRTRMU-21-00081 - P4_L2-20210922-2"]
["PRTRMU_21_00074","PRTRMU-21-00074 - P12_L2-20210916-2",null,"Palma",{"$nulls":13},"PRTRMU-21-00335 - P18_L1-20210930-2","Digitalización relaciones laborales.",{"$nulls":5},"PRTRMU_21_00081","PRTRMU-21-00081 - P4_L2-20210922-1"]
["PRTRMU_21_00074","PRTRMU-21-00074 - P16_L2-20210916-1",null,"Palma",{"$nulls":13},"PRTRMU-21-00335 - P18_L1-20210930-3","Sistemas de información y comunicación.",{"$nulls":5},"PRTRMU_21_00081","PRTRMU-21-00081 - P7_L2-20210922-1"]
["PRTRMU_21_00074","PRTRMU-21-00074 - P16_L2-20210916-2",null,"Palma",{"$nulls":13},"PRTRMU-21-00335 - P18_L1-20210930-4","Paradas y marquesinas inteligentes.",{"$nulls":5},"PRTRMU_21_00020","PRTRMU-21-00020 - P12_L2-20210921-1"]
["PRTRMU_21_00074","PRTRMU-21-00074 - P17_L2-20210916-1",null,"Palma",{"$nulls":13},"PRTRMU-21-00335 - P18_L1-20210930-5","Digitalización de actividades del taller y auxiliares.",{"$nulls":5},"PRTRMU_21_00020","PRTRMU-21-00020 - P1_L2-20210921-1"]
["PRTRMU_21_00074","PRTRMU-21-00074 - P17_L2-20210916-2",null,"Palma",{"$nulls":13},"PRTRMU-21-00335 - P18_L1-20210930-6","Software de visionado y tratamiento de imágenes para evitar incidencias.",{"$nulls":5},"PRTRMU_21_00020","PRTRMU-21-00020 - P4_L2-20210921-1"]
["PRTRMU_21_00074","PRTRMU-21-00074 - P18_L2-20210917-1",null,"Palma",{"$nulls":13},"PRTRMU-21-00335 - P18_L1-20210930-8","Sistema antiemparejamiento de autobuses.",{"$nulls":5},"PRTRMU_21_00020","PRTRMU-21-00020 - P6_L2-20210921-1"]
["PRTRMU_21_00074","PRTRMU-21-00074 - P02_L2-20210916-1",null,"Palma",{"$nulls":13},"PRTRMU-21-00335 - P18_L1-20210930-9","Sistema de control de aforos.",{"$nulls":5},"PRTRMU_21_00014","PRTRMU-21-00014 - P6_L4-20210927-4"]
["PRTRMU_21_00074","PRTRMU-21-00074 - P06_L2-20210916-1",null,"Palma",{"$nulls":13},"PRTRMU-21-00066 - P18_L2-20210915-1","Sistema SAE-SVV-SIP.",{"$nulls":5},"PRTRMU_21_00014","PRTRMU-21-00014 - P6_L4-20210921-1"]
["PRTRMU_21_00074","PRTRMU-21-00074 - P06_L2-20210916-4",null,"Palma",{"$nulls":13},"PRTRMU-21-00043 - P18_L2-20210917-1","Desarrollo y puesta en servicio de sistema digital de información a usuarios del transporte público.",{"$nulls":5},"PRTRMU_21_00014","PRTRMU-21-00014 - P7_L4-20210927-1"]
["PRTRMU_21_00074","PRTRMU-21-00074 - P06_L2-20210916-7",null,"Palma",{"$nulls":13},"PRTRMU-21-00074 - P18_L2-20210917-1","Mejora del nivel de servicio de la EMT.",{"$nulls":5},"PRTRMU_21_00014","PRTRMU-21-00014 - P7_L4-20210927-2"]
["PRTRMU_21_00074","PRTRMU-21-00074 - P06_L2-20210916-8",null,"Palma",{"$nulls":13},"PRTRMU-21-00028 - P18_L2-20210921-1","Información en tiempo real de plazas de aparcamiento en zona regulada en Almería.",{"$nulls":5},"PRTRMU_21_00020","PRTRMU-21-00020 - P9_L2-20210921-1"]
["PRTRMU_21_00075","PRTRMU-21-00075 - P01_L2-20210915-1",null,"Valladolid",{"$nulls":13},"PRTRMU-21-00038 - P18_L2-20210923-1","Digitalización del TUS.",{"$nulls":5},"PRTRMU_21_00265","PRTRMU-21-00265 - P12_L3-20210928-1"]
["PRTRMU_21_00075","PRTRMU-21-00075 - P11_L2-20210927-1",null,"Valladolid",{"$nulls":13},"PRTRMU-21-00151 - P18_L2-20210923-1","Transformación digital y sostenibilidad del servicio urbano de transportes.",{"$nulls":5},"PRTRMU_21_00265","PRTRMU-21-00265 - P6_L3-20210928-1"]
["PRTRMU_21_00075","PRTRMU-21-00075 - P12_L2-20210927-1",null,"Valladolid",{"$nulls":13},"PRTRMU-21-00028 - P18_L2-20210923-2","Información en tiempo real de plazas de aparcamiento subterráneo en Almería.",{"$nulls":5},"PRTRMU_21_00265","PRTRMU-21-00265 - P7_L3-20210928-1"]
["PRTRMU_21_00075","PRTRMU-21-00075 - P18_L2-20210927-1",null,"Valladolid",{"$nulls":13},"PRTRMU-21-00028 - P18_L2-20210923-3","Herramienta de planificación de viajes (Matrices origen-destino).",{"$nulls":5},"PRTRMU_21_00024","PRTRMU-21-00024 - P8_L2-20210929-1"]
["PRTRMU_21_00075","PRTRMU-21-00075 - P06_L2-20210927-1",null,"Valladolid",{"$nulls":13},"PRTRMU-21-00189 - P18_L2-20210924-1","Proyecto de implantación de los sistemas inteligentes aplicados al transporte urbano.",{"$nulls":5},"PRTRMU_21_00024","PRTRMU-21-00024 - P6_L2-20210929-2"]
["PRTRMU_21_00079","PRTRMU-21-00079 - P05_L4-20210928-1",null,"Sant Joan Despí",{"$nulls":13},"PRTRMU-21-00052 - P18_L2-20210927-1","Digitalización y modernización del equipamiento de embarcado.",{"$nulls":5},"PRTRMU_21_00024","PRTRMU-21-00024 - P1_L2-20210928-1"]
["PRTRMU_21_00080","PRTRMU-21-00080 - P05_L4-20210927-1",null,"Olot",{"$nulls":13},"PRTRMU-21-00075 - P18_L2-20210927-1","Nuevo Centro de Control para la gestión integral de la movilidad sostenible en transporte público.",{"$nulls":5},"PRTRMU_21_00350","PRTRMU-21-00350 - P11_L2-20220104-1"]
["PRTRMU_21_00081","PRTRMU-21-00081 - P04_L2-20210922-1",null,"Cáceres",{"$nulls":13},"PRTRMU-21-00129 - P18_L2-20210927-1","MAAS. Evolución e impulso ecosistema Mobility 360.",{"$nulls":5},"PRTRMU_21_00350","PRTRMU-21-00350 - P1_L2-20220104-1"]
["PRTRMU_21_00081","PRTRMU-21-00081 - P04_L2-20210922-2",null,"Cáceres",{"$nulls":13},"PRTRMU-21-00205 - P18_L2-20210927-1","Digitalización actividad transporte público urbano y mejora servicio e información al usuario.",{"$nulls":5},"PRTRMU_21_00350","PRTRMU-21-00350 - P3_L2-20220104-1"]
["PRTRMU_21_00081","PRTRMU-21-00081 - P07_L2-20210922-1",null,"Cáceres",{"$nulls":13},"PRTRMU-21-00082 - P18_L2-20210928-1","Mejora de la eficiencia y digitalización del servicio de transporte público urbano.",{"$nulls":5},"PRTRMU_21_00041","PRTRMU-21-00041 - P4_L2-20210909-1"]
["PRTRMU_21_00082","PRTRMU-21-00082 - P16_L2-20210928-1",null,"Manresa",{"$nulls":13},"PRTRMU-21-00158 - P18_L2-20210928-1","Digitalización transporte público (fase 1).",{"$nulls":5},"PRTRMU_21_00041","PRTRMU-21-00041 - P6_L2-20210910-2"]
["PRTRMU_21_00082","PRTRMU-21-00082 - P17_L2-20210928-1",null,"Manresa",{"$nulls":13},"PRTRMU-21-00175 - P18_L2-20210928-1","Digitalización de la actividad de los servicios públicos de transporte para la mejora del servicio.",{"$nulls":5},"PRTRMU_21_00041","PRTRMU-21-00041 - P6_L2-20210924-3"]
["PRTRMU_21_00082","PRTRMU-21-00082 - P18_L2-20210928-1",null,"Manresa",{"$nulls":13},"PRTRMU-21-00190 - P18_L2-20210928-1","Transformación digital del transporte público.",{"$nulls":5},"PRTRMU_21_00024","PRTRMU-21-00024 - P6_L2-20210929-7"]
["PRTRMU_21_00083","PRTRMU-21-00083 - P04_L4-20210929-1",null,"Gavà",{"$nulls":13},"PRTRMU-21-00212 - P18_L2-20210928-1","Proyecto de transformación digital y sostenibilidad del servicio urbano de transporte de Elche.",{"$nulls":5},"PRTRMU_21_00024","PRTRMU-21-00024 - P6_L2-20210929-1"]
["PRTRMU_21_00083","PRTRMU-21-00083 - P06_L4-20210929-1",null,"Gavà",{"$nulls":13},"PRTRMU-21-00239 - P18_L2-20210928-1","Digitalización de Transporte Público con pago y SAE vinculado a \"Alicante se mueve\".",{"$nulls":5},"PRTRMU_21_00024","PRTRMU-21-00024 - P6_L2-20210929-3"]
["PRTRMU_21_00085","PRTRMU-21-00085 - P06_L4-20210916-1",null,"Vendrell (El)",{"$nulls":13},"PRTRMU-21-00267 - P18_L2-20210928-1","Digitalización de marquesinas de transporte público.",{"$nulls":5},"PRTRMU_21_00024","PRTRMU-21-00024 - P6_L2-20210929-4"]
["PRTRMU_21_00086","PRTRMU-21-00086 - P07_L2-20210923-1",null,"Mataró",{"$nulls":13},"PRTRMU-21-00211 - P18_L2-20210929-1","Tarjeta ciudadana para la movilidad inteligente.",{"$nulls":5},"PRTRMU_21_00024","PRTRMU-21-00024 - P6_L2-20210929-5"]
["PRTRMU_21_00086","PRTRMU-21-00086 - P07_L2-20210923-2",null,"Mataró",{"$nulls":13},"PRTRMU-21-00266 - P18_L2-20210929-1","Digitalización de servicios públicos de transporte: Tarjeta Ciudadana Inteligente.",{"$nulls":5},"PRTRMU_21_00024","PRTRMU-21-00024 - P6_L2-20210929-6"]
["PRTRMU_21_00086","PRTRMU-21-00086 - P07_L2-20210923-3",null,"Mataró",{"$nulls":13},"PRTRMU-21-00286 - P18_L2-20210929-1","Digitalización de la red y la gestión de la flota de autobuses urbanos.",{"$nulls":5},"PRTRMU_21_00014","PRTRMU-21-00014 - P6_L4-20210927-2"]
["PRTRMU_21_00086","PRTRMU-21-00086 - P07_L2-20210927-4",null,"Mataró",{"$nulls":13},"PRTRMU-21-00333 - P18_L2-20210930-1","Sistema de ayuda a la explotación (SAE) para el servicio público de transporte urbano colectivo.",{"$nulls":5},"PRTRMU_21_00198","PRTRMU-21-00198 - P12_L2-20210928-1"]
["PRTRMU_21_00087","PRTRMU-21-00087 - P16_L2-20210929-1",null,"Algeciras",{"$nulls":13},"PRTRMU-21-00089 - P18_L3-20210917-4","Pantallas para información de autobuses. Mejora nivel de servicio.",{"$nulls":5},"PRTRMU_21_00198","PRTRMU-21-00198 - P4_L2-20210928-1"]
["PRTRMU_21_00087","PRTRMU-21-00087 - P06_L2-20210929-1",null,"Algeciras",{"$nulls":13},"PRTRMU-21-00287 - P18_L3-20210930-1","Implantación de un Enterprise Resource Planning (ERP).",{"$nulls":5},"PRTRMU_21_00198","PRTRMU-21-00198 - P4_L2-20210928-2"]
["PRTRMU_21_00087","PRTRMU-21-00087 - P07_L2-20210929-1",null,"Algeciras",{"$nulls":13},"PRTRMU-21-00287 - P18_L3-20210930-2","Sistema de gestión de flota de autobuses de transporte urbano colectivo de la ciudad de València.",{"$nulls":5},"PRTRMU_21_00028","PRTRMU-21-00028 - P6_L2-20210921-1"]
["PRTRMU_21_00089","PRTRMU-21-00089 - P16_L3-20210917-1",null,"Palma",{"$nulls":13},"PRTRMU-21-00057 - P18_L4-20210928-1","Adquisición sistemas inteligentes. Paradas de bus, paneles de información embarcados y app información servicio bus.",{"$nulls":5},"PRTRMU_21_00028","PRTRMU-21-00028 - P13_L2-20210921-1"]
["PRTRMU_21_00089","PRTRMU-21-00089 - P17_L3-20210917-1",null,"Palma",{"$nulls":13},"PRTRMU-21-00103 - P18_L4-20210928-1","Transformación digital del servicio público de transporte.",{"$nulls":5},"PRTRMU_21_00028","PRTRMU-21-00028 - P18_L2-20210921-1"]
["PRTRMU_21_00089","PRTRMU-21-00089 - P18_L3-20210917-4",null,"Palma",{"$nulls":13},"PRTRMU-21-00295 - P18_L4-20210929-1","Información en tiempo real en paradas del bus urbano (marquesinas inteligentes).",{"$nulls":5},"PRTRMU_21_00028","PRTRMU-21-00028 - P18_L2-20210923-3"]
["PRTRMU_21_00089","PRTRMU-21-00089 - P06_L3-20210917-1",null,"Palma",{"$nulls":13},"PRTRMU-21-00316 - P18_L4-20210929-1","Mejora y desarrollo de los servicios de digitalización para los servicios de movilidad sostenible.",{"$nulls":5},"PRTRMU_21_00028","PRTRMU-21-00028 - P18_L2-20210923-2"]
["PRTRMU_21_00090","PRTRMU-21-00090 - P01_L2-20210920-1",null,"Viladecans",{"$nulls":13},"PRTRMU-21-00053 - P19_L1-20210916-1","Explotación, análisis y visualización de datos y Business Intelligence.",{"$nulls":5},"PRTRMU_21_00028","PRTRMU-21-00028 - P19_L2-20210921-1"]
["PRTRMU_21_00090","PRTRMU-21-00090 - P10_L2-20210920-1",null,"Viladecans",{"$nulls":13},"PRTRMU-21-00053 - P19_L1-20210916-2","Digitalización y gestión inteligente de la infraestructura ciclista.",{"$nulls":5},"PRTRMU_21_00028","PRTRMU-21-00028 - P19_L2-20210921-2"]
["PRTRMU_21_00090","PRTRMU-21-00090 - P19_L2-20210920-1",null,"Viladecans",{"$nulls":13},"PRTRMU-21-00225 - P19_L1-20210927-1","Ciudades conectadas.",{"$nulls":5},"PRTRMU_21_00028","PRTRMU-21-00028 - P6_L2-20210921-2"]
["PRTRMU_21_00090","PRTRMU-21-00090 - P07_L2-20210920-1",null,"Viladecans",{"$nulls":13},"PRTRMU-21-00090 - P19_L2-20210920-1","Digitalización del transporte.",{"$nulls":5},"PRTRMU_21_00028","PRTRMU-21-00028 - P9_L2-20210921-1"]
["PRTRMU_21_00091","PRTRMU-21-00091 - P06_L2-20210917-1",null,"Zamora",{"$nulls":13},"PRTRMU-21-00028 - P19_L2-20210921-1","Gestión inteligente y sostenible del tráfico de la ciudad de Almería.",{"$nulls":5},"PRTRMU_21_00037","PRTRMU-21-00037 - P17_L2-20210928-1"]
["PRTRMU_21_00091","PRTRMU-21-00091 - P07_L2-20210917-1",null,"Zamora",{"$nulls":13},"PRTRMU-21-00028 - P19_L2-20210921-2","Actuaciones de sistemas de información de la movilidad en Almería: calidad del aire en tiempo real.",{"$nulls":5},"PRTRMU_21_00037","PRTRMU-21-00037 - P19_L2-20210928-1"]
["PRTRMU_21_00091","PRTRMU-21-00091 - P09_L2-20210917-1",null,"Zamora",{"$nulls":13},"PRTRMU-21-00038 - P19_L2-20210923-1","Gestión inteligente de la movilidad.",{"$nulls":5},"PRTRMU_21_00037","PRTRMU-21-00037 - P2_L2-20210928-1"]
["PRTRMU_21_00092","PRTRMU-21-00092 - P04_L2-20210917-1",null,"Logroño",{"$nulls":13},"PRTRMU-21-00156 - P19_L2-20210924-1","Implantación de un Sistema de Control Inteligente y Sostenible del tráfico y la movilidad.",{"$nulls":5},"PRTRMU_21_00037","PRTRMU-21-00037 - P5_L2-20210928-1"]
["PRTRMU_21_00092","PRTRMU-21-00092 - P04_L2-20210917-2",null,"Logroño",{"$nulls":13},"PRTRMU-21-00189 - P19_L2-20210924-1","Tecnificación, modernización y control de la infraestructura de gestión del tráfico.",{"$nulls":5},"PRTRMU_21_00037","PRTRMU-21-00037 - P9_L2-20210928-1"]
["PRTRMU_21_00092","PRTRMU-21-00092 - P05_L2-20210917-1",null,"Logroño",{"$nulls":13},"PRTRMU-21-00189 - P19_L2-20210924-2","Datos abiertos para la digitalización de la movilidad e implementación de servicios C-ITS.",{"$nulls":5},"PRTRMU_21_00031","PRTRMU-21-00031 - P7_L2-20210922-2"]
["PRTRMU_21_00092","PRTRMU-21-00092 - P06_L2-20210917-1",null,"Logroño",{"$nulls":13},"PRTRMU-21-00071 - P19_L2-20210925-1","Sistema centralizado para la gestión del tráfico y priorización del transporte público.",{"$nulls":5},"PRTRMU_21_00031","PRTRMU-21-00031 - P6_L2-20210922-1"]
["PRTRMU_21_00092","PRTRMU-21-00092 - P06_L2-20210917-2",null,"Logroño",{"$nulls":13},"PRTRMU-21-00129 - P19_L2-20210927-1","Modelo de movilidad digital de la ciudad de Madrid.",{"$nulls":5},"PRTRMU_21_00031","PRTRMU-21-00031 - P7_L2-20210922-1"]
["PRTRMU_21_00092","PRTRMU-21-00092 - P06_L2-20210917-3",null,"Logroño",{"$nulls":13},"PRTRMU-21-00219 - P19_L2-20210927-1","Digitalización de la movilidad.",{"$nulls":5},"PRTRMU_21_00031","PRTRMU-21-00031 - P7_L2-20210922-3"]
["PRTRMU_21_00092","PRTRMU-21-00092 - P06_L2-20210917-4",null,"Logroño",{"$nulls":13},"PRTRMU-21-00129 - P19_L2-20210927-2","BIG DATA movilidad real Ciudad de Madrid.",{"$nulls":5},"PRTRMU_21_00031","PRTRMU-21-00031 - P6_L2-20210922-3"]
["PRTRMU_21_00092","PRTRMU-21-00092 - P06_L2-20210917-5",null,"Logroño",{"$nulls":13},"PRTRMU-21-00037 - P19_L2-20210928-1","Centralización y gestión inteligente de la red de semáforos para la optimización del tráfico.",{"$nulls":5},"PRTRMU_21_00031","PRTRMU-21-00031 - P6_L2-20210922-2"]
["PRTRMU_21_00092","PRTRMU-21-00092 - P06_L2-20210917-6",null,"Logroño",{"$nulls":13},"PRTRMU-21-00107 - P19_L2-20210928-1","Digitalización de los servicios de movilidad (Aplicaciones SMOU y SPRO).",{"$nulls":5},"PRTRMU_21_00107","PRTRMU-21-00107 - P2_L2-20210923-1"]
["PRTRMU_21_00092","PRTRMU-21-00092 - P06_L2-20210917-7",null,"Logroño",{"$nulls":13},"PRTRMU-21-00260 - P19_L2-20210928-2","Sensorización de las plazas de estacionamiento de zona verde y ampliación de zona azul.",{"$nulls":5},"PRTRMU_21_00125","PRTRMU-21-00125 - P11_L2-20210923-1"]
["PRTRMU_21_00093","PRTRMU-21-00093 - P03_L3-20210917-1",null,"Dos Hermanas",{"$nulls":13},"PRTRMU-21-00236 - P19_L2-20210930-1","Centro de control y gestión integral de movilidad.",{"$nulls":5},"PRTRMU_21_00063","PRTRMU-21-00063 - P11_L2-20210927-1"]
["PRTRMU_21_00093","PRTRMU-21-00093 - P04_L3-20210923-1",null,"Dos Hermanas",{"$nulls":13},"PRTRMU-21-00013 - P19_L4-20210901-1","Sistema digital de videovigilancia para el control de tráfico.",{"$nulls":5},"PRTRMU_21_00125","PRTRMU-21-00125 - P1_L2-20210922-1"]
["PRTRMU_21_00093","PRTRMU-21-00093 - P04_L3-20210923-2",null,"Dos Hermanas",{"$nulls":13},"PRTRMU-21-00201 - P19_L4-20210928-1","Dotación de marquesinas y paradas dinámicas del servicio de autobuses.",{"$nulls":5},"PRTRMU_21_00063","PRTRMU-21-00063 - P1_L2-20210927-1"]
["PRTRMU_21_00093","PRTRMU-21-00093 - P09_L3-20210922-1",null,"Dos Hermanas",{"$nulls":13},"PRTRMU-21-00053 - P02_L1-20210916-1","Ampliación de las capacidades técnicas de la ZBE.",{"$nulls":5},"PRTRMU_21_00125","PRTRMU-21-00125 - P2_L2-20210923-1"]
["PRTRMU_21_00093","PRTRMU-21-00093 - P09_L3-20210922-2",null,"Dos Hermanas",{"$nulls":13},"PRTRMU-21-00015 - P02_L2-20210907-1","Nuevas cámaras ZBE accesos centro.",{"$nulls":5},"PRTRMU_21_00125","PRTRMU-21-00125 - P4_L2-20210923-1"]
["PRTRMU_21_00093","PRTRMU-21-00093 - P09_L3-20210922-3",null,"Dos Hermanas",{"$nulls":13},"PRTRMU-21-00015 - P02_L2-20210907-2","Plataforma de gestión vídeo. (Renovación de servidores y espacio de almacenamiento.",{"$nulls":5},"PRTRMU_21_00125","PRTRMU-21-00125 - P4_L2-20210923-2"]
["PRTRMU_21_00098","PRTRMU-21-00098 - P04_L4-20210927-1",null,"Níjar",{"$nulls":13},"PRTRMU-21-00015 - P02_L2-20210909-5","Instalación de cámaras accesos segundo anillo del control perimetral.",{"$nulls":5},"PRTRMU_21_00125","PRTRMU-21-00125 - P6_L2-20210923-1"]
["PRTRMU_21_00101","PRTRMU-21-00101 - P06_L2-20210926-1",null,"Huelva",{"$nulls":13},"PRTRMU-21-00043 - P02_L2-20210910-1","Despliegue de la Red de Vigilancia y Control de la Calidad del Aire y del Nivel del Ruido.",{"$nulls":5},"PRTRMU_21_00125","PRTRMU-21-00125 - P6_L2-20210923-2"]
["PRTRMU_21_00101","PRTRMU-21-00101 - P07_L2-20210926-2",null,"Huelva",{"$nulls":13},"PRTRMU-21-00074 - P02_L2-20210916-1","Implantación del ORA ambiental. ",{"$nulls":5},"PRTRMU_21_00125","PRTRMU-21-00125 - P6_L2-20210923-3"]
["PRTRMU_21_00102","PRTRMU-21-00102 - P01_L2-20210926-1",null,"Santa Cruz de Tenerife",{"$nulls":13},"PRTRMU-21-00107 - P02_L2-20210923-1","Mejora del control de la Zona de Bajas Emisiones (ZBE).",{"$nulls":5},"PRTRMU_21_00125","PRTRMU-21-00125 - P6_L2-20210923-4"]
["PRTRMU_21_00102","PRTRMU-21-00102 - P16_L2-20210926-1",null,"Santa Cruz de Tenerife",{"$nulls":13},"PRTRMU-21-00125 - P02_L2-20210923-1","Actuaciones complementarias zona de bajas emisiones.",{"$nulls":5},"PRTRMU_21_00063","PRTRMU-21-00063 - P6_L2-20210927-1"]
["PRTRMU_21_00102","PRTRMU-21-00102 - P17_L2-20210926-1",null,"Santa Cruz de Tenerife",{"$nulls":13},"PRTRMU-21-00060 - P02_L2-20210924-1","Actuaciones complementarias a la Zona de Bajas Emisiones.",{"$nulls":5},"PRTRMU_21_00063","PRTRMU-21-00063 - P6_L2-20210927-2"]
["PRTRMU_21_00102","PRTRMU-21-00102 - P05_L2-20210926-1",null,"Santa Cruz de Tenerife",{"$nulls":13},"PRTRMU-21-00065 - P02_L2-20210924-1","Información y sistemas de enforcement. ",{"$nulls":5},"PRTRMU_21_00125","PRTRMU-21-00125 - P7_L2-20210923-1"]
["PRTRMU_21_00102","PRTRMU-21-00102 - P06_L2-20210926-1",null,"Santa Cruz de Tenerife",{"$nulls":13},"PRTRMU-21-00167 - P02_L2-20210924-1","Actuaciones complementarias a la Zona de Bajas Emisiones.",{"$nulls":5},"PRTRMU_21_00063","PRTRMU-21-00063 - P7_L2-20210927-1"]
["PRTRMU_21_00102","PRTRMU-21-00102 - P06_L2-20210926-2",null,"Santa Cruz de Tenerife",{"$nulls":13},"PRTRMU-21-00030 - P02_L2-20210927-1","Tecnologías para el despliegue completo de la zona de bajas emisiones (ZBE) de L'Hospitalet per cont.",{"$nulls":5},"PRTRMU_21_00064","PRTRMU-21-00064 - P13_L4-20210920-1"]
["PRTRMU_21_00103","PRTRMU-21-00103 - P16_L4-20210928-1",null,"Tudela",{"$nulls":13},"PRTRMU-21-00128 - P02_L2-20210927-1","Implantación sistema de monitorización ambiental para control de calidad del aire y nivel de ruido.",{"$nulls":5},"PRTRMU_21_00064","PRTRMU-21-00064 - P17_L4-20210920-1"]
["PRTRMU_21_00103","PRTRMU-21-00103 - P18_L4-20210928-1",null,"Tudela",{"$nulls":13},"PRTRMU-21-00131 - P02_L2-20210927-1","Medidas de puesta en marcha y control de la ZBE.",{"$nulls":5},"PRTRMU_21_00064","PRTRMU-21-00064 - P4_L4-20210920-1"]
["PRTRMU_21_00103","PRTRMU-21-00103 - P06_L4-20210928-1",null,"Tudela",{"$nulls":13},"PRTRMU-21-00205 - P02_L2-20210927-1","Actuaciones complementarias de información y control de la ZBE Sabadell.",{"$nulls":5},"PRTRMU_21_00064","PRTRMU-21-00064 - P6_L4-20210920-1"]
["PRTRMU_21_00106","PRTRMU-21-00106 - P05_L4-20210929-1",null,"Plasencia",{"$nulls":13},"PRTRMU-21-00206 - P02_L2-20210927-1","Sistema de información y control “Ponferrada ZBE”.",{"$nulls":5},"PRTRMU_21_00064","PRTRMU-21-00064 - P6_L4-20210920-2"]
["PRTRMU_21_00107","PRTRMU-21-00107 - P16_L2-20210927-1",null,"Barcelona",{"$nulls":13},"PRTRMU-21-00207 - P02_L2-20210927-1","Medidas complementarias de la ZBE.",{"$nulls":5},"PRTRMU_21_00064","PRTRMU-21-00064 - P7_L4-20210920-1"]
["PRTRMU_21_00107","PRTRMU-21-00107 - P19_L2-20210928-1",null,"Barcelona",{"$nulls":13},"PRTRMU-21-00231 - P02_L2-20210927-1","Actuación complementaria a la Zona de Bajas Emisiones (ZBE).",{"$nulls":5},"PRTRMU_21_00064","PRTRMU-21-00064 - P8_L4-20210920-1"]
["PRTRMU_21_00107","PRTRMU-21-00107 - P02_L2-20210923-1",null,"Barcelona",{"$nulls":13},"PRTRMU-21-00037 - P02_L2-20210928-1","Sistema de gestión de las áreas complementarias para la implantación de la ZBE.",{"$nulls":5},"PRTRMU_21_00107","PRTRMU-21-00107 - P19_L2-20210928-1"]
["PRTRMU_21_00107","PRTRMU-21-00107 - P05_L2-20210927-1",null,"Barcelona",{"$nulls":13},"PRTRMU-21-00067 - P02_L2-20210928-1","Sistemas de gestión de la Zona de Bajas Emisiones.",{"$nulls":5},"PRTRMU_21_00067","PRTRMU-21-00067 - P2_L2-20210928-1"]
["PRTRMU_21_00107","PRTRMU-21-00107 - P06_L2-20210927-1",null,"Barcelona",{"$nulls":13},"PRTRMU-21-00144 - P02_L2-20210928-1","Paneles con información en tiempo real de las plazas disponibles en 5 estacionamientos de la ciudad.",{"$nulls":5},"PRTRMU_21_00067","PRTRMU-21-00067 - P4_L2-20210928-1"]
["PRTRMU_21_00107","PRTRMU-21-00107 - P06_L2-20210927-2",null,"Barcelona",{"$nulls":13},"PRTRMU-21-00158 - P02_L2-20210928-1","Implantación y puesta en marcha ZBE Cartagena (complementarias).",{"$nulls":5},"PRTRMU_21_00067","PRTRMU-21-00067 - P6_L2-20210928-4"]
["PRTRMU_21_00107","PRTRMU-21-00107 - P07_L2-20210927-1",null,"Barcelona",{"$nulls":13},"PRTRMU-21-00267 - P02_L2-20210928-1","Actuaciones complementarias, sensóricas, paneles informativos.",{"$nulls":5},"PRTRMU_21_00090","PRTRMU-21-00090 - P1_L2-20210920-1"]
["PRTRMU_21_00107","PRTRMU-21-00107 - P07_L2-20210927-2",null,"Barcelona",{"$nulls":13},"PRTRMU-21-00039 - P02_L2-20210929-1","Actuaciones complementarias a las Zonas de Bajas Emisiones.",{"$nulls":5},"PRTRMU_21_00090","PRTRMU-21-00090 - P10_L2-20210920-1"]
["PRTRMU_21_00114","PRTRMU-21-00114 - P15_L2-20210921-1",null,"Zaragoza",{"$nulls":13},"PRTRMU-21-00143 - P02_L2-20210929-1","Actuaciones para complementar la instauración de una ZBE en la Zona centro de Donostia/SS.",{"$nulls":5},"PRTRMU_21_00053","PRTRMU-21-00053 - P1_L1-20210916-1"]
["PRTRMU_21_00114","PRTRMU-21-00114 - P16_L2-20210921-1",null,"Zaragoza",{"$nulls":13},"PRTRMU-21-00204 - P02_L2-20210929-1","Fortalecimiento de la ZBE.",{"$nulls":5},"PRTRMU_21_00090","PRTRMU-21-00090 - P7_L2-20210920-1"]
["PRTRMU_21_00114","PRTRMU-21-00114 - P17_L2-20210921-1",null,"Zaragoza",{"$nulls":13},"PRTRMU-21-00275 - P02_L2-20210929-1","Actuaciones complementarias a la ZBE de la calzada – sensórica.",{"$nulls":5},"PRTRMU_21_00053","PRTRMU-21-00053 - P10_L1-20210916-1"]
["PRTRMU_21_00118","PRTRMU-21-00118 - P01_L2-20210921-1",null,"Prat de Llobregat (El)",{"$nulls":13},"PRTRMU-21-00286 - P02_L2-20210929-1","Actuación complementaria para la implantación de una ZBE en la ciudad de València.",{"$nulls":5},"PRTRMU_21_00053","PRTRMU-21-00053 - P11_L1-20210916-1"]
["PRTRMU_21_00118","PRTRMU-21-00118 - P06_L2-20210929-1",null,"Prat de Llobregat (El)",{"$nulls":13},"PRTRMU-21-00336 - P02_L2-20210930-1","Actuaciones complementarias a la creación de ZBE.",{"$nulls":5},"PRTRMU_21_00053","PRTRMU-21-00053 - P12_L1-20210916-1"]
["PRTRMU_21_00120","PRTRMU-21-00120 - P01_L2-20210928-1",null,"Molina de Segura",{"$nulls":13},"PRTRMU-21-00287 - P02_L3-20210930-1","Sistema de sensorización, captura y explotación de datos medioambientales. ",{"$nulls":5},"PRTRMU_21_00053","PRTRMU-21-00053 - P17_L1-20210916-1"]
["PRTRMU_21_00120","PRTRMU-21-00120 - P06_L2-20210928-1",null,"Molina de Segura",{"$nulls":13},"PRTRMU-21-00043 - P03_L2-20210910-1","Construcción y puesta en servicio de carril bus exclusivo para conexión campus universitario.",{"$nulls":5},"PRTRMU_21_00053","PRTRMU-21-00053 - P18_L1-20210916-1"]
["PRTRMU_21_00120","PRTRMU-21-00120 - P07_L2-20210928-1",null,"Molina de Segura",{"$nulls":13},"PRTRMU-21-00189 - P03_L2-20210924-1","Ampliación de la red de plataformas reservadas destinadas a carriles bus.",{"$nulls":5},"PRTRMU_21_00053","PRTRMU-21-00053 - P18_L1-20210916-2"]
["PRTRMU_21_00120","PRTRMU-21-00120 - P09_L2-20210928-1",null,"Molina de Segura",{"$nulls":13},"PRTRMU-21-00129 - P03_L2-20210927-1","Red de Carriles Bus Fase 1.",{"$nulls":5},"PRTRMU_21_00053","PRTRMU-21-00053 - P18_L1-20210916-3"]
["PRTRMU_21_00121","PRTRMU-21-00121 - P04_L4-20210921-1",null,"Montilla",{"$nulls":13},"PRTRMU-21-00207 - P03_L2-20210927-1","Plataforma reservada en la calle Juan Flórez (carril bus en sentido entrada a la ciudad).",{"$nulls":5},"PRTRMU_21_00053","PRTRMU-21-00053 - P18_L1-20210916-4"]
["PRTRMU_21_00122","PRTRMU-21-00122 - P04_L4-20210927-1",null,"Pineda de Mar",{"$nulls":13},"PRTRMU-21-00129 - P03_L2-20210927-2","Red de Carriles Bus Fase 2.",{"$nulls":5},"PRTRMU_21_00053","PRTRMU-21-00053 - P18_L1-20210916-5"]
["PRTRMU_21_00123","PRTRMU-21-00123 - P06_L2-20210921-1",null,"Vigo",{"$nulls":13},"PRTRMU-21-00147 - P03_L2-20210928-1","Línea de alta capacidad en carril bus segregado entre Torreblanca-Sevilla Este y Santa Justa.",{"$nulls":5},"PRTRMU_21_00053","PRTRMU-21-00053 - P19_L1-20210916-1"]
["PRTRMU_21_00123","PRTRMU-21-00123 - P06_L2-20210927-2",null,"Vigo",{"$nulls":13},"PRTRMU-21-00239 - P03_L2-20210928-1","Acondicionamiento de avenida de Aguilera para implantación de carril bus exclusivo.",{"$nulls":5},"PRTRMU_21_00053","PRTRMU-21-00053 - P19_L1-20210916-2"]
["PRTRMU_21_00123","PRTRMU-21-00123 - P06_L2-20210927-4",null,"Vigo",{"$nulls":13},"PRTRMU-21-00275 - P03_L2-20210929-1","Carriles de priorización para transporte colectivo en la ZBE y su conexión con el resto de la ciudad.",{"$nulls":5},"PRTRMU_21_00053","PRTRMU-21-00053 - P2_L1-20210916-1"]
["PRTRMU_21_00125","PRTRMU-21-00125 - P01_L2-20210922-1",null,"Salamanca",{"$nulls":13},"PRTRMU-21-00340 - P03_L2-20210930-1","Peatonalizaciones Plaza Lavaderos, Calles Roma y Fco. Grandmontagne.",{"$nulls":5},"PRTRMU_21_00053","PRTRMU-21-00053 - P4_L1-20210916-1"]
["PRTRMU_21_00125","PRTRMU-21-00125 - P11_L2-20210923-1",null,"Salamanca",{"$nulls":13},"PRTRMU-21-00350 - P03_L2-20220930-1","Mejora de la eficiencia de la red de autobuses",{"$nulls":5},"PRTRMU_21_00053","PRTRMU-21-00053 - P4_L1-20210916-2"]
["PRTRMU_21_00125","PRTRMU-21-00125 - P02_L2-20210923-1",null,"Salamanca",{"$nulls":13},"PRTRMU-21-00093 - P03_L3-20210917-1","Plataforma reservada para Servicio Publico Carril Bus 4ª Fase y reurbanización de márgenes. ",{"$nulls":5},"PRTRMU_21_00090","PRTRMU-21-00090 - P19_L2-20210920-1"]
["PRTRMU_21_00125","PRTRMU-21-00125 - P04_L2-20210923-1",null,"Salamanca",{"$nulls":13},"PRTRMU-21-00053 - P04_L1-20210916-1","Aparcamientos seguros para bicicletas.",{"$nulls":5},"PRTRMU_21_00053","PRTRMU-21-00053 - P5_L1-20210916-1"]
["PRTRMU_21_00125","PRTRMU-21-00125 - P04_L2-20210923-2",null,"Salamanca",{"$nulls":13},"PRTRMU-21-00053 - P04_L1-20210916-2","Infraestructura ciclista.",{"$nulls":5},"PRTRMU_21_00107","PRTRMU-21-00107 - P5_L2-20210927-1"]
["PRTRMU_21_00125","PRTRMU-21-00125 - P06_L2-20210923-1",null,"Salamanca",{"$nulls":13},"PRTRMU-21-00041 - P04_L2-20210909-1","Ejecución de las medidas del Plan Director de la Bicicleta. ",{"$nulls":5},"PRTRMU_21_00107","PRTRMU-21-00107 - P6_L2-20210927-1"]
["PRTRMU_21_00125","PRTRMU-21-00125 - P06_L2-20210923-2",null,"Salamanca",{"$nulls":13},"PRTRMU-21-00043 - P04_L2-20210910-1","Desarrollo e implantación de los itinerarios ciclistas definidos en la Red Infraestructuras Ciclista.",{"$nulls":5},"PRTRMU_21_00107","PRTRMU-21-00107 - P6_L2-20210927-2"]
["PRTRMU_21_00125","PRTRMU-21-00125 - P06_L2-20210923-3",null,"Salamanca",{"$nulls":13},"PRTRMU-21-00021 - P04_L2-20210913-1","Ejecución de itinerario ciclista y peatonal. Avda. de la Hispanidad.",{"$nulls":5},"PRTRMU_21_00067","PRTRMU-21-00067 - P6_L2-20210928-3"]
["PRTRMU_21_00125","PRTRMU-21-00125 - P06_L2-20210923-4",null,"Salamanca",{"$nulls":13},"PRTRMU-21-00058 - P04_L2-20210915-1","Pasarela peatonal y ciclista sobre la M-503 con carril bici y senda peatonal anexos.",{"$nulls":5},"PRTRMU_21_00067","PRTRMU-21-00067 - P6_L2-20210928-5"]
["PRTRMU_21_00125","PRTRMU-21-00125 - P07_L2-20210923-1",null,"Salamanca",{"$nulls":13},"PRTRMU-21-00058 - P04_L2-20210916-2","Pasarela peatonal y ciclista sobre la M-508 con carril bici y senda peatonal anexos.",{"$nulls":5},"PRTRMU_21_00107","PRTRMU-21-00107 - P7_L2-20210927-1"]
["PRTRMU_21_00128","PRTRMU-21-00128 - P01_L2-20210923-1",null,"Bilbao",{"$nulls":13},"PRTRMU-21-00092 - P04_L2-20210917-1","Conexión ciclista y peatonal de la zona industrial a través del puente A-13.",{"$nulls":5},"PRTRMU_21_00107","PRTRMU-21-00107 - P7_L2-20210927-2"]
["PRTRMU_21_00128","PRTRMU-21-00128 - P16_L2-20210927-1",null,"Bilbao",{"$nulls":13},"PRTRMU-21-00092 - P04_L2-20210917-2","Red de aparcamientos seguros para bicicletas.",{"$nulls":5},"PRTRMU_21_00067","PRTRMU-21-00067 - P9_L2-20210928-1"]
["PRTRMU_21_00128","PRTRMU-21-00128 - P17_L2-20210927-1",null,"Bilbao",{"$nulls":13},"PRTRMU-21-00020 - P04_L2-20210921-1","Carril bici entre Girona y Vilablareix y aparcamiento seguro de bicicletas.",{"$nulls":5},"PRTRMU_21_00205","PRTRMU-21-00205 - P6_L2-20210927-3"]
["PRTRMU_21_00128","PRTRMU-21-00128 - P02_L2-20210927-1",null,"Bilbao",{"$nulls":13},"PRTRMU-21-00022 - P04_L2-20210921-1","Nuevo carril bici para bicicletas y VMP anexo a la carretera de Balerma-Guardias Viejas.",{"$nulls":5},"PRTRMU_21_00205","PRTRMU-21-00205 - P17_L2-20210927-1"]
["PRTRMU_21_00128","PRTRMU-21-00128 - P06_L2-20210921-1",null,"Bilbao",{"$nulls":13},"PRTRMU-21-00132 - P04_L2-20210921-1","Extensión de la red ciclable.",{"$nulls":5},"PRTRMU_21_00205","PRTRMU-21-00205 - P18_L2-20210927-1"]
["PRTRMU_21_00129","PRTRMU-21-00129 - P01_L2-20210927-1",null,"Madrid",{"$nulls":13},"PRTRMU-21-00022 - P04_L2-20210921-2","Nuevo carril bici para bicicletas y VMP entre el Polígono Industrial La Redonda y Las Norias.",{"$nulls":5},"PRTRMU_21_00205","PRTRMU-21-00205 - P1_L2-20210927-1"]
["PRTRMU_21_00129","PRTRMU-21-00129 - P01_L2-20210927-2",null,"Madrid",{"$nulls":13},"PRTRMU-21-00132 - P04_L2-20210921-2","Extensión de la red de aparcamientos seguros de bicicletas.",{"$nulls":5},"PRTRMU_21_00205","PRTRMU-21-00205 - P1_L2-20210927-2"]
["PRTRMU_21_00129","PRTRMU-21-00129 - P01_L2-20210927-3",null,"Madrid",{"$nulls":13},"PRTRMU-21-00069 - P04_L2-20210922-1","Ampliación de la dotación de aparcamientos para bicicletas y VMP en espacios públicos.",{"$nulls":5},"PRTRMU_21_00205","PRTRMU-21-00205 - P2_L2-20210927-1"]
["PRTRMU_21_00129","PRTRMU-21-00129 - P11_L2-20210927-1",null,"Madrid",{"$nulls":13},"PRTRMU-21-00081 - P04_L2-20210922-1","Reducción del tráfico en itinerarios de acceso al Polígono Industrial de “Las Capellanías”.",{"$nulls":5},"PRTRMU_21_00141","PRTRMU-21-00141 - P4_L2-20210929-1"]
["PRTRMU_21_00129","PRTRMU-21-00129 - P12_L2-20210927-1",null,"Madrid",{"$nulls":13},"PRTRMU-21-00081 - P04_L2-20210922-2","Potenciación de la movilidad ciclo-peatonal y mejora de la seguridad vial en el norte del campus universitario.",{"$nulls":5},"PRTRMU_21_00132","PRTRMU-21-00132 - P1_L2-20210921-1"]
["PRTRMU_21_00129","PRTRMU-21-00129 - P16_L2-20210927-1",null,"Madrid",{"$nulls":13},"PRTRMU-21-00038 - P04_L2-20210923-1","Carril bici Tetuán.",{"$nulls":5},"PRTRMU_21_00132","PRTRMU-21-00132 - P4_L2-20210921-1"]
["PRTRMU_21_00129","PRTRMU-21-00129 - P17_L2-20210927-1",null,"Madrid",{"$nulls":13},"PRTRMU-21-00125 - P04_L2-20210923-1","Carriles bici de acceso a zonas de bajas emisiones.",{"$nulls":5},"PRTRMU_21_00132","PRTRMU-21-00132 - P4_L2-20210921-2"]
["PRTRMU_21_00129","PRTRMU-21-00129 - P18_L2-20210927-1",null,"Madrid",{"$nulls":13},"PRTRMU-21-00150 - P04_L2-20210923-1","Proyecto de pavimentación, senda peatonal y carril bici de Los Llaos a Miranda.",{"$nulls":5},"PRTRMU_21_00132","PRTRMU-21-00132 - P6_L2-20210921-1"]
["PRTRMU_21_00129","PRTRMU-21-00129 - P19_L2-20210927-1",null,"Madrid",{"$nulls":13},"PRTRMU-21-00125 - P04_L2-20210923-2","Carriles bici de conexión periurbana.",{"$nulls":5},"PRTRMU_21_00132","PRTRMU-21-00132 - P6_L2-20210921-2"]
["PRTRMU_21_00129","PRTRMU-21-00129 - P19_L2-20210927-2",null,"Madrid",{"$nulls":13},"PRTRMU-21-00174 - P04_L2-20210924-1","Ampliación y mejora de la infraestructura ciclista en Granollers.",{"$nulls":5},"PRTRMU_21_00132","PRTRMU-21-00132 - P6_L2-20210921-4"]
["PRTRMU_21_00129","PRTRMU-21-00129 - P03_L2-20210927-1",null,"Madrid",{"$nulls":13},"PRTRMU-21-00179 - P04_L2-20210924-1","Proyecto de obras de mejora, reforma y creación de infraestructura ciclista en el entorno urbano.",{"$nulls":5},"PRTRMU_21_00132","PRTRMU-21-00132 - P9_L2-20210921-1"]
["PRTRMU_21_00129","PRTRMU-21-00129 - P03_L2-20210927-2",null,"Madrid",{"$nulls":13},"PRTRMU-21-00186 - P04_L2-20210924-1","Acondicionamiento de una red urbana de itinerarios para bicicletas.",{"$nulls":5},"PRTRMU_21_00132","PRTRMU-21-00132 - P10_L2-20210921-1"]
["PRTRMU_21_00129","PRTRMU-21-00129 - P05_L2-20210927-1",null,"Madrid",{"$nulls":13},"PRTRMU-21-00160 - P04_L2-20210924-3","Vial ciclista y peatonal entre el Cementerio de San Eufrasio y el campo futbol Sebastián Barajas.",{"$nulls":5},"PRTRMU_21_00132","PRTRMU-21-00132 - P11_L2-20210921-1"]
["PRTRMU_21_00129","PRTRMU-21-00129 - P05_L2-20210927-2",null,"Madrid",{"$nulls":13},"PRTRMU-21-00207 - P04_L2-20210927-1","Creación, remodelación y mejora de carriles reservados para bicicletas.",{"$nulls":5},"PRTRMU_21_00132","PRTRMU-21-00132 - P17_L2-20210924-1"]
["PRTRMU_21_00129","PRTRMU-21-00129 - P06_L2-20210927-2",null,"Madrid",{"$nulls":13},"PRTRMU-21-00231 - P04_L2-20210927-1","Nuevos itinerarios ciclistas.",{"$nulls":5},"PRTRMU_21_00205","PRTRMU-21-00205 - P6_L2-20210927-1"]
["PRTRMU_21_00129","PRTRMU-21-00129 - P06_L2-20210927-3",null,"Madrid",{"$nulls":13},"PRTRMU-21-00067 - P04_L2-20210928-1","Itinerarios para completar la red ciclable.",{"$nulls":5},"PRTRMU_21_00205","PRTRMU-21-00205 - P6_L2-20210927-2"]
["PRTRMU_21_00131","PRTRMU-21-00131 - P02_L2-20210927-1",null,"Lugo",{"$nulls":13},"PRTRMU-21-00144 - P04_L2-20210928-1","Completar el cerramiento del Anillo Ciclista-Carril Bici actual.",{"$nulls":5},"PRTRMU_21_00131","PRTRMU-21-00131 - P6_L2-20210927-1"]
["PRTRMU_21_00131","PRTRMU-21-00131 - P06_L2-20210927-1",null,"Lugo",{"$nulls":13},"PRTRMU-21-00190 - P04_L2-20210928-1","Ejes de carril bici y peatones de acceso al polígono industrial El Segre y escuelas periurbanas.",{"$nulls":5},"PRTRMU_21_00131","PRTRMU-21-00131 - P6_L2-20210927-2"]
["PRTRMU_21_00131","PRTRMU-21-00131 - P06_L2-20210927-2",null,"Lugo",{"$nulls":13},"PRTRMU-21-00198 - P04_L2-20210928-1","Implantación de un carril bici en la Carretera E-10.",{"$nulls":5},"PRTRMU_21_00131","PRTRMU-21-00131 - P6_L2-20210927-3"]
["PRTRMU_21_00131","PRTRMU-21-00131 - P06_L2-20210927-3",null,"Lugo",{"$nulls":13},"PRTRMU-21-00233 - P04_L2-20210928-1","Conexión de municipios del Alfoz con zona peatonalizada centro ciudad por medio de carril bici.",{"$nulls":5},"PRTRMU_21_00131","PRTRMU-21-00131 - P2_L2-20210927-1"]
["PRTRMU_21_00132","PRTRMU-21-00132 - P01_L2-20210921-1",null,"Vitoria-Gasteiz",{"$nulls":13},"PRTRMU-21-00245 - P04_L2-20210928-1","Ampliación y mejora de la conexión de la infraestructura ciclista municipal.",{"$nulls":5},"PRTRMU_21_00211","PRTRMU-21-00211 - P18_L2-20210929-1"]
["PRTRMU_21_00132","PRTRMU-21-00132 - P10_L2-20210921-1",null,"Vitoria-Gasteiz",{"$nulls":13},"PRTRMU-21-00254 - P04_L2-20210928-1","Conexión peatonal y ciclista de Lugones y la Fresneda.",{"$nulls":5},"PRTRMU_21_00120","PRTRMU-21-00120 - P1_L2-20210928-1"]
["PRTRMU_21_00132","PRTRMU-21-00132 - P11_L2-20210921-1",null,"Vitoria-Gasteiz",{"$nulls":13},"PRTRMU-21-00158 - P04_L2-20210928-2","PIUCA: Plan de integración urbana de carretera de la Algameca (fase 1 y 3).",{"$nulls":5},"PRTRMU_21_00120","PRTRMU-21-00120 - P6_L2-20210928-1"]
["PRTRMU_21_00132","PRTRMU-21-00132 - P17_L2-20210924-1",null,"Vitoria-Gasteiz",{"$nulls":13},"PRTRMU-21-00198 - P04_L2-20210928-2","Implantación de aparcamientos y carriles bici en calle Extremadura y conexión Paseo Marítimo-Jesús.",{"$nulls":5},"PRTRMU_21_00120","PRTRMU-21-00120 - P7_L2-20210928-1"]
["PRTRMU_21_00132","PRTRMU-21-00132 - P04_L2-20210921-1",null,"Vitoria-Gasteiz",{"$nulls":13},"PRTRMU-21-00158 - P04_L2-20210928-3","Carril bici calle Esparta y calle ingeniero de la cierva.",{"$nulls":5},"PRTRMU_21_00120","PRTRMU-21-00120 - P9_L2-20210928-1"]
["PRTRMU_21_00132","PRTRMU-21-00132 - P04_L2-20210921-2",null,"Vitoria-Gasteiz",{"$nulls":13},"PRTRMU-21-00158 - P04_L2-20210928-4","Carril bici vía verde. Tramo Víctor Beltrí hasta plaza Canthal (barrio peral).",{"$nulls":5},"PRTRMU_21_00207","PRTRMU-21-00207 - P11_L2-20210929-1"]
["PRTRMU_21_00132","PRTRMU-21-00132 - P06_L2-20210921-1",null,"Vitoria-Gasteiz",{"$nulls":13},"PRTRMU-21-00158 - P04_L2-20210928-6","Mejora de la movilidad. Carril bici UCAM.",{"$nulls":5},"PRTRMU_21_00101","PRTRMU-21-00101 - P6_L2-20210926-1"]
["PRTRMU_21_00132","PRTRMU-21-00132 - P06_L2-20210921-2",null,"Vitoria-Gasteiz",{"$nulls":13},"PRTRMU-21-00039 - P04_L2-20210929-1","Ejecución de carriles bici.",{"$nulls":5},"PRTRMU_21_00266","PRTRMU-21-00266 - P12_L2-20210929-1"]
["PRTRMU_21_00132","PRTRMU-21-00132 - P06_L2-20210921-4",null,"Vitoria-Gasteiz",{"$nulls":13},"PRTRMU-21-00141 - P04_L2-20210929-1","Proyecto construcción carril de coexistencia para mejorar movilidad cero emisiones.",{"$nulls":5},"PRTRMU_21_00266","PRTRMU-21-00266 - P18_L2-20210929-1"]
["PRTRMU_21_00132","PRTRMU-21-00132 - P09_L2-20210921-1",null,"Vitoria-Gasteiz",{"$nulls":13},"PRTRMU-21-00163 - P04_L2-20210929-1","Ampliación de vías ciclables, acciones para completar la malla urbana.",{"$nulls":5},"PRTRMU_21_00266","PRTRMU-21-00266 - P1_L2-20210929-1"]
["PRTRMU_21_00134","PRTRMU-21-00134 - P06_L4-20210922-1",null,"Barberà del Vallès",{"$nulls":13},"PRTRMU-21-00182 - P04_L2-20210929-1","Implantación de carriles para bicicletas.",{"$nulls":5},"PRTRMU_21_00266","PRTRMU-21-00266 - P6_L2-20210929-1"]
["PRTRMU_21_00135","PRTRMU-21-00135 - P16_L1-20210929-1",null,"Mancomunidad de la Comarca de Pamplona",{"$nulls":13},"PRTRMU-21-00191 - P04_L2-20210929-1","Carril bici zona sur.",{"$nulls":5},"PRTRMU_21_00266","PRTRMU-21-00266 - P7_L2-20210929-1"]
["PRTRMU_21_00135","PRTRMU-21-00135 - P17_L1-20210929-1",null,"Mancomunidad de la Comarca de Pamplona",{"$nulls":13},"PRTRMU-21-00253 - P04_L2-20210929-1","Carriles bici en Badajoz.",{"$nulls":5},"PRTRMU_21_00266","PRTRMU-21-00266 - P9_L2-20210929-1"]
["PRTRMU_21_00138","PRTRMU-21-00138 - P16_L4-20210922-1",null,"Valdepeñas",{"$nulls":13},"PRTRMU-21-00275 - P04_L2-20210929-1","Carriles reservados para bicicletas y VMP en la ZBE y su conexión con el resto de la ciudad.",{"$nulls":5},"PRTRMU_21_00249","PRTRMU-21-00249 - P11_L2-20210928-1"]
["PRTRMU_21_00139","PRTRMU-21-00139 - P13_L2-20210922-1",null,"Santiago de Compostela",{"$nulls":13},"PRTRMU-21-00202 - P04_L2-20210930-1","Itinerario ciclista acceso a eje interurbano Getxo-Bilbao en avenida Zugazarte.",{"$nulls":5},"PRTRMU_21_00274","PRTRMU-21-00274 - P11_L4-20210929-1"]
["PRTRMU_21_00140","PRTRMU-21-00140 - P06_L4-20210925-1",null,"Andújar",{"$nulls":13},"PRTRMU-21-00329 - P04_L2-20210930-1","Nueva red de carril bici.",{"$nulls":5},"PRTRMU_21_00274","PRTRMU-21-00274 - P12_L4-20210929-1"]
["PRTRMU_21_00141","PRTRMU-21-00141 - P04_L2-20210929-1",null,"Boadilla del Monte",{"$nulls":13},"PRTRMU-21-00336 - P04_L2-20210930-1","Actuaciones de infraestructura ciclista-VMP y aparcamientos seguros.",{"$nulls":5},"PRTRMU_21_00249","PRTRMU-21-00249 - P13_L2-20210928-1"]
["PRTRMU_21_00143","PRTRMU-21-00143 - P01_L2-20210929-2",null,"Donostia/San Sebastián",{"$nulls":13},"PRTRMU-21-00093 - P04_L3-20210923-1","Carril-bici avenida 4 de diciembre.",{"$nulls":5},"PRTRMU_21_00249","PRTRMU-21-00249 - P17_L2-20210928-1"]
["PRTRMU_21_00143","PRTRMU-21-00143 - P16_L2-20210929-1",null,"Donostia/San Sebastián",{"$nulls":13},"PRTRMU-21-00093 - P04_L3-20210923-2","Carril-bici carretera isla menor, conexión con polígonos industriales.",{"$nulls":5},"PRTRMU_21_00286","PRTRMU-21-00286 - P17_L2-20210929-1"]
["PRTRMU_21_00143","PRTRMU-21-00143 - P16_L2-20210929-2",null,"Donostia/San Sebastián",{"$nulls":13},"PRTRMU-21-00013 - P04_L4-20210831-1","Carril bici eje del agua. Tramos 3, 4 y 5.",{"$nulls":5},"PRTRMU_21_00267","PRTRMU-21-00267 - P18_L2-20210928-1"]
["PRTRMU_21_00143","PRTRMU-21-00143 - P17_L2-20210929-1",null,"Donostia/San Sebastián",{"$nulls":13},"PRTRMU-21-00064 - P04_L4-20210920-1","Carril ciclable de la red metropolitana correspondiente a la conexión con L'Hospitalet de Llobregat.",{"$nulls":5},"PRTRMU_21_00286","PRTRMU-21-00286 - P18_L2-20210929-1"]
["PRTRMU_21_00143","PRTRMU-21-00143 - P02_L2-20210929-1",null,"Donostia/San Sebastián",{"$nulls":13},"PRTRMU-21-00121 - P04_L4-20210921-1","Creación de carril-bici de nueva construcción en Avda. Marqués de la vega de Armijo, Montilla.",{"$nulls":5},"PRTRMU_21_00316","PRTRMU-21-00316 - P18_L4-20210929-1"]
["PRTRMU_21_00144","PRTRMU-21-00144 - P02_L2-20210928-1",null,"Torrejón de Ardoz",{"$nulls":13},"PRTRMU-21-00098 - P04_L4-20210927-1","Carril ciclo-peatonal entre los núcleos urbanos de Campohermoso y san isidro; Níjar.",{"$nulls":5},"PRTRMU_21_00231","PRTRMU-21-00231 - P1_L2-20210927-1"]
["PRTRMU_21_00144","PRTRMU-21-00144 - P04_L2-20210928-1",null,"Torrejón de Ardoz",{"$nulls":13},"PRTRMU-21-00122 - P04_L4-20210927-1","Red principal y secundaria de carril bici.",{"$nulls":5},"PRTRMU_21_00249","PRTRMU-21-00249 - P1_L2-20210928-1"]
["PRTRMU_21_00144","PRTRMU-21-00144 - P08_L2-20210928-1",null,"Torrejón de Ardoz",{"$nulls":13},"PRTRMU-21-00217 - P04_L4-20210927-1","Ampliación de la infraestructura de movilidad ciclista de Lucena.",{"$nulls":5},"PRTRMU_21_00267","PRTRMU-21-00267 - P1_L2-20210928-1"]
["PRTRMU_21_00147","PRTRMU-21-00147 - P15_L2-20210928-1",null,"Sevilla",{"$nulls":13},"PRTRMU-21-00188 - P04_L4-20210928-1","Actuación 1: Camino bici a diferentes urbanizaciones.",{"$nulls":5},"PRTRMU_21_00249","PRTRMU-21-00249 - P1_L2-20210928-2"]
["PRTRMU_21_00147","PRTRMU-21-00147 - P16_L2-20210928-1",null,"Sevilla",{"$nulls":13},"PRTRMU-21-00258 - P04_L4-20210929-1","Nueva pasarela para peatones y bicicletas desde la manzana de equipamiento hasta el Parque Central.",{"$nulls":5},"PRTRMU_21_00249","PRTRMU-21-00249 - P1_L2-20210928-3"]
["PRTRMU_21_00147","PRTRMU-21-00147 - P03_L2-20210928-1",null,"Sevilla",{"$nulls":13},"PRTRMU-21-00274 - P04_L4-20210929-1","Prolongación del carril bici de la Calle Leonardo Rucabado.",{"$nulls":5},"PRTRMU_21_00302","PRTRMU-21-00302 - P1_L2-20210929-1"]
["PRTRMU_21_00149","PRTRMU-21-00149 - P01_L2-20210929-1",null,"Guadalajara",{"$nulls":13},"PRTRMU-21-00277 - P04_L4-20210929-1","Mejora y ampliación del carril bici actual e instalación de aparcamientos seguros para bicicletas.",{"$nulls":5},"PRTRMU_21_00286","PRTRMU-21-00286 - P1_L2-20210929-1"]
["PRTRMU_21_00149","PRTRMU-21-00149 - P06_L2-20210929-1",null,"Guadalajara",{"$nulls":13},"PRTRMU-21-00293 - P04_L4-20210929-1","Implantación de carriles para bicicletas y vehículos de movilidad personal (VMP) e instalación de aparcamientos.",{"$nulls":5},"PRTRMU_21_00267","PRTRMU-21-00267 - P2_L2-20210928-1"]
["PRTRMU_21_00149","PRTRMU-21-00149 - P06_L2-20210929-2",null,"Guadalajara",{"$nulls":13},"PRTRMU-21-00295 - P04_L4-20210929-1","Configuración de la red ciclista estructurante. Carril bici N-340.",{"$nulls":5},"PRTRMU_21_00286","PRTRMU-21-00286 - P2_L2-20210929-1"]
["PRTRMU_21_00149","PRTRMU-21-00149 - P09_L2-20210929-1",null,"Guadalajara",{"$nulls":13},"PRTRMU-21-00299 - P04_L4-20210929-1","Plataforma Ciclable Sostenible y aparcamientos seguros de Torre Pacheco.",{"$nulls":5},"PRTRMU_21_00231","PRTRMU-21-00231 - P2_L2-20210927-1"]
["PRTRMU_21_00150","PRTRMU-21-00150 - P04_L2-20210923-1",null,"Avilés",{"$nulls":13},"PRTRMU-21-00306 - P04_L4-20210929-1","Plataforma para bicicletas y otros VMP (vía ciclista) para el Valle de Egüés.",{"$nulls":5},"PRTRMU_21_00231","PRTRMU-21-00231 - P4_L2-20210927-1"]
["PRTRMU_21_00150","PRTRMU-21-00150 - P07_L2-20210923-1",null,"Avilés",{"$nulls":13},"PRTRMU-21-00053 - P05_L1-20210916-1","Mejora de la señalización de la BICIVIA.",{"$nulls":5},"PRTRMU_21_00274","PRTRMU-21-00274 - P4_L4-20210929-1"]
["PRTRMU_21_00150","PRTRMU-21-00150 - P07_L2-20210923-2",null,"Avilés",{"$nulls":13},"PRTRMU-21-00092 - P05_L2-20210917-1","Eje ciclista Este-Oeste.",{"$nulls":5},"PRTRMU_21_00286","PRTRMU-21-00286 - P5_L2-20210929-1"]
["PRTRMU_21_00151","PRTRMU-21-00151 - P16_L2-20210923-1",null,"Torrevieja",{"$nulls":13},"PRTRMU-21-00069 - P05_L2-20210922-1","Ampliación del a red ciclista con carriles bici segregados y protegidos.  ",{"$nulls":5},"PRTRMU_21_00316","PRTRMU-21-00316 - P5_L4-20210929-1"]
["PRTRMU_21_00151","PRTRMU-21-00151 - P17_L2-20210923-1",null,"Torrevieja",{"$nulls":13},"PRTRMU-21-00189 - P05_L2-20210924-1","Ampliación de la red de plataformas reservadas destinadas a carriles bici.",{"$nulls":5},"PRTRMU_21_00231","PRTRMU-21-00231 - P6_L2-20210927-1"]
["PRTRMU_21_00151","PRTRMU-21-00151 - P18_L2-20210923-1",null,"Torrevieja",{"$nulls":13},"PRTRMU-21-00071 - P05_L2-20210925-1","Adecuación de vías para la creación de carril bici.",{"$nulls":5},"PRTRMU_21_00286","PRTRMU-21-00286 - P6_L2-20210929-1"]
["PRTRMU_21_00151","PRTRMU-21-00151 - P08_L2-20210923-1",null,"Torrevieja",{"$nulls":13},"PRTRMU-21-00071 - P05_L2-20210925-2","Ejecución de vías ciclistas, red de aparcabicis y aforadores de bicicletas y patinetes.",{"$nulls":5},"PRTRMU_21_00302","PRTRMU-21-00302 - P6_L2-20210930-1"]
["PRTRMU_21_00156","PRTRMU-21-00156 - P01_L2-20210924-1",null,"Sant Boi de Llobregat",{"$nulls":13},"PRTRMU-21-00102 - P05_L2-20210926-1","Red de movilidad personal en Santa Cruz de Tenerife.",{"$nulls":5},"PRTRMU_21_00073","PRTRMU-21-00073 - P6_L4-20210924-1"]
["PRTRMU_21_00156","PRTRMU-21-00156 - P19_L2-20210924-1",null,"Sant Boi de Llobregat",{"$nulls":13},"PRTRMU-21-00107 - P05_L2-20210927-1","Ampliación de la red de carriles bici.",{"$nulls":5},"PRTRMU_21_00316","PRTRMU-21-00316 - P6_L4-20210929-1"]
["PRTRMU_21_00156","PRTRMU-21-00156 - P09_L2-20210924-1",null,"Sant Boi de Llobregat",{"$nulls":13},"PRTRMU-21-00129 - P05_L2-20210927-1","Red ciclista fase 1.",{"$nulls":5},"PRTRMU_21_00267","PRTRMU-21-00267 - P7_L2-20210928-1"]
["PRTRMU_21_00158","PRTRMU-21-00158 - P01_L2-20210928-1",null,"Cartagena",{"$nulls":13},"PRTRMU-21-00206 - P05_L2-20210927-1","Implantación de la red de atención especial a la movilidad de bicicletas y VMP.",{"$nulls":5},"PRTRMU_21_00274","PRTRMU-21-00274 - P7_L4-20210929-1"]
["PRTRMU_21_00158","PRTRMU-21-00158 - P16_L2-20210928-1",null,"Cartagena",{"$nulls":13},"PRTRMU-21-00129 - P05_L2-20210927-2","Red ciclista fase 2.",{"$nulls":5},"PRTRMU_21_00316","PRTRMU-21-00316 - P7_L4-20210929-1"]
["PRTRMU_21_00158","PRTRMU-21-00158 - P18_L2-20210928-1",null,"Cartagena",{"$nulls":13},"PRTRMU-21-00030 - P05_L2-20210928-1","Completar la red ciclable de la ciudad.",{"$nulls":5},"PRTRMU_21_00286","PRTRMU-21-00286 - P8_L2-20210929-1"]
["PRTRMU_21_00158","PRTRMU-21-00158 - P02_L2-20210928-1",null,"Cartagena",{"$nulls":13},"PRTRMU-21-00037 - P05_L2-20210928-1","Carril bici estructurante e integrador Centro Histórico-Ensanches.  ",{"$nulls":5},"PRTRMU_21_00302","PRTRMU-21-00302 - P8_L2-20210930-1"]
["PRTRMU_21_00158","PRTRMU-21-00158 - P04_L2-20210928-2",null,"Cartagena",{"$nulls":13},"PRTRMU-21-00168 - P05_L2-20210928-1","Adecuación de vías y espacio urbano para bicicletas y/o VMP.",{"$nulls":5},"PRTRMU_21_00287","PRTRMU-21-00287 - P18_L3-20210930-1"]
["PRTRMU_21_00158","PRTRMU-21-00158 - P04_L2-20210928-3",null,"Cartagena",{"$nulls":13},"PRTRMU-21-00248 - P05_L2-20210928-1","Adecuación de vías y espacio urbano para bicicletas y/o VMP en la circunvalación de Vecindario.",{"$nulls":5},"PRTRMU_21_00287","PRTRMU-21-00287 - P2_L3-20210930-1"]
["PRTRMU_21_00158","PRTRMU-21-00158 - P04_L2-20210928-4",null,"Cartagena",{"$nulls":13},"PRTRMU-21-00286 - P05_L2-20210929-1","Ampliación de red de carril bici (Margen Norte del Río y Conexiones Pza. España).",{"$nulls":5},"PRTRMU_21_00287","PRTRMU-21-00287 - P18_L3-20210930-2"]
["PRTRMU_21_00158","PRTRMU-21-00158 - P04_L2-20210928-6",null,"Cartagena",{"$nulls":13},"PRTRMU-21-00329 - P05_L2-20210930-1","Adecuación red de carril bici.",{"$nulls":5},"PRTRMU_21_00287","PRTRMU-21-00287 - P5_L3-20210930-1"]
["PRTRMU_21_00158","PRTRMU-21-00158 - P06_L2-20210928-1",null,"Cartagena",{"$nulls":13},"PRTRMU-21-00340 - P05_L2-20210930-1","Accesibilidades paradas de bus urbano.",{"$nulls":5},"PRTRMU_21_00236","PRTRMU-21-00236 - P1_L2-20210928-1"]
["PRTRMU_21_00158","PRTRMU-21-00158 - P07_L2-20210928-2",null,"Cartagena",{"$nulls":13},"PRTRMU-21-00287 - P05_L3-20210930-1","Redacción de Plan Director de Bici y ejecución de carriles bici. ",{"$nulls":5},"PRTRMU_21_00309","PRTRMU-21-00309 - P1_L2-20210929-1"]
["PRTRMU_21_00159","PRTRMU-21-00159 - P06_L2-20210923-1",null,"Arrecife",{"$nulls":13},"PRTRMU-21-00162 - P05_L4-20210923-1","Adecuación del espacio urbano para el desarrollo de la red ciclable de Vilassar de Mar.",{"$nulls":5},"PRTRMU_21_00149","PRTRMU-21-00149 - P1_L2-20210929-1"]
["PRTRMU_21_00159","PRTRMU-21-00159 - P07_L2-20210923-1",null,"Arrecife",{"$nulls":13},"PRTRMU-21-00080 - P05_L4-20210927-1","Carril bici en Av. Girona y Ctra. De Les Tries.",{"$nulls":5},"PRTRMU_21_00149","PRTRMU-21-00149 - P6_L2-20210929-1"]
["PRTRMU_21_00159","PRTRMU-21-00159 - P07_L2-20210923-2",null,"Arrecife",{"$nulls":13},"PRTRMU-21-00197 - P05_L4-20210927-1","Adecuación Pº Parra y calle Aire para construcción y ampliación de carril bici y mejora de accesibilidad.",{"$nulls":5},"PRTRMU_21_00129","PRTRMU-21-00129 - P17_L2-20210927-1"]
["PRTRMU_21_00159","PRTRMU-21-00159 - P07_L2-20210923-3",null,"Arrecife",{"$nulls":13},"PRTRMU-21-00200 - P05_L4-20210927-1","Nuevos itinerarios pedaleables y VMP que generarán continuidad-conectividad urbana e interurbana.",{"$nulls":5},"PRTRMU_21_00129","PRTRMU-21-00129 - P12_L2-20210927-1"]
["PRTRMU_21_00160","PRTRMU-21-00160 - P04_L2-20210924-3",null,"Jaén",{"$nulls":13},"PRTRMU-21-00208 - P05_L4-20210927-1","Proyecto de mejora y revegetación de las zonas verdes alrededor del tanatorio.",{"$nulls":5},"PRTRMU_21_00335","PRTRMU-21-00335 - P18_L1-20210930-1"]
["PRTRMU_21_00162","PRTRMU-21-00162 - P05_L4-20210923-1",null,"Vilassar de Mar",{"$nulls":13},"PRTRMU-21-00079 - P05_L4-20210928-1","Carril bici Avenida Barcelona.",{"$nulls":5},"PRTRMU_21_00129","PRTRMU-21-00129 - P18_L2-20210927-1"]
["PRTRMU_21_00163","PRTRMU-21-00163 - P04_L2-20210929-1",null,"Huesca",{"$nulls":13},"PRTRMU-21-00106 - P05_L4-20210929-1","Adecuación del trazado de conexión palacio de congresos con el cementerio judío.",{"$nulls":5},"PRTRMU_21_00144","PRTRMU-21-00144 - P2_L2-20210928-1"]
["PRTRMU_21_00167","PRTRMU-21-00167 - P01_L2-20210924-1",null,"Castelló de la Plana",{"$nulls":13},"PRTRMU-21-00293 - P05_L4-20210929-1","Adecuación de vías y espacio urbano para bicicletas y vehículos de movilidad personal.",{"$nulls":5},"PRTRMU_21_00332","PRTRMU-21-00332 - P6_L4-20210930-1"]
["PRTRMU_21_00167","PRTRMU-21-00167 - P02_L2-20210924-1",null,"Castelló de la Plana",{"$nulls":13},"PRTRMU-21-00295 - P05_L4-20210929-1","Configuración de la red ciclista estructurante. Carril bici La Zorrera y Carretera del Pradillo.",{"$nulls":5},"PRTRMU_21_00243","PRTRMU-21-00243 - P6_L4-20210929-1"]
["PRTRMU_21_00167","PRTRMU-21-00167 - P07_L2-20210924-1",null,"Castelló de la Plana",{"$nulls":13},"PRTRMU-21-00316 - P05_L4-20210929-1","Una infraestructura ciclista conectada y segura para todos en Yecla.",{"$nulls":5},"PRTRMU_21_00243","PRTRMU-21-00243 - P7_L4-20210929-1"]
["PRTRMU_21_00168","PRTRMU-21-00168 - P01_L2-20210923-1",null,"Segovia",{"$nulls":13},"PRTRMU-21-00348 - P05_L4-20210929-1","Vía ciclista e itinerario peatonal de acceso al polígono Can Bros",{"$nulls":5},"PRTRMU_21_00243","PRTRMU-21-00243 - P7_L4-20210929-2"]
["PRTRMU_21_00168","PRTRMU-21-00168 - P05_L2-20210928-1",null,"Segovia",{"$nulls":13},"PRTRMU-21-00029 - P05_L4-20210929-2","Avenida de la Constitución 2ª fase. Continuidad de vías ciclistas y urbanización.",{"$nulls":5},"PRTRMU_21_00039","PRTRMU-21-00039 - P12_L2-20210929-1"]
["PRTRMU_21_00168","PRTRMU-21-00168 - P06_L2-20210928-1",null,"Segovia",{"$nulls":13},"PRTRMU-21-00337 - P05_L4-20210930-1","Conformación de eje ciclista y para vehículos de movilidad personal.",{"$nulls":5},"PRTRMU_21_00039","PRTRMU-21-00039 - P1_L2-20210929-1"]
["PRTRMU_21_00174","PRTRMU-21-00174 - P04_L2-20210924-1",null,"Granollers",{"$nulls":13},"PRTRMU-21-00026 - P06_L2-20210907-1","Reforma para la naturalización y conversión en zona de peatones de la parte superior de La Rambla.",{"$nulls":5},"PRTRMU_21_00039","PRTRMU-21-00039 - P2_L2-20210929-1"]
["PRTRMU_21_00174","PRTRMU-21-00174 - P06_L2-20210924-1",null,"Granollers",{"$nulls":13},"PRTRMU-21-00041 - P06_L2-20210910-2","Medidas para la mejora de la accesibilidad. ",{"$nulls":5},"PRTRMU_21_00039","PRTRMU-21-00039 - P4_L2-20210929-1"]
["PRTRMU_21_00174","PRTRMU-21-00174 - P07_L2-20210924-1",null,"Granollers",{"$nulls":13},"PRTRMU-21-00021 - P06_L2-20210913-1","Construcción de plataforma peatonal sobre el ferrocarril. ",{"$nulls":5},"PRTRMU_21_00039","PRTRMU-21-00039 - P6_L2-20210929-1"]
["PRTRMU_21_00174","PRTRMU-21-00174 - P07_L2-20210924-2",null,"Granollers",{"$nulls":13},"PRTRMU-21-00021 - P06_L2-20210915-2","Ejecución de urbanización de Área de Prioridad Peatonal Distrito Centro.",{"$nulls":5},"PRTRMU_21_00200","PRTRMU-21-00200 - P6_L4-20210927-5"]
["PRTRMU_21_00175","PRTRMU-21-00175 - P16_L2-20210928-1",null,"Tarragona",{"$nulls":13},"PRTRMU-21-00074 - P06_L2-20210916-1","Mejora de la oferta peatonal. Ampliación aceras calles Temple, Ramón Llull y Antoni Planas.",{"$nulls":5},"PRTRMU_21_00039","PRTRMU-21-00039 - P7_L2-20210929-1"]
["PRTRMU_21_00175","PRTRMU-21-00175 - P18_L2-20210928-1",null,"Tarragona",{"$nulls":13},"PRTRMU-21-00074 - P06_L2-20210916-4","Mejora de la oferta peatonal. Peatonalización.",{"$nulls":5},"PRTRMU_21_00179","PRTRMU-21-00179 - P10_L2-20210924-1"]
["PRTRMU_21_00175","PRTRMU-21-00175 - P06_L2-20210928-2",null,"Tarragona",{"$nulls":13},"PRTRMU-21-00074 - P06_L2-20210916-7","Mejora de la oferta peatonal. Mejora Calle Sa Sinia d'en Gil.",{"$nulls":5},"PRTRMU_21_00179","PRTRMU-21-00179 - P4_L2-20210924-1"]
["PRTRMU_21_00175","PRTRMU-21-00175 - P06_L2-20210929-1",null,"Tarragona",{"$nulls":13},"PRTRMU-21-00074 - P06_L2-20210916-8","Mejora de la oferta peatonal. Mejora aceras en Son Dameto.",{"$nulls":5},"PRTRMU_21_00179","PRTRMU-21-00179 - P6_L2-20210924-2"]
["PRTRMU_21_00175","PRTRMU-21-00175 - P09_L2-20210928-1",null,"Tarragona",{"$nulls":13},"PRTRMU-21-00058 - P06_L2-20210917-1","Remodelación del casco urbano de la Estación en Pozuelo de Alarcón, fase 1.",{"$nulls":5},"PRTRMU_21_00308","PRTRMU-21-00308 - P17_L4-20210929-1"]
["PRTRMU_21_00175","PRTRMU-21-00175 - P09_L2-20210928-2",null,"Tarragona",{"$nulls":13},"PRTRMU-21-00091 - P06_L2-20210917-1","Mejora de la accesibilidad en la plaza de la Puebla.",{"$nulls":5},"PRTRMU_21_00284","PRTRMU-21-00284 - P6_L2-20210929-2"]
["PRTRMU_21_00176","PRTRMU-21-00176 - P07_L4-20210928-1",null,"Mejorada del Campo",{"$nulls":13},"PRTRMU-21-00092 - P06_L2-20210917-1","Área Pacificada de Madre de Dios.",{"$nulls":5},"PRTRMU_21_00284","PRTRMU-21-00284 - P6_L2-20210929-1"]
["PRTRMU_21_00176","PRTRMU-21-00176 - P09_L4-20210928-1",null,"Mejorada del Campo",{"$nulls":13},"PRTRMU-21-00058 - P06_L2-20210917-2","Remodelación del casco urbano de la Estación en Pozuelo de Alarcón, fase 2.",{"$nulls":5},"PRTRMU_21_00284","PRTRMU-21-00284 - P17_L2-20210929-1"]
["PRTRMU_21_00179","PRTRMU-21-00179 - P10_L2-20210924-1",null,"Albacete",{"$nulls":13},"PRTRMU-21-00092 - P06_L2-20210917-2","Área Pacificada de San José.",{"$nulls":5},"PRTRMU_21_00074","PRTRMU-21-00074 - P17_L2-20210916-1"]
["PRTRMU_21_00179","PRTRMU-21-00179 - P04_L2-20210924-1",null,"Albacete",{"$nulls":13},"PRTRMU-21-00092 - P06_L2-20210917-3","Peatonalización de la calle Guardia Civil.",{"$nulls":5},"PRTRMU_21_00285","PRTRMU-21-00285 - P12_L2-20210930-1"]
["PRTRMU_21_00179","PRTRMU-21-00179 - P06_L2-20210924-1",null,"Albacete",{"$nulls":13},"PRTRMU-21-00092 - P06_L2-20210917-4","Remodelación de la calle Rep. Argentina para mejorar itinerarios peatonales y pacificar el tráfico.",{"$nulls":5},"PRTRMU_21_00021","PRTRMU-21-00021 - P1_L2-20210913-1"]
["PRTRMU_21_00179","PRTRMU-21-00179 - P06_L2-20210924-2",null,"Albacete",{"$nulls":13},"PRTRMU-21-00092 - P06_L2-20210917-5","Remodelación de la calle Fundición para creación de plataforma de coexistencia.",{"$nulls":5},"PRTRMU_21_00021","PRTRMU-21-00021 - P17_L2-20210913-1"]
["PRTRMU_21_00182","PRTRMU-21-00182 - P04_L2-20210929-1",null,"Nerja",{"$nulls":13},"PRTRMU-21-00092 - P06_L2-20210917-6","Remodelación de calle Sagasta para creación de plataforma de coexistencia.",{"$nulls":5},"PRTRMU_21_00021","PRTRMU-21-00021 - P4_L2-20210913-1"]
["PRTRMU_21_00186","PRTRMU-21-00186 - P04_L2-20210924-1",null,"Rozas de Madrid (Las)",{"$nulls":13},"PRTRMU-21-00092 - P06_L2-20210917-7","Mejoras puntuales de itinerarios peatonales.",{"$nulls":5},"PRTRMU_21_00021","PRTRMU-21-00021 - P6_L2-20210915-2"]
["PRTRMU_21_00188","PRTRMU-21-00188 - P04_L4-20210928-1",null,"Castellar del Vallès",{"$nulls":13},"PRTRMU-21-00020 - P06_L2-20210921-1","Acera de conexión entre dos barrios.",{"$nulls":5},"PRTRMU_21_00021","PRTRMU-21-00021 - P7_L2-20210913-1"]
["PRTRMU_21_00188","PRTRMU-21-00188 - P07_L4-20210928-1",null,"Castellar del Vallès",{"$nulls":13},"PRTRMU-21-00028 - P06_L2-20210921-1","Remodelación de la Plaza de la Administración Vieja y entorno y de la calle Marcos.",{"$nulls":5},"PRTRMU_21_00038","PRTRMU-21-00038 - P11_L2-20210923-1"]
["PRTRMU_21_00189","PRTRMU-21-00189 - P18_L2-20210924-1",null,"Murcia",{"$nulls":13},"PRTRMU-21-00123 - P06_L2-20210921-1","Rehabilitación y transformación del entorno urbano de la Gran Vía. Fase II.",{"$nulls":5},"PRTRMU_21_00038","PRTRMU-21-00038 - P11_L2-20210923-2"]
["PRTRMU_21_00189","PRTRMU-21-00189 - P19_L2-20210924-1",null,"Murcia",{"$nulls":13},"PRTRMU-21-00128 - P06_L2-20210921-1","Conjunto de actuaciones de adecuación y peatonalización de itinerarios que mejoren la accesibilidad.",{"$nulls":5},"PRTRMU_21_00038","PRTRMU-21-00038 - P18_L2-20210923-1"]
["PRTRMU_21_00189","PRTRMU-21-00189 - P19_L2-20210924-2",null,"Murcia",{"$nulls":13},"PRTRMU-21-00132 - P06_L2-20210921-1","Creación de la supermanzana de Zabalgana.",{"$nulls":5},"PRTRMU_21_00038","PRTRMU-21-00038 - P19_L2-20210923-1"]
["PRTRMU_21_00189","PRTRMU-21-00189 - P03_L2-20210924-1",null,"Murcia",{"$nulls":13},"PRTRMU-21-00028 - P06_L2-20210921-2","Acceso al monumento de San Cristóbal y acondicionamiento de espacio libre en UA-34.",{"$nulls":5},"PRTRMU_21_00038","PRTRMU-21-00038 - P4_L2-20210923-1"]
["PRTRMU_21_00189","PRTRMU-21-00189 - P05_L2-20210924-1",null,"Murcia",{"$nulls":13},"PRTRMU-21-00132 - P06_L2-20210921-2","Peatonalización y mejora de la accesibilidad en el ámbito sur de la supermanzana central.",{"$nulls":5},"PRTRMU_21_00038","PRTRMU-21-00038 - P6_L2-20210923-1"]
["PRTRMU_21_00190","PRTRMU-21-00190 - P01_L2-20210928-1",null,"Lleida",{"$nulls":13},"PRTRMU-21-00132 - P06_L2-20210921-4","Peatonalización y mejora de la accesibilidad en el área de Aldabe.",{"$nulls":5},"PRTRMU_21_00038","PRTRMU-21-00038 - P9_L2-20210923-1"]
["PRTRMU_21_00190","PRTRMU-21-00190 - P16_L2-20210928-1",null,"Lleida",{"$nulls":13},"PRTRMU-21-00031 - P06_L2-20210922-1","Adecuación y mejora de la movilidad de pasarela peatonal sobre C/Gaceta.",{"$nulls":5},"PRTRMU_21_00043","PRTRMU-21-00043 - P1_L2-20210910-1"]
["PRTRMU_21_00190","PRTRMU-21-00190 - P18_L2-20210928-1",null,"Lleida",{"$nulls":13},"PRTRMU-21-00065 - P06_L2-20210922-1","Intervenciones tácticas para ampliar espacio peatonal en calzada.",{"$nulls":5},"PRTRMU_21_00043","PRTRMU-21-00043 - P18_L2-20210917-1"]
["PRTRMU_21_00190","PRTRMU-21-00190 - P04_L2-20210928-1",null,"Lleida",{"$nulls":13},"PRTRMU-21-00069 - P06_L2-20210922-1","Movilidad escolar sostenible y segura, adecuación espacios, itinerarios peatonales y accesibilidad.",{"$nulls":5},"PRTRMU_21_00043","PRTRMU-21-00043 - P2_L2-20210910-1"]
["PRTRMU_21_00190","PRTRMU-21-00190 - P06_L2-20210928-1",null,"Lleida",{"$nulls":13},"PRTRMU-21-00031 - P06_L2-20210922-2","Peatonalización e implantación ZBE Oeste Casco Histórico.",{"$nulls":5},"PRTRMU_21_00043","PRTRMU-21-00043 - P3_L2-20210910-1"]
["PRTRMU_21_00191","PRTRMU-21-00191 - P04_L2-20210929-1",null,"Ávila",{"$nulls":13},"PRTRMU-21-00065 - P06_L2-20210922-2","Peatonalización de calles. ",{"$nulls":5},"PRTRMU_21_00043","PRTRMU-21-00043 - P8_L2-20210922-1"]
["PRTRMU_21_00191","PRTRMU-21-00191 - P06_L2-20210929-1",null,"Ávila",{"$nulls":13},"PRTRMU-21-00031 - P06_L2-20210922-3","Peatonalización e implantación ZBE Este Casco Histórico.",{"$nulls":5},"PRTRMU_21_00046","PRTRMU-21-00046 - P6_L4-20210910-1"]
["PRTRMU_21_00197","PRTRMU-21-00197 - P05_L4-20210927-1",null,"Águilas",{"$nulls":13},"PRTRMU-21-00065 - P06_L2-20210922-3","Mejora de la accesibilidad y ampliación de aceras. ",{"$nulls":5},"PRTRMU_21_00049","PRTRMU-21-00049 - P7_L2-20210924-2"]
["PRTRMU_21_00197","PRTRMU-21-00197 - P06_L4-20210927-1",null,"Águilas",{"$nulls":13},"PRTRMU-21-00038 - P06_L2-20210923-1","Movilidad vertical Juan XXIII.",{"$nulls":5},"PRTRMU_21_00057","PRTRMU-21-00057 - P7_L4-20210928-1"]
["PRTRMU_21_00198","PRTRMU-21-00198 - P12_L2-20210928-1",null,"Eivissa",{"$nulls":13},"PRTRMU-21-00125 - P06_L2-20210923-1","Peatonalización Cuesta San Blas, calle Ancha y Ramón y Cajal.",{"$nulls":5},"PRTRMU_21_00066","PRTRMU-21-00066 - P1_L2-20210915-1"]
["PRTRMU_21_00198","PRTRMU-21-00198 - P04_L2-20210928-1",null,"Eivissa",{"$nulls":13},"PRTRMU-21-00159 - P06_L2-20210923-1","Peatonalización Avenida Fred Olsen.",{"$nulls":5},"PRTRMU_21_00066","PRTRMU-21-00066 - P17_L2-20210916-1"]
["PRTRMU_21_00198","PRTRMU-21-00198 - P04_L2-20210928-2",null,"Eivissa",{"$nulls":13},"PRTRMU-21-00125 - P06_L2-20210923-2","Peatonalización zona centro.",{"$nulls":5},"PRTRMU_21_00066","PRTRMU-21-00066 - P18_L2-20210915-1"]
["PRTRMU_21_00199","PRTRMU-21-00199 - P06_L4-20210928-1",null,"Eibar",{"$nulls":13},"PRTRMU-21-00125 - P06_L2-20210923-3","Peatonalización zona iglesia san Juan Bautista y barrio San Juan.",{"$nulls":5},"PRTRMU_21_00085","PRTRMU-21-00085 - P6_L4-20210916-1"]
["PRTRMU_21_00199","PRTRMU-21-00199 - P06_L4-20210928-2",null,"Eibar",{"$nulls":13},"PRTRMU-21-00125 - P06_L2-20210923-4","Peatonalización zona universidad-palacio de congresos.",{"$nulls":5},"PRTRMU_21_00086","PRTRMU-21-00086 - P7_L2-20210923-1"]
["PRTRMU_21_00200","PRTRMU-21-00200 - P05_L4-20210927-1",null,"Sant Feliu de Llobregat",{"$nulls":13},"PRTRMU-21-00060 - P06_L2-20210924-1","Actuaciones de peatonalización en el ámbito de la ZBE.",{"$nulls":5},"PRTRMU_21_00086","PRTRMU-21-00086 - P7_L2-20210923-2"]
["PRTRMU_21_00200","PRTRMU-21-00200 - P06_L4-20210927-1",null,"Sant Feliu de Llobregat",{"$nulls":13},"PRTRMU-21-00174 - P06_L2-20210924-1","Peatonalización de espacios urbanos y mejora de la accesibilidad con la permeabilización de barreras.",{"$nulls":5},"PRTRMU_21_00086","PRTRMU-21-00086 - P7_L2-20210923-3"]
["PRTRMU_21_00200","PRTRMU-21-00200 - P06_L4-20210927-2",null,"Sant Feliu de Llobregat",{"$nulls":13},"PRTRMU-21-00179 - P06_L2-20210924-1","Fase 5 PMUS. Proyecto peatonalización del Eje T. Gallego-M. Molins-P. Altozano-P. Libertad.",{"$nulls":5},"PRTRMU_21_00086","PRTRMU-21-00086 - P7_L2-20210927-4"]
["PRTRMU_21_00200","PRTRMU-21-00200 - P06_L4-20210927-3",null,"Sant Feliu de Llobregat",{"$nulls":13},"PRTRMU-21-00179 - P06_L2-20210924-2","Obra de adecuación de accesos a la Estación de Autobuses de Albacete.",{"$nulls":5},"PRTRMU_21_00087","PRTRMU-21-00087 - P6_L2-20210929-1"]
["PRTRMU_21_00200","PRTRMU-21-00200 - P06_L4-20210927-4",null,"Sant Feliu de Llobregat",{"$nulls":13},"PRTRMU-21-00041 - P06_L2-20210924-3","Peatonalización del entorno de la iglesia de Sant Vicenç.",{"$nulls":5},"PRTRMU_21_00087","PRTRMU-21-00087 - P7_L2-20210929-1"]
["PRTRMU_21_00200","PRTRMU-21-00200 - P06_L4-20210927-5",null,"Sant Feliu de Llobregat",{"$nulls":13},"PRTRMU-21-00071 - P06_L2-20210925-3","Obras ampliación peatonal paso superior sobre línea C-5 a la altura del PK. 14+715.",{"$nulls":5},"PRTRMU_21_00093","PRTRMU-21-00093 - P9_L3-20210922-3"]
["PRTRMU_21_00201","PRTRMU-21-00201 - P19_L4-20210928-1",null,"Alcázar de San Juan",{"$nulls":13},"PRTRMU-21-00101 - P06_L2-20210926-1","Implementación de itinerarios peatonales en la zona central del casco antiguo.",{"$nulls":5},"PRTRMU_21_00121","PRTRMU-21-00121 - P4_L4-20210921-1"]
["PRTRMU_21_00202","PRTRMU-21-00202 - P04_L2-20210930-1",null,"Getxo",{"$nulls":13},"PRTRMU-21-00102 - P06_L2-20210926-1","Remodelación de la calle Imeldo Serís.",{"$nulls":5},"PRTRMU_21_00123","PRTRMU-21-00123 - P6_L2-20210921-1"]
["PRTRMU_21_00202","PRTRMU-21-00202 - P06_L2-20210930-1",null,"Getxo",{"$nulls":13},"PRTRMU-21-00102 - P06_L2-20210926-2","Remodelación de la calle La Rosa.",{"$nulls":5},"PRTRMU_21_00123","PRTRMU-21-00123 - P6_L2-20210927-2"]
["PRTRMU_21_00202","PRTRMU-21-00202 - P07_L2-20210930-1",null,"Getxo",{"$nulls":13},"PRTRMU-21-00063 - P06_L2-20210927-1","Consolidación de la peatonalización del casco antiguo. Reurbanización de la Calle Fierro.",{"$nulls":5},"PRTRMU_21_00123","PRTRMU-21-00123 - P6_L2-20210927-4"]
["PRTRMU_21_00202","PRTRMU-21-00202 - P07_L2-20210930-2",null,"Getxo",{"$nulls":13},"PRTRMU-21-00075 - P06_L2-20210927-1","Proyecto integral para la mejora de la accesibilidad y fomento de itinerarios peatonales.",{"$nulls":5},"PRTRMU_21_00134","PRTRMU-21-00134 - P6_L4-20210922-1"]
["PRTRMU_21_00204","PRTRMU-21-00204 - P01_L2-20210929-1",null,"Torremolinos",{"$nulls":13},"PRTRMU-21-00107 - P06_L2-20210927-1","Mejora de la accesibilidad vertical en los barrios de montaña (ascensores y escaleras).",{"$nulls":5},"PRTRMU_21_00140","PRTRMU-21-00140 - P6_L4-20210925-1"]
["PRTRMU_21_00204","PRTRMU-21-00204 - P17_L2-20210929-1",null,"Torremolinos",{"$nulls":13},"PRTRMU-21-00131 - P06_L2-20210927-1","Peatonalización entre la puerta de la muralla \"Bispo Odoario\" y Plaza de Ferrol.",{"$nulls":5},"PRTRMU_21_00021","PRTRMU-21-00021 - P6_L2-20210913-1"]
["PRTRMU_21_00204","PRTRMU-21-00204 - P02_L2-20210929-1",null,"Torremolinos",{"$nulls":13},"PRTRMU-21-00205 - P06_L2-20210927-1","Adecuación zonas e itinerarios peatonales y ciclistas y mejora permeabilidad Gran Vía - Balcó Ripoll.",{"$nulls":5},"PRTRMU_21_00037","PRTRMU-21-00037 - P6_L2-20210928-1"]
["PRTRMU_21_00204","PRTRMU-21-00204 - P06_L2-20210929-1",null,"Torremolinos",{"$nulls":13},"PRTRMU-21-00206 - P06_L2-20210927-1","Adecuación para circulación peatonal de varias calles de la zona de bajas emisiones “Ponferrada ZBE”.",{"$nulls":5},"PRTRMU_21_00049","PRTRMU-21-00049 - P7_L2-20210915-1"]
["PRTRMU_21_00205","PRTRMU-21-00205 - P01_L2-20210927-1",null,"Sabadell",{"$nulls":13},"PRTRMU-21-00219 - P06_L2-20210927-1","Peatonalización del Barrio Histórico del Alter (fase III).",{"$nulls":5},"PRTRMU_21_00101","PRTRMU-21-00101 - P7_L2-20210926-2"]
["PRTRMU_21_00205","PRTRMU-21-00205 - P01_L2-20210927-2",null,"Sabadell",{"$nulls":13},"PRTRMU-21-00231 - P06_L2-20210927-1","Adecuación itinerarios peatonales.",{"$nulls":5},"PRTRMU_21_00102","PRTRMU-21-00102 - P6_L2-20210926-1"]
["PRTRMU_21_00205","PRTRMU-21-00205 - P17_L2-20210927-1",null,"Sabadell",{"$nulls":13},"PRTRMU-21-00063 - P06_L2-20210927-2","Incremento de la permeabilidad entre El Lugar y La Banda. Pasarela peatonal sobre el río Iro.",{"$nulls":5},"PRTRMU_21_00102","PRTRMU-21-00102 - P6_L2-20210926-2"]
["PRTRMU_21_00205","PRTRMU-21-00205 - P18_L2-20210927-1",null,"Sabadell",{"$nulls":13},"PRTRMU-21-00107 - P06_L2-20210927-2","Creación de supermanzanas.",{"$nulls":5},"PRTRMU_21_00102","PRTRMU-21-00102 - P1_L2-20210926-1"]
["PRTRMU_21_00205","PRTRMU-21-00205 - P02_L2-20210927-1",null,"Sabadell",{"$nulls":13},"PRTRMU-21-00123 - P06_L2-20210927-2","Conexión peatonal entre las calles Serafín Avendaño y Vía Norte. Proyecto “HALO”.",{"$nulls":5},"PRTRMU_21_00102","PRTRMU-21-00102 - P17_L2-20210926-1"]
["PRTRMU_21_00205","PRTRMU-21-00205 - P06_L2-20210927-1",null,"Sabadell",{"$nulls":13},"PRTRMU-21-00129 - P06_L2-20210927-2","Red de Itinerarios peatonales accesibles Fase 1.",{"$nulls":5},"PRTRMU_21_00147","PRTRMU-21-00147 - P3_L2-20210928-1"]
["PRTRMU_21_00205","PRTRMU-21-00205 - P06_L2-20210927-2",null,"Sabadell",{"$nulls":13},"PRTRMU-21-00131 - P06_L2-20210927-2","Corazón verde entre murallas: plaza de Ferrol.",{"$nulls":5},"PRTRMU_21_00147","PRTRMU-21-00147 - P15_L2-20210928-1"]
["PRTRMU_21_00205","PRTRMU-21-00205 - P06_L2-20210927-3",null,"Sabadell",{"$nulls":13},"PRTRMU-21-00205 - P06_L2-20210927-2","Actuaciones infraestructura Gran Vía-Balcó Ripoll para peatonalizar espacio público y calmar tráfico.",{"$nulls":5},"PRTRMU_21_00149","PRTRMU-21-00149 - P6_L2-20210929-2"]
["PRTRMU_21_00206","PRTRMU-21-00206 - P01_L2-20210927-1",null,"Ponferrada",{"$nulls":13},"PRTRMU-21-00129 - P06_L2-20210927-3","Red de Itinerarios peatonales accesibles Fase 2.",{"$nulls":5},"PRTRMU_21_00158","PRTRMU-21-00158 - P4_L2-20210928-2"]
["PRTRMU_21_00206","PRTRMU-21-00206 - P01_L2-20210927-2",null,"Ponferrada",{"$nulls":13},"PRTRMU-21-00131 - P06_L2-20210927-3","Corazón verde entre murallas: Plaza de Santo domingo y Calle Teatro.",{"$nulls":5},"PRTRMU_21_00158","PRTRMU-21-00158 - P4_L2-20210928-6"]
["PRTRMU_21_00206","PRTRMU-21-00206 - P01_L2-20210927-3",null,"Ponferrada",{"$nulls":13},"PRTRMU-21-00205 - P06_L2-20210927-3","Adecuación espacios urbanos para implementar zonas e itinerarios peatonales y mejora accesibilidad.",{"$nulls":5},"PRTRMU_21_00158","PRTRMU-21-00158 - P4_L2-20210928-4"]
["PRTRMU_21_00206","PRTRMU-21-00206 - P02_L2-20210927-1",null,"Ponferrada",{"$nulls":13},"PRTRMU-21-00123 - P06_L2-20210927-4","Implantación de Vía Verde sobre antiguo trazado ferroviario. Fase II.",{"$nulls":5},"PRTRMU_21_00158","PRTRMU-21-00158 - P4_L2-20210928-3"]
["PRTRMU_21_00206","PRTRMU-21-00206 - P05_L2-20210927-1",null,"Ponferrada",{"$nulls":13},"PRTRMU-21-00030 - P06_L2-20210928-1","Adecuación de la calle Martí Julià para la implementación de itinerarios peatonales y mejora",{"$nulls":5},"PRTRMU_21_00158","PRTRMU-21-00158 - P1_L2-20210928-1"]
["PRTRMU_21_00206","PRTRMU-21-00206 - P06_L2-20210927-1",null,"Ponferrada",{"$nulls":13},"PRTRMU-21-00033 - P06_L2-20210928-1","Implantación de zona peatonal en el entorno de la Villa de Parla.",{"$nulls":5},"PRTRMU_21_00158","PRTRMU-21-00158 - P7_L2-20210928-2"]
["PRTRMU_21_00207","PRTRMU-21-00207 - P01_L2-20210927-1",null,"Coruña (A)",{"$nulls":13},"PRTRMU-21-00037 - P06_L2-20210928-1","Mejora de la accesibilidad en el ámbito de la peatonalización del centro urbano de Alcoi.",{"$nulls":5},"PRTRMU_21_00158","PRTRMU-21-00158 - P18_L2-20210928-1"]
["PRTRMU_21_00207","PRTRMU-21-00207 - P11_L2-20210929-1",null,"Coruña (A)",{"$nulls":13},"PRTRMU-21-00120 - P06_L2-20210928-1","Prioridades de actuación para mejorar la movilidad del peatón en Molina de Segura.",{"$nulls":5},"PRTRMU_21_00158","PRTRMU-21-00158 - P2_L2-20210928-1"]
["PRTRMU_21_00207","PRTRMU-21-00207 - P02_L2-20210927-1",null,"Coruña (A)",{"$nulls":13},"PRTRMU-21-00158 - P06_L2-20210928-1","Mejora de seguridad peatonal, walkability y accesibilidad universal en viales.",{"$nulls":5},"PRTRMU_21_00158","PRTRMU-21-00158 - P6_L2-20210928-1"]
["PRTRMU_21_00207","PRTRMU-21-00207 - P03_L2-20210927-1",null,"Coruña (A)",{"$nulls":13},"PRTRMU-21-00168 - P06_L2-20210928-1","Adecuación de espacios urbanos para la implementación de itinerarios peatonales y accesibles.",{"$nulls":5},"PRTRMU_21_00179","PRTRMU-21-00179 - P6_L2-20210924-1"]
["PRTRMU_21_00207","PRTRMU-21-00207 - P04_L2-20210927-1",null,"Coruña (A)",{"$nulls":13},"PRTRMU-21-00190 - P06_L2-20210928-1","Nuevos ejes de peatones, bicicletas y transporte público en los ejes básicos de la ZBE.",{"$nulls":5},"PRTRMU_21_00189","PRTRMU-21-00189 - P5_L2-20210924-1"]
["PRTRMU_21_00207","PRTRMU-21-00207 - P06_L2-20210929-1",null,"Coruña (A)",{"$nulls":13},"PRTRMU-21-00226 - P06_L2-20210928-1","Mejora de la accesibilidad de la red básica de peatones.",{"$nulls":5},"PRTRMU_21_00189","PRTRMU-21-00189 - P19_L2-20210924-1"]
["PRTRMU_21_00207","PRTRMU-21-00207 - P07_L2-20210929-1",null,"Coruña (A)",{"$nulls":13},"PRTRMU-21-00233 - P06_L2-20210928-1","Medidas de fomento de cambio modal. Implementación de zonas peatonales y mejoras de la accesibilidad.",{"$nulls":5},"PRTRMU_21_00189","PRTRMU-21-00189 - P18_L2-20210924-1"]
["PRTRMU_21_00208","PRTRMU-21-00208 - P16_L4-20210927-1",null,"Sant Adrià de Besòs",{"$nulls":13},"PRTRMU-21-00239 - P06_L2-20210928-1","Actuaciones de peatonalización en el entorno del Centro Tradicional de Alicante.",{"$nulls":5},"PRTRMU_21_00189","PRTRMU-21-00189 - P3_L2-20210924-1"]
["PRTRMU_21_00208","PRTRMU-21-00208 - P05_L4-20210927-1",null,"Sant Adrià de Besòs",{"$nulls":13},"PRTRMU-21-00246 - P06_L2-20210928-1","Mejora accesibilidad de las Rondas.",{"$nulls":5},"PRTRMU_21_00189","PRTRMU-21-00189 - P19_L2-20210924-2"]
["PRTRMU_21_00210","PRTRMU-21-00210 - P01_L2-20210928-1",null,"Soria",{"$nulls":13},"PRTRMU-21-00248 - P06_L2-20210928-1","Adecuación de espacios urbanos para la implementación de zonas e itinerarios peatonales y mejora.",{"$nulls":5},"PRTRMU_21_00190","PRTRMU-21-00190 - P6_L2-20210928-1"]
["PRTRMU_21_00210","PRTRMU-21-00210 - P07_L2-20210929-1",null,"Soria",{"$nulls":13},"PRTRMU-21-00030 - P06_L2-20210928-2","Remodelación de diversas calles de la ciudad para la mejora de la movilidad sostenible.",{"$nulls":5},"PRTRMU_21_00190","PRTRMU-21-00190 - P18_L2-20210928-1"]
["PRTRMU_21_00210","PRTRMU-21-00210 - P09_L2-20210929-1",null,"Soria",{"$nulls":13},"PRTRMU-21-00054 - P06_L2-20210928-2","Peatonalización sostenible de las calles Ciruela, Plaza del Pilar, Avda. Rey Santo y Pje. G. Ortega.",{"$nulls":5},"PRTRMU_21_00190","PRTRMU-21-00190 - P1_L2-20210928-1"]
["PRTRMU_21_00211","PRTRMU-21-00211 - P18_L2-20210929-1",null,"Fuengirola",{"$nulls":13},"PRTRMU-21-00175 - P06_L2-20210928-2","Urbanización de las calles López Peláez y Josepa Massanes.",{"$nulls":5},"PRTRMU_21_00199","PRTRMU-21-00199 - P6_L4-20210928-2"]
["PRTRMU_21_00212","PRTRMU-21-00212 - P16_L2-20210927-1",null,"Elche/Elx",{"$nulls":13},"PRTRMU-21-00054 - P06_L2-20210928-3","Peatonalización sostenible de las calles Juan II, Postas, Alfonso X, Reyes, Prado y Caballeros.",{"$nulls":5},"PRTRMU_21_00199","PRTRMU-21-00199 - P6_L4-20210928-1"]
["PRTRMU_21_00212","PRTRMU-21-00212 - P17_L2-20210928-1",null,"Elche/Elx",{"$nulls":13},"PRTRMU-21-00067 - P06_L2-20210928-3","Entornos escolares.",{"$nulls":5},"PRTRMU_21_00204","PRTRMU-21-00204 - P1_L2-20210929-1"]
["PRTRMU_21_00212","PRTRMU-21-00212 - P18_L2-20210928-1",null,"Elche/Elx",{"$nulls":13},"PRTRMU-21-00067 - P06_L2-20210928-4","Movilidad vertical en Trinitarios.",{"$nulls":5},"PRTRMU_21_00204","PRTRMU-21-00204 - P2_L2-20210929-1"]
["PRTRMU_21_00213","PRTRMU-21-00213 - P01_L2-20210929-1",null,"Estepona",{"$nulls":13},"PRTRMU-21-00067 - P06_L2-20210928-5","Pasos peatonales seguros.",{"$nulls":5},"PRTRMU_21_00204","PRTRMU-21-00204 - P6_L2-20210929-1"]
["PRTRMU_21_00213","PRTRMU-21-00213 - P16_L2-20210929-1",null,"Estepona",{"$nulls":13},"PRTRMU-21-00024 - P06_L2-20210929-1","Implantación de Barrios para peatones.",{"$nulls":5},"PRTRMU_21_00204","PRTRMU-21-00204 - P17_L2-20210929-1"]
["PRTRMU_21_00217","PRTRMU-21-00217 - P04_L4-20210927-1",null,"Lucena",{"$nulls":13},"PRTRMU-21-00039 - P06_L2-20210929-1","Medidas de peatonalización.",{"$nulls":5},"PRTRMU_21_00206","PRTRMU-21-00206 - P6_L2-20210927-1"]
["PRTRMU_21_00218","PRTRMU-21-00218 - P01_L2-20210928-1",null,"Paterna",{"$nulls":13},"PRTRMU-21-00087 - P06_L2-20210929-1","Nuevos itinerarios peatonales: Avda. Virgen del Carmen y Capitán Ontañón.",{"$nulls":5},"PRTRMU_21_00206","PRTRMU-21-00206 - P1_L2-20210927-2"]
["PRTRMU_21_00218","PRTRMU-21-00218 - P06_L2-20210928-1",null,"Paterna",{"$nulls":13},"PRTRMU-21-00118 - P06_L2-20210929-1","Creación de un eje verde urbano (Avda. Del Canal).",{"$nulls":5},"PRTRMU_21_00206","PRTRMU-21-00206 - P1_L2-20210927-3"]
["PRTRMU_21_00219","PRTRMU-21-00219 - P12_L2-20210927-1",null,"Torrent",{"$nulls":13},"PRTRMU-21-00149 - P06_L2-20210929-1","Acondicionamiento urbano de las plazas del General Prim y San Esteban.",{"$nulls":5},"PRTRMU_21_00206","PRTRMU-21-00206 - P5_L2-20210927-1"]
["PRTRMU_21_00219","PRTRMU-21-00219 - P19_L2-20210927-1",null,"Torrent",{"$nulls":13},"PRTRMU-21-00175 - P06_L2-20210929-1","Peatonalización del carrer Canyelles.",{"$nulls":5},"PRTRMU_21_00206","PRTRMU-21-00206 - P1_L2-20210927-1"]
["PRTRMU_21_00219","PRTRMU-21-00219 - P06_L2-20210927-1",null,"Torrent",{"$nulls":13},"PRTRMU-21-00191 - P06_L2-20210929-1","Implantación de escaleras mecánicas.",{"$nulls":5},"PRTRMU_21_00206","PRTRMU-21-00206 - P2_L2-20210927-1"]
["PRTRMU_21_00225","PRTRMU-21-00225 - P19_L1-20210927-1",null,"Agrupación de Valladolid",{"$nulls":13},"PRTRMU-21-00204 - P06_L2-20210929-1","Itinerarios peatonales y caminos escolares seguros.",{"$nulls":5},"PRTRMU_21_00212","PRTRMU-21-00212 - P18_L2-20210928-1"]
["PRTRMU_21_00226","PRTRMU-21-00226 - P06_L2-20210928-1",null,"Rubí",{"$nulls":13},"PRTRMU-21-00207 - P06_L2-20210929-1","Peatonalización de calles y mejora de la accesibilidad mediante elementos electromecánicos.",{"$nulls":5},"PRTRMU_21_00212","PRTRMU-21-00212 - P17_L2-20210928-1"]
["PRTRMU_21_00227","PRTRMU-21-00227 - P07_L4-20210928-1",null,"Torrelodones",{"$nulls":13},"PRTRMU-21-00253 - P06_L2-20210929-1","Plataforma única y peatonalización de la calle Juan Carlos I.",{"$nulls":5},"PRTRMU_21_00217","PRTRMU-21-00217 - P4_L4-20210927-1"]
["PRTRMU_21_00227","PRTRMU-21-00227 - P07_L4-20210928-3",null,"Torrelodones",{"$nulls":13},"PRTRMU-21-00266 - P06_L2-20210929-1","Adecuación de espacio urbano para infraestructura ciclista y peatonal.",{"$nulls":5},"PRTRMU_21_00219","PRTRMU-21-00219 - P6_L2-20210927-1"]
["PRTRMU_21_00229","PRTRMU-21-00229 - P17_L2-20210928-1",null,"Oviedo",{"$nulls":13},"PRTRMU-21-00275 - P06_L2-20210929-1","Adecuación espacios para itinerarios peatonales y mejora de la accesibilidad - ecomanzana en la ZBE.",{"$nulls":5},"PRTRMU_21_00219","PRTRMU-21-00219 - P19_L2-20210927-1"]
["PRTRMU_21_00231","PRTRMU-21-00231 - P01_L2-20210927-1",null,"Talavera de la Reina",{"$nulls":13},"PRTRMU-21-00284 - P06_L2-20210929-1","Actuación para calmar el tráfico rodado.",{"$nulls":5},"PRTRMU_21_00219","PRTRMU-21-00219 - P12_L2-20210927-1"]
["PRTRMU_21_00231","PRTRMU-21-00231 - P02_L2-20210927-1",null,"Talavera de la Reina",{"$nulls":13},"PRTRMU-21-00286 - P06_L2-20210929-1","Ampliación del espacio para el peatón.",{"$nulls":5},"PRTRMU_21_00233","PRTRMU-21-00233 - P6_L2-20210928-1"]
["PRTRMU_21_00231","PRTRMU-21-00231 - P04_L2-20210927-1",null,"Talavera de la Reina",{"$nulls":13},"PRTRMU-21-00307 - P06_L2-20210929-1","Nueva ordenación de la Calle García Margallo y Plazoleta del Rastro.",{"$nulls":5},"PRTRMU_21_00233","PRTRMU-21-00233 - P4_L2-20210928-1"]
["PRTRMU_21_00231","PRTRMU-21-00231 - P06_L2-20210927-1",null,"Talavera de la Reina",{"$nulls":13},"PRTRMU-21-00024 - P06_L2-20210929-2","Caminos escolares.",{"$nulls":5},"PRTRMU_21_00233","PRTRMU-21-00233 - P7_L2-20210928-1"]
["PRTRMU_21_00233","PRTRMU-21-00233 - P04_L2-20210928-1",null,"Palencia",{"$nulls":13},"PRTRMU-21-00149 - P06_L2-20210929-2","Acondicionamiento urbano de la calle Miguel Fluiters.",{"$nulls":5},"PRTRMU_21_00233","PRTRMU-21-00233 - P8_L2-20210928-1"]
["PRTRMU_21_00233","PRTRMU-21-00233 - P06_L2-20210928-1",null,"Palencia",{"$nulls":13},"PRTRMU-21-00284 - P06_L2-20210929-2","Mejora y ampliación de zonas peatonales en el casco histórico y zona de influencia.",{"$nulls":5},"PRTRMU_21_00236","PRTRMU-21-00236 - P19_L2-20210930-1"]
["PRTRMU_21_00233","PRTRMU-21-00233 - P07_L2-20210928-1",null,"Palencia",{"$nulls":13},"PRTRMU-21-00024 - P06_L2-20210929-3","Urbanización del Paseo de la Salzereda. Fase III.",{"$nulls":5},"PRTRMU_21_00239","PRTRMU-21-00239 - P6_L2-20210928-1"]
["PRTRMU_21_00233","PRTRMU-21-00233 - P08_L2-20210928-1",null,"Palencia",{"$nulls":13},"PRTRMU-21-00307 - P06_L2-20210929-3","Nueva ordenación de los tramos de conde Alcaudete, Pedro Navarro y Alfonso Guerra entre Carlos V.",{"$nulls":5},"PRTRMU_21_00239","PRTRMU-21-00239 - P7_L2-20210928-1"]
["PRTRMU_21_00236","PRTRMU-21-00236 - P01_L2-20210928-1",null,"Alcobendas",{"$nulls":13},"PRTRMU-21-00024 - P06_L2-20210929-4","Urbanización del nuevo Paseo Fluvial del Barrio de Safaretjos.",{"$nulls":5},"PRTRMU_21_00239","PRTRMU-21-00239 - P1_L2-20210928-1"]
["PRTRMU_21_00236","PRTRMU-21-00236 - P16_L2-20210930-1",null,"Alcobendas",{"$nulls":13},"PRTRMU-21-00024 - P06_L2-20210929-5","Urbanización del Paseo Besòs.",{"$nulls":5},"PRTRMU_21_00239","PRTRMU-21-00239 - P18_L2-20210928-1"]
["PRTRMU_21_00236","PRTRMU-21-00236 - P16_L2-20210930-2",null,"Alcobendas",{"$nulls":13},"PRTRMU-21-00024 - P06_L2-20210929-6","Urbanización y mejora movilidad vertical eje peatonal C. Bruc. Tramo: C. Valentí Escalas – C. Mas Ma",{"$nulls":5},"PRTRMU_21_00239","PRTRMU-21-00239 - P17_L2-20210928-1"]
["PRTRMU_21_00236","PRTRMU-21-00236 - P19_L2-20210930-1",null,"Alcobendas",{"$nulls":13},"PRTRMU-21-00024 - P06_L2-20210929-7","Urbanización de la Calle Sants.",{"$nulls":5},"PRTRMU_21_00239","PRTRMU-21-00239 - P3_L2-20210928-1"]
["PRTRMU_21_00239","PRTRMU-21-00239 - P01_L2-20210928-1",null,"Alicante/Alacant",{"$nulls":13},"PRTRMU-21-00202 - P06_L2-20210930-1","Mejora accesibilidad universal mediante ascensor vertical y pasarela en calle Arene.",{"$nulls":5},"PRTRMU_21_00239","PRTRMU-21-00239 - P13_L2-20210929-1"]
["PRTRMU_21_00239","PRTRMU-21-00239 - P13_L2-20210929-1",null,"Alicante/Alacant",{"$nulls":13},"PRTRMU-21-00302 - P06_L2-20210930-1","Peatonalización de la Plaza de la Candelaria.",{"$nulls":5},"PRTRMU_21_00293","PRTRMU-21-00293 - P4_L4-20210929-1"]
["PRTRMU_21_00239","PRTRMU-21-00239 - P16_L2-20210928-1",null,"Alicante/Alacant",{"$nulls":13},"PRTRMU-21-00330 - P06_L2-20210930-1","Creación Espacio Urbano Plaza de Arriba. ",{"$nulls":5},"PRTRMU_21_00317","PRTRMU-21-00317 - P6_L4-20210930-1"]
["PRTRMU_21_00239","PRTRMU-21-00239 - P17_L2-20210928-1",null,"Alicante/Alacant",{"$nulls":13},"PRTRMU-21-00338 - P06_L2-20210930-1","Implementación de zonas e itinerarios peatonales y mejora de la accesibilidad.",{"$nulls":5},"PRTRMU_21_00331","PRTRMU-21-00331 - P9_L4-20210930-1"]
["PRTRMU_21_00239","PRTRMU-21-00239 - P18_L2-20210928-1",null,"Alicante/Alacant",{"$nulls":13},"PRTRMU-21-00330 - P06_L2-20210930-3","Creación de espacio urbano Plaza Joan Miró.  ",{"$nulls":5},"PRTRMU_21_00331","PRTRMU-21-00331 - P6_L4-20210930-1"]
["PRTRMU_21_00239","PRTRMU-21-00239 - P03_L2-20210928-1",null,"Alicante/Alacant",{"$nulls":13},"PRTRMU-21-00330 - P06_L2-20210930-5","Acondicionamiento Paseo de la Mora y Barrio de la Tafalera.",{"$nulls":5},"PRTRMU_21_00333","PRTRMU-21-00333 - P18_L2-20210930-1"]
["PRTRMU_21_00239","PRTRMU-21-00239 - P06_L2-20210928-1",null,"Alicante/Alacant",{"$nulls":13},"PRTRMU-21-00089 - P06_L3-20210917-1","Mejora de la accesibilidad en las paradas de bus.",{"$nulls":5},"PRTRMU_21_00335","PRTRMU-21-00335 - P18_L1-20210930-4"]
["PRTRMU_21_00239","PRTRMU-21-00239 - P07_L2-20210928-1",null,"Alicante/Alacant",{"$nulls":13},"PRTRMU-21-00265 - P06_L3-20210928-1","Instalación de elementos de movilidad y transporte vertical en Nueva Ciudad I y Nueva Ciudad II.",{"$nulls":5},"PRTRMU_21_00335","PRTRMU-21-00335 - P18_L1-20210930-3"]
["PRTRMU_21_00243","PRTRMU-21-00243 - P06_L4-20210929-1",null,"Santurtzi",{"$nulls":13},"PRTRMU-21-00046 - P06_L4-20210910-1","Regeneración urbana, mejora de la accesibilidad y de la sostenibilidad de la Calle Real.",{"$nulls":5},"PRTRMU_21_00335","PRTRMU-21-00335 - P18_L1-20210930-12"]
["PRTRMU_21_00243","PRTRMU-21-00243 - P07_L4-20210929-1",null,"Santurtzi",{"$nulls":13},"PRTRMU-21-00085 - P06_L4-20210916-1","Peatonalización de la calle Cristina Baixa, del Pont de França y sus accesos.",{"$nulls":5},"PRTRMU_21_00335","PRTRMU-21-00335 - P18_L1-20210930-10"]
["PRTRMU_21_00243","PRTRMU-21-00243 - P07_L4-20210929-2",null,"Santurtzi",{"$nulls":13},"PRTRMU-21-00064 - P06_L4-20210920-1","Adecuación y mejora de la accesibilidad de itinerarios de la red municipal de peatones.",{"$nulls":5},"PRTRMU_21_00335","PRTRMU-21-00335 - P18_L1-20210930-5"]
["PRTRMU_21_00244","PRTRMU-21-00244 - P09_L2-20210929-1",null,"Alcalá de Guadaíra",{"$nulls":13},"PRTRMU-21-00064 - P06_L4-20210920-2","Camino de conexión para peatones de dos ámbitos del Parc dels Torrents.",{"$nulls":5},"PRTRMU_21_00335","PRTRMU-21-00335 - P18_L1-20210930-6"]
["PRTRMU_21_00245","PRTRMU-21-00245 - P04_L2-20210928-1",null,"Vilanova i la Geltrú",{"$nulls":13},"PRTRMU-21-00014 - P06_L4-20210921-1","Urbanización de la Plaza del Ayuntamiento y colindantes.",{"$nulls":5},"PRTRMU_21_00335","PRTRMU-21-00335 - P18_L1-20210930-9"]
["PRTRMU_21_00246","PRTRMU-21-00246 - P06_L2-20210928-1",null,"Teruel",{"$nulls":13},"PRTRMU-21-00134 - P06_L4-20210922-1","Peatonalización y mejora de la accesibilidad del centro urbano de Barberà del Vallès.",{"$nulls":5},"PRTRMU_21_00335","PRTRMU-21-00335 - P18_L1-20210930-8"]
["PRTRMU_21_00248","PRTRMU-21-00248 - P05_L2-20210928-1",null,"Santa Lucía de Tirajana",{"$nulls":13},"PRTRMU-21-00073 - P06_L4-20210924-1","Proyecto de reurbanización Calle Uruguay y Calle Brasil.",{"$nulls":5},"PRTRMU_21_00335","PRTRMU-21-00335 - P18_L1-20210930-11"]
["PRTRMU_21_00248","PRTRMU-21-00248 - P06_L2-20210928-1",null,"Santa Lucía de Tirajana",{"$nulls":13},"PRTRMU-21-00140 - P06_L4-20210925-1","Humanización y peatonalización de áreas estratégicas del Casco Histórico.",{"$nulls":5},"PRTRMU_21_00335","PRTRMU-21-00335 - P18_L1-20210930-2"]
["PRTRMU_21_00248","PRTRMU-21-00248 - P07_L2-20210928-1",null,"Santa Lucía de Tirajana",{"$nulls":13},"PRTRMU-21-00197 - P06_L4-20210927-1","Adecuación de C/ Murcia para ampliación de espacios peatonales y mejora de accesibilidad.",{"$nulls":5},"PRTRMU_21_00338","PRTRMU-21-00338 - P6_L2-20210930-1"]
["PRTRMU_21_00249","PRTRMU-21-00249 - P01_L2-20210928-1",null,"Benidorm",{"$nulls":13},"PRTRMU-21-00200 - P06_L4-20210927-1","Reurbanización integral de las calles Falguera y Batista.",{"$nulls":5},"PRTRMU_21_00338","PRTRMU-21-00338 - P1_L2-20210930-1"]
["PRTRMU_21_00249","PRTRMU-21-00249 - P01_L2-20210928-2",null,"Benidorm",{"$nulls":13},"PRTRMU-21-00014 - P06_L4-20210927-2","Adecuación y reposición de las aceras de la calle Mossen Manya y Sebastián Juan Arbó. ",{"$nulls":5},"PRTRMU_21_00342","PRTRMU-21-00342 - P9_L4-20210930-1"]
["PRTRMU_21_00249","PRTRMU-21-00249 - P01_L2-20210928-3",null,"Benidorm",{"$nulls":13},"PRTRMU-21-00200 - P06_L4-20210927-2","Reurbanización integral de la calle Agustín Domingo (Fase 2).",{"$nulls":5},"PRTRMU_21_00348","PRTRMU-21-00348 - P5_L4-20211222-1"]
["PRTRMU_21_00249","PRTRMU-21-00249 - P11_L2-20210928-1",null,"Benidorm",{"$nulls":13},"PRTRMU-21-00200 - P06_L4-20210927-3","Implantación del Plan de Accesibilidad Universal de la vía pública.",{"$nulls":5},"PRTRMU_21_00043","PRTRMU-21-00043 - P4_L2-20210910-1"]
["PRTRMU_21_00249","PRTRMU-21-00249 - P13_L2-20210928-1",null,"Benidorm",{"$nulls":13},"PRTRMU-21-00014 - P06_L4-20210927-4","Transformación de la calle Barcelona en Itinerario Peatonal accesible y creación de un carril bici.",{"$nulls":5},"PRTRMU_21_00057","PRTRMU-21-00057 - P18_L4-20210928-1"]
["PRTRMU_21_00249","PRTRMU-21-00249 - P16_L2-20210928-1",null,"Benidorm",{"$nulls":13},"PRTRMU-21-00200 - P06_L4-20210927-4","Pacificación del espacio interno y mejora de los itinerarios peatonales en entornos escolares.",{"$nulls":5},"PRTRMU_21_00074","PRTRMU-21-00074 - P2_L2-20210916-1"]
["PRTRMU_21_00249","PRTRMU-21-00249 - P17_L2-20210928-1",null,"Benidorm",{"$nulls":13},"PRTRMU-21-00200 - P06_L4-20210927-5","Implantación de actuaciones de adecuación de la vía pública. Proyecto participativo \"Construim\".",{"$nulls":5},"PRTRMU_21_00074","PRTRMU-21-00074 - P12_L2-20210916-2"]
["PRTRMU_21_00252","PRTRMU-21-00252 - P06_L4-20210928-1",null,"Hernani",{"$nulls":13},"PRTRMU-21-00103 - P06_L4-20210928-1","Adecuación del espacio urbano entre calle Muro y Paseo Pamplona (Fase II).",{"$nulls":5},"PRTRMU_21_00074","PRTRMU-21-00074 - P6_L2-20210916-4"]
["PRTRMU_21_00253","PRTRMU-21-00253 - P16_L2-20210929-1",null,"Badajoz",{"$nulls":13},"PRTRMU-21-00199 - P06_L4-20210928-1","Ascensor nº 1 entre las calles Ubitxa y San Cristóbal.",{"$nulls":5},"PRTRMU_21_00074","PRTRMU-21-00074 - P6_L2-20210916-7"]
["PRTRMU_21_00253","PRTRMU-21-00253 - P17_L2-20210929-1",null,"Badajoz",{"$nulls":13},"PRTRMU-21-00252 - P06_L4-20210928-1","Adecuación de vial para implementar la movilidad limpia y superar las barreras del tren y el rio.",{"$nulls":5},"PRTRMU_21_00074","PRTRMU-21-00074 - P1_L2-20210915-1"]
["PRTRMU_21_00253","PRTRMU-21-00253 - P04_L2-20210929-1",null,"Badajoz",{"$nulls":13},"PRTRMU-21-00199 - P06_L4-20210928-2","Ascensor nº 2 entre las calles Ubitxa y San Cristóbal.",{"$nulls":5},"PRTRMU_21_00074","PRTRMU-21-00074 - P6_L2-20210916-1"]
["PRTRMU_21_00253","PRTRMU-21-00253 - P06_L2-20210929-1",null,"Badajoz",{"$nulls":13},"PRTRMU-21-00062 - P06_L4-20210929-1","Camí de l’aigua. Rehabilitación urbana y peatonalización en los cascos históricos.  Fase III.",{"$nulls":5},"PRTRMU_21_00074","PRTRMU-21-00074 - P12_L2-20210916-1"]
["PRTRMU_21_00254","PRTRMU-21-00254 - P04_L2-20210928-1",null,"Siero",{"$nulls":13},"PRTRMU-21-00243 - P06_L4-20210929-1","Implementación de ascensor en Grupo Fontuso.",{"$nulls":5},"PRTRMU_21_00074","PRTRMU-21-00074 - P6_L2-20210916-8"]
["PRTRMU_21_00255","PRTRMU-21-00255 - P01_L2-20210928-1",null,"Córdoba",{"$nulls":13},"PRTRMU-21-00291 - P06_L4-20210929-1","Adecuación en materia de peatonalización y accesibilidad en Zona Comercial Abierta del casco urbano. ",{"$nulls":5},"PRTRMU_21_00093","PRTRMU-21-00093 - P3_L3-20210917-1"]
["PRTRMU_21_00255","PRTRMU-21-00255 - P16_L2-20210928-1",null,"Córdoba",{"$nulls":13},"PRTRMU-21-00316 - P06_L4-20210929-1","Prioridades de actuación para mejorar la movilidad del peatón en Yecla.",{"$nulls":5},"PRTRMU_21_00093","PRTRMU-21-00093 - P9_L3-20210922-1"]
["PRTRMU_21_00255","PRTRMU-21-00255 - P08_L2-20210928-1",null,"Córdoba",{"$nulls":13},"PRTRMU-21-00317 - P06_L4-20210930-1","Implementación de itinerarios peatonales y carril bici.",{"$nulls":5},"PRTRMU_21_00093","PRTRMU-21-00093 - P4_L3-20210923-1"]
["PRTRMU_21_00258","PRTRMU-21-00258 - P04_L4-20210929-1",null,"Sant Andreu de la Barca",{"$nulls":13},"PRTRMU-21-00331 - P06_L4-20210930-1","Mejora de las condiciones de accesibilidad de la Calle del Mestre Palau.",{"$nulls":5},"PRTRMU_21_00093","PRTRMU-21-00093 - P4_L3-20210923-2"]
["PRTRMU_21_00260","PRTRMU-21-00260 - P10_L2-20210928-1",null,"Palmas de Gran Canaria (Las)",{"$nulls":13},"PRTRMU-21-00332 - P06_L4-20210930-1","Ejes Cívicos y Comerciales en el Centro Histórico.",{"$nulls":5},"PRTRMU_21_00093","PRTRMU-21-00093 - P9_L3-20210922-2"]
["PRTRMU_21_00260","PRTRMU-21-00260 - P16_L2-20210928-1",null,"Palmas de Gran Canaria (Las)",{"$nulls":13},"PRTRMU-21-00337 - P06_L4-20210930-1","Conformación de un eje peatonal accesible, sin barreras arquitectónicas.",{"$nulls":5},"PRTRMU_21_00149","PRTRMU-21-00149 - P9_L2-20210929-1"]
["PRTRMU_21_00260","PRTRMU-21-00260 - P16_L2-20210928-2",null,"Palmas de Gran Canaria (Las)",{"$nulls":13},"PRTRMU-21-00343 - P06_L4-20210930-1","Reconversión avenida Fernando de los Ríos.",{"$nulls":5},"PRTRMU_21_00190","PRTRMU-21-00190 - P4_L2-20210928-1"]
["PRTRMU_21_00260","PRTRMU-21-00260 - P19_L2-20210928-2",null,"Palmas de Gran Canaria (Las)",{"$nulls":13},"PRTRMU-21-00026 - P07_L2-20210907-1","Reurbanización de la Av. República Argentina desde la Calle Travessera hasta la Urb. \"PISA\". ",{"$nulls":5},"PRTRMU_21_00253","PRTRMU-21-00253 - P4_L2-20210929-1"]
["PRTRMU_21_00260","PRTRMU-21-00260 - P09_L2-20210928-1",null,"Palmas de Gran Canaria (Las)",{"$nulls":13},"PRTRMU-21-00026 - P07_L2-20210907-2","Ampliación de las aceras de la Calle Tirso de Molina y Calle Albert Einstein.",{"$nulls":5},"PRTRMU_21_00253","PRTRMU-21-00253 - P6_L2-20210929-1"]
["PRTRMU_21_00262","PRTRMU-21-00262 - P01_L2-20210929-1",null,"San Vicente del Raspeig/Sant Vicent del Raspeig",{"$nulls":13},"PRTRMU-21-00021 - P07_L2-20210913-1","Mejora tránsito peatonal intersecciones y cruces ZBE Distrito Centro.",{"$nulls":5},"PRTRMU_21_00330","PRTRMU-21-00330 - P6_L2-20210930-1"]
["PRTRMU_21_00262","PRTRMU-21-00262 - P02_L2-20210929-1",null,"San Vicente del Raspeig/Sant Vicent del Raspeig",{"$nulls":13},"PRTRMU-21-00026 - P07_L2-20210913-1","Ampliación acera norte de la Av. República Argentina entre C. Mossèn Andreu y Av. Sant Ildefons.",{"$nulls":5},"PRTRMU_21_00330","PRTRMU-21-00330 - P6_L2-20210930-3"]
["PRTRMU_21_00262","PRTRMU-21-00262 - P07_L2-20210929-1",null,"San Vicente del Raspeig/Sant Vicent del Raspeig",{"$nulls":13},"PRTRMU-21-00049 - P07_L2-20210915-1","La Vereda. Fase I.",{"$nulls":5},"PRTRMU_21_00330","PRTRMU-21-00330 - P6_L2-20210930-5"]
["PRTRMU_21_00264","PRTRMU-21-00264 - P09_L2-20210930-1",null,"San Fernando",{"$nulls":13},"PRTRMU-21-00091 - P07_L2-20210917-1","Movilidad urbana sostenible en la zona centro de Zamora.",{"$nulls":5},"PRTRMU_21_00337","PRTRMU-21-00337 - P5_L4-20210930-1"]
["PRTRMU_21_00265","PRTRMU-21-00265 - P12_L3-20210928-1",null,"Torrelavega",{"$nulls":13},"PRTRMU-21-00052 - P07_L2-20210920-1","Mejora de ejes peatonales.",{"$nulls":5},"PRTRMU_21_00337","PRTRMU-21-00337 - P6_L4-20210930-1"]
["PRTRMU_21_00265","PRTRMU-21-00265 - P06_L3-20210928-1",null,"Torrelavega",{"$nulls":13},"PRTRMU-21-00090 - P07_L2-20210920-1","Actuaciones de mejora de la accesibilidad y calmado del tráfico rodado.",{"$nulls":5},"PRTRMU_21_00337","PRTRMU-21-00337 - P7_L4-20210930-1"]
["PRTRMU_21_00265","PRTRMU-21-00265 - P07_L3-20210928-1",null,"Torrelavega",{"$nulls":13},"PRTRMU-21-00031 - P07_L2-20210922-1","Mejora en la movilidad y accesibilidad en distintas zonas de la ciudad.",{"$nulls":5},"PRTRMU_21_00207","PRTRMU-21-00207 - P1_L2-20210927-1"]
["PRTRMU_21_00266","PRTRMU-21-00266 - P01_L2-20210929-1",null,"Linares",{"$nulls":13},"PRTRMU-21-00065 - P07_L2-20210922-1","Señalización, semáforos y obras de elevación de la calzada para calmar el tráfico. ",{"$nulls":5},"PRTRMU_21_00207","PRTRMU-21-00207 - P2_L2-20210927-1"]
["PRTRMU_21_00266","PRTRMU-21-00266 - P12_L2-20210929-1",null,"Linares",{"$nulls":13},"PRTRMU-21-00069 - P07_L2-20210922-1","Movilidad escolar sostenible y segura-actuaciones para calmar el tráfico rodado.",{"$nulls":5},"PRTRMU_21_00207","PRTRMU-21-00207 - P7_L2-20210929-1"]
["PRTRMU_21_00266","PRTRMU-21-00266 - P18_L2-20210929-1",null,"Linares",{"$nulls":13},"PRTRMU-21-00081 - P07_L2-20210922-1","Templado de tráfico de los ejes de borde oeste del centro histórico de Cáceres: Avda. de España",{"$nulls":5},"PRTRMU_21_00207","PRTRMU-21-00207 - P3_L2-20210927-1"]
["PRTRMU_21_00266","PRTRMU-21-00266 - P06_L2-20210929-1",null,"Linares",{"$nulls":13},"PRTRMU-21-00031 - P07_L2-20210922-2","Mejora en la movilidad y accesibilidad en Avda. Gustavo Adolfo Bécquer.",{"$nulls":5},"PRTRMU_21_00207","PRTRMU-21-00207 - P4_L2-20210927-1"]
["PRTRMU_21_00266","PRTRMU-21-00266 - P07_L2-20210929-1",null,"Linares",{"$nulls":13},"PRTRMU-21-00069 - P07_L2-20210922-2","Acondicionamiento de pasos de peatones accesibles e inteligentes.",{"$nulls":5},"PRTRMU_21_00207","PRTRMU-21-00207 - P6_L2-20210929-1"]
["PRTRMU_21_00266","PRTRMU-21-00266 - P09_L2-20210929-1",null,"Linares",{"$nulls":13},"PRTRMU-21-00031 - P07_L2-20210922-3","Mejora de la movilidad mediante señalización e iluminación reforzada.",{"$nulls":5},"PRTRMU_21_00026","PRTRMU-21-00026 - P6_L2-20210907-1"]
["PRTRMU_21_00267","PRTRMU-21-00267 - P01_L2-20210928-1",null,"Mérida",{"$nulls":13},"PRTRMU-21-00086 - P07_L2-20210923-1","Mejora movilidad, seguridad vial y aparcamiento en el Polígono Industrial y de ocio de Pla d'en Boet.",{"$nulls":5},"PRTRMU_21_00102","PRTRMU-21-00102 - P5_L2-20210926-1"]
["PRTRMU_21_00267","PRTRMU-21-00267 - P18_L2-20210928-1",null,"Mérida",{"$nulls":13},"PRTRMU-21-00125 - P07_L2-20210923-1","Señalización de calmado de tráfico.",{"$nulls":5},"PRTRMU_21_00293","PRTRMU-21-00293 - P5_L4-20210929-1"]
["PRTRMU_21_00267","PRTRMU-21-00267 - P02_L2-20210928-1",null,"Mérida",{"$nulls":13},"PRTRMU-21-00150 - P07_L2-20210923-1","Proyecto de adecuación calle Marcos Torniello y plaza Merced: Peatonalización y restricción tráfico.",{"$nulls":5},"PRTRMU_21_00129","PRTRMU-21-00129 - P1_L2-20210927-2"]
["PRTRMU_21_00267","PRTRMU-21-00267 - P07_L2-20210928-1",null,"Mérida",{"$nulls":13},"PRTRMU-21-00159 - P07_L2-20210923-1","Transformación Calle El Greco y Calle Valencia.",{"$nulls":5},"PRTRMU_21_00129","PRTRMU-21-00129 - P1_L2-20210927-3"]
["PRTRMU_21_00274","PRTRMU-21-00274 - P11_L4-20210929-1",null,"Castro-Urdiales",{"$nulls":13},"PRTRMU-21-00086 - P07_L2-20210923-2","Accesibilidad entornos escolares, adecuación itinerarios de caminos escolares.",{"$nulls":5},"PRTRMU_21_00129","PRTRMU-21-00129 - P11_L2-20210927-1"]
["PRTRMU_21_00274","PRTRMU-21-00274 - P12_L4-20210929-1",null,"Castro-Urdiales",{"$nulls":13},"PRTRMU-21-00150 - P07_L2-20210923-2","Proyecto de adecuación calle Severo Ochoa y plaza Carbayedo: Peatonalización y restricción tráfico.",{"$nulls":5},"PRTRMU_21_00129","PRTRMU-21-00129 - P19_L2-20210927-1"]
["PRTRMU_21_00274","PRTRMU-21-00274 - P04_L4-20210929-1",null,"Castro-Urdiales",{"$nulls":13},"PRTRMU-21-00159 - P07_L2-20210923-2","Acondicionamiento de Trama Urbana Calle Manolo Millares. ",{"$nulls":5},"PRTRMU_21_00129","PRTRMU-21-00129 - P19_L2-20210927-2"]
["PRTRMU_21_00274","PRTRMU-21-00274 - P07_L4-20210929-1",null,"Castro-Urdiales",{"$nulls":13},"PRTRMU-21-00086 - P07_L2-20210923-3","Reurbanización del Camí Ral (Tramo entre C. Cooperativa y C. Lepanto).",{"$nulls":5},"PRTRMU_21_00129","PRTRMU-21-00129 - P3_L2-20210927-1"]
["PRTRMU_21_00275","PRTRMU-21-00275 - P01_L2-20210928-1",null,"Gijón",{"$nulls":13},"PRTRMU-21-00159 - P07_L2-20210923-3","Adecuación de la Calle Ildefonso Valls de la Torre.",{"$nulls":5},"PRTRMU_21_00129","PRTRMU-21-00129 - P3_L2-20210927-2"]
["PRTRMU_21_00275","PRTRMU-21-00275 - P11_L2-20210929-1",null,"Gijón",{"$nulls":13},"PRTRMU-21-00167 - P07_L2-20210924-1","Adecuación modal (Zona prioridad central, zona 1, zona 4 y calle Moyano).",{"$nulls":5},"PRTRMU_21_00129","PRTRMU-21-00129 - P5_L2-20210927-1"]
["PRTRMU_21_00275","PRTRMU-21-00275 - P12_L2-20210929-1",null,"Gijón",{"$nulls":13},"PRTRMU-21-00174 - P07_L2-20210924-1","Actuaciones para calmar el tráfico rodado.",{"$nulls":5},"PRTRMU_21_00129","PRTRMU-21-00129 - P6_L2-20210927-2"]
["PRTRMU_21_00275","PRTRMU-21-00275 - P02_L2-20210929-1",null,"Gijón",{"$nulls":13},"PRTRMU-21-00049 - P07_L2-20210924-2","Smart Utrera. Fase II.",{"$nulls":5},"PRTRMU_21_00129","PRTRMU-21-00129 - P6_L2-20210927-3"]
["PRTRMU_21_00275","PRTRMU-21-00275 - P03_L2-20210929-1",null,"Gijón",{"$nulls":13},"PRTRMU-21-00052 - P07_L2-20210924-2","Reurbanización de la Calle Santa Elena.",{"$nulls":5},"PRTRMU_21_00129","PRTRMU-21-00129 - P5_L2-20210927-2"]
["PRTRMU_21_00275","PRTRMU-21-00275 - P04_L2-20210929-1",null,"Gijón",{"$nulls":13},"PRTRMU-21-00174 - P07_L2-20210924-2","Implementación de sistemas de “enforcement”",{"$nulls":5},"PRTRMU_21_00302","PRTRMU-21-00302 - P12_L2-20210929-1"]
["PRTRMU_21_00275","PRTRMU-21-00275 - P06_L2-20210929-1",null,"Gijón",{"$nulls":13},"PRTRMU-21-00052 - P07_L2-20210924-3","Reurbanización de las calles del entorno de la Plaza de San Juan.",{"$nulls":5},"PRTRMU_21_00279","PRTRMU-21-00279 - P12_L4-20210929-1"]
["PRTRMU_21_00277","PRTRMU-21-00277 - P04_L4-20210929-1",null,"Lloret de Mar",{"$nulls":13},"PRTRMU-21-00071 - P07_L2-20210925-1","Sistema de detección de infracción por salto de semáforo en rojo y giros indebidos.",{"$nulls":5},"PRTRMU_21_00279","PRTRMU-21-00279 - P7_L4-20210929-1"]
["PRTRMU_21_00277","PRTRMU-21-00277 - P09_L4-20210929-1",null,"Lloret de Mar",{"$nulls":13},"PRTRMU-21-00101 - P07_L2-20210926-2","Mejora de las infraestructuras de la calle Puerto para favorecer la conectividad.",{"$nulls":5},"PRTRMU_21_00253","PRTRMU-21-00253 - P17_L2-20210929-1"]
["PRTRMU_21_00279","PRTRMU-21-00279 - P12_L4-20210929-1",null,"Arteixo",{"$nulls":13},"PRTRMU-21-00063 - P07_L2-20210927-1","Configuración de la red no motorizada estructurante. Adecuación tramo sur Molino Viejo.",{"$nulls":5},"PRTRMU_21_00129","PRTRMU-21-00129 - P1_L2-20210927-1"]
["PRTRMU_21_00279","PRTRMU-21-00279 - P07_L4-20210929-1",null,"Arteixo",{"$nulls":13},"PRTRMU-21-00107 - P07_L2-20210927-1","Reducción de la capacidad viaria en los ejes de acceso a la ciudad (Meridiana).",{"$nulls":5},"PRTRMU_21_00151","PRTRMU-21-00151 - P17_L2-20210923-1"]
["PRTRMU_21_00283","PRTRMU-21-00283 - P01_L1-20210929-1",null,"Agrupación de Sevilla",{"$nulls":13},"PRTRMU-21-00107 - P07_L2-20210927-2","Barcelona ciudad 30.",{"$nulls":5},"PRTRMU_21_00151","PRTRMU-21-00151 - P18_L2-20210923-1"]
["PRTRMU_21_00284","PRTRMU-21-00284 - P16_L2-20210929-1",null,"Ourense",{"$nulls":13},"PRTRMU-21-00086 - P07_L2-20210927-4","Construcción nueva rotonda en la N-II.",{"$nulls":5},"PRTRMU_21_00151","PRTRMU-21-00151 - P8_L2-20210923-1"]
["PRTRMU_21_00284","PRTRMU-21-00284 - P17_L2-20210929-1",null,"Ourense",{"$nulls":13},"PRTRMU-21-00022 - P07_L2-20210928-1","Actuaciones para calmar el tráfico rodado en calles del núcleo de Balerma.",{"$nulls":5},"PRTRMU_21_00069","PRTRMU-21-00069 - P6_L2-20210922-1"]
["PRTRMU_21_00284","PRTRMU-21-00284 - P06_L2-20210929-1",null,"Ourense",{"$nulls":13},"PRTRMU-21-00030 - P07_L2-20210928-1","Entornos escolares seguros y saludables (zonas urbanas de atmosfera protegida ZUAP).",{"$nulls":5},"PRTRMU_21_00260","PRTRMU-21-00260 - P10_L2-20210928-1"]
["PRTRMU_21_00284","PRTRMU-21-00284 - P06_L2-20210929-2",null,"Ourense",{"$nulls":13},"PRTRMU-21-00120 - P07_L2-20210928-1","Un nuevo modelo de red e infraestructura más equitativo para las personas de Molina de Segura.",{"$nulls":5},"PRTRMU_21_00260","PRTRMU-21-00260 - P19_L2-20210928-2"]
["PRTRMU_21_00285","PRTRMU-21-00285 - P12_L2-20210930-1",null,"Collado Villalba",{"$nulls":13},"PRTRMU-21-00233 - P07_L2-20210928-1","Iluminación pasos peatonales (pacificación mediante el pavimento y elementos disuasorios de tráfico).",{"$nulls":5},"PRTRMU_21_00349","PRTRMU-21-00349 - P7_L2-20211223-1"]
["PRTRMU_21_00286","PRTRMU-21-00286 - P01_L2-20210929-1",null,"València",{"$nulls":13},"PRTRMU-21-00239 - P07_L2-20210928-1","Medidas de calmado del tráfico y mejora de la movilidad sostenible en los ejes Gadea-Federico Soto.",{"$nulls":5},"PRTRMU_21_00349","PRTRMU-21-00349 - P7_L2-20211223-4"]
["PRTRMU_21_00286","PRTRMU-21-00286 - P16_L2-20210929-1",null,"València",{"$nulls":13},"PRTRMU-21-00248 - P07_L2-20210928-1","Actuaciones calmado de tráfico en la circunvalación de Vecindario mediante la mejora de señalización.",{"$nulls":5},"PRTRMU_21_00349","PRTRMU-21-00349 - P1_L2-20211223-1"]
["PRTRMU_21_00286","PRTRMU-21-00286 - P17_L2-20210929-1",null,"València",{"$nulls":13},"PRTRMU-21-00267 - P07_L2-20210928-1","Calmado de tráfico en las calles Graciano y J. Lennon.",{"$nulls":5},"PRTRMU_21_00191","PRTRMU-21-00191 - P4_L2-20210929-1"]
["PRTRMU_21_00286","PRTRMU-21-00286 - P18_L2-20210929-1",null,"València",{"$nulls":13},"PRTRMU-21-00022 - P07_L2-20210928-2","Actuaciones para calmar el tráfico rodado en el centro de El Ejido.",{"$nulls":5},"PRTRMU_21_00191","PRTRMU-21-00191 - P6_L2-20210929-1"]
["PRTRMU_21_00286","PRTRMU-21-00286 - P02_L2-20210929-1",null,"València",{"$nulls":13},"PRTRMU-21-00158 - P07_L2-20210928-2","Proyecto de mejora de seguridad peatonal y walkability mediante pasos de peatones inteligentes.",{"$nulls":5},"PRTRMU_21_00248","PRTRMU-21-00248 - P5_L2-20210928-1"]
["PRTRMU_21_00286","PRTRMU-21-00286 - P05_L2-20210929-1",null,"València",{"$nulls":13},"PRTRMU-21-00039 - P07_L2-20210929-1","Medidas de pacificación.",{"$nulls":5},"PRTRMU_21_00248","PRTRMU-21-00248 - P6_L2-20210928-1"]
["PRTRMU_21_00286","PRTRMU-21-00286 - P06_L2-20210929-1",null,"València",{"$nulls":13},"PRTRMU-21-00087 - P07_L2-20210929-1","Calmado de tráfico en los ejes de conexión con los nuevos itinerarios peatonales.",{"$nulls":5},"PRTRMU_21_00248","PRTRMU-21-00248 - P7_L2-20210928-1"]
["PRTRMU_21_00286","PRTRMU-21-00286 - P08_L2-20210929-1",null,"València",{"$nulls":13},"PRTRMU-21-00207 - P07_L2-20210929-1","Medidas para la pacificación del tráfico y remodelación de cruces para su regulación.",{"$nulls":5},"PRTRMU_21_00213","PRTRMU-21-00213 - P1_L2-20210929-1"]
["PRTRMU_21_00287","PRTRMU-21-00287 - P18_L3-20210930-1",null,"València",{"$nulls":13},"PRTRMU-21-00210 - P07_L2-20210929-1","Pacificación de calles aledañas a la ZBE.",{"$nulls":5},"PRTRMU_21_00202","PRTRMU-21-00202 - P4_L2-20210930-1"]
["PRTRMU_21_00287","PRTRMU-21-00287 - P18_L3-20210930-2",null,"València",{"$nulls":13},"PRTRMU-21-00266 - P07_L2-20210929-1","Obras de mejora para calmar el tráfico rodado dentro de la ZBE.",{"$nulls":5},"PRTRMU_21_00202","PRTRMU-21-00202 - P6_L2-20210930-1"]
["PRTRMU_21_00287","PRTRMU-21-00287 - P02_L3-20210930-1",null,"València",{"$nulls":13},"PRTRMU-21-00202 - P07_L2-20210930-1","Semipeatonalización y creación de ZBE y mejora calidad ambiental en calle Mayor fase 1.",{"$nulls":5},"PRTRMU_21_00202","PRTRMU-21-00202 - P7_L2-20210930-1"]
["PRTRMU_21_00287","PRTRMU-21-00287 - P05_L3-20210930-1",null,"València",{"$nulls":13},"PRTRMU-21-00202 - P07_L2-20210930-2","ZBE y descarbonización mediante corredor pulmón verde urbano en plaza Estación Areeta.",{"$nulls":5},"PRTRMU_21_00202","PRTRMU-21-00202 - P7_L2-20210930-2"]
["PRTRMU_21_00291","PRTRMU-21-00291 - P06_L4-20210929-1",null,"Gáldar",{"$nulls":13},"PRTRMU-21-00336 - P07_L2-20210930-2","Actuaciones para calmar el tráfico rodado (infraestructura).",{"$nulls":5},"PRTRMU_21_00264","PRTRMU-21-00264 - P9_L2-20210930-1"]
["PRTRMU_21_00293","PRTRMU-21-00293 - P04_L4-20210929-1",null,"Baza",{"$nulls":13},"PRTRMU-21-00349 - P07_L2-20211223-1","Remodelación urbana de la Calle Maestro Bretón en el Barrio de la Alhóndiga."]
["PRTRMU_21_00293","PRTRMU-21-00293 - P05_L4-20210929-1",null,"Baza",{"$nulls":13},"PRTRMU-21-00349 - P07_L2-20211223-4","Obras de Remodelación urbana del ámbito delimitado por C/ San Sebastián, C/Sánchez Morate y otras."]
["PRTRMU_21_00295","PRTRMU-21-00295 - P18_L4-20210929-1",null,"Conil de la Frontera",{"$nulls":13},"PRTRMU-21-00265 - P07_L3-20210928-1","Sistema de control de accesos en la calle Carrera y remodelación integral de la calle Julián Ceballos."]
["PRTRMU_21_00295","PRTRMU-21-00295 - P04_L4-20210929-1",null,"Conil de la Frontera",{"$nulls":13},"PRTRMU-21-00064 - P07_L4-20210920-1","Pacificación de la red viaria secundaria de tráfico."]
["PRTRMU_21_00295","PRTRMU-21-00295 - P05_L4-20210929-1",null,"Conil de la Frontera",{"$nulls":13},"PRTRMU-21-00014 - P07_L4-20210927-1","Digitalización y modernización de la red semafórica que da acceso al núcleo histórico."]
["PRTRMU_21_00299","PRTRMU-21-00299 - P04_L4-20210929-1",null,"Torre-Pacheco",{"$nulls":13},"PRTRMU-21-00014 - P07_L4-20210927-2","Pacificación mediante Urbanización de la Calle Cervantes."]
["PRTRMU_21_00302","PRTRMU-21-00302 - P01_L2-20210929-1",null,"Cádiz",{"$nulls":13},"PRTRMU-21-00057 - P07_L4-20210928-1","Adquisición e instalación de pasos de peatones inteligentes."]
["PRTRMU_21_00302","PRTRMU-21-00302 - P12_L2-20210929-1",null,"Cádiz",{"$nulls":13},"PRTRMU-21-00176 - P07_L4-20210928-1","Calmado del tráfico en el barrio María Jesús."]
["PRTRMU_21_00302","PRTRMU-21-00302 - P06_L2-20210930-1",null,"Cádiz",{"$nulls":13},"PRTRMU-21-00188 - P07_L4-20210928-1","Actuación 2: Calmado de tráfico en entornos escolares."]
["PRTRMU_21_00302","PRTRMU-21-00302 - P08_L2-20210930-1",null,"Cádiz",{"$nulls":13},"PRTRMU-21-00227 - P07_L4-20210928-1","Actuaciones de peatonalización y mejora de la accesibilidad."]
["PRTRMU_21_00306","PRTRMU-21-00306 - P04_L4-20210929-1",null,"Valle de Egüés/Eguesibar",{"$nulls":13},"PRTRMU-21-00227 - P07_L4-20210928-3","Proyecto de urbanización para la remodelación de la calle Agapito Martínez."]
["PRTRMU_21_00307","PRTRMU-21-00307 - P06_L2-20210929-1",null,"Melilla",{"$nulls":13},"PRTRMU-21-00243 - P07_L4-20210929-1","Calmado de tráfico en la Avda. Iparragirre."]
["PRTRMU_21_00307","PRTRMU-21-00307 - P06_L2-20210929-3",null,"Melilla",{"$nulls":13},"PRTRMU-21-00274 - P07_L4-20210929-1","Actuaciones para la señalización de pasos peatonales y el calmado del tráfico rodado."]
["PRTRMU_21_00308","PRTRMU-21-00308 - P17_L4-20210929-1",null,"Realejos (Los)",{"$nulls":13},"PRTRMU-21-00279 - P07_L4-20210929-1","Humanización del Paseo del Balneario para integrar las manzanas Parque Central y Balneario de Arteixo."]
["PRTRMU_21_00309","PRTRMU-21-00309 - P01_L2-20210929-1",null,"Cuenca",{"$nulls":13},"PRTRMU-21-00316 - P07_L4-20210929-1","Un nuevo modelo de red e infraestructura más equitativo para las personas de Yecla y la movilidad. "]
["PRTRMU_21_00311","PRTRMU-21-00311 - P16_L3-20210930-1",null,"Segovia",{"$nulls":13},"PRTRMU-21-00243 - P07_L4-20210929-2","Calmado de tráfico en Dr. Fleming."]
["PRTRMU_21_00311","PRTRMU-21-00311 - P17_L3-20210930-1",null,"Segovia",{"$nulls":13},"PRTRMU-21-00337 - P07_L4-20210930-1","Actuaciones para calmar el tráfico rodado en el cruce existente del eje de movilidad sostenible."]
["PRTRMU_21_00316","PRTRMU-21-00316 - P18_L4-20210929-1",null,"Yecla",{"$nulls":13},"PRTRMU-21-00043 - P08_L2-20210922-1","Priorización en el viario y construcción de paradas accesibles en la Zona Este-Norte y Teatinos."]
["PRTRMU_21_00316","PRTRMU-21-00316 - P05_L4-20210929-1",null,"Yecla",{"$nulls":13},"PRTRMU-21-00065 - P08_L2-20210922-1","Instalación de marquesinas y accesibilidad vertical de acceso a paradas de autobús. "]
["PRTRMU_21_00316","PRTRMU-21-00316 - P06_L4-20210929-1",null,"Yecla",{"$nulls":13},"PRTRMU-21-00069 - P08_L2-20210922-1","Mejora de la accesibilidad en el entorno de las paradas de autobús."]
["PRTRMU_21_00316","PRTRMU-21-00316 - P07_L4-20210929-1",null,"Yecla",{"$nulls":13},"PRTRMU-21-00151 - P08_L2-20210923-1","Transformación de paradas existentes e intercambiador central."]
["PRTRMU_21_00317","PRTRMU-21-00317 - P06_L4-20210930-1",null,"Lebrija",{"$nulls":13},"PRTRMU-21-00144 - P08_L2-20210928-1","Crear plataformas en las paradas de autobuses para conseguir la plena accesibilidad de estas."]
["PRTRMU_21_00329","PRTRMU-21-00329 - P04_L2-20210930-1",null,"Sagunto/Sagunt",{"$nulls":13},"PRTRMU-21-00233 - P08_L2-20210928-1","Mejora de accesibilidad de andenes transporte público para fomentar usos colectivos especiales."]
["PRTRMU_21_00329","PRTRMU-21-00329 - P05_L2-20210930-1",null,"Sagunto/Sagunt",{"$nulls":13},"PRTRMU-21-00255 - P08_L2-20210928-1","Propuesta de mejora del sistema de información al pasajero del transporte público autobús."]
["PRTRMU_21_00330","PRTRMU-21-00330 - P06_L2-20210930-1",null,"Elda",{"$nulls":13},"PRTRMU-21-00024 - P08_L2-20210929-1","Mejora de la accesibilidad de las paradas de bus."]
["PRTRMU_21_00330","PRTRMU-21-00330 - P06_L2-20210930-3",null,"Elda",{"$nulls":13},"PRTRMU-21-00286 - P08_L2-20210929-1","Mejora de la accesibilidad al transporte urbano."]
["PRTRMU_21_00330","PRTRMU-21-00330 - P06_L2-20210930-5",null,"Elda",{"$nulls":13},"PRTRMU-21-00302 - P08_L2-20210930-1","Mejora de la accesibilidad en el entorno de las paradas de autobús urbano en distintos puntos."]
["PRTRMU_21_00331","PRTRMU-21-00331 - P06_L4-20210930-1",null,"Mislata",{"$nulls":13},"PRTRMU-21-00064 - P08_L4-20210920-1","Adecuación y mejora de la accesibilidad de las paradas de la red de autobús urbano."]
["PRTRMU_21_00331","PRTRMU-21-00331 - P09_L4-20210930-1",null,"Mislata",{"$nulls":13},"PRTRMU-21-00091 - P09_L2-20210917-1","Reordenación del tráfico calle Villalpando Avenida Ferrocarril: aparcamiento disuasorio, zona verde."]
["PRTRMU_21_00332","PRTRMU-21-00332 - P06_L4-20210930-1",null,"Santa Perpètua de Mogoda",{"$nulls":13},"PRTRMU-21-00020 - P09_L2-20210921-1","Aparcamiento disuasorio \"Mas Gri\"."]
["PRTRMU_21_00332","PRTRMU-21-00332 - P09_L4-20210930-1",null,"Santa Perpètua de Mogoda",{"$nulls":13},"PRTRMU-21-00028 - P09_L2-20210921-1","Construcción de aparcamiento disuasorio complementario al acceso peatonal al entorno San Cristóbal."]
["PRTRMU_21_00333","PRTRMU-21-00333 - P18_L2-20210930-1",null,"Lorca",{"$nulls":13},"PRTRMU-21-00132 - P09_L2-20210921-1","Creación de un aparcamiento disuasorio en Iturritxu."]
["PRTRMU_21_00335","PRTRMU-21-00335 - P18_L1-20210930-1",null,"Agrupación de Donostia/San Sebastián",{"$nulls":13},"PRTRMU-21-00038 - P09_L2-20210923-1","Aparcamiento disuasorio."]
["PRTRMU_21_00335","PRTRMU-21-00335 - P18_L1-20210930-10",null,"Agrupación de Donostia/San Sebastián",{"$nulls":13},"PRTRMU-21-00050 - P09_L2-20210924-1","Adecuación del parking de la ciudad deportiva para implantación de zona de aparcamiento disuasorio."]
["PRTRMU_21_00335","PRTRMU-21-00335 - P18_L1-20210930-11",null,"Agrupación de Donostia/San Sebastián",{"$nulls":13},"PRTRMU-21-00156 - P09_L2-20210924-1","Aparcamiento disuasorio vinculado a la implantación de una ZBE."]
["PRTRMU_21_00335","PRTRMU-21-00335 - P18_L1-20210930-12",null,"Agrupación de Donostia/San Sebastián",{"$nulls":13},"PRTRMU-21-00071 - P09_L2-20210925-1","Aparcamiento disuasorio proximidades estación metro Parque de Lisboa."]
["PRTRMU_21_00335","PRTRMU-21-00335 - P18_L1-20210930-2",null,"Agrupación de Donostia/San Sebastián",{"$nulls":13},"PRTRMU-21-00037 - P09_L2-20210928-1","Estacionamiento disuasorio La Riba.  "]
["PRTRMU_21_00335","PRTRMU-21-00335 - P18_L1-20210930-3",null,"Agrupación de Donostia/San Sebastián",{"$nulls":13},"PRTRMU-21-00067 - P09_L2-20210928-1","Aparcamientos de disuasión de apoyo a la Zona de Bajas Emisiones."]
["PRTRMU_21_00335","PRTRMU-21-00335 - P18_L1-20210930-4",null,"Agrupación de Donostia/San Sebastián",{"$nulls":13},"PRTRMU-21-00120 - P09_L2-20210928-1","Nuevos espacios de aparcamientos disuasorios e interconectados de Molina de Segura."]
["PRTRMU_21_00335","PRTRMU-21-00335 - P18_L1-20210930-5",null,"Agrupación de Donostia/San Sebastián",{"$nulls":13},"PRTRMU-21-00175 - P09_L2-20210928-1","Aparcamiento disuasorio Passeig Torroja."]
["PRTRMU_21_00335","PRTRMU-21-00335 - P18_L1-20210930-6",null,"Agrupación de Donostia/San Sebastián",{"$nulls":13},"PRTRMU-21-00260 - P09_L2-20210928-1","Aparcamiento Disuasorio Intermodal del Centro."]
["PRTRMU_21_00335","PRTRMU-21-00335 - P18_L1-20210930-8",null,"Agrupación de Donostia/San Sebastián",{"$nulls":13},"PRTRMU-21-00175 - P09_L2-20210928-2","Aparcamiento disuasorio zona Norte / Cementiri."]
["PRTRMU_21_00335","PRTRMU-21-00335 - P18_L1-20210930-9",null,"Agrupación de Donostia/San Sebastián",{"$nulls":13},"PRTRMU-21-00149 - P09_L2-20210929-1","Aparcamiento disuasorio municipal."]
["PRTRMU_21_00336","PRTRMU-21-00336 - P01_L2-20210930-1",null,"León",{"$nulls":13},"PRTRMU-21-00210 - P09_L2-20210929-1","Ampliación del aparcamiento disuasorio en la calle Doctrina."]
["PRTRMU_21_00336","PRTRMU-21-00336 - P02_L2-20210930-1",null,"León",{"$nulls":13},"PRTRMU-21-00244 - P09_L2-20210929-1","Urb Pza. en c/ Nicolás Alpériz y dotación de aparcamientos complementarios de la zona peatonalizada."]
["PRTRMU_21_00336","PRTRMU-21-00336 - P04_L2-20210930-1",null,"León",{"$nulls":13},"PRTRMU-21-00266 - P09_L2-20210929-1","Zonas de estacionamiento regulado no incluidas en ZBE para favorecer la rotación."]
["PRTRMU_21_00336","PRTRMU-21-00336 - P07_L2-20210930-2",null,"León",{"$nulls":13},"PRTRMU-21-00264 - P09_L2-20210930-1","Movilidad amable y multimodal. Red de aparcamientos tácticos municipales."]
["PRTRMU_21_00337","PRTRMU-21-00337 - P05_L4-20210930-1",null,"Barañáin/Barañain",{"$nulls":13},"PRTRMU-21-00093 - P09_L3-20210922-1","Aparcamientos disuasorios junto a futuro apeadero “casilla de los pinos” en Avda. de la Libertad."]
["PRTRMU_21_00337","PRTRMU-21-00337 - P06_L4-20210930-1",null,"Barañáin/Barañain",{"$nulls":13},"PRTRMU-21-00093 - P09_L3-20210922-2","Aparcamientos disuasorios junto a futuro apeadero “casilla de los pinos” en Venta Bermeja."]
["PRTRMU_21_00337","PRTRMU-21-00337 - P07_L4-20210930-1",null,"Barañáin/Barañain",{"$nulls":13},"PRTRMU-21-00093 - P09_L3-20210922-3","Aparcamientos disuasorios en apeadero “Cantaelgallo”."]
["PRTRMU_21_00338","PRTRMU-21-00338 - P01_L2-20210930-1",null,"Jerez de la Frontera",{"$nulls":13},"PRTRMU-21-00176 - P09_L4-20210928-1","Aparcamiento disuasorio casco central."]
["PRTRMU_21_00338","PRTRMU-21-00338 - P06_L2-20210930-1",null,"Jerez de la Frontera",{"$nulls":13},"PRTRMU-21-00277 - P09_L4-20210929-1","Aparcamientos disuasorios. "]
["PRTRMU_21_00340","PRTRMU-21-00340 - P01_L2-20210930-1",null,"Burgos",{"$nulls":13},"PRTRMU-21-00331 - P09_L4-20210930-1","Adecuación de parcela para aparcamiento disuasorio y recinto ferial."]
["PRTRMU_21_00340","PRTRMU-21-00340 - P03_L2-20210930-1",null,"Burgos",{"$nulls":13},"PRTRMU-21-00332 - P09_L4-20210930-1","Aparcamiento disuasorio del Centro Histórico."]
["PRTRMU_21_00340","PRTRMU-21-00340 - P05_L2-20210930-1",null,"Burgos",{"$nulls":13},"PRTRMU-21-00342 - P09_L4-20210930-1","Aparcamiento disuasorio Haza Luna."]
["PRTRMU_21_00342","PRTRMU-21-00342 - P09_L4-20210930-1",null,"Priego de Córdoba"]
["PRTRMU_21_00343","PRTRMU-21-00343 - P06_L4-20210930-1",null,"Armilla"]
["PRTRMU_21_00348","PRTRMU-21-00348 - P05_L4-20211222-1",null,"Martorell"]
["PRTRMU_21_00349","PRTRMU-21-00349 - P01_L2-20211223-1",null,"Getafe"]
["PRTRMU_21_00349","PRTRMU-21-00349 - P16_L2-20211223-1",null,"Getafe"]
["PRTRMU_21_00349","PRTRMU-21-00349 - P07_L2-20211223-1",null,"Getafe"]
["PRTRMU_21_00349","PRTRMU-21-00349 - P07_L2-20211223-4",null,"Getafe"]
["PRTRMU_21_00350","PRTRMU-21-00350 - P01_L2-20220104-1",null,"Badalona"]
["PRTRMU_21_00350","PRTRMU-21-00350 - P11_L2-20220104-1",null,"Badalona"]
["PRTRMU_21_00350","PRTRMU-21-00350 - P03_L2-20220104-1",null,"Badalona"]

{"sheet":"Actuaciones-gastos","index":10,"n_rows":29,"n_cols":4,"rows_kept":29,"cut":false,"hidden":true,"merged":[]}
["1.\tInversiones para la implantación y puesta en funcionamiento de una ZBE",null,null,"Sí"]
["2.\tActuaciones complementarias a una Zona de Bajas Emisiones existente o de nueva implantación",null,null,"No"]
["3.\tPlataformas y carriles de priorización (o exclusividad) para transporte colectivo"]
["4.\tPlataformas y carriles reservados para bicicletas y/o vehículos de movilidad personal mediante nueva construcción o nuevos trazados"]
["5.\tAdecuación de vías y espacio urbano para bicicletas y/o vehículos de movilidad personal"]
["6.\tAdecuación de espacios urbanos para la implementación de zonas e itinerarios peatonales y mejora de la accesibilidad"]
["7.\tActuaciones para calmar el tráfico rodado"]
["8.\tActuaciones de mejora de la accesibilidad (personas con movilidad reducida y colectivos especiales) del sistema de transporte público"]
["9.\tAparcamientos disuasorios de competencia municipal"]
["10.\tEstablecimiento de zonas de estacionamiento regulado no incluidas en una Zona de Bajas Emisiones"]
["11.\tActuaciones que mejoren la intermodalidad"]
["12.\tImplantación de sistemas públicos de alquiler de bicicletas y otros vehículos de movilidad personal"]
["13.\tActuaciones para la mejora de la distribución urbana de mercancías"]
["14.\tActuaciones de transporte ferroviario de competencia local de infraestructura o tecnológicas que incentiven su uso"]
["15.\tActuaciones de compra o renovación de material rodante ferroviario para servicios de competencia local"]
["16.\tAdquisición de autobuses para flotas de transporte público y de vehículos pesados para servicios públicos, de ámbito municipal, propulsadas con energías alternativas"]
["17.\tActuaciones complementarias a la adquisición de autobuses para transformación de flotas de transporte público de ámbito municipal y de vehículos pesados para servicios públicos municipales, propulsadas con energías alternativas"]
["18.\tActuaciones de digitalización de la actividad de los servicios públicos de transporte para la mejora del servicio y de la experiencia de usuario"]
["19.\tActuaciones de mejora de la gestión de las Administraciones"]
[]
[]
["GASTOS OM"]
["Contrataciones externas: gestión, ingeniería, implementación, seguimiento y obra civil"]
["Contratos de compra, leasing, renting y adquisición de vehículos"]
["Contratos de compra de equipos, incluyendo equipamiento tecnológico y equipos informáticos"]
["Adquisición de licencias de software de carácter especializado"]
["Contrataciones externas: consultoría dentro de una actuación"]
["Contrataciones externas: asesoramiento legal, notaría, asesoramiento técnico o financiero, contabilidad o auditoría"]
["Gastos para actuaciones de comunicación"]

{"sheet":"Tabla vehículosII","index":11,"n_rows":62,"n_cols":12,"rows_kept":62,"cut":false,"hidden":true,"merged":[]}
[null,"Tabla vehículos"]
[]
["Código de expediente","Código actuación","Unidades adquiridas vehículos tipo ","Tipo de vehículo adquirido ",null,"1.Buses eléctricos (BEV) categoría M2 ",null,"especiales"]
["PRTRMU_21_00020","PRTRMU-21-00020 - P16_L2-20210921-1",2,"2.Buses eléctricos (BEV) categoría M3 Clase I (12 m) ",null,"2.Buses eléctricos (BEV) categoría M3 Clase I (12 m) ",null,"PRTRMU-21-00239","P16_L2-20210928-1","PRTRMU-21-00239 - P16_L2-20210928-1","Alicante/Alacant",2400000]
["PRTRMU_21_00021","PRTRMU-21-00021 - P16_L2-20210913-1",7,"2.Buses eléctricos (BEV) categoría M3 Clase I (12 m) ",null,"3.Buses eléctricos (BEV) categoría M3 Clase I (18 m) ",null,"PRTRMU-21-00349","P16_L2-20211223-1","PRTRMU-21-00349 - P16_L2-20211223-1","Getafe",540000]
["PRTRMU_21_00026","PRTRMU-21-00026 - P16_L2-20210924-1",12,"2.Buses eléctricos (BEV) categoría M3 Clase I (12 m) ",null,"4.Buses impulsados por hidrógeno (FCV, FCHV) categoría M2 "]
["PRTRMU_21_00030","PRTRMU-21-00030 - P16_L2-20210928-1",15,"7.Vehículos eléctricos (BEV) categoría N2 ",null,"5.Buses impulsados por hidrógeno (FCV, FCHV) categoría M3 Clase I (12 m) "]
["PRTRMU_21_00030","PRTRMU-21-00030 - P16_L2-20210928-2",6,"2.Buses eléctricos (BEV) categoría M3 Clase I (12 m) ",null,"6.Buses impulsados por hidrógeno (FCV, FCHV) categoría M3 Clase I (18 m) "]
["PRTRMU_21_00037","PRTRMU-21-00037 - P16_L2-20210928-1",2,"2.Buses eléctricos (BEV) categoría M3 Clase I (12 m) ",null,"7.Vehículos eléctricos (BEV) categoría N2 "]
["PRTRMU_21_00038","PRTRMU-21-00038 - P16_L2-20210923-1",4,"2.Buses eléctricos (BEV) categoría M3 Clase I (12 m) ",null,"8.Vehículos eléctricos (BEV) categoría N3 (12 a 16 t) "]
["PRTRMU_21_00041","PRTRMU-21-00041 - P16_L2-20210910-1",1,"1.Buses eléctricos (BEV) categoría M2 ",null,"9.Vehículos eléctricos (BEV) categoría N3 (>16 t) "]
["PRTRMU_21_00043","PRTRMU-21-00043 - P16_L2-20210917-1",10,"2.Buses eléctricos (BEV) categoría M3 Clase I (12 m) ",null,"10.Vehículos impulsado por hidrógeno (FCV, FCHV) categoría N2 "]
["PRTRMU_21_00052","PRTRMU-21-00052 - P16_L2-20210920-1",1,"2.Buses eléctricos (BEV) categoría M3 Clase I (12 m) ",null,"11.Vehículos impulsado por hidrógeno (FCV, FCHV) categoría N3 (12 a 16 t)"]
["PRTRMU_21_00052","PRTRMU-21-00052 - P16_L2-20210920-1",3,"2.Buses eléctricos (BEV) categoría M3 Clase I (12 m) ",null,"12.Buses impulsados por hidrógeno (FCV, FCHV) categoría N3 (>16t)"]
["PRTRMU_21_00053","PRTRMU-21-00053 - P16_L1-20210916-1",39,"2.Buses eléctricos (BEV) categoría M3 Clase I (12 m) "]
["PRTRMU_21_00053","PRTRMU-21-00053 - P16_L1-20210916-2",4,"3.Buses eléctricos (BEV) categoría M3 Clase I (18 m) "]
["PRTRMU_21_00053","PRTRMU-21-00053 - P16_L1-20210916-2",5,"2.Buses eléctricos (BEV) categoría M3 Clase I (12 m) "]
["PRTRMU_21_00057","PRTRMU-21-00057 - P16_L4-20210928-1",1,"2.Buses eléctricos (BEV) categoría M3 Clase I (12 m) "]
["PRTRMU_21_00064","PRTRMU-21-00064 - P16_L4-20210920-1",1,"2.Buses eléctricos (BEV) categoría M3 Clase I (12 m) "]
["PRTRMU_21_00066","PRTRMU-21-00066 - P16_L2-20210915-1",2,"2.Buses eléctricos (BEV) categoría M3 Clase I (12 m) "]
["PRTRMU_21_00074","PRTRMU-21-00074 - P16_L2-20210916-1",6,"2.Buses eléctricos (BEV) categoría M3 Clase I (12 m) "]
["PRTRMU_21_00074","PRTRMU-21-00074 - P16_L2-20210916-2",8,"7.Vehículos eléctricos (BEV) categoría N2 "]
["PRTRMU_21_00082","PRTRMU-21-00082 - P16_L2-20210928-1",8,"2.Buses eléctricos (BEV) categoría M3 Clase I (12 m) "]
["PRTRMU_21_00087","PRTRMU-21-00087 - P16_L2-20210929-1",1,"2.Buses eléctricos (BEV) categoría M3 Clase I (12 m) "]
["PRTRMU_21_00089","PRTRMU-21-00089 - P16_L3-20210917-1",6,"2.Buses eléctricos (BEV) categoría M3 Clase I (12 m) "]
["PRTRMU_21_00102","PRTRMU-21-00102 - P16_L2-20210926-1",11,"2.Buses eléctricos (BEV) categoría M3 Clase I (12 m) "]
["PRTRMU_21_00103","PRTRMU-21-00103 - P16_L4-20210928-1",2,"2.Buses eléctricos (BEV) categoría M3 Clase I (12 m) "]
["PRTRMU_21_00103","PRTRMU-21-00103 - P16_L4-20210928-1",1,"1.Buses eléctricos (BEV) categoría M2 "]
["PRTRMU_21_00107","PRTRMU-21-00107 - P16_L2-20210927-1",20,"3.Buses eléctricos (BEV) categoría M3 Clase I (18 m) "]
["PRTRMU_21_00107","PRTRMU-21-00107 - P16_L2-20210927-1",54,"2.Buses eléctricos (BEV) categoría M3 Clase I (12 m) "]
["PRTRMU_21_00114","PRTRMU-21-00114 - P16_L2-20210921-1",17,"3.Buses eléctricos (BEV) categoría M3 Clase I (18 m) "]
["PRTRMU_21_00114","PRTRMU-21-00114 - P16_L2-20210921-1",51,"2.Buses eléctricos (BEV) categoría M3 Clase I (12 m) "]
["PRTRMU_21_00128","PRTRMU-21-00128 - P16_L2-20210927-1",1,"1.Buses eléctricos (BEV) categoría M2 "]
["PRTRMU_21_00128","PRTRMU-21-00128 - P16_L2-20210927-1",7,"2.Buses eléctricos (BEV) categoría M3 Clase I (12 m) "]
["PRTRMU_21_00129","PRTRMU-21-00129 - P16_L2-20210927-1",206,"2.Buses eléctricos (BEV) categoría M3 Clase I (12 m) "]
["PRTRMU_21_00135","PRTRMU-21-00135 - P16_L1-20210929-1",20,"2.Buses eléctricos (BEV) categoría M3 Clase I (12 m) "]
["PRTRMU_21_00138","PRTRMU-21-00138 - P16_L4-20210922-1",2,"2.Buses eléctricos (BEV) categoría M3 Clase I (12 m) "]
["PRTRMU_21_00143","PRTRMU-21-00143 - P16_L2-20210929-1",6,"6.Buses impulsados por hidrógeno (FCV, FCHV) categoría M3 Clase I (18 m) "]
["PRTRMU_21_00143","PRTRMU-21-00143 - P16_L2-20210929-1",13,"2.Buses eléctricos (BEV) categoría M3 Clase I (12 m) "]
["PRTRMU_21_00143","PRTRMU-21-00143 - P16_L2-20210929-2",2,"9.Vehículos eléctricos (BEV) categoría N3 (>16 t)"]
["PRTRMU_21_00147","PRTRMU-21-00147 - P16_L2-20210928-1",11,"3.Buses eléctricos (BEV) categoría M3 Clase I (18 m) "]
["PRTRMU_21_00151","PRTRMU-21-00151 - P16_L2-20210923-1",4,"2.Buses eléctricos (BEV) categoría M3 Clase I (12 m) "]
["PRTRMU_21_00158","PRTRMU-21-00158 - P16_L2-20210928-1",1,"2.Buses eléctricos (BEV) categoría M3 Clase I (12 m) "]
["PRTRMU_21_00175","PRTRMU-21-00175 - P16_L2-20210928-1",3,"5.Buses impulsados por hidrógeno (FCV, FCHV) categoría M3 Clase I (12 m) "]
["PRTRMU_21_00190","PRTRMU-21-00190 - P16_L2-20210928-1",5,"2.Buses eléctricos (BEV) categoría M3 Clase I (12 m) "]
["PRTRMU_21_00208","PRTRMU-21-00208 - P16_L4-20210927-1",3,"2.Buses eléctricos (BEV) categoría M3 Clase I (12 m) "]
["PRTRMU_21_00212","PRTRMU-21-00212 - P16_L2-20210927-1",8,"2.Buses eléctricos (BEV) categoría M3 Clase I (12 m) "]
["PRTRMU_21_00213","PRTRMU-21-00213 - P16_L2-20210929-1",2,"1.Buses eléctricos (BEV) categoría M2 "]
["PRTRMU_21_00236","PRTRMU-21-00236 - P16_L2-20210930-2",1,"9.Vehículos eléctricos (BEV) categoría N3 (>16 t)"]
["PRTRMU_21_00236","PRTRMU-21-00236 - P16_L2-20210930-1",1,"4.Buses impulsados por hidrógeno (FCV, FCHV) categoría M2 "]
["PRTRMU_21_00239","PRTRMU-21-00239 - P16_L2-20210928-1",23,"2.Buses eléctricos (BEV) categoría M3 Clase I (12 m) "]
["PRTRMU_21_00249","PRTRMU-21-00249 - P16_L2-20210928-1",2,"2.Buses eléctricos (BEV) categoría M3 Clase I (12 m) "]
["PRTRMU_21_00253","PRTRMU-21-00253 - P16_L2-20210929-1",8,"2.Buses eléctricos (BEV) categoría M3 Clase I (12 m) "]
["PRTRMU_21_00255","PRTRMU-21-00255 - P16_L2-20210928-1",12,"12.Vehículos impulsados por hidrógeno (FCV, FCHV) categoría N3 (>16 t)"]
["PRTRMU_21_00255","PRTRMU-21-00255 - P16_L2-20210928-1",2,"10.Vehículos impulsado por hidrógeno (FCV, FCHV) categoría N2 "]
["PRTRMU_21_00255","PRTRMU-21-00255 - P16_L2-20210928-1",1,"5.Buses impulsados por hidrógeno (FCV, FCHV) categoría M3 Clase I (12 m) "]
["PRTRMU_21_00260","PRTRMU-21-00260 - P16_L2-20210928-1",4,"2.Buses eléctricos (BEV) categoría M3 Clase I (12 m) "]
["PRTRMU_21_00260","PRTRMU-21-00260 - P16_L2-20210928-2",1,"5.Buses impulsados por hidrógeno (FCV, FCHV) categoría M3 Clase I (12 m) "]
["PRTRMU_21_00284","PRTRMU-21-00284 - P16_L2-20210929-1",10,"2.Buses eléctricos (BEV) categoría M3 Clase I (12 m) "]
["PRTRMU_21_00286","PRTRMU-21-00286 - P16_L2-20210929-1",20,"2.Buses eléctricos (BEV) categoría M3 Clase I (12 m) "]
["PRTRMU_21_00311","PRTRMU-21-00311 - P16_L3-20210930-1",4,"2.Buses eléctricos (BEV) categoría M3 Clase I (12 m) "]
["PRTRMU_21_00349","PRTRMU-21-00349 - P16_L2-20211223-1",8,"7.Vehículos eléctricos (BEV) categoría N2 "]